Workbook
Name _tab10: #REF!
Name _tab10: #REF!
Name _tab10: #REF!
Name _tab10: #REF!
Name _tab10: #REF!
Name _tab11: #REF!
Name _tab11: #REF!
Name _tab11: #REF!
Name _tab11: #REF!
Name _tab11: #REF!
Name _tab12: #REF!
Name _tab12: #REF!
Name _tab12: #REF!
Name _tab12: #REF!
Name _tab12: #REF!
Name _tab13: #REF!
Name _tab13: #REF!
Name _tab13: #REF!
Name _tab13: #REF!
Name _tab13: #REF!
Name _tab14: #REF!
Name _tab14: #REF!
Name _tab14: #REF!
Name _tab14: #REF!
Name _tab14: #REF!
Name _tab15: #REF!
Name _tab15: #REF!
Name _tab15: #REF!
Name _tab15: #REF!
Name _tab15: #REF!
Name _tab16: #REF!
Name _tab16: #REF!
Name _tab16: #REF!
Name _tab16: #REF!
Name _tab16: #REF!
Name _tab17: #REF!
Name _tab17: #REF!
Name _tab17: #REF!
Name _tab17: #REF!
Name _tab17: #REF!
Name _tab18: #REF!
Name _tab18: #REF!
Name _tab18: #REF!
Name _tab18: #REF!
Name _tab18: #REF!
Name _tab19: #REF!
Name _tab19: #REF!
Name _tab19: #REF!
Name _tab19: #REF!
Name _tab19: #REF!
Name _tab20: #REF!
Name _tab20: #REF!
Name _tab20: #REF!
Name _tab20: #REF!
Name _tab20: #REF!
Name _tab21: #REF!
Name _tab21: #REF!
Name _tab21: #REF!
Name _tab21: #REF!
Name _tab21: #REF!

Sheet 1
F1: Հավելված N 1
F2: ՀՀ կառավարության 2024 թվականի
F3: ___________ ___-ի N _______ -Ն որոշման
A5: «ՀԱՅԱՍՏԱՆԻ ՀԱՆՐԱՊԵՏՈՒԹՅԱՆ 2024 ԹՎԱԿԱՆԻ ՊԵՏԱԿԱՆ ԲՅՈՒՋԵԻ ՄԱՍԻՆ» ՀԱՅԱՍՏԱՆԻ ՀԱՆՐԱՊԵՏՈՒԹՅԱՆ ՕՐԵՆՔԻ N 1 ՀԱՎԵԼՎԱԾԻ N 2 ԱՂՅՈՒՍԱԿՈՒՄ ԿԱՏԱՐՎՈՂ ՎԵՐԱԲԱՇԽՈՒՄԸ ԵՎ ՀԱՅԱՍՏԱՆԻ ՀԱՆՐԱՊԵՏՈՒԹՅԱՆ ԿԱՌԱՎԱՐՈՒԹՅԱՆ 2023 ԹՎԱԿԱՆԻ ԴԵԿՏԵՄԲԵՐԻ 28-Ի N 2323-Ն ՈՐՈՇՄԱՆ N 5 ՀԱՎԵԼՎԱԾԻ N 1 ԱՂՅՈՒՍԱԿՈՒՄ ԿԱՏԱՐՎՈՂ ՓՈՓՈԽՈՒԹՅՈՒՆՆԵՐԸ
F6: հազար դրամով
A7: Ծրագրային դասիչը | C7: Բյուջետային հատկացումների գլխավոր կարգադրիչների, ծրագրերի և միջոցառումների անվանումները | D7: Ցուցանիշների փոփոխությունը (ավելացումները նշված են դրական նշանով, իսկ նվազեցումները՝ փակագծերում
D8: առաջին կիսամյակ | E8: ինն ամիս | F8: տարի
A9: Ծրագիր | B9: Միջոցառում
C10: Ընդամենը | D10: =+D11 -> 0 | E10: =+E11 -> 0 | F10: =+F11 -> 0
C11: ՀՀ պաշտպանության նախարարություն | D11: =+D13 -> 0 | E11: =+E13 -> 0 | F11: =+F13 -> 0
A12: 1169 | C12: Ծրագրի անվանումը՝
C13: ՀՀ պաշտպանության ապահովում | D13: =+D19+D26 -> 0 | E13: =+E19+E26 -> 0 | F13: =+F19+F26 -> 0
C14: Ծրագրի նպատակը՝
C15: ՀՀ ԶՈւ ռազմավարական ծավալումն ապահովող մարտական պատրաստականության պահպանում՝ արտաքին թշնամուց ՀՀ պետական սահմանների պաշտպանության ապահովում
C16: Վերջնական արդյունքի նկարագրությունը՝
C17: ՀՀ ԶՈւ ռազմավարական ծավալումն ապահովող մարտական պատրաստականության պահպանում
A18: Ծրագրի միջոցառումներ
B19: 11001 | C19: Միջոցառման անվանումը՝ | D19: ='3'!G21 -> -500000 | E19: ='3'!H21 -> -7378998.8 | F19: ='3'!I21 -> -9147422.5
C20: Ռազմական կարիքների բավարարում
C21: Միջոցառման նկարագրությունը՝
C22: Ընթացիկ գործունեության ապահովման գործողություններ
C23: Միջոցառման տեսակը
C24: Ծառայությունների մատուցում
A25: Ծրագրի միջոցառումներ
B26: 31001 | C26: Միջոցառման անվանումը՝ | D26: ='3'!G32 -> 500000 | E26: ='3'!H32 -> 7378998.8 | F26: ='3'!I32 -> 9147422.5
C27: ՀՀ պաշտպանության նախարարության շենքային պայմանների բարելավում
C28: Միջոցառման նկարագրությունը՝
C29: Պաշտպանության կարիքների համար բնակելի, գրասենյակային և այլ նշանակության շենքերի և շինությունների կառուցում
C30: Միջոցառման տեսակը
C31: Պետական մարմինների կողմից օգտագործվող ոչ ֆինանսական ակտիվների հետ գործառնություններ

Sheet 2
H1: Հավելված N 2
H2: ՀՀ կառավարության 2024 թվականի
H3: ___________ ___-ի N _______ -Ն որոշման
A5: «ՀԱՅԱՍՏԱՆԻ ՀԱՆՐԱՊԵՏՈՒԹՅԱՆ 2024 ԹՎԱԿԱՆԻ ՊԵՏԱԿԱՆ ԲՅՈՒՋԵԻ ՄԱՍԻՆ» ՀԱՅԱՍՏԱՆԻ ՀԱՆՐԱՊԵՏՈՒԹՅԱՆ ՕՐԵՆՔԻ N 1 ՀԱՎԵԼՎԱԾԻ N 3 ԱՂՅՈՒՍԱԿՈՒՄ ԿԱՏԱՐՎՈՂ ՓՈՓՈԽՈՒԹՅՈՒՆԸ
H6: հազար դրամով
A7: Ծրագրային դասիչ | C7: Բյուջետային գլխավոր կարգադրիչների, ծրագրերի, միջոցառումների և ուղղությունների անվանումները | D7: Ցուցանիշների փոփոխությունը (ավելացումները նշված են դրական նշանով)
D8: Ընդամենը, | E8: այդ թվում՝
A9: Ծրագիր | B9: Միջոցառում | E9: Կառուցման աշխատանքներ | F9: Վերակառուցման, վերանորոգման և վերականգնման աշխատանքներ | G9: Նախագծահե- տազոտական, գեոդեզիա- քարտեզագրա- կան աշխա- տանքներ | H9: Ոչ ֆինանսական այլ ակտիվների ձեռքբերում
C10: ԸՆԴԱՄԵՆԸ | D10: =+D12 -> 9147422.5 | E10: =+E12 -> 9147422.5 | H10: =+H12 -> 0
C11: այդ թվում՝
C12: ՀՀ պաշտպանության նախարարություն | D12: =+D14 -> 9147422.5 | E12: =+E14 -> 9147422.5 | H12: =+H14 -> 0
C13: այդ թվում`
A14: 1169 | B14: 31001 | C14: ՀՀ պաշտպանության նախարարության շենքային պայմանների բարելավում | D14: =SUM(E14:H14) -> 9147422.5 | E14: =+'3'!I40 -> 9147422.5

Sheet 3
I1: Հավելված N 3
F2: ՀՀ կառավարության 2024 թվականի
F3: ___________ ___-ի N _______ -Ն որոշման
A7: ՀԱՅԱՍՏԱՆԻ ՀԱՆՐԱՊԵՏՈՒԹՅԱՆ ԿԱՌԱՎԱՐՈՒԹՅԱՆ 2023 ԹՎԱԿԱՆԻ ԴԵԿՏԵՄԲԵՐԻ 28-Ի N 2323-Ն ՈՐՈՇՄԱՆ N 3 և N 4 ՀԱՎԵԼՎԱԾՆԵՐՈՒՄ ԿԱՏԱՐՎՈՂ ՓՈՓՈԽՈՒԹՅՈՒՆՆԵՐԸ
I8: հազար դրամով
A9: Գործառական դասիչը | D9: Ծրագրային դասիչը | F9: Բյուջետային ծախսերի գործառական դասակարգման բաժինների, խմբերի և դասերի, բյուջետային ծրագրերի միջոցառումների, բյուջետային հատկացումների գլխավոր կարգադրիչների անվանումները | G9: Ցուցանիշների փոփոխությունը (ավելացումները նշված են դրական նշանով, իսկ նվազեցումները՝ փակագծերում
A10: Բաժին | B10: Խումբ | C10: Դաս | D10: Ծրագիր | E10: Միջոցառում | G10: առաջին կիսամյակ | H10: ինն ամիս | I10: տարի
F11: ԸՆԴԱՄԵՆԸ ԾԱԽՍԵՐ | G11: =+G13 -> 0 | H11: =+H13 -> 0 | I11: =+I13 -> 0
F12: այդ թվում՝
A13: 02 | F13: ՊԱՇՏՊԱՆՈՒԹՅՈՒՆ | G13: =+G15 -> 0 | H13: =+H15 -> 0 | I13: =+I15 -> 0
F14: այդ թվում`
B15: 01 | F15: Ռազմական պաշտպանություն | G15: =+G19 -> 0 | H15: =+H19 -> 0 | I15: =+I19 -> 0
F16: այդ թվում`
C17: 01 | F17: Ռազմական պաշտպանություն | G17: =+G19 -> 0 | H17: =+H19 -> 0 | I17: =+I19 -> 0
F18: այդ թվում`
F19: ՀՀ պաշտպանության նախարարություն | G19: =+G20 -> 0 | H19: =+H20 -> 0 | I19: =+I20 -> 0
D20: 1169 | F20: ՀՀ պաշտպանության ապահովում | G20: =+G21+G32 -> 0 | H20: =+H21+H32 -> 0 | I20: =+I21+I32 -> 0
E21: 11001 | F21: Ռազմական կարիքների բավարարում | G21: =+G23 -> -500000 | H21: =+H23 -> -7378998.8 | I21: =+I23 -> -9147422.5
F22: այդ թվում` ըստ կատարողների
F23: ՀՀ պաշտպանության նախարարություն | G23: =+G25 -> -500000 | H23: =+H25 -> -7378998.8 | I23: =+I25 -> -9147422.5
F24: այդ թվում` բյուջետային ծախսերի տնտեսագիտական դասակարգման հոդվածներ
F25: ԸՆԴԱՄԵՆԸ ԾԱԽՍԵՐ | G25: =+G26 -> -500000 | H25: =+H26 -> -7378998.8 | I25: =+I26 -> -9147422.5
F26: ԸՆԹԱՑԻԿ ԾԱԽՍԵՐ | G26: =+G27 -> -500000 | H26: =+H27 -> -7378998.8 | I26: =+I27 -> -9147422.5
F27: ԱՅԼ ԾԱԽՍԵՐ | G27: =G28+G30 -> -500000 | H27: =H28+H30 -> -7378998.8 | I27: =I28+I30 -> -9147422.5
F28: ՀԱՐԿԵՐ, ՊԱՐՏԱԴԻՐ ՎՃԱՐՆԵՐ ԵՎ ՏՈՒՅԺԵՐ, ՈՐՈՆՔ ԿԱՌԱՎԱՐՄԱՆ ՏԱՐԲԵՐ ՄԱԿԱՐԴԱԿՆԵՐԻ ԿՈՂՄԻՑ ԿԻՐԱՌՎՈՒՄ ԵՆ ՄԻՄՅԱՆՑ ՆԿԱՏՄԱՄԲ | G28: =+G29 -> 56819.1 | H28: =+H29 -> 56819.1 | I28: =+I29 -> 56819.1
F29: - Պարտադիր վճարներ | G29: 56819.1 | H29: 56819.1 | I29: 56819.1
F30: ԱՅԼ ԾԱԽՍԵՐ | G30: =+G31 -> -556819.1 | H30: =+H31 -> -7435817.9 | I30: =+I31 -> -9204241.6
F31: - Այլ ծախսեր | G31: =+-G40-G29 -> -556819.1 | H31: =+-H40-H29 -> -7435817.9 | I31: =+-I40-I29 -> -9204241.6
E32: 31001 | F32: ՀՀ պաշտպանության նախարարության շենքային պայմանների բարելավում | G32: =+G34 -> 500000 | H32: =+H34 -> 7378998.8 | I32: =+I34 -> 9147422.5
F33: այդ թվում` ըստ կատարողների
F34: ՀՀ պաշտպանության նախարարություն | G34: =+G36 -> 500000 | H34: =+H36 -> 7378998.8 | I34: =+I36 -> 9147422.5
F35: այդ թվում` բյուջետային ծախսերի տնտեսագիտական դասակարգման հոդվածներ
F36: ԸՆԴԱՄԵՆԸ ԾԱԽՍԵՐ | G36: =+G37 -> 500000 | H36: =+H37 -> 7378998.8 | I36: =+I37 -> 9147422.5
F37: ՈՉ ՖԻՆԱՆՍԱԿԱՆ ԱԿՏԻՎՆԵՐԻ ԳԾՈՎ ԾԱԽՍԵՐ | G37: =+G38 -> 500000 | H37: =+H38 -> 7378998.8 | I37: =+I38 -> 9147422.5
F38: ՀԻՄՆԱԿԱՆ ՄԻՋՈՑՆԵՐ | G38: =G39 -> 500000 | H38: =H39 -> 7378998.8 | I38: =I39 -> 9147422.5
F39: ՇԵՆՔԵՐ ԵՎ ՇԻՆՈՒԹՅՈՒՆՆԵՐ | G39: =+G40 -> 500000 | H39: =+H40 -> 7378998.8 | I39: =+I40 -> 9147422.5
F40: - Շենքերի և շինությունների շինարարություն | G40: 500000 | H40: 7378998.8 | I40: 9147422.5

Sheet 4
A1: Հավելված N 4
A2: ՀՀ կառավարության 2024 թվականի
A3: ______________ ի N ___Ն որոշման
A5: ՀԱՅԱՍՏԱՆԻ ՀԱՆՐԱՊԵՏՈՒԹՅԱՆ ԿԱՌԱՎԱՐՈՒԹՅԱՆ 2023 ԹՎԱԿԱՆԻ ԴԵԿՏԵՄԲԵՐԻ 28-Ի N 2323-Ն ՈՐՈՇՄԱՆ N 5 ՀԱՎԵԼՎԱԾԻ N 2 ԱՂՅՈՒՍԱԿՈՒՄ ԿԱՏԱՐՎՈՂ ՓՈՓՈԽՈՒԹՅՈՒՆՆԵՐԸ
F6: հազար դրամով
A7: Ծրագրային դասիչ | C7: Բյուջետային գլխավոր կարգադրիչների, ծրագրերի, միջոցառումների և ուղղությունների անվանումները | D7: Ցուցանիշների փոփոխությունը (ավելացումները նշված են դրական նշանով)
A8: Ծրագիր | B8: Միջոցառում | D8: Առաջին կիսամյակ | E8: Ինն ամիս | F8: Տարի
C10: ԸՆԴԱՄԵՆԸ | D10: =+D12 -> 500000 | E10: =+E12 -> 7378998.8 | F10: =+F12 -> 9147422.5
C11: այդ թվում՝
C12: ՀՀ պաշտպանության նախարարություն | D12: =+D14 -> 500000 | E12: =+E14 -> 7378998.8 | F12: =+F14 -> 9147422.5
C13: այդ թվում`
A14: 1169 | B14: 31001 | C14: ՀՀ պաշտպանության նախարարության շենքային պայմանների բարելավում | D14: =D16 -> 500000 | E14: =E16 -> 7378998.8 | F14: =F16 -> 9147422.5
C15: այդ թվում` ըստ կատարողների
C16: ՀՀ պաշտպանության նախարարություն | D16: =+'3'!G32 -> 500000 | E16: =+'3'!H32 -> 7378998.8 | F16: =+'3'!I32 -> 9147422.5

Sheet 5
E1: Հավելված N 5
B2: ՀՀ կառավարության 2024 թվականի
B3: ______________ ի N ___Ն որոշման
A6: ՀԱՅԱՍՏԱՆԻ ՀԱՆՐԱՊԵՏՈՒԹՅԱՆ ԿԱՌԱՎԱՐՈՒԹՅԱՆ 2023 ԹՎԱԿԱՆԻ ԴԵԿՏԵՄԲԵՐԻ 28-Ի N 2323-Ն ՈՐՈՇՄԱՆ N 9 ՀԱՎԵԼՎԱԾԻ N 9.14 ԱՂՅՈՒՍԱԿՈՒՄ ԿԱՏԱՐՎՈՂ ՓՈՓՈԽՈՒԹՅՈՒՆՆԵՐԸ
A7: ՀՀ պաշտպանության նախարարություն
A8: ՄԱՍ 2. ՊԵՏԱԿԱՆ ՄԱՐՄՆԻ ԳԾՈՎ ԱՐԴՅՈՒՆՔԱՅԻՆ (ԿԱՏԱՐՈՂԱԿԱՆ) ՑՈՒՑԱՆԻՇՆԵՐԸ
A10: Ծրագրի դասիչը | B10: Ծրագրի անվանումը
A11: 1169 | B11: ՀՀ պաշտպանության ապահովում
A13: Ծրագրի միջոցառումները
A15: Ծրագրի դասիչը` | B15: 1169 | C15: Ցուցանիշների փոփոխությունը (նվազեցումները նշված են փակագծերում)
A16: Միջոցառման դասիչը` | B16: 11001 | C16: առաջին կիսամյակ | D16: ինն ամիս | E16: տարի
A17: Միջոցառման անվանումը` | B17: Ռազմական կարիքների բավարարում
A18: Նկարագրությունը` | B18: Ընթացիկ գործունեության ապահովման գործողություններ
A19: Միջոցառման տեսակը` | B19: Ծառայությունների մատուցում
A20: Ծառայությունը մատուցող կազմակերպության(ների) անվանում(ներ)ը | B20: ՀՀ պաշտպանության նախարարություն
A21: Արդյունքի չափորոշիչներ
A22: Չի սահմանվում
A23: Միջոցառման վրա կատարվող ծախսը (հազար դրամ) | C23: =+'3'!G21 -> -500000 | D23: =+'3'!H21 -> -7378998.8 | E23: =+'3'!I21 -> -9147422.5
A25: Ծրագրի դասիչը` | B25: 1169 | C25: Ցուցանիշների փոփոխությունը (ավելացումները նշված են դրական նշանով)
A26: Միջոցառման դասիչը` | B26: 31001 | C26: առաջին կիսամյակ | D26: ինն ամիս | E26: տարի
A27: Միջոցառման անվանումը` | B27: ՀՀ պաշտպանության նախարարության շենքային պայմանների բարելավում
A28: Նկարագրությունը` | B28: Պաշտպանության կարիքների համար բնակելի, գրասենյակային և այլ նշանակության շենքերի և շինությունների կառուցում
A29: Միջոցառման տեսակը` | B29: Պետական մարմինների կողմից օգտագործվող ոչ ֆինանսական ակտիվների հետ գործառնություններ
A30: Ակտիվն օգտագործող կազմակերպության(ներ) անվանում(ներ)ը | B30: ՀՀ պաշտպանության նախարարություն
A31: Արդյունքի չափորոշիչներ
A32: չի սահմանվում
A33: Միջոցառման վրա կատարվող ծախսը (հազար դրամ) | C33: =+'3'!G40 -> 500000 | D33: =+'3'!H40 -> 7378998.8 | E33: =+'3'!I40 -> 9147422.5

Sheet 6
B1: Հավելված N 6
B2: ՀՀ կառավարության 2024 թվականի
B3: ______________ ի N ___ -Ն որոշման
B5: ՀԱՅԱՍՏԱՆԻ ՀԱՆՐԱՊԵՏՈՒԹՅԱՆ ԿԱՌԱՎԱՐՈՒԹՅԱՆ 2023 ԹՎԱԿԱՆԻ ԴԵԿՏԵՄԲԵՐԻ 28-Ի N 2323-Ն ՈՐՈՇՄԱՆ N 9.1 ՀԱՎԵԼՎԱԾԻ N 9.1.14 ԱՂՅՈՒՍԱԿՈՒՄ ԿԱՏԱՐՎՈՂ ՓՈՓՈԽՈՒԹՅՈՒՆՆԵՐԸ
B7: ՀՀ պաշտպանության նախարարություն
B9: ՄԱՍ 1. ՊԵՏԱԿԱՆ ՄԱՐՄՆԻ ԳԾՈՎ ԱՐԴՅՈՒՆՔԱՅԻՆ (ԿԱՏԱՐՈՂԱԿԱՆ) ՑՈՒՑԱՆԻՇՆԵՐԸ
B11: Ծրագրի դասիչը | C11: Ծրագրի անվանումը
B12: 1169 | C12: ՀՀ պաշտպանության ապահովում
B14: Ծրագրի միջոցառումները
B16: Ծրագրի դասիչը` | C16: 1169 | D16: Ցուցանիշների փոփոխությունը (նվազեցումները նշված են փակագծերում)
B17: Միջոցառման դասիչը` | C17: 11001 | D17: առաջին կիսամյակ | E17: ինն ամիս | F17: տարի
B18: Միջոցառման անվանումը` | C18: Ռազմական կարիքների բավարարում
B19: Նկարագրությունը` | C19: Ընթացիկ գործունեության ապահովման գործողություններ
B20: Միջոցառման տեսակը` | C20: Ծառայությունների մատուցում
B21: Ծառայությունը մատուցող կազմակերպության(ների) անվանում(ներ)ը | C21: ՀՀ պաշտպանության նախարարություն
B22: Արդյունքի չափորոշիչներ
B23: չի սահմանվում
B24: Միջոցառման վրա կատարվող ծախսը (հազար դրամ) | D24: =+'3'!G25 -> -500000 | E24: =+'3'!H25 -> -7378998.8 | F24: =+'3'!I25 -> -9147422.5
B26: Ծրագրի դասիչը` | C26: 1169 | D26: Ցուցանիշների փոփոխությունը (ավելացումները նշված են դրական նշանով)
B27: Միջոցառման դասիչը` | C27: 31001 | D27: առաջին կիսամյակ | E27: ինն ամիս | F27: տարի
B28: Միջոցառման անվանումը` | C28: ՀՀ պաշտպանության նախարարության շենքային պայմանների բարելավում
B29: Նկարագրությունը` | C29: Պաշտպանության կարիքների համար բնակելի, գրասենյակային և այլ նշանակության շենքերի և շինությունների կառուցում
B30: Միջոցառման տեսակը` | C30: Պետական մարմինների կողմից օգտագործվող ոչ ֆինանսական ակտիվների հետ գործառնություններ
B31: Ակտիվն օգտագործող կազմակերպության(ներ) անվանում(ներ)ը | C31: ՀՀ պաշտպանության նախարարություն
B32: Արդյունքի չափորոշիչներ
B33: չի սահմանվում
B34: Միջոցառման վրա կատարվող ծախսը (հազար դրամ) | D34: =+'3'!G40 -> 500000 | E34: =+'3'!H40 -> 7378998.8 | F34: =+'3'!I40 -> 9147422.5

Sheet Sheet1
A1: 4239 | B1: 20939.6
A2: 4252 | B2: 4001.2
A3: 4261 | B3: 24221.5
A4: 4264 | B4: 658398.2
A5: 4267 | B5: 51113.2
A6: 4269 | B6: 58135.2
A7: 5121 | B7: 34800
A8: 5122 | B8: 30780.6
A9: 5129 | B9: 165718.2
A10: 5132 | B10: 33.2
