Workbook

Sheet Sheet5
B1: ՀԱՎԵԼՎԱԾ N 1
A3: «ՀԱՅԱՍՏԱՆԻ ՀԱՆՐԱՊԵՏՈՒԹՅԱՆ 2015 ԹՎԱԿԱՆԻ ՊԵՏԱԿԱՆ ԲՅՈՒՋԵԻ ՄԱՍԻՆ» ՀԱՅԱՍՏԱՆԻ ՀԱՆՐԱՊԵՏՈՒԹՅԱՆ ՕՐԵՆՔԻ 2-ՐԴ ՀՈԴՎԱԾԻ ԱՂՅՈՒՍԱԿՈՒՄ ԿԱՏԱՐՎՈՂ ՓՈՓՈԽՈՒԹՅՈՒՆՆԵՐԸ
B4: (հազար դրամներով)
B5: Ցուցանիշների փոփոխություն (ավելացումները նշված են դրական նշանով)
A6: Եկամուտների գծով
A7: Ծախսերի գծով
A8: Դեֆիցիտը (պակասուրդը)

Sheet Sheet4
C1: ՀԱՎԵԼՎԱԾ N 2
A2: «ՀԱՅԱՍՏԱՆԻ ՀԱՆՐԱՊԵՏՈՒԹՅԱՆ 2015 ԹՎԱԿԱՆԻ ՊԵՏԱԿԱՆ ԲՅՈՒՋԵԻ ՄԱՍԻՆ» ՀԱՅԱՍՏԱՆԻ ՀԱՆՐԱՊԵՏՈՒԹՅԱՆ ՕՐԵՆՔԻ 3-ՐԴ ՀՈԴՎԱԾԻ ԱՂՅՈՒՍԱԿՈՒՄ ԵՎ ՀԱՅԱՍՏԱՆԻ ՀԱՆՐԱՊԵՏՈՒԹՅԱՆ ԿԱՌԱՎԱՐՈՒԹՅԱՆ 2014 ԹՎԱԿԱՆԻ ԴԵԿՏԵՄԲԵՐԻ 18-Ի N1515-Ն ՈՐՈՇՄԱՆ N 1 ՀԱՎԵԼՎԱԾԻ N 1 ԱՂՅՈՒՍԱԿՈՒՄ ԿԱՏԱՐՎՈՂ ՓՈՓՈԽՈՒԹՅՈՒՆՆԵՐԸ
C3: (հազար դրամներով)
A4: Պետական բյուջեի դեֆիցիտի ֆինանսավորման աղբյուրներն ու դրանց տարրերի անվանումները | B4: Ցուցանիշների փոփոխություն (ավելացումները նշված են դրական նշանով)
B5: Առաջին կիսամյակ | C5: Ինն ամիս | D5: Տարի
A6: ԸՆԴԱՄԵՆԸ | B6: =B14+B8 -> #REF! | C6: =C14+C8 -> 20891009 | D6: =D14+D8 -> 4091597.9
A7: այդ թվում`
A8: Ա.ՆԵՐՔԻՆ ԱՂԲՅՈՒՐՆԵՐ | B8: =B10 -> 675000 | C8: =C10 -> 675000 | D8: =D10 -> 675000
A9: այդ թվում`
A10: 2.Ֆինանսական զուտ ակտիվներ | B10: =B12 -> 675000 | C10: =C12 -> 675000 | D10: =D12 -> 675000
A11: այդ թվում`
A12: 2.3 Ելքերի ֆինանսավորմանն ուղղվող ՀՀ 2015 թվականի պետական բյուջեի տարեսկզբի ազատ մնացորդի միջոցներ | B12: 675000 | C12: 675000 | D12: 675000
C13: . | D13: .
A14: Բ.ԱՐՏԱՔԻՆ ԱՂԲՅՈՒՐՆԵՐ | B14: =B16 -> #REF! | C14: =C16 -> 20216009 | D14: =D16 -> 3416597.9
A15: այդ թվում`
A16: 1.Փոխառու զուտ միջոցներ | B16: =B18 -> #REF! | C16: =C18 -> 20216009 | D16: =D18 -> 3416597.9
A17: այդ թվում`
A18: 1.1.Վարկերի և փոխատվությունների ստացում | B18: ='[1]N7-1'!#REF! -> #REF! | C18: ='[1]N7-1'!F10 -> 20216009 | D18: ='[1]N7-1'!G10 -> 3416597.9

Sheet Sheet3
C1: ՀԱՎԵԼՎԱԾ N 3
A4: «ՀԱՅԱՍՏԱՆԻ ՀԱՆՐԱՊԵՏՈՒԹՅԱՆ 2015 ԹՎԱԿԱՆԻ ՊԵՏԱԿԱՆ ԲՅՈՒՋԵԻ ՄԱՍԻՆ» ՀՀ ՕՐԵՆՔԻ 6-ՐԴ ՀՈԴՎԱԾԻ ԱՂՅՈՒՍԱԿԻ ԵՎ ՀՀ ԿԱՌԱՎԱՐՈՒԹՅԱՆ 2014 ԹՎԱԿԱՆԻ ԴԵԿՏԵՄԲԵՐԻ 18-ի N 1515-Ն ՈՐՈՇՄԱՆ N 2 ՀԱՎԵԼՎԱԾԻ ՑՈՒՑԱՆԻՇՆԵՐՈՒՄ ԿԱՏԱՐՎՈՂ ՓՈՓՈԽՈՒԹՅՈՒՆՆԵՐԸ
C6: (հազար դրամներով)
A7: Պետական բյուջեի եկամուտներ | B7: Ցուցանիշների փոփոխություն (ավելացումները նշված են դրական նշանով)
B8: Ինն ամիս | C8: Տարի
A9: ԸՆԴԱՄԵՆԸ | B9: =B11+B12 -> #REF! | C9: =C11+C12 -> 8610087.6
A10: այդ թվում`
A11: Հարկային եկամուտներ և պետական տուրքեր | B11: ='[1]N7-1'!#REF!+'[1]N 7-2'!G10 -> #REF! | C11: ='[1]N7-1'!G10+'[1]N 7-2'!J10 -> 4014159.6
A12: Պաշտոնական դրամաշնորհներ | B12: ='[1]N 7-2'!F10 -> 4535189.8 | C12: ='[1]N 7-2'!I10 -> 4595928

Sheet Sheet2
F1: ՀԱՎԵԼՎԱԾ N 4
A4: «ՀԱՅԱՍՏԱՆԻ ՀԱՆՐԱՊԵՏՈՒԹՅԱՆ 2015 ԹՎԱԿԱՆԻ ՊԵՏԱԿԱՆ ԲՅՈՒՋԵԻ ՄԱՍԻՆ » ՀՀ ՕՐԵՆՔԻ 7-ՐԴ ՀՈԴՎԱԾԻ ԱՂՅՈՒՍԱԿԻ, ԻՆՉՊԵՍ ՆԱԵՎ ՀՀ ԿԱՌԱՎԱՐՈՒԹՅԱՆ 2014 ԹՎԱԿԱՆԻ ԴԵԿՏԵՄԲԵՐԻ 18-Ի N 1515-Ն ՈՐՈՇՄԱՆ N 3 ՀԱՎԵԼՎԱԾԻ ՑՈՒՑԱՆԻՇՆԵՐՈՒՄ ԿԱՏԱՐՎՈՂ ՓՈՓՈԽՈՒԹՅՈՒՆՆԵՐԸ
F6: (հազար դրամներով)
A7: Բաժին | B7: Խումբ | C7: Դաս | D7: Բյուջետային ծախսերի գործառական դասակարգման բաժինների, խմբերի և դասերի անվանումները | E7: Ցուցանիշների փոփոխություն (ավելացումները նշված են դրական նշանով, իսկ նվազեցումները՝ փակագծերում)
E8: Ինն ամիս | F8: Տարի
D9: ԸՆԴԱՄԵՆԸ ԾԱԽՍԵՐ | E9: =E11+E15+E27+E32+E36+E40+E44 -> #REF! | F9: =F11+F15+F27+F32+F36+F40+F44 -> 29501096
D10: այդ թվում
A11: 01 | D11: ԸՆԴՀԱՆՈՒՐ ԲՆՈՒՅԹԻ ՀԱՆՐԱՅԻՆ ԾԱՌԱՅՈՒԹՅՈՒՆՆԵՐ | E11: =E13 -> #REF! | F11: ='[1]N 6'!F11 -> 21750834
D12: այդ թվում
B13: 01 | D13: Օրենսդիր և գործադիր մարմիններ, պետական կառավարում, ֆինանսական և հարկաբյուջետային հարաբերություններ, արտաքին հարաբերություններ | E13: =E14 -> #REF! | F13: =F14 -> 21750834
C14: 02 | D14: Ֆինանսական և հարկաբյուջետային հարաբերություններ | E14: ='[1]N 6'!E15 -> #REF! | F14: ='[1]N 6'!F15 -> 21750834
A15: 04 | D15: ՏՆՏԵՍԱԿԱՆ ՀԱՐԱԲԵՐՈՒԹՅՈՒՆՆԵՐ | E15: =E17+E20+E23+E25 -> #REF! | F15: ='[1]N 6'!F44 -> 10123432
D16: այդ թվում՝
B17: 02 | D17: Գյուղատնտեսություն, անտառային տնտեսություն, ձկնորսություն և որսորդություն | E17: =E18+E19 -> #REF! | F17: =F18+F19 -> -880734.5
C18: 01 | D18: Գյուղատնտեսություն | E18: ='[1]N 6'!E48 -> #REF! | F18: ='[1]N 6'!F48 -> 129194
C19: 04 | D19: Ոռոգում | E19: ='[1]N 6'!E63 -> #REF! | F19: ='[1]N 6'!F63 -> -1009928.5
B20: 03 | D20: Վառելիք և էներգետիկա | E20: =E21+E22 -> #REF! | F20: =F21+F22 -> 14050260
C21: 04 | D21: Վառելիքի այլ տեսակներ | E21: ='[1]N 6'!E87 -> #REF! | F21: ='[1]N 6'!F87 -> 14081600
C22: 05 | D22: Էլեկտրաէներգիա | E22: ='[1]N 6'!E99 -> #REF! | F22: ='[1]N 6'!F99 -> -31340.3
B23: 05 | D23: Տրանսպորտ | E23: =E24 -> #REF! | F23: =F24 -> -2875469.4
C24: 01 | D24: Ճանապարհային տրանսպորտ | E24: ='[1]N 6'!E107 -> #REF! | F24: ='[1]N 6'!F107 -> -2875469.4
B25: 09 | D25: Տնտեսական հարաբերություններ (այլ դասերին չպատկանող) | E25: =E26 -> #REF! | F25: =F26 -> -170624.2
C26: 01 | D26: Տնտեսական հարաբերություններ (այլ դասերին չպատկանող) | E26: ='[1]N 6'!E142 -> #REF! | F26: ='[1]N 6'!F142 -> -170624.2
A27: 05 | D27: ՇՐՋԱԿԱ ՄԻՋԱՎԱՅՐԻ ՊԱՇՏՊԱՆՈՒԹՅՈՒՆ | E27: =E29 -> #REF! | F27: =F29 -> 117205.1
D28: այդ թվում՝
B29: 04 | D29: Կենսաբազմազանության և բնության պաշտպանություն | E29: =E31 -> #REF! | F29: =F31 -> 117205.1
D30: այդ թվում՝
C31: 01 | D31: Կենսաբազմազանության և բնության պաշտպանություն | E31: ='[1]N 6'!E159 -> #REF! | F31: ='[1]N 6'!F159 -> 117205.1
A32: 06 | D32: ԲՆԱԿԱՐԱՆԱՅԻՆ ՇԻՆԱՐԱՐՈՒԹՅՈՒՆ ԵՎ ԿՈՄՈՒՆԱԼ ԾԱՌԱՅՈՒԹՅՈՒՆՆԵՐ | E32: =E34 -> #REF! | F32: ='[1]N 6'!F170 -> -1124568.6
D33: այդ թվում`
B34: 03 | D34: Ջրամատակարարում | E34: =E35 -> #REF! | F34: =F35 -> -1124568.6
C35: 01 | D35: Ջրամատակարարում | E35: ='[1]N 6'!E174 -> #REF! | F35: ='[1]N 6'!F174 -> -1124568.6
A36: 07 | D36: ԱՌՈՂՋԱՊԱՀՈՒԹՅՈՒՆ | E36: =E38 -> #REF! | F36: =F38 -> 108000
D37: այդ թվում`
B38: 06 | D38: Առողջապահություն (այլ դասերին չպատկանող) | E38: =E39 -> #REF! | F38: =F39 -> 108000
C39: 01 | D39: Առողջապահական հարակից ծառայություններ և ծրագրեր | E39: ='[1]N 6'!E224 -> #REF! | F39: ='[1]N 6'!F224 -> 108000
A40: 08 | D40: ՀԱՆԳԻՍՏ, ՄՇԱԿՈՒՅԹ ԵՎ ԿՐՈՆ | E40: =E42 -> #REF! | F40: =F42 -> -2148806
D41: այդ թվում`
B42: 02 | D42: Մշակութային ծառայություններ | E42: =E43 -> #REF! | F42: =F43 -> -2148806
C43: 05 | D43: Արվեստ | E43: ='[1]N 6'!E236 -> #REF! | F43: ='[1]N 6'!F236 -> -2148806
A44: 11 | D44: ՀԻՄՆԱԿԱՆ ԲԱԺԻՆՆԵՐԻՆ ՉԴԱՍՎՈՂ ՊԱՀՈՒՍՏԱՅԻՆ ՖՈՆԴԵՐ | E44: =E46 -> 675000 | F44: =F46 -> 675000
D45: այդ թվում`
B46: 01 | D46: ՀՀ կառավարության և համայնքների պահուստային ֆոնդ | E46: =E47 -> 675000 | F46: =F47 -> 675000
C47: 01 | D47: ՀՀ կառավարության պահուստային ֆոնդ | E47: ='[1]N 6'!E247 -> 675000 | F47: ='[1]N 6'!F247 -> 675000

Sheet Sheet1
C1: ՀԱՎԵԼՎԱԾ N 5
A4: «ՀԱՅԱՍՏԱՆԻ ՀԱՆՐԱՊԵՏՈՒԹՅԱՆ 2015 ԹՎԱԿԱՆԻ ՊԵՏԱԿԱՆ ԲՅՈՒՋԵԻ ՄԱՍԻՆ » ՀՀ ՕՐԵՆՔԻ 8-ՐԴ ՀՈԴՎԱԾԻ ԱՂՅՈՒՍԱԿԻ, ԻՆՉՊԵՍ ՆԱԵՎ ՀՀ ԿԱՌԱՎԱՐՈՒԹՅԱՆ 2014 ԹՎԱԿԱՆԻ ԴԵԿՏԵՄԲԵՐԻ 18-Ի N 1515-Ն ՈՐՈՇՄԱՆ N 4 ՀԱՎԵԼՎԱԾԻ ՑՈՒՑԱՆԻՇՆԵՐՈՒՄ ԿԱՏԱՐՎՈՂ ՓՈՓՈԽՈՒԹՅՈՒՆՆԵՐԸ
C6: (հազար դրամներով)
A7: Բյուջետային ծախսերի տնտեսագիտական դասակարգման հոդվածների անվանումները | B7: Ցուցանիշների փոփոխություն (ավելացումները նշված են դրական նշանով, իսկ նվազեցումները՝ փակագծերում)
B8: Ինն ամիս | C8: Տարի
A9: ԸՆԴԱՄԵՆԸ ԾԱԽՍԵՐ | B9: =B11+B20 -> #REF! | C9: =C11+C20 -> 29501096
A10: այդ թվում
A11: ԸՆԹԱՑԻԿ ԾԱԽՍԵՐ | B11: =B13+B16 -> #REF! | C11: =C13+C16 -> 8195579
A12: այդ թվում
A13: ԾԱՌԱՅՈՒԹՅՈՒՆՆԵՐԻ ԵՎ ԱՊՐԱՆՔՆԵՐԻ ՁԵՌՔ ԲԵՐՈՒՄ | B13: =B15 -> 30902.4 | C13: =C15 -> 30902.4
A14: այդ թվում
A15: Ընդհանուր բնույթի այլ ծառայություններ | B15: ='[1]N 6'!E38 -> 30902.4 | C15: ='[1]N 6'!F38 -> 30902.4
A16: ԱՅԼ ԾԱԽՍԵՐ | B16: =B18+B19 -> #REF! | C16: =C18+C19 -> 8164676.6
A17: այդ թվում
A18: - Այլ ծախսեր | B18: ='[1]N 6'!E29+'[1]N 6'!E34+'[1]N 6'!E42+'[1]N 6'!E53+'[1]N 6'!E58+'[1]N 6'!E62+'[1]N 6'!E68+'[1]N 6'!E74+'[1]N 6'!E79+'[1]N 6'!E84+'[1]N 6'!E92+'[1]N 6'!E97+'[1]N 6'!E104+'[1]N 6'!E112+'[1]N 6'!E117+'[1]N 6'!E122+'[1]N 6'!E128+'[1]N 6'!E147+'[1]N 6'!E154+'[1]N 6'!E179+'[1]N 6'!E185+'[1]N 6'!E207+'[1]N 6'!E219 -> #REF! | C18: ='[1]N 6'!F29+'[1]N 6'!F34+'[1]N 6'!F42+'[1]N 6'!F53+'[1]N 6'!F58+'[1]N 6'!F62+'[1]N 6'!F68+'[1]N 6'!F74+'[1]N 6'!F79+'[1]N 6'!F84+'[1]N 6'!F92+'[1]N 6'!F97+'[1]N 6'!F104+'[1]N 6'!F112+'[1]N 6'!F117+'[1]N 6'!F122+'[1]N 6'!F128+'[1]N 6'!F147+'[1]N 6'!F154+'[1]N 6'!F179+'[1]N 6'!F185+'[1]N 6'!F207+'[1]N 6'!F219 -> 7489676.6
A19: -Պահուստային միջոցներ | B19: ='[1]N 6'!E247 -> 675000 | C19: ='[1]N 6'!F247 -> 675000
A20: ՈՉ ՖԻՆԱՆՍԱԿԱՆ ԱԿՏԻՎՆԵՐԻ ՀԵՏ ԳՈՐԾԱՌՆՈՒԹՅՈՒՆՆԵՐ | B20: =B22 -> #REF! | C20: =C22 -> 21305517
A21: այդ թվում
A22: ՈՉ ՖԻՆԱՆՍԱԿԱՆ ԱԿՏԻՎՆԵՐԻ ԳԾՈՎ ԾԱԽՍԵՐ | B22: =B24 -> #REF! | C22: =C24 -> 21305517
A23: այդ թվում
A24: ՀԻՄՆԱԿԱՆ ՄԻՋՈՑՆԵՐ | B24: =B26+B29+B33 -> #REF! | C24: =C26+C29+C33 -> 21305517
A25: այդ թվում
A26: ՇԵՆՔԵՐ ԵՎ ՇԻՆՈՒԹՅՈՒՆՆԵՐ | B26: =B27+B28 -> #REF! | C26: =C27+C28 -> -4124116.2
A27: - Շենքերի և շինությունների շինարարություն | B27: ='[1]N 6'!E69+'[1]N 6'!E80+'[1]N 6'!E113+'[1]N 6'!E118+'[1]N 6'!E129+'[1]N 6'!E133+'[1]N 6'!E139+'[1]N 6'!E148+'[1]N 6'!E155+'[1]N 6'!E211+'[1]N 6'!E215+'[1]N 6'!E20 -> #REF! | C27: ='[1]N 6'!F69+'[1]N 6'!F80+'[1]N 6'!F113+'[1]N 6'!F118+'[1]N 6'!F129+'[1]N 6'!F133+'[1]N 6'!F139+'[1]N 6'!F148+'[1]N 6'!F155+'[1]N 6'!F211+'[1]N 6'!F215+'[1]N 6'!F20 -> -5151656.9
A28: - Շենքերի և շինությունների կապիտալ վերանորոգում | B28: ='[1]N 6'!E123+'[1]N 6'!E149+'[1]N 6'!E156+'[1]N 6'!E168+'[1]N 6'!E180+'[1]N 6'!E189+'[1]N 6'!E193+'[1]N 6'!E198+'[1]N 6'!E229 -> #REF! | C28: ='[1]N 6'!F123+'[1]N 6'!F149+'[1]N 6'!F156+'[1]N 6'!F168+'[1]N 6'!F180+'[1]N 6'!F189+'[1]N 6'!F193+'[1]N 6'!F198+'[1]N 6'!F229 -> 1027540.7
A29: ՄԵՔԵՆԱՆԵՐԻ ԵՎ ՍԱՐՔԱՎՈՐՈՒՄՆԵՐԻ ՁԵՌՔԲԵՐՈՒՄ,ՊԱՀՊԱՆՈՒՄ ԵՎ ՀԻՄՆԱՆՈՐՈԳՈՒՄ | B29: =B31+B32 -> #REF! | C29: =C31+C32 -> 25493438
A30: այդ թվում
A31: - Վարչական սարքավորումներ | B31: ='[1]N 6'!E43+'[1]N 6'!E134+'[1]N 6'!E157 -> #REF! | C31: ='[1]N 6'!F43+'[1]N 6'!F134+'[1]N 6'!F157 -> 127578.2
A32: - Այլ մեքենաներ և սարքավորումներ | B32: ='[1]N 6'!E21+'[1]N 6'!E25+'[1]N 6'!E54+'[1]N 6'!E70+'[1]N 6'!E75+'[1]N 6'!E93+'[1]N 6'!E98+'[1]N 6'!E181+'[1]N 6'!E202+'[1]N 6'!E230+'[1]N 6'!E241+'[1]N 6'!E30 -> #REF! | C32: ='[1]N 6'!F21+'[1]N 6'!F25+'[1]N 6'!F54+'[1]N 6'!F70+'[1]N 6'!F75+'[1]N 6'!F93+'[1]N 6'!F98+'[1]N 6'!F181+'[1]N 6'!F202+'[1]N 6'!F230+'[1]N 6'!F241+'[1]N 6'!F30 -> 25365860
A33: ԱՅԼ ՀԻՄՆԱԿԱՆ ՄԻՋՈՑՆԵՐ | B33: =B35+B36 -> #REF! | C33: =C35+C36 -> -63805
A34: այդ թվում
A35: -Ոչ նյութական հիմնական միջոցներ | B35: ='[1]N 6'!E135 -> #REF! | C35: ='[1]N 6'!F135 -> -873.8
A36: - Նախագծահետազոտական ծախսեր | B36: ='[1]N 6'!E124+'[1]N 6'!E150+'[1]N 6'!E158+'[1]N 6'!E169+'[1]N 6'!E194+'[1]N 6'!E203+'[1]N 6'!E231 -> #REF! | C36: ='[1]N 6'!F124+'[1]N 6'!F150+'[1]N 6'!F158+'[1]N 6'!F169+'[1]N 6'!F194+'[1]N 6'!F203+'[1]N 6'!F231 -> -62931.2

Sheet Հավելված 1
F2: ՀավելվածN 1
F3: ՀՀ կառավարության 2024 թվականի
F4: ______________ ի ___Ն որոշման
A6: «ՀԱՅԱUՏԱՆԻ ՀԱՆՐԱՊԵՏՈՒԹՅԱՆ 2024 ԹՎԱԿԱՆԻ ՊԵՏԱԿԱՆ ԲՅՈՒՋԵԻ ՄԱUԻՆ» ՀԱՅԱUՏԱՆԻ ՀԱՆՐԱՊԵՏՈՒԹՅԱՆ OՐԵՆՔԻ N 1 ՀԱՎԵԼՎԱԾԻ N 2 ԱՂՅՈՒՍԱԿՈՒՄ ՎԵՐԱԲԱՇԽՈՒՄ ԵՎ ՀԱՅԱՍՏԱՆԻ ՀԱՆՐԱՊԵՏՈՒԹՅԱՆ ԿԱՌԱՎԱՐՈՒԹՅԱՆ 2023 ԹՎԱԿԱՆԻ ԴԵԿՏԵՄԲԵՐԻ 28-Ի N 2323-Ն ՈՐՈՇՄԱՆ N5 ՀԱՎԵԼՎԱԾԻ N1 ԱՂՅՈՒՍԱԿՈՒՄ ԿԱՏԱՐՎՈՂ ՓՈՓՈԽՈՒԹՅՈՒՆՆԵՐԸ
F7: (հազ. դրամ)
A8: Ծրագրային դասիչը | C8: Բյուջետային հատկացումների գլխավոր կարգադրիչների, ծրագրերի և միջոցառումների անվանումները | D8: Ցուցանիշների փոփոխությունը (ավելացումները նշված են դրական նշանով, իսկ նվազեցումները` փակագծերում)
A9: Ծրագիր | B9: Միջոցառում
D10: Առաջին կիսամյակ | E10: Ինն ամիս | F10: Տարի
C11: ՀՀ աշխատանքի և սոցիալական հարցերի նախարարություն | D11: =+D12 -> 0 | E11: =+E12 -> 0 | F11: =+F12 -> 0
A12: 1206 | C12: Ծրագրի անվանումը` | D12: =D19+D25 -> 0 | E12: =E19+E25 -> 0 | F12: =F19+F25 -> 0
C13: Սոցիալական պաշտպանության համակարգի բարեփոխումներ
C14: Ծրագրի նպատակը`
C15: Մատուցվող սոցիալական պաշտպանության ծառայությունների բարելավում, ինչպես նաև ծառայություններ մատուցող գերատեսչություններում վերլուծական, մոնիթորինգի և գնահատման գործառույթների ուժեղացում:
C16: Վերջնական արդյունքի նկարագրությունը`
C17: Մատուցվող սոցիալական պաշտպանության ծառայությունների բարելավում և մատչելիության աճ
A18: Ծրագրի միջոցառումներ
B19: 11001 | C19: Միջոցառման անվանումը` | D19: ='Հավելված 2'!G22 -> 16000 | E19: ='Հավելված 2'!H22 -> 16000 | F19: ='Հավելված 2'!I22 -> 16000
C20: Համաշխարհային բանկի աջակցությամբ իրականացվող սոցիալական պաշտպանության ոլորտի վարչարարության երկրորդ ծրագիր
C21: Միջոցառման նկարագրությունը`
C22: Սոցիալական պաշտպանության ոլորտի բարեփոխումներին ուղղված խորհրդատվական և այլ ծառայությունների ձեռքբերում
C23: Միջոցառման տեսակը
C24: Ծառայությունների մատուցում
B25: 32002 | C25: Միջոցառման անվանումը` | D25: ='Հավելված 2'!G30 -> -16000 | E25: ='Հավելված 2'!H30 -> -16000 | F25: ='Հավելված 2'!I30 -> -16000
C26: Համաշխարհային բանկի աջակցությամբ իրականացվող Սոցիալական պաշտպանության վարչարարության երկրորդ ծրագրի շրջանակներում սարքավորումների, ծրագրային ապահովման և աշխատանքային միջավայրի արդիականացում
C27: Միջոցառման նկարագրությունը`
C28: Ինտեգրված սոցիալական ծառայության համակարգի մաս կազմող կառույցների տեխնիկական կարողությունների և աշխատանքային միջավայրի բարելավում
C29: Միջոցառման տեսակը
C30: Այլ պետական կազմակերպությունների կողմից օգտագործվող ոչ ֆինանսական ակտիվների հետ գործառնություններ

Sheet Հավելված 2
I2: Հավելված N 2
I3: ՀՀ կառավարության 2024 թվականի
I4: ______________ ի ___Ն որոշման
A6: ՀԱՅԱՍՏԱՆԻ ՀԱՆՐԱՊԵՏՈՒԹՅԱՆ ԿԱՌԱՎԱՐՈՒԹՅԱՆ 2023 ԹՎԱԿԱՆԻ ԴԵԿՏԵՄԲԵՐԻ 28-Ի N 2323-Ն ՈՐՈՇՄԱՆ NN 3 ԵՎ 4 ՀԱՎԵԼՎԱԾՆԵՐՈՒՄ ԿԱՏԱՐՎՈՂ ՓՈՓՈԽՈՒԹՅՈՒՆՆԵՐԸ
I7: (հազ. դրամ)
A8: Գործառնական դասիչը | D8: Ծրագրային դասիչը | F8: Բյուջետային ծախսերի գործառական դասակարգման բաժինների, խմբերի և դասերի, բյուջետային ծրագերի միջոցառումների, բյուջետային հատկացումների գլխավոր կարգադրիչների և բյուջետային տնտեսագիտական դասակարգման հոդվածների անվանումները | G8: Ցուցանիշների փոփոխությունը (ավելացումները նշված են դրական նշանով, իսկ նվազեցումները` փակագծերում)
A9: Բաժին | B9: Խումբ | C9: Դաս | D9: Ծրագիր | E9: Միջոցառում
G10: Առաջին կիսամյակ | H10: Ինն ամիս | I10: Տարի
F11: ԸՆԴԱՄԵՆԸ՝ ԾԱԽՍԵՐ | G11: =+G13 -> 0 | H11: =+H13 -> 0 | I11: =+I13 -> 0
F12: այդ թվում`
A13: 10 | F13: ՍՈՑԻԱԼԱԿԱՆ ՊԱՇՏՊԱՆՈՒԹՅՈՒՆ | G13: =+G14 -> 0 | H13: =+H14 -> 0 | I13: =+I14 -> 0
F14: այդ թվում` | G14: =+G16 -> 0 | H14: =+H16 -> 0 | I14: =+I16 -> 0
F15: ՀՀ աշխատանքի և սոցիալական հարցերի նախարարություն
B16: 09 | F16: Սոցիալական պաշտպանություն (այլ դասերին չպատկանող) | G16: =+G18 -> 0 | H16: =+H18 -> 0 | I16: =+I18 -> 0
F17: այդ թվում`
C18: 01 | F18: Սոցիալական պաշտպանություն (այլ դասերին չպատկանող) | G18: =+G20 -> 0 | H18: =+H20 -> 0 | I18: =+I20 -> 0
F19: այդ թվում`
D20: 1206 | F20: Սոցիալական պաշտպանության համակարգի բարեփոխումներ | G20: =+H20+I20 -> 0 | H20: =H22+H30 -> 0 | I20: =I22+I30 -> 0
F21: այդ թվում`
E22: 11001 | F22: Համաշխարհային բանկի աջակցությամբ իրականացվող սոցիալական պաշտպանության ոլորտի վարչարարության երկրորդ ծրագիր | G22: =+G24 -> 16000 | H22: =+H24 -> 16000 | I22: =+I24 -> 16000
F23: այդ թվում` ըստ կատարողների
F24: ՀՀ աշխատանքի և սոցիալական հարցերի նախարարություն | G24: =G26 -> 16000 | H24: =H26 -> 16000 | I24: =I26 -> 16000
F25: այդ թվում` բյուջետային ծախսերի տնտեսագիտական դասակարգման հոդվածներ
F26: ԸՆԴԱՄԵՆԸ ԾԱԽՍԵՐ | G26: =+G27 -> 16000 | H26: =+H27 -> 16000 | I26: =+I27 -> 16000
F27: ԸՆԹԱՑԻԿ ԾԱԽՍԵՐ | G27: =G28 -> 16000 | H27: =H28 -> 16000 | I27: =I28 -> 16000
F28: ԱՅԼ ԾԱԽՍԵՐ | G28: =G29 -> 16000 | H28: =H29 -> 16000 | I28: =I29 -> 16000
F29: Այլ ծախսեր | G29: ='Հավելված 3'!D28 -> 16000 | H29: ='Հավելված 3'!G28 -> 16000 | I29: ='Հավելված 3'!J28 -> 16000
E30: 32002 | F30: Համաշխարհային բանկի աջակցությամբ իրականացվող Սոցիալական պաշտպանության վարչարարության երկրորդ ծրագրի շրջանակներում սարքավորումների, ծրագրային ապահովման և աշխատանքային միջավայրի արդիականացում | G30: =+G32 -> -16000 | H30: =+H32 -> -16000 | I30: =+I32 -> -16000
F31: այդ թվում` ըստ կատարողների
F32: ՀՀ աշխատանքի և սոցիալական հարցերի նախարարություն | G32: =G34 -> -16000 | H32: =H34 -> -16000 | I32: =I34 -> -16000
F33: այդ թվում` բյուջետային ծախսերի տնտեսագիտական դասակարգման հոդվածներ
F34: ԸՆԴԱՄԵՆԸ ԾԱԽՍԵՐ | G34: =+G35 -> -16000 | H34: =+H35 -> -16000 | I34: =+I35 -> -16000
F35: ՈՉ ՖԻՆԱՆՍԱԿԱՆ ԱԿՏԻՎՆԵՐԻ ԳԾՈՎ ԾԱԽՍԵՐ | G35: =+G36 -> -16000 | H35: =+H36 -> -16000 | I35: =+I36 -> -16000
F36: ՀԻՄՆԱԿԱՆ ՄԻՋՈՑՆԵՐ | G36: =G37 -> -16000 | H36: =H37 -> -16000 | I36: =I37 -> -16000
F37: ՄԵՔԵՆԱՆԵՐ ԵՎ ՍԱՐՔԱՎՈՐՈՒՄՆԵՐ | G37: =+G38 -> -16000 | H37: =+H38 -> -16000 | I37: =+I38 -> -16000
F38: - Տրանսպորտային սարքավորումներ | G38: ='Հավելված 3'!D37 -> -16000 | H38: ='Հավելված 3'!G37 -> -16000 | I38: ='Հավելված 3'!J37 -> -16000

Sheet N 2.2 
L1: ՀԱՎԵԼՎԱԾ N 2
L2: Աղյուսակ N 2
A4: «ՀԱՅԱUՏԱՆԻ ՀԱՆՐԱՊԵՏՈՒԹՅԱՆ 2018 ԹՎԱԿԱՆԻ ՊԵՏԱԿԱՆ ԲՅՈՒՋԵԻ ՄԱUԻՆ» ՀԱՅԱUՏԱՆԻ ՀԱՆՐԱՊԵՏՈՒԹՅԱՆ OՐԵՆՔԻ N1 ՀԱՎԵԼՎԱԾԻ N 15 ԱՂՅՈՒՍԱԿՈՒՄ ԵՎ ՀԱՅԱUՏԱՆԻ ՀԱՆՐԱՊԵՏՈՒԹՅԱՆ ԿԱՌԱՎԱՐՈՒԹՅԱՆ 2017 ԹՎԱԿԱՆԻ ԴԵԿՏԵՄԲԵՐԻ 28-Ի N 1717-Ն ՈՐՈՇՄԱՆ N 5 ՀԱՎԵԼՎԱԾԻ N 14 ԱՂՅՈՒՍԱԿՈՒՄ ԿԱՏԱՐՎՈՂ ՓՈՓՈԽՈՒԹՅՈՒՆՆԵՐԸ ԵՎ ԼՐԱՑՈՒՄՆԵՐԸ
M5: հազար դրամ
A6: Բաժին | B6: Խումբ | C6: Դաս | D6: ԴՐԱՄԱՇՆՈՐՀԱՅԻՆ ԾՐԱԳՐԵՐԻ, ԴՐԱՆՔ ԻՐԱԿԱՆԱՑՆՈՂ ՄԱՐՄԻՆՆԵՐԻ ԵՎ ԲՅՈՒՋԵՏԱՅԻՆ ԾԱԽՍԵՐԻ ՏՆՏԵՍԱԳԻՏԱԿԱՆ ԴԱՍԱԿԱՐԳՄԱՆ ՀՈԴՎԱԾՆԵՐԻ ԱՆՎԱՆՈՒՄՆԵՐԸ | E6: Առաջին կիսամյակ | H6: Ինն ամիս | K6: Տարի
E7: Ընդամենը | F7: այդ թվում | H7: Ընդամենը | I7: այդ թվում | K7: Ընդամենը | L7: այդ թվում
F8: Դրամաշնորհային միջոցներ | G8: Համաֆինան_x000D_ սավորում | I8: Դրամաշնորհային միջոցներ | J8: Համաֆինան_x000D_ սավորում | L8: Դրամաշնորհային միջոցներ | M8: Համաֆինան_x000D_ սավորում
D9: ԸՆԴԱՄԵՆԸ ԾՐԱԳՐԵՐՈՎ, այդ թվում` | E9: =F9+G9 -> 106225.6 | F9: =F10+F11 -> 75875.4 | G9: =G10+G11 -> 30350.2 | H9: =I9+J9 -> 212409.4 | I9: =I10+I11 -> 151721 | J9: =J10+J11 -> 60688.4 | K9: =L9+M9 -> 318593.2 | L9: =L10+L11 -> 227566.6 | M9: =M10+M11 -> 91026.6
D10: - ԸՆԹԱՑԻԿ ԾԱԽՍԵՐ | E10: =+F10+G10 -> 272102.3 | F10: =+F14+F19+F41+F27 -> 230456.1 | G10: =+G14+G19+G41+G27 -> 41646.2 | H10: =+I10+J10 -> 407599.65 | I10: =+I14+I19+I41+I27 -> 332800.75 | J10: =+J14+J19+J41+J27 -> 74798.9 | K10: =+L10+M10 -> 526813.7 | L10: =+L14+L19+L41+L27 -> 419504.9 | M10: =+M14+M19+M41+M27 -> 107308.8
D11: - ՈՉ ՖԻՆԱՆՍԱԿԱՆ ԱԿՏԻՎՆԵՐԻ ԳԾՈՎ ԾԱԽՍԵՐ | E11: =F11+G11 -> -165876.7 | F11: =+F22+F35+F30 -> -154580.7 | G11: =+G22+G35+G30 -> -11296 | H11: =I11+J11 -> -195190.25 | I11: =+I22+I35+I30 -> -181079.75 | J11: =+J22+J35+J30 -> -14110.5 | K11: =L11+M11 -> -208220.5 | L11: =+L22+L35+L30 -> -191938.3 | M11: =+M22+M35+M30 -> -16282.2
A12: 04 | B12: 02 | C12: 04 | D12: 10. Համաշխարհային բանկի աջակցությամբ իրականացվող Մաստարայի ջրամբարի նախապատրաստման դրամաշնորհային ծրագիր | E12: =F12+G12 -> 79071.3 | F12: =+F13 -> 79071.3 | G12: =+G13 -> 0 | H12: =I12+J12 -> 79071.3 | I12: =+I13 -> 79071.3 | J12: =+J13 -> 0 | K12: =L12+M12 -> 79071.3 | L12: =+L13 -> 79071.3 | M12: =+M13 -> 0
D13: այդ թվում` ՀՀ էներգետիկ ենթակառուցվածքների և բնական պաշարների նախարարության ջրային տնտեսության պետական կոմիտե | E13: =F13+G13 -> 79071.3 | F13: =+F14 -> 79071.3 | G13: =+G14 -> 0 | H13: =I13+J13 -> 79071.3 | I13: =+I14 -> 79071.3 | J13: =+J14 -> 0 | K13: =L13+M13 -> 79071.3 | L13: =+L14 -> 79071.3 | M13: =+M14 -> 0
D14: ԸՆԹԱՑԻԿ ԾԱԽՍԵՐ | E14: =F14+G14 -> 79071.3 | F14: =F15 -> 79071.3 | G14: =G15 -> 0 | H14: =I14+J14 -> 79071.3 | I14: =I15 -> 79071.3 | J14: =J15 -> 0 | K14: =L14+M14 -> 79071.3 | L14: =L15 -> 79071.3 | M14: =M15 -> 0
D15: ԱՅԼ ԾԱԽՍԵՐ, այդ թվում` | E15: =F15+G15 -> 79071.3 | F15: =F16 -> 79071.3 | G15: =G16 -> 0 | H15: =I15+J15 -> 79071.3 | I15: =I16 -> 79071.3 | J15: =J16 -> 0 | K15: =L15+M15 -> 79071.3 | L15: =L16 -> 79071.3 | M15: =M16 -> 0
D16: Այլ ծախսեր | E16: =F16+G16 -> 79071.3 | F16: 79071.3 | H16: =I16+J16 -> 79071.3 | I16: 79071.3 | K16: =L16+M16 -> 79071.3 | L16: 79071.3
A17: 06 | B17: 03 | C17: 01 | D17: 06. Վերակառուցման և զարգացման եվրոպական բանկի աջակցությամբ իրականացվող ջրամատակարարման բարելավման դրամաշնորհային ծրագիր | E17: =F17+G17 -> 0 | F17: =F22+F19 -> 0 | G17: =G22+G19 -> 0 | H17: =I17+J17 -> 0 | I17: =I22+I19 -> 0 | J17: =J22+J19 -> 0 | K17: =L17+M17 -> 0 | L17: =L22+L19 -> 0 | M17: =M22+M19 -> 0
D18: այդ թվում` ՀՀ էներգետիկ ենթակառուցվածքների և բնական պաշարների նախարարության ջրային տնտեսության պետական կոմիտե | E18: =F18+G18 -> 0 | F18: =F17 -> 0 | G18: =G17 -> 0 | H18: =I18+J18 -> 0 | I18: =I17 -> 0 | J18: =J17 -> 0 | K18: =L18+M18 -> 0 | L18: =L17 -> 0 | M18: =M17 -> 0
D19: ԸՆԹԱՑԻԿ ԾԱԽՍԵՐ | E19: =F19+G19 -> 43606.5 | F19: =F20 -> 37453 | G19: =G20 -> 6153.5 | H19: =I19+J19 -> 48796.3 | I19: =I20 -> 42000 | J19: =J20 -> 6796.3 | K19: =L19+M19 -> 48796.3 | L19: =L20 -> 42000 | M19: =M20 -> 6796.3
D20: ԱՅԼ ԾԱԽՍԵՐ, այդ թվում` | E20: =F20+G20 -> 43606.5 | F20: =F21 -> 37453 | G20: =G21 -> 6153.5 | H20: =I20+J20 -> 48796.3 | I20: =I21 -> 42000 | J20: =J21 -> 6796.3 | K20: =L20+M20 -> 48796.3 | L20: =L21 -> 42000 | M20: =M21 -> 6796.3
D21: Այլ ծախսեր | E21: =F21+G21 -> 43606.5 | F21: 37453 | G21: 6153.5 | H21: =I21+J21 -> 48796.3 | I21: 42000 | J21: 6796.3 | K21: =L21+M21 -> 48796.3 | L21: 42000 | M21: 6796.3
D22: ՈՉ ՖԻՆԱՆՍԱԿԱՆ ԱԿՏԻՎՆԵՐԻ ԳԾՈՎ ԾԱԽՍԵՐ | E22: =F22+G22 -> -43606.5 | F22: =+F23 -> -37453 | G22: =+G23 -> -6153.5 | H22: =I22+J22 -> -48796.3 | I22: =+I23 -> -42000 | J22: =+J23 -> -6796.3 | K22: =L22+M22 -> -48796.3 | L22: =+L23 -> -42000 | M22: =+M23 -> -6796.3 | O22: 3737.62 | P22: =+O33/O22 -> 0.58860986
D23: ԱՅԼ ՀԻՄՆԱԿԱՆ ՄԻՋՈՑՆԵՐ, այդ թվում` | E23: =F23+G23 -> -43606.5 | F23: =F24 -> -37453 | G23: =G24 -> -6153.5 | H23: =I23+J23 -> -48796.3 | I23: =I24 -> -42000 | J23: =J24 -> -6796.3 | K23: =L23+M23 -> -48796.3 | L23: =L24 -> -42000 | M23: =M24 -> -6796.3 | N23: =+F24+I21 -> 4547
D24: Նախագծահետազոտական ծախսեր | E24: =F24+G24 -> -43606.5 | F24: -37453 | G24: -6153.5 | H24: =I24+J24 -> -48796.3 | I24: -42000 | J24: -6796.3 | K24: =L24+M24 -> -48796.3 | L24: -42000 | M24: -6796.3 | N24: 5506.12 | O24: =+N24/('[2]Չընդունված հաշիվ. ներառյ 17.01.'!$Z$19+'[2]Չընդունված հաշիվ. ներառյ 17.01.'!$W$19)*1000 -> 755.8752
A25: 06 | B25: 03 | C25: 01 | D25: 03. Եվրոպական միության հարևանության ներդրումային ծրագրի աջակցությամբ իրականացվող Երևանի ջրամատակարարման բարելավման դրամաշնորհային ծրագիր | E25: =F25+G25 -> 0 | F25: =F30+F27 -> 0 | G25: =G30+G27 -> 0 | H25: =I25+J25 -> 0 | I25: =I30+I27 -> 0 | J25: =J30+J27 -> 0 | K25: =L25+M25 -> 0 | L25: =L30+L27 -> 0 | M25: =M30+M27 -> 0
D26: այդ թվում` ՀՀ էներգետիկ ենթակառուցվածքների և բնական պաշարների նախարարության ջրային տնտեսության պետական կոմիտե | E26: =F26+G26 -> 0 | F26: =F25 -> 0 | G26: =G25 -> 0 | H26: =I26+J26 -> 0 | I26: =I25 -> 0 | J26: =J25 -> 0 | K26: =L26+M26 -> 0 | L26: =L25 -> 0 | M26: =M25 -> 0
D27: ԸՆԹԱՑԻԿ ԾԱԽՍԵՐ | E27: =F27+G27 -> 43198.9 | F27: =F28 -> 38056.4 | G27: =G28 -> 5142.5 | H27: =I27+J27 -> 67322.65 | I27: =I28 -> 60008.45 | J27: =J28 -> 7314.2 | K27: =L27+M27 -> 80352.9 | L27: =L28 -> 70867 | M27: =M28 -> 9485.9
D28: ԱՅԼ ԾԱԽՍԵՐ, այդ թվում` | E28: =F28+G28 -> 43198.9 | F28: =F29 -> 38056.4 | G28: =G29 -> 5142.5 | H28: =I28+J28 -> 67322.65 | I28: =I29 -> 60008.45 | J28: =J29 -> 7314.2 | K28: =L28+M28 -> 80352.9 | L28: =L29 -> 70867 | M28: =M29 -> 9485.9
D29: Այլ ծախսեր | E29: =F29+G29 -> 43198.9 | F29: =76112.8/2 -> 38056.4 | G29: 5142.5 | H29: =I29+J29 -> 67322.65 | I29: =120016.9/2 -> 60008.45 | J29: =14628.4/2 -> 7314.2 | K29: =L29+M29 -> 80352.9 | L29: =141734/2 -> 70867 | M29: =18971.8/2 -> 9485.9
D30: ՈՉ ՖԻՆԱՆՍԱԿԱՆ ԱԿՏԻՎՆԵՐԻ ԳԾՈՎ ԾԱԽՍԵՐ | E30: =F30+G30 -> -43198.9 | F30: =+F31 -> -38056.4 | G30: =+G31 -> -5142.5 | H30: =I30+J30 -> -67322.65 | I30: =+I31 -> -60008.45 | J30: =+J31 -> -7314.2 | K30: =L30+M30 -> -80352.9 | L30: =+L31 -> -70867 | M30: =+M31 -> -9485.9 | O30: 3737.62 | P30: =+O41/O30 -> 0
D31: ԱՅԼ ՀԻՄՆԱԿԱՆ ՄԻՋՈՑՆԵՐ, այդ թվում` | E31: =F31+G31 -> -43198.9 | F31: =F32 -> -38056.4 | G31: =G32 -> -5142.5 | H31: =I31+J31 -> -67322.65 | I31: =I32 -> -60008.45 | J31: =J32 -> -7314.2 | K31: =L31+M31 -> -80352.9 | L31: =L32 -> -70867 | M31: =M32 -> -9485.9 | N31: =+F32+I29 -> 21952.05
D32: Շենքերի և շինությունների կապիտալ վերանորոգում | E32: =F32+G32 -> -43198.9 | F32: -38056.4 | G32: -5142.5 | H32: =I32+J32 -> -67322.65 | I32: =-120016.9/2 -> -60008.45 | J32: =-14628.4/2 -> -7314.2 | K32: =L32+M32 -> -80352.9 | L32: =-141734/2 -> -70867 | M32: =-18971.8/2 -> -9485.9 | N32: 5506.12 | O32: =+N32/('[2]Չընդունված հաշիվ. ներառյ 17.01.'!$Z$19+'[2]Չընդունված հաշիվ. ներառյ 17.01.'!$W$19)*1000 -> 755.8752
A33: 06 | B33: 03 | C33: 01 | D33: 09. Գերմանիայի զարգացման վարկերի բանկի և Եվրոպական միության Հարևանության ներդրումային գործիքի աջակցությամբ իրականացվող ջրամատակարարման և ջրահեռացման ենթակառուցվածքների վերականգման դրամաշնորհային ծրագրի երրորդ փուլ | E33: =F33+G33 -> -79071.3 | F33: =F35 -> -79071.3 | G33: =G35 -> 0 | H33: =I33+J33 -> -79071.3 | I33: =I35 -> -79071.3 | J33: =J35 -> 0 | K33: =L33+M33 -> -79071.3 | L33: =L35 -> -79071.3 | M33: =M35 -> 0 | N33: 39653 | O33: =+N33+F24 -> 2200 | P33: =+O33/N24 -> 0.3995554
D34: այդ թվում` ՀՀ էներգետիկ ենթակառուցվածքների և բնական պաշարների նախարարության ջրային տնտեսության պետական կոմիտե | E34: =F34+G34 -> -79071.3 | F34: =F33 -> -79071.3 | G34: =G33 -> 0 | H34: =I34+J34 -> -79071.3 | I34: =I33 -> -79071.3 | J34: =J33 -> 0 | K34: =L34+M34 -> -79071.3 | L34: =L33 -> -79071.3 | M34: =M33 -> 0
D35: ՈՉ ՖԻՆԱՆՍԱԿԱՆ ԱԿՏԻՎՆԵՐԻ ԳԾՈՎ ԾԱԽՍԵՐ | E35: =F35+G35 -> -79071.3 | F35: =F36 -> -79071.3 | G35: =G36 -> 0 | H35: =I35+J35 -> -79071.3 | I35: =I36 -> -79071.3 | J35: =J36 -> 0 | K35: =L35+M35 -> -79071.3 | L35: =L36 -> -79071.3 | M35: =M36 -> 0
D36: ՀԻՄՆԱԿԱՆ ՄԻՋՈՑՆԵՐ, այդ թվում` | E36: =F36+G36 -> -79071.3 | F36: =F37 -> -79071.3 | G36: =G37 -> 0 | H36: =I36+J36 -> -79071.3 | I36: =I37 -> -79071.3 | J36: =J37 -> 0 | K36: =L36+M36 -> -79071.3 | L36: =L37 -> -79071.3 | M36: =M37 -> 0
D37: ՇԵՆՔԵՐ ԵՎ ՇԻՆՈՒԹՅՈՒՆՆԵՐ, այդ թվում` | E37: =F37+G37 -> -79071.3 | F37: =F38 -> -79071.3 | G37: =G38 -> 0 | H37: =I37+J37 -> -79071.3 | I37: =I38 -> -79071.3 | J37: =J38 -> 0 | K37: =L37+M37 -> -79071.3 | L37: =L38 -> -79071.3 | M37: =M38 -> 0
D38: Շենքերի և շինությունների շինարարություն | E38: =F38+G38 -> -79071.3 | F38: -79071.3 | H38: =I38+J38 -> -79071.3 | I38: -79071.3 | K38: =L38+M38 -> -79071.3 | L38: -79071.3
A39: 06 | B39: 03 | C39: 01 | D39: 11. Գերմանիայի զարգացման վարկերի բանկի աջակցությամբ իրականացվող ուղեկցող միջոցառում Համայնքային ենթակառուցվածքների երկրորդ ծրագրի երրորդ փուլ դրամաշնորհային ծրագրի | E39: =+E40 -> 106225.6 | F39: =+F40 -> 75875.4 | G39: =+G40 -> 30350.2 | H39: =I39+J39 -> 212409.4 | I39: =+I40 -> 151721 | J39: =+J40 -> 60688.4 | K39: =L39+M39 -> 318593.2 | L39: =+L40 -> 227566.6 | M39: =+M40 -> 91026.6
D40: այդ թվում` ՀՀ էներգետիկ ենթակառուցվածքների և բնական պաշարների նախարարության ջրային տնտեսության պետական կոմիտե | E40: =F40+G40 -> 106225.6 | F40: =+F41 -> 75875.4 | G40: =+G41 -> 30350.2 | H40: =+H41 -> 212409.4 | I40: =+I41 -> 151721 | J40: =+J41 -> 60688.4 | K40: =+K41 -> 318593.2 | L40: =+L41 -> 227566.6 | M40: =+M41 -> 91026.6
D41: ԸՆԹԱՑԻԿ ԾԱԽՍԵՐ | E41: =+E42 -> 106225.6 | F41: =+F42 -> 75875.4 | G41: =+G42 -> 30350.2 | H41: =+H42 -> 212409.4 | I41: =+I42 -> 151721 | J41: =+J42 -> 60688.4 | K41: =+K42 -> 318593.2 | L41: =+L42 -> 227566.6 | M41: =+M42 -> 91026.6
D42: ԱՅԼ ԾԱԽՍԵՐ, այդ թվում | E42: =E43 -> 106225.6 | F42: =F43 -> 75875.4 | G42: =+G43 -> 30350.2 | H42: =+H43 -> 212409.4 | I42: =+I43 -> 151721 | J42: =+J43 -> 60688.4 | K42: =+K43 -> 318593.2 | L42: =+L43 -> 227566.6 | M42: =+M43 -> 91026.6
D43: Այլ ծախսեր | E43: =+F43+G43 -> 106225.6 | F43: 75875.4 | G43: 30350.2 | H43: =I43+J43 -> 212409.4 | I43: 151721 | J43: 60688.4 | K43: =L43+M43 -> 318593.2 | L43: 227566.6 | M43: 91026.6
E46: 43198.9 | F46: 38056.4 | G46: 5142.5 | H46: 67322.65 | I46: 60008.45 | J46: 7314.2 | K46: 80352.9 | L46: 70867 | M46: 9485.9
E47: =+E46-E29 -> 0 | F47: =+F46-F29 -> 0 | G47: =+G46-G29 -> 0 | H47: =+H46-H29 -> 0 | I47: =+I46-I29 -> 0 | J47: =+J46-J29 -> 0 | K47: =+K46-K29 -> 0 | L47: =+L46-L29 -> 0 | M47: =+M46-M29 -> 0

Sheet Հավելված 3
L1: Հավելված N 3
L2: ՀՀ կառավարության 2024 թվականի
L3: ______________ ի ___Ն որոշման
A5: «ՀԱՅԱՍՏԱՆԻ ՀԱՆՐԱՊԵՏՈՒԹՅԱՆ 2024 ԹՎԱԿԱՆԻ ՊԵՏԱԿԱՆ ԲՅՈՒՋԵԻ ՄԱՍԻՆ» ՀԱՅԱՍՏԱՆԻ ՀԱՆՐԱՊԵՏՈՒԹՅԱՆ ՕՐԵՆՔԻ N 1 ՀԱՎԵԼՎԱԾԻ N 4 ԱՂՅՈՒՍԱԿՈՒՄ ՎԵՐԱԲԱՇԽՈՒՄ ԵՎ ՀԱՅԱՍՏԱՆԻ ՀԱՆՐԱՊԵՏՈՒԹՅԱՆ ԿԱՌԱՎԱՐՈՒԹՅԱՆ 2023 ԹՎԱԿԱՆԻ ԴԵԿՏԵՄԲԵՐԻ 28-Ի N 2323-Ն ՈՐՈՇՄԱՆ N5 ՀԱՎԵԼՎԱԾԻ N 3 ԱՂՅՈՒՍԱԿՈՒՄ ԿԱՏԱՐՎՈՂ ՓՈՓՈԽՈՒԹՅՈՒՆՆԵՐԸ
L7: (հազ. դրամ)
A8: Ծրագրային դասիչը | C8: Բյուջետային հատկացումների գլխավոր կարգադրիչների, ծրագրերի, միջոցառումների և միջոցառումները կատարող պետական մարմինների անվանումները | D8: Ցուցանիշների փոփոխությունը (ավելացումները նշված են դրական նշանով, իսկ նվազեցումները` փակագծերում)
D10: Առաջին կիսամյակ | G10: Ինն ամիս | J10: Տարի
A11: ծրագիրը | B11: միջոցառումը | D11: ընդամենը | E11: այդ թվում՝ | G11: ընդամենը | H11: այդ թվում՝ | J11: ընդամենը | K11: այդ թվում՝
E12: վարկային միջոցներ | F12: համաֆինան_x000D_ սավորում | H12: վարկային միջոցներ | I12: համաֆինան_x000D_ սավորում | K12: վարկային միջոցներ | L12: համաֆինան_x000D_ սավորում
C13: ԸՆԴԱՄԵՆԸ | D13: =D15 -> 0 | E13: =E15 -> 0 | F13: =F15 -> 0 | G13: =G15 -> 0 | H13: =H15 -> 0 | I13: =I15 -> 0 | J13: =J15 -> 0 | K13: =K15 -> 0 | L13: =L15 -> 0
C14: այդ թվում`
C15: ԸՆԹԱՑԻԿ ԾԱԽՍԵՐ | D15: =D16 -> 0 | E15: =E16 -> 0 | F15: =F16 -> 0 | G15: =G16 -> 0 | H15: =H16 -> 0 | I15: =I16 -> 0 | J15: =J16 -> 0 | K15: =K16 -> 0 | L15: =L16 -> 0
C16: ՈՉ ՖԻՆԱՆՍԱԿԱՆ ԱԿՏԻՎՆԵՐԻ ԳԾՈՎ ԾԱԽՍԵՐ | D16: =D17 -> 0 | E16: =E17 -> 0 | F16: =F17 -> 0 | G16: =G17 -> 0 | H16: =H17 -> 0 | I16: =I17 -> 0 | J16: =J17 -> 0 | K16: =K17 -> 0 | L16: =L17 -> 0
C17: ՀՀ աշխատանքի և սոցիալական հարցերի նախարարություն | D17: =D19 -> 0 | E17: =E19 -> 0 | F17: =F19 -> 0 | G17: =G19 -> 0 | H17: =H19 -> 0 | I17: =I19 -> 0 | J17: =J19 -> 0 | K17: =K19 -> 0 | L17: =L19 -> 0
C18: այդ թվում`
A19: 1206 | C19: Սոցիալական պաշտպանության համակարգի բարեփոխումներ | D19: =D21+D29 -> 0 | E19: =E21+E29 -> 0 | F19: =F21+F29 -> 0 | G19: =G21+G29 -> 0 | H19: =H21+H29 -> 0 | I19: =I21+I29 -> 0 | J19: =J21+J29 -> 0 | K19: =K21+K29 -> 0 | L19: =L21+L29 -> 0
C20: այդ թվում`
B21: 11001 | C21: Համաշխարհային բանկի աջակցությամբ իրականացվող սոցիալական պաշտպանության ոլորտի վարչարարության երկրորդ ծրագիր | D21: =D23 -> 16000 | E21: =E23 -> 10000 | F21: =F23 -> 6000 | G21: =G23 -> 16000 | H21: =H23 -> 10000 | I21: =I23 -> 6000 | J21: =J23 -> 16000 | K21: =K23 -> 10000 | L21: =L23 -> 6000
C22: այդ թվում` ըստ կատարողների
C23: ՀՀ աշխատանքի և սոցիալական հարցերի նախարարություն | D23: =D25 -> 16000 | E23: =E25 -> 10000 | F23: =F25 -> 6000 | G23: =G25 -> 16000 | H23: =H25 -> 10000 | I23: =I25 -> 6000 | J23: =J25 -> 16000 | K23: =K25 -> 10000 | L23: =L25 -> 6000
C24: այդ թվում` բյուջետային ծախսերի տնտեսագիտական դասակարգման հոդվածներ
C25: ԸՆԴԱՄԵՆԸ ԾԱԽՍԵՐ | D25: =D26 -> 16000 | E25: =E26 -> 10000 | F25: =F26 -> 6000 | G25: =G26 -> 16000 | H25: =H26 -> 10000 | I25: =I26 -> 6000 | J25: =J26 -> 16000 | K25: =K26 -> 10000 | L25: =L26 -> 6000
C26: ԸՆԹԱՑԻԿ ԾԱԽՍԵՐ | D26: =D27 -> 16000 | E26: =E27 -> 10000 | F26: =F27 -> 6000 | G26: =G27 -> 16000 | H26: =H27 -> 10000 | I26: =I27 -> 6000 | J26: =J27 -> 16000 | K26: =K27 -> 10000 | L26: =L27 -> 6000
C27: ԱՅԼ ԾԱԽՍԵՐ | D27: =D28 -> 16000 | E27: =E28 -> 10000 | F27: =F28 -> 6000 | G27: =G28 -> 16000 | H27: =H28 -> 10000 | I27: =I28 -> 6000 | J27: =J28 -> 16000 | K27: =K28 -> 10000 | L27: =L28 -> 6000
C28: Այլ ծախսեր | D28: =E28+F28 -> 16000 | E28: 10000 | F28: 6000 | G28: =H28+I28 -> 16000 | H28: 10000 | I28: 6000 | J28: =K28+L28 -> 16000 | K28: 10000 | L28: 6000
B29: 32002 | C29: Համաշխարհային բանկի աջակցությամբ իրականացվող Սոցիալական պաշտպանության վարչարարության երկրորդ ծրագրի շրջանակներում սարքավորումների, ծրագրային ապահովման և աշխատանքային միջավայրի արդիականացում | D29: =D31 -> -16000 | E29: =E31 -> -10000 | F29: =F31 -> -6000 | G29: =G31 -> -16000 | H29: =H31 -> -10000 | I29: =I31 -> -6000 | J29: =J31 -> -16000 | K29: =K31 -> -10000 | L29: =L31 -> -6000
C30: այդ թվում` ըստ կատարողների
C31: ՀՀ աշխատանքի և սոցիալական հարցերի նախարարություն | D31: =D33 -> -16000 | E31: =E33 -> -10000 | F31: =F33 -> -6000 | G31: =G33 -> -16000 | H31: =H33 -> -10000 | I31: =I33 -> -6000 | J31: =J33 -> -16000 | K31: =K33 -> -10000 | L31: =L33 -> -6000
C32: այդ թվում` բյուջետային ծախսերի տնտեսագիտական դասակարգման հոդվածներ
C33: ԸՆԴԱՄԵՆԸ ԾԱԽՍԵՐ | D33: =D34 -> -16000 | E33: =E34 -> -10000 | F33: =F34 -> -6000 | G33: =G34 -> -16000 | H33: =H34 -> -10000 | I33: =I34 -> -6000 | J33: =J34 -> -16000 | K33: =K34 -> -10000 | L33: =L34 -> -6000
C34: ՈՉ ՖԻՆԱՆՍԱԿԱՆ ԱԿՏԻՎՆԵՐԻ ԳԾՈՎ ԾԱԽՍԵՐ | D34: =D35 -> -16000 | E34: =E35 -> -10000 | F34: =F35 -> -6000 | G34: =G35 -> -16000 | H34: =H35 -> -10000 | I34: =I35 -> -6000 | J34: =J35 -> -16000 | K34: =K35 -> -10000 | L34: =L35 -> -6000
C35: ՀԻՄՆԱԿԱՆ ՄԻՋՈՑՆԵՐ | D35: =D36 -> -16000 | E35: =E36 -> -10000 | F35: =F36 -> -6000 | G35: =G36 -> -16000 | H35: =H36 -> -10000 | I35: =I36 -> -6000 | J35: =J36 -> -16000 | K35: =K36 -> -10000 | L35: =L36 -> -6000
C36: ՄԵՔԵՆԱՆԵՐ ԵՎ ՍԱՐՔԱՎՈՐՈՒՄՆԵՐ | D36: =D37 -> -16000 | E36: =E37 -> -10000 | F36: =F37 -> -6000 | G36: =G37 -> -16000 | H36: =H37 -> -10000 | I36: =I37 -> -6000 | J36: =J37 -> -16000 | K36: =K37 -> -10000 | L36: =L37 -> -6000
C37: - Տրանսպորտային սարքավորումներ | D37: =E37+F37 -> -16000 | E37: -10000 | F37: -6000 | G37: =H37+I37 -> -16000 | H37: -10000 | I37: -6000 | J37: =K37+L37 -> -16000 | K37: -10000 | L37: -6000

Sheet Հավելված 4
D1: Հավելված N 4
B2: ՀՀ կառավարության 2024 թվականի
B3: ______________ ի ___Ն որոշման
A7: ՀԱՅԱՍՏԱՆԻ ՀԱՆՐԱՊԵՏՈՒԹՅԱՆ ԿԱՌԱՎԱՐՈՒԹՅԱՆ 2023 ԹՎԱԿԱՆԻ ԴԵԿՏԵՄԲԵՐԻ 28-Ի N 2323-Ն ՈՐՈՇՄԱՆ N 9 ՀԱՎԵԼՎԱԾԻ NN 9.15 ԵՎ N 9.1 ՀԱՎԵԼՎԱԾԻ NN 9.1.15 ԱՂՅՈՒՍԱԿՆԵՐՈՒՄ ԿԱՏԱՐՎՈՂ ՓՈՓՈԽՈՒԹՅՈՒՆՆԵՐԸ
E8: Աղյուսակ 9.15
A9: ՀՀ աշխատանքի և սոցիալական հարցերի նախարարություն
A10: ՄԱՍ 2. ՊԵՏԱԿԱՆ ՄԱՐՄՆԻ ԳԾՈՎ ԱՐԴՅՈՒՆՔԱՅԻՆ (ԿԱՏԱՐՈՂԱԿԱՆ) ՑՈՒՑԱՆԻՇՆԵՐԸ
A12: Ծրագրի դասիչը | B12: Ծրագրի անվանումը
A13: ='Հավելված 3'!A19 -> 1206 | B13: ='Հավելված 3'!C19 -> Սոցիալական պաշտպանության համակարգի բարեփոխումներ
A15: Ծրագրի միջոցառումները
A18: Ծրագրի դասիչը` | B18: ='Հավելված 3'!A19 -> 1206 | C18: Ցուցանիշների փոփոխությունը (ավելացումները նշված են դրական նշանով)
A20: Միջոցառման դասիչը` | B20: ='Հավելված 3'!B21 -> 11001 | C20: Առաջին կիսամյակ | D20: Ինն ամիս | E20: Տարի
A21: Միջոցառման անվանումը` | B21: ='Հավելված 3'!C21 -> Համաշխարհային բանկի աջակցությամբ իրականացվող սոցիալական պաշտպանության ոլորտի վարչարարության երկրորդ ծրագիր
A22: Նկարագրությունը` | B22: Սոցիալական պաշտպանության ոլորտի բարեփոխումներին ուղղված խորհրդատվական և այլ ծառայությունների ձեռքբերում
A23: Միջոցառման տեսակը` | B23: Ծառայությունների մատուցում
A24: Միջոցառումն իրականացնողի անվանումը | B24: Մասնագիտացված միավոր
A25: Արդյունքի չափորոշիչներ
A26: Ծրագրի շրջանակներում իրականացվող աշխատանքներում ընդգրկված անհատ խորհրդատուների թվաքանակ, մարդ | C26: 2 | E26: 2
A27: Ծրագրի շրջանակներում իրականացվող աշխատանքներում ընդգրկված խորհրդատվական կազմակերպությունների քանակ, հատ | C27: 1 | E27: 1
A28: Ծրագրի շրջանակներում իրականացվող աշխատանքներում ընդգրկված խորհրդատվական կազմակերպությունների հետ կնքված պայմանագրերի քանակ, հատ | C28: 1 | E28: 1
A30: Միջոցառման վրա կատարվող ծախսը (հազար դրամ) | C30: ='Հավելված 2'!G29 -> 16000 | D30: ='Հավելված 2'!H29 -> 16000 | E30: ='Հավելված 2'!I29 -> 16000
A33: Ծրագրի դասիչը` | B33: 1206 | C33: Ցուցանիշների փոփոխությունը (նվազեցումները նշված են փակագծերում)
A35: Միջոցառման դասիչը` | B35: 32002 | C35: Առաջին կիսամյակ | D35: Ինն ամիս | E35: Տարի
A36: Միջոցառման անվանումը` | B36: Համաշխարհային բանկի աջակցությամբ իրականացվող Սոցիալական պաշտպանության վարչարարության երկրորդ ծրագրի շրջանակներում սարքավորումների, ծրագրային ապահովման և աշխատանքային միջավայրի արդիականացում
A37: Նկարագրությունը` | B37: Ինտեգրված սոցիալական ծառայության համակարգի մաս կազմող կառույցների տեխնիկական կարողությունների և աշխատանքային միջավայրի բարելավում
A38: Միջոցառման տեսակը` | B38: Այլ պետական կազմակերպությունների կողմից օգտագործվող ոչ ֆինանսական ակտիվների հետ գործառնություններ
A39: Միջոցառումն իրականացնողի անվանումը | B39: Մասնագիտացված միավոր
A40: Արդյունքի չափորոշիչներ
A41: Միջոցառման վրա կատարվող ծախսը (հազար դրամ) | C41: ='Հավելված 3'!D37 -> -16000 | D41: ='Հավելված 3'!G37 -> -16000 | E41: ='Հավելված 3'!J37 -> -16000
E43: Աղյուսակ 9.1.15
A44: ՀՀ աշխատանքի և սոցիալական հարցերի նախարարություն
A45: ՄԱՍ 1. ՊԵՏԱԿԱՆ ՄԱՐՄՆԻ ԳԾՈՎ ԱՐԴՅՈՒՆՔԱՅԻՆ (ԿԱՏԱՐՈՂԱԿԱՆ) ՑՈՒՑԱՆԻՇՆԵՐԸ
A47: Ծրագրի դասիչը | B47: Ծրագրի անվանումը
A48: =A13 -> 1206 | B48: =B13 -> Սոցիալական պաշտպանության համակարգի բարեփոխումներ
A51: Ծրագրի դասիչը` | B51: =B18 -> 1206 | C51: Ցուցանիշների փոփոխությունը (ավելացումները նշված են դրական նշանով)
A53: Միջոցառման դասիչը` | B53: =B20 -> 11001 | C53: Առաջին կիսամյակ | D53: Ինն ամիս | E53: Տարի
A54: Միջոցառման անվանումը` | B54: =B21 -> Համաշխարհային բանկի աջակցությամբ իրականացվող սոցիալական պաշտպանության ոլորտի վարչարարության երկրորդ ծրագիր
A55: Նկարագրությունը` | B55: =B22 -> Սոցիալական պաշտպանության ոլորտի բարեփոխումներին ուղղված խորհրդատվական և այլ ծառայությունների ձեռքբերում
A56: Միջոցառման տեսակը` | B56: =B23 -> Ծառայությունների մատուցում
A57: Միջոցառումն իրականացնողի անվանումը | B57: Մասնագիտացված միավոր
A58: Արդյունքի չափորոշիչներ
A59: Ծրագրի շրջանակներում իրականացվող աշխատանքներում ընդգրկված անհատ խորհրդատուների թվաքանակ, մարդ | C59: 2 | E59: 2
A60: Ծրագրի շրջանակներում իրականացվող աշխատանքներում ընդգրկված խորհրդատվական կազմակերպությունների քանակ, հատ | C60: 1 | E60: 1
A61: Ծրագրի շրջանակներում իրականացվող աշխատանքներում ընդգրկված խորհրդատվական կազմակերպությունների հետ կնքված պայմանագրերի քանակ, հատ | C61: 1 | E61: 1
A62: Միջոցառման վրա կատարվող ծախսը (հազար դրամ) | C62: ='Հավելված 2'!G29 -> 16000 | D62: ='Հավելված 2'!H29 -> 16000 | E62: ='Հավելված 2'!I29 -> 16000
A67: Ծրագրի դասիչը` | B67: 1206 | C67: Ցուցանիշների փոփոխությունը (նվազեցումները նշված են փակագծերում)
A69: Միջոցառման դասիչը` | B69: 32002 | C69: Առաջին կիսամյակ | D69: Ինն ամիս | E69: Տարի
A70: Միջոցառման անվանումը` | B70: Համաշխարհային բանկի աջակցությամբ իրականացվող Սոցիալական պաշտպանության վարչարարության երկրորդ ծրագրի շրջանակներում սարքավորումների, ծրագրային ապահովման և աշխատանքային միջավայրի արդիականացում
A71: Նկարագրությունը` | B71: Ինտեգրված սոցիալական ծառայության համակարգի մաս կազմող կառույցների տեխնիկական կարողությունների և աշխատանքային միջավայրի բարելավում
A72: Միջոցառման տեսակը` | B72: Այլ պետական կազմակերպությունների կողմից օգտագործվող ոչ ֆինանսական ակտիվների հետ գործառնություններ
A73: Միջոցառումն իրականացնողի անվանումը | B73: Մասնագիտացված միավոր
A74: Արդյունքի չափորոշիչներ
A75: Միջոցառման վրա կատարվող ծախսը (հազար դրամ) | C75: ='Հավելված 3'!D37 -> -16000 | D75: ='Հավելված 3'!G37 -> -16000 | E75: ='Հավելված 3'!J37 -> -16000

Sheet N 3.2
E1: Հավելված N 3
E2: Աղյուսակ N 2
A4: Հայաստանի Հանրապետության կառավարության 2017 թվականի դեկտեմբերի 28-ի N 1717-Ն որոշման
A5: N 11 հավելվածի N 12 աղյուսակում ՀՀ կառավարության աշխատակազմի
A6: մասով կատարվող փոփոխություններ և լրացումները
A8: ՀՀ ԿԱՌԱՎԱՐՈՒԹՅԱՆ 2017 ԹՎԱԿԱՆԻ ԴԵԿՏԵՄԲԵՐԻ 28-Ի N 1717-Ն ՈՐՈՇՄԱՆ N 11 ՀԱՎԵԼՎԱԾԻ N 12 ԱՂՅՈՒՍԱԿՈՒՄ՝ ՀՀ ԷՆԵՐԳԵՏԻԿ ԵՆԹԱԿԱՌՈՒՑՎԱԾՔՆԵՐԻ և ԲՆԱԿԱՆ ՊԱՇԱՐՆԵՐԻ ՆԱԽԱՐԱՐՈՒԹՅԱՆ ՋՐԱՅԻՆ ՏՆՏԵՍՈՒԹՅԱՆ ՊԵՏԱԿԱՆ ԿՈՄԻՏԵԻ ՄԱՍՈՎ ԿԱՏԱՐՎՈՂ ՓՈՓՈԽՈՒԹՅՈՒՆՆԵՐԸ
A9: Բաժին 2.
A10: Գերատեսչության կողմից իրականացվող քաղաքականության միջոցառումների ծրագրային խմբավորումը
A11: Ծրագրային դասիչը | C11: Գործառական դասիչը | D11: Ծրագիրը/քաղաքականության միջոցառումը | E11: ՀՀ 2018 թ. բյուջե
A12: ծրագիրը | B12: միջոցառումը | C12: (բաժինը/խումբը/դասը) | E12: (հազ. դրամ)
A13: 1027 | D13: ԾՐԱԳԻՐ
D14: Կոլեկտորադրենաժային ծառայություններ | E14: =+E21 -> 79071.3
D15: Ծրագրի նկարագրությունը
D16: Գրունտային ջրերի մոնիտերինգի հիման վրա կոլեկտորադրենաժային ցանցի միջոցով գրունտային ջրերի հեռացում
D17: Վերջնական արդյունքի նկարագրությունը
D18: Հավանական գերխոնավ տարածքներում մշակելի հողատարածքների ապահովում
C20: Քաղաքականության միջոցառումներ. Ծառայություններ
B21: ԱԾ09 | C21: 04.02.04 | D21: Ջրային տնտեսության այլ ենթակառուցվածքների համակարգում և ղեկավարում | E21: =+'N 2.2 '!K12 -> 79071.3
D22: Մատուցվող ծառայության նկարագրությունը
D23: Համաշխարհային բանկի աջակցությամբ իրականացվող Մաստարայի ջրամբարի նախապատրաստման դրամաշնորհային ծրագիր
D24: Ծառայություն մատուցողի անվանումը
D25: «Ջրային տնտեսության ծրագրերի իրականացման գրասենյակ» ՊՀ
A26: 1072 | D26: ԾՐԱԳԻՐ
D27: Աջակցություն խմելու ջրի մատակարարման և ջրահեռացման ծառայություններին | E27: =E33+E38+E43+E59+E66+E88+E73+E53+E48+E80 -> #REF!
D28: Ծրագրի նկարագրությունը
D29: Խմելու ջուր մատակարարող ընկերությունների սուբսիդավորում
D30: Վերջնական արդյունքի նկարագրությունը
D31: Ջրամատակարարման ծառայությունների հասանելիության և մատչելիության ապահովում
C32: Քաղաքականության միջոցառումներ. Ծառայություններ
B33: ԱԾ01 | C33: 06.03.01 | D33: Վերակառուցման և զարգացման Եվրոպական բանկի աջակցությամբ իրականացվող Երևանի ջրամատակարարման բարելավման ծրագիր | E33: =+#REF! -> #REF!
D34: Մատուցվող ծառայության նկարագրությունը
D35: Վերակառուցման և զարգացման Եվրոպական բանկի աջակցությամբ իրականացվող Երևանի ջրամատակարարման բարելավման ծրագրի համակարգում և ղեկավարում
D36: Ծառայություն մատուցողի անվանումը
D37: «Ջրային տնտեսության ծրագրերի իրականացման գրասենյակ» ՊՀ
B38: ԱԾ03 | C38: 06.03.01 | D38: Եվրոպական ներդրումային բանկի աջակցությամբ իրականացվող Երևանի ջրամատակարարման բարելավման ծրագիր | E38: =+#REF! -> #REF!
D39: Մատուցվող ծառայության նկարագրությունը
D40: Եվրոպական ներդրումային բանկի աջակցությամբ իրականացվող Երևանի ջրամատակարարման բարելավման ծրագրի համակարգում և ղեկավարում
D41: Ծառայություն մատուցողի անվանումը
D42: «Ջրային տնտեսության ծրագրերի իրականացման գրասենյակ» ՊՀ
B43: ԱԾ04 | C43: 06.03.01 | D43: Վերակառուցման և զարգացման Եվրոպական բանկի աջակցությամբ իրականացվող Երևանի ջրամատակարարման բարելավման դրամաշնորհային ծրագիր | E43: =+'N 2.2 '!K21 -> 48796.3
D44: Մատուցվող ծառայության նկարագրությունը
D45: Վերակառուցման և զարգացման Եվրոպական բանկի աջակցությամբ իրականացվող Երևանի ջրամատակարարման բարելավման ծրագրի աջակցություն
D46: Ծառայություն մատուցողի անվանումը
D47: «Ջրային տնտեսության ծրագրերի իրականացման գրասենյակ» ՊՀ
B48: ԱԾ05 | C48: 06.03.01 | D48: Եվրոպական միության հարևանության ներդրումային ծրագրի աջակցությամբ իրականացվող Երևանի ջրամատակարարման բարելավման դրամաշնորհային ծրագիր | E48: =+'N 2.2 '!K29 -> 80352.9
D49: Մատուցվող ծառայության նկարագրությունը
D50: Վերակառուցման և զարգացման Եվրոպական բանկի աջակցությամբ իրականացվող Երևանի ջրամատակարարման բարելավման ծրագրի աջակցություն
D51: Ծառայություն մատուցողի անվանումը
D52: «Ջրային տնտեսության ծրագրերի իրականացման գրասենյակ» ՊՀ
B53: ԱԾ03 | C53: 06.03.01 | D53: Գերմանիայի զարգացման վարկերի բանկի աջակցությամբ իրականացվող ուղեկցող միջոցառում Համայնքային ենթակառուցվածքների երկրորդ ծրագրի երրորդ փուլ դրամաշնորհային ծրագրի | E53: 318593.2
D54: Մատուցվող ծառայության նկարագրությունը
D55: Խորհրդատվական ծառայություններ
D56: Ծառայություն մատուցողի անվանումը
D57: ՀՀ ԷԵԲՊՆ ջրային տնտեսության պետական կոմիտե
C58: Այլ կազմակերպությանը տրամադրված ակտիվներ
B59: ԱՏ 03 | C59: 06.03.01. | D59: Ջրամատակարարման և ջրահեռացման ենթակառուցվածքների հիմնանորոգում (Վերակառուցման և զարգացման եվրոպական բանկի աջակցությամբ իրականացվող Երևանի ջրամատակարարման բարելավման ծրագրի շրջանակներում) | E59: =+#REF! -> #REF!
D60: Ակտիվի նկարագրությունը
D61: Երևանի ջրամատակարարման ցանցի բարելավման աշխատանքներ
D62: Ակտիվն օգտագործող կազմակերպության անվանումը
D63: «Վեոլիա-Ջուր» ՓԲԸ
D64: Ծրագիրը (ծրագրերը), որին (որոնց) առնչվում է ակտիվը
D65: /1072/ Խմելու ջրի մատակարարման և ջրահեռացման ծառայություններ
B66: ԱՏ 04 | C66: 06.03.01. | D66: Ջրամատակարարման և ջրահեռացման ենթակառուցվածքների հիմնանորոգում (Եվրոպական ներդրումային բանկի աջակցությամբ իրականացվող Երևանի ջրամատակարարման բարելավման ծրագրի շրջանակներում) | E66: =+#REF! -> #REF!
D67: Ակտիվի նկարագրությունը
D68: Երևանի ջրամատակարարման ցանցի բարելավման աշխատանքներ
D69: Ակտիվն օգտագործող կազմակերպության անվանումը
D70: «Վեոլիա-Ջուր» ՓԲԸ
D71: Ծրագիրը (ծրագրերը), որին (որոնց) առնչվում է ակտիվը
D72: /1072/ Խմելու ջրի մատակարարման և ջրահեռացման ծառայություններ
B73: ԱՏ 05 | C73: 06.03.01. | D73: Ջրամատակարարման և ջրահեռացման ենթակառուցվածքների հիմնանորոգում (Վերակառուցման և զարգացման եվրոպական բանկի աջակցությամբ իրականացվող Երևանի ջրամատակարարման բարելավման դրամաշնորհային ծրագրի շրջանակներում) | E73: =+'N 2.2 '!K24 -> -48796.3
D74: Ակտիվի նկարագրությունը
D75: Երևանի ջրամատակարարման ցանցի բարելավման աշխատանքներ
D76: Ակտիվն օգտագործող կազմակերպության անվանումը
D77: «Վեոլիա-Ջուր» ՓԲԸ
D78: Ծրագիրը (ծրագրերը), որին (որոնց) առնչվում է ակտիվը
D79: /1072/ Խմելու ջրի մատակարարման և ջրահեռացման ծառայություններ
B80: ԱՏ 06 | C80: 06.03.01. | D80: Ջրամատակարարման և ջրահեռացման ենթակառուցվածքների հիմնանորոգում (Եվրոպական միության հարևանության ներդրումային ծրագրի աջակցությամբ իրականացվող Երևանի ջրամատակարարման բարելավման դրամաշնորհային ծրագրի շրջանակներում) | E80: =+'N 2.2 '!K32 -> -80352.9
D81: Ակտիվի նկարագրությունը
D82: Երևանի ջրամատակարարման ցանցի բարելավման աշխատանքներ
D83: Ակտիվն օգտագործող կազմակերպության անվանումը
D84: «Վեոլիա-Ջուր» ՓԲԸ
D85: Ծրագիրը (ծրագրերը), որին (որոնց) առնչվում է ակտիվը
D86: /1072/ Խմելու ջրի մատակարարման և ջրահեռացման ծառայություններ
C87: Քաղաքականության միջոցառումներ. Տրանսֆերտներ
B88: ԾՏ 01 | C88: 06.03.01 | D88: Ջրամատակարար ընկերությունների կողմից չսպասարկվող համայնքներին տրանսֆերտների տրամադրում (Գերմանիայի զարգացման և Եվրոպական միության Հարևանության ներդրումային բանկի ջրամատակարարման և ջրահեռացման ենթակառուցվածքների դրամաշնորհային ծրագիր՝ երրորդ փուլի շրջանակներում) | E88: =+'N 2.2 '!K33 -> -79071.3
D89: Տրանսֆերտի նկարագրությունը
D90: 560 գյուղական բնակավայրերից ընտրված որոշ համայնքների ջրամատակարարման և ջրահեռացման համակարգերի հատվածների հրատապ վերականգման աշխատանքների իրականացում, ինչպես նաև՝ Արմավիրի կեղտաջրերի մաքրման կայանի կառուցում
E93: =+E88+E80+E73+E66+E59+E53+E48+E43+E38+E33+E21 -> #REF!
