Workbook
Name շախմատիստ: #REF!
Name շախմատիստ: #REF!

Sheet Հավելված N 1
F1: Հավելված N 1
F2: ՀՀ կառավարության 2024 թվականի
F3: ______________ ի ___Ն որոշման
A4: «ՀԱՅԱՍՏԱՆԻ ՀԱՆՐԱՊԵՏՈՒԹՅԱՆ 2024 ԹՎԱԿԱՆԻ ՊԵՏԱԿԱՆ ԲՅՈՒՋԵԻ ՄԱՍԻՆ» ՕՐԵՆՔԻ N 1 ՀԱՎԵԼՎԱԾԻ N 2 ԱՂՅՈՒՍԱԿՈՒՄ ԿԱՏԱՐՎՈՂ ՎԵՐԱԲԱՇԽՈՒՄԸ ԵՎ ՀԱՅԱՍՏԱՆԻ ՀԱՆՐԱՊԵՏՈՒԹՅԱՆ ԿԱՌԱՎԱՐՈՒԹՅԱՆ 2023 ԹՎԱԿԱՆԻ ԴԵԿՏԵՄԲԵՐԻ 28-Ի N 2323-Ն ՈՐՈՇՄԱՆ N 5 ՀԱՎԵԼՎԱԾԻ N 1 ԱՂՅՈՒՍԱԿՈՒՄ ԿԱՏԱՐՎՈՂ ՓՈՓՈԽՈՒԹՅՈՒՆՆԵՐԸ ԵՎ ԼՐԱՑՈՒՄՆԵՐԸ
F5: հազար դրամ
A6: Ծրագրային դասիչը | C6: Բյուջետային հատկացումների գլխավոր կարգադրիչների, ծրագրերի և միջոցառումների անվանումները | D6: Ցուցանիշների փոփոխություն (ավելացումները նշված են դրական նշանով, իսկ նվազեցումները՝ փակագծերում)
A7: ծրագիր | B7: միջոցառում | D7: Առաջին կիսամյակ | E7: Ինն ամիս | F7: Տարի
C8: ԸՆԴԱՄԵՆԸ | D8: =+D9+D35 -> 0 | E8: =+E9+E35 -> 0 | F8: =+F9+F35 -> 0
A9: ՀՀ Կրթության, գիտության, մշակույթի և սպորտի նախարարություն | D9: =+D11 -> 0 | E9: =+E11 -> 0 | F9: =+F11 -> 0
A10: 1045 | C10: Ծրագրի անվանումը`
C11: Նախնական (արհեստագործական) և միջին մասնագիտական կրթություն | D11: =+D18+D24+D30 -> 0 | E11: =+E18+E24+E30 -> 0 | F11: =+F18+F24+F30 -> 0
C12: Ծրագրի նպատակը`
C13: Աշխատաշուկայի արդի պահանջներին համապատասխան նախնական մասնագիտական (արհեստագործական) և միջին մասնագիտական կրթության որակավորում ունեցող մասնագետների պատրաստում, կրթության մատչելիության ապահովում:
C14: Վերջնական արդյունքի նկարագրությունը`
C15: Նախնական (արհեստագործական) և միջին մասնագիտական կրթության գրավչության բարձրացում, մատչելի և մրցունակ նախնական (արհեստագործական) և միջին մասնագիտական կրթության ապահովում
A16: Ծրագրի միջոցառումներ
B17: 12004 | C17: Միջոցառման անվանումը`
C18: Միջին մասնագիտական կրթության գծով ուսանողական նպաստների տրամադրում | D18: -161885.1 | E18: -212310 | F18: -371835.9
C19: Միջոցառման նկարագրությունը`
C20: Միջին մասնագիտական կրթության գծով ուսանողական նպաստների տրամադրում
C21: Միջոցառման տեսակը
C22: Տրանսֆերտների տրամադրում
B23: 12009 | C23: Միջոցառման անվանումը`
C24: Մարզերում գործող նախնական և միջին մասնագիտական կրթության ուսումնական հաստատությունների սովորողների և մանկավարժական աշխատողների տրանսպորտային ծախսերի փոխհատուցում | D24: 152752.1 | E24: 203177 | F24: 362702.9
C25: Միջոցառման նկարագրությունը`
C26: Մարզերում գործող նախնական և միջին մասնագիտական կրթության ուսումնական հաստատությունների սովորողների և մանկավարժական աշխատողների տրանսպորտային ծախսերի փոխհատուցման ապահովում
C27: Միջոցառման տեսակը
C28: Տրանսֆերտների տրամադրում
B29: 12015 | C29: Միջոցառման անվանումը`
C30: Լեռնային Ղարաբաղից բռնի տեղահանված ընտանիքների Հայաստանի Հանրապետության նախնական (արհեստագործական) և միջին մասնագիտական կրթական ծրագրեր իրականացնող ուսումնական հաստատություններում սովորող ուսանողների ուսման վարձի փոխհատուցում | D30: 9133 | E30: 9133 | F30: 9133
C31: Միջոցառման նկարագրությունը`
C32: Մինչև 2023 թվականի սեպտեմբերի 19-ը ՀՀ նախնական (արհեստագործական) և միջին մասնագիտական կրթական ծրագրեր իրականացնող ուսումնական հաստատությունների վճարովի ուսուցման համակարգում ընդգրկված ԼՂ բռնի տեղահանված ընտանիքների սովորողի ուսման վարձի փոխհատուցում
C33: Միջոցառման տեսակը
C34: Տրանսֆերտների տրամադրում
A35: ՀՀ կառավարություն | D35: =D37 -> 0 | E35: =E37 -> 0 | F35: =F37 -> 0
A36: 1139 | C36: Ծրագրի անվանումը`
C37: ՀՀ կառավարության պահուստային ֆոնդ | D37: =D44+D50 -> 0 | E37: =E44+E50 -> 0 | F37: =F44+F50 -> 0
C38: Ծրագրի նպատակը`
C39: Պետական բյուջեում չկանխատեսված, ինչպես նաև բյուջետային երաշխիքների ապահովման ծախսերի ֆինանսավորման ապահովում
C40: Վերջնական արդյունքի նկարագրությունը`
...

Sheet Հավելված N 2
F1: Հավելված N 2
F2: ՀՀ կառավարության 2024 թվականի
F3: ______________ ի ___Ն որոշման
A4: ՀԱՅԱՍՏԱՆԻ ՀԱՆՐԱՊԵՏՈՒԹՅԱՆ ԿԱՌԱՎԱՐՈՒԹՅԱՆ 2023 ԹՎԱԿԱՆԻ ԴԵԿՏԵՄԲԵՐԻ 28-Ի N 2323-Ն ՈՐՈՇՄԱՆ N 3 ԵՎ N 4 ՀԱՎԵԼՎԱԾՆԵՐՈՒՄ ԿԱՏԱՐՎՈՂ ՓՈՓՈԽՈՒԹՅՈՒՆՆԵՐԸ ԵՎ ԼՐԱՑՈՒՄՆԵՐԸ
I5: հազար դրամ
A6: Գործառական դասիչը | D6: Ծրագրային դասիչը | F6: Բյուջետային ծախսերի գործառական դասակարգման բաժինների, խմբերի և դասերի, բյուջետային ծրագրերի միջոցառումների, բյուջետային հատկացումների գլխավոր կարգադրիչների անվանումները | G6: Ցուցանիշների փոփոխություն (ավելացումները նշված են դրական նշանով, իսկ նվազեցումները՝ փակագծերում)
A7: Բաժին | B7: Խումբ | C7: Դաս | D7: Ծրագիր | E7: Միջոցառում | G7: Առաջին կիսամյակ | H7: Ինն ամիս | I7: Տարի
F8: ԸՆԴԱՄԵՆԸ | G8: =+G10+G47 -> 0 | H8: =+H10+H47 -> 0 | I8: =+I10+I47 -> 0
F9: այդ թվում`
F10: ՀՀ Կրթության, գիտության, մշակույթի և սպորտի նախարարություն | G10: =G12 -> 0 | H10: =H12 -> 0 | I10: =I12 -> 0
F11: այդ թվում`
A12: 09 | F12: ԿՐԹՈՒԹՅՈՒՆ | G12: =+G30+G14 -> 0 | H12: =+H30+H14 -> 0 | I12: =+I14+I30 -> 0
F13: այդ թվում`
B14: 03 | F14: Նախնական մասնագիտական (արհեստագործական) և միջին մասնագիտական կրթություն | G14: =+G16 -> 0 | H14: =+H16 -> 0 | I14: =+I16 -> 0
F15: այդ թվում`
C16: 0 2 | F16: Միջին մասնագիտական կրթություն | G16: =+G18 -> 0 | H16: =+H18 -> 0 | I16: =+I18 -> 0
F17: այդ թվում`
D18: 1045 | F18: Նախնական (արհեստագործական) և միջին մասնագիտական կրթություն | G18: =+G20+G29+G38 -> 0 | H18: =+H20+H29+H38 -> 0 | I18: =+I20+I29+I38 -> 0
F19: այդ թվում`
E20: 12004 | F20: Միջին մասնագիտական կրթության գծով ուսանողական նպաստների տրամադրում | G20: =+G22 -> -161885.1 | H20: =+H28 -> -212310 | I20: =+I28 -> -371835.9
F21: այդ թվում` ըստ կատարողների
F22: ՀՀ կրթության , գիտության, մշակույթի և սպորտի նախարարություն | G22: =+G24 -> -161885.1 | H22: =+H24 -> -212310 | I22: =+I24 -> -371835.9
F23: այդ թվում` բյուջետային ծախսերի տնտեսագիտական դասակարգման հոդվածներ
F24: ԸՆԴԱՄԵՆԸ ԾԱԽՍԵՐ | G24: =+G25 -> -161885.1 | H24: =+H25 -> -212310 | I24: =+I25 -> -371835.9
F25: ԸՆԹԱՑԻԿ ԾԱԽՍԵՐ | G25: =+G26 -> -161885.1 | H25: =+H26 -> -212310 | I25: =+I26 -> -371835.9
F26: ՍՈՑԻԱԼԱԿԱՆ ՆՊԱՍՏՆԵՐ ԵՎ ԿԵՆՍԱԹՈՇԱԿՆԵՐ | G26: =+G27 -> -161885.1 | H26: =+H27 -> -212310 | I26: =+I27 -> -371835.9
F27: Սոցիալական օգնության դրամական արտահայտությամբ նպաստներ (բյուջեից) | G27: =+G28 -> -161885.1 | H27: =+H28 -> -212310 | I27: =+I28 -> -371835.9
F28: - Այլ նպաստներ բյուջեից | G28: =+'Հավելված N 1'!D18 -> -161885.1 | H28: =+'Հավելված N 1'!E18 -> -212310 | I28: =+'Հավելված N 1'!F18 -> -371835.9
E29: 12009 | F29: Մարզերում գործող նախնական և միջին մասնագիտական կրթության ուսումնական հաստատությունների սովորողների և մանկավարժական աշխատողների տրանսպորտային ծախսերի փոխհատուցում | G29: =+G31 -> 152752.1 | H29: =+H31 -> 203177 | I29: =+I31 -> 362702.9
F30: այդ թվում` ըստ կատարողների
F31: ՀՀ կրթության , գիտության, մշակույթի և սպորտի նախարարություն | G31: =+G33 -> 152752.1 | H31: =+H33 -> 203177 | I31: =+I33 -> 362702.9
F32: այդ թվում` բյուջետային ծախսերի տնտեսագիտական դասակարգման հոդվածներ
F33: ԸՆԴԱՄԵՆԸ ԾԱԽՍԵՐ | G33: =G34 -> 152752.1 | H33: =+H34 -> 203177 | I33: =+I34 -> 362702.9
F34: ԸՆԹԱՑԻԿ ԾԱԽՍԵՐ | G34: =G35 -> 152752.1 | H34: =H36 -> 203177 | I34: =I36 -> 362702.9
F35: ՍՈՑԻԱԼԱԿԱՆ ՆՊԱՍՏՆԵՐ ԵՎ ԿԵՆՍԱԹՈՇԱԿՆԵՐ | G35: =G36 -> 152752.1 | H35: =+H36 -> 203177 | I35: =+I36 -> 362702.9
F36: Սոցիալական օգնության դրամական արտահայտությամբ նպաստներ (բյուջեից) | G36: =G37 -> 152752.1 | H36: =+H37 -> 203177 | I36: =+I37 -> 362702.9
F37: - Այլ նպաստներ բյուջեից | G37: =+'Հավելված N 1'!D24 -> 152752.1 | H37: =+'Հավելված N 1'!E24 -> 203177 | I37: =+'Հավելված N 1'!F24 -> 362702.9
E38: 12015 | F38: Լեռնային Ղարաբաղից բռնի տեղահանված ընտանիքների Հայաստանի Հանրապետության նախնական (արհեստագործական) և միջին մասնագիտական կրթական ծրագրեր իրականացնող ուսումնական հաստատություններում սովորող ուսանողների ուսման վարձի փոխհատուցում | G38: =+G40 -> 9133 | H38: =+H40 -> 9133 | I38: =+I40 -> 9133
F39: այդ թվում` ըստ կատարողների
F40: ՀՀ կրթության , գիտության, մշակույթի և սպորտի նախարարություն | G40: =+G42 -> 9133 | H40: =+H42 -> 9133 | I40: =+I42 -> 9133
...

Sheet Հավելված N 3
B1: Հավելված N 3
B2: ՀՀ կառավարության 2024 թվականի
B3: ______________ ի ___Ն որոշման
A5: ՀԱՅԱՍՏԱՆԻ ՀԱՆՐԱՊԵՏՈՒԹՅԱՆ ԿԱՌԱՎԱՐՈՒԹՅԱՆ 2023 ԹՎԱԿԱՆԻ ԴԵԿՏԵՄԲԵՐԻ 28-Ի N 2323-Ն ՈՐՈՇՄԱՆ N 9 ՀԱՎԵԼՎԱԾԻ NN 9.13 ԵՎ 9.48 ԱՂՅՈՒՍԱԿՆԵՐՈՒՄ ԿԱՏԱՐՎՈՂ ՓՈՓՈԽՈՒԹՅՈՒՆՆԵՐԸ ԵՎ ԼՐԱՑՈՒՄՆԵՐԸ
C6: Աղյուսակ 9․13
A7: ՀՀ կրթության, գիտության, մշակույթի և սպորտի նախարարություն
A8: ՄԱՍ 2. ՊԵՏԱԿԱՆ ՄԱՐՄՆԻ ԳԾՈՎ ԱՐԴՅՈՒՆՔԱՅԻՆ (ԿԱՏԱՐՈՂԱԿԱՆ) ՑՈՒՑԱՆԻՇՆԵՐԸ
A9: Ծրագրի դասիչը | B9: Ծրագրի անվանումը
A10: 1045 | B10: Նախնական (արհեստագործական) և միջին մասնագիտական կրթություն
A12: Ծրագրի միջոցառումները
A14: Ծրագրի դասիչը` | B14: 1045 | C14: Ցուցանիշների փոփոխություն (նվազեցումները նշված են փակագծերում)
A15: Միջոցառման դասիչը` | B15: 12004 | C15: Առաջին կիսամյակ | D15: Ինն ամիս | E15: Տարի
A16: Միջոցառման անվանումը` | B16: Միջին մասնագիտական կրթության գծով ուսանողական նպաստների տրամադրում
A17: Նկարագրությունը` | B17: Միջին մասնագիտական կրթության գծով ուսանողական նպաստների տրամադրում
A18: Միջոցառման տեսակը` | B18: Տրանսֆերտների տրամադրում
A19: Շահառուների ընտրության չափորոշիչները` | B19: Միջին մասնագիտական կրթություն ստացող ուսանողներ
A20: Արդյունքի չափորոշիչներ
A21: Ուսանողական նպաստ ստացող ուսանողների թիվը, մարդ | C21: -994 | E21: -994
A22: Միջոցառման վրա կատարվող ծախսը (հազար դրամ) | C22: =+'Հավելված N 2'!G28 -> -161885.1 | D22: =+'Հավելված N 2'!H28 -> -212310 | E22: =+'Հավելված N 2'!I28 -> -371835.9
A24: Ծրագրի դասիչը` | B24: 1045 | C24: Ցուցանիշների փոփոխություն (ավելացումները նշված են դրական նշանով)
A25: Միջոցառման դասիչը` | B25: 12009 | C25: Առաջին կիսամյակ | D25: Ինն ամիս | E25: Տարի
A26: Միջոցառման անվանումը` | B26: Մարզերում գործող նախնական և միջին մասնագիտական կրթության ուսումնական հաստատությունների սովորողների և մանկավարժական աշխատողների տրանսպորտային ծախսերի փոխհատուցում
A27: Նկարագրությունը` | B27: Մարզերում գործող նախնական և միջին մասնագիտական կրթության ուսումնական հաստատությունների սովորողների և մանկավարժական աշխատողների տրանսպորտային ծախսերի փոխհատուցման ապահովում
A28: Միջոցառման տեսակը` | B28: Տրանսֆերտների տրամադրում
A29: Շահառուների ընտրության չափորոշիչները` | B29: Շահառուների ընտրության չափորոշիչները սահմանված են ՀՀ ԿԳՄՍ նախարարի հրամանով
A30: Արդյունքի չափորոշիչներ
A31: Տրանսպորտային ծախսերի փոխհատուցում ստացող սովորողների թիվը | C31: 700 | E31: 700
A32: Միջոցառման վրա կատարվող ծախսը (հազար դրամ) | C32: =+'Հավելված N 2'!G37 -> 152752.1 | D32: =+'Հավելված N 2'!H37 -> 203177 | E32: =+'Հավելված N 2'!I37 -> 362702.9
A34: Ծրագրի դասիչը` | B34: 1045 | C34: Ցուցանիշների փոփոխություն (ավելացումները նշված են դրական նշանով)
A35: Միջոցառման դասիչը` | B35: 12015 | C35: Առաջին կիսամյակ | D35: Ինն ամիս | E35: Տարի
A36: Միջոցառման անվանումը` | B36: Լեռնային Ղարաբաղից բռնի տեղահանված ընտանիքների Հայաստանի Հանրապետության նախնական (արհեստագործական) և միջին մասնագիտական կրթական ծրագրեր իրականացնող ուսումնական հաստատություններում սովորող ուսանողների ուսման վարձի փոխհատուցում
A37: Նկարագրությունը` | B37: Մինչև 2023 թվականի սեպտեմբերի 19-ը ՀՀ նախնական (արհեստագործական) և միջին մասնագիտական կրթական ծրագրեր իրականացնող ուսումնական հաստատությունների վճարովի ուսուցման համակարգում ընդգրկված ԼՂ բռնի տեղահանված ընտանիքների սովորողի ուսման վարձի փոխհատուցում
A38: Միջոցառման տեսակը` | B38: Տրանսֆերտների տրամադրում
A39: Շահառուների ընտրության չափորոշիչը | B39: ՀՀ ՆՄԿՈՒ և ՄԿՈՒ հաստատություններում սովորող Լեռնային Ղարաբաղից բռնի տեղահանված ընտանիքների ուսանողներ
A40: Արդյունքի չափորոշիչներ
A41: Քանակական | B41: Ուսման վարձի փոխհատուցում ստացող ուսանողների թիվ, մարդ | C41: 35 | E41: 35
A42: Միջոցառման վրա կատարվող ծախսը (հազար դրամ) | C42: =+'Հավելված N 2'!G38 -> 9133 | D42: =+'Հավելված N 2'!H38 -> 9133 | E42: =+'Հավելված N 2'!I38 -> 9133
C43: Աղյուսակ 9․48
A45: ՀՀ կառավարություն
A46: ՄԱՍ 2. ՊԵՏԱԿԱՆ ՄԱՐՄՆԻ ԳԾՈՎ ԱՐԴՅՈՒՆՔԱՅԻՆ (ԿԱՏԱՐՈՂԱԿԱՆ) ՑՈՒՑԱՆԻՇՆԵՐԸ
...

Sheet Հավելված N 4
B1: Հավելված N 4
B2: ՀՀ կառավարության 2024 թվականի
B3: ______________ ի ___Ն որոշման
A5: ՀԱՅԱՍՏԱՆԻ ՀԱՆՐԱՊԵՏՈՒԹՅԱՆ ԿԱՌԱՎԱՐՈՒԹՅԱՆ 2023 ԹՎԱԿԱՆԻ ԴԵԿՏԵՄԲԵՐԻ 28-Ի N 2323-Ն ՈՐՈՇՄԱՆ N 9.1 ՀԱՎԵԼՎԱԾԻ NN 9.1.13 ԵՎ 9.1.58 ԱՂՅՈՒՍԱԿՆԵՐՈՒՄ ԿԱՏԱՐՎՈՂ ՓՈՓՈԽՈՒԹՅՈՒՆՆԵՐԸ ԵՎ ԼՐԱՑՈՒՄՆԵՐԸ
C6: Աղյուսակ 9․1.13
A7: ՀՀ կրթության, գիտության, մշակույթի և սպորտի նախարարություն
A8: ՄԱՍ 1. ՊԵՏԱԿԱՆ ՄԱՐՄՆԻ ԳԾՈՎ ԱՐԴՅՈՒՆՔԱՅԻՆ (ԿԱՏԱՐՈՂԱԿԱՆ) ՑՈՒՑԱՆԻՇՆԵՐԸ
A10: Ծրագրի դասիչը | B10: Ծրագրի անվանումը
A11: 1045 | B11: Նախնական (արհեստագործական) և միջին մասնագիտական կրթություն
A13: Ծրագրի միջոցառումները
A14: Ծրագրի դասիչը` | B14: 1045 | C14: Ցուցանիշների փոփոխություն (նվազեցումները նշված են փակագծերում)
A15: Միջոցառման դասիչը` | B15: 12004 | C15: Առաջին կիսամյակ | D15: Ինն ամիս | E15: Տարի
A16: Միջոցառման անվանումը` | B16: Միջին մասնագիտական կրթության գծով ուսանողական նպաստների տրամադրում
A17: Նկարագրությունը` | B17: Միջին մասնագիտական կրթության գծով ուսանողական նպաստների տրամադրում
A18: Միջոցառման տեսակը` | B18: Տրանսֆերտների տրամադրում
A19: Շահառուների ընտրության չափորոշիչները` | B19: Միջին մասնագիտական կրթություն ստացող ուսանողներ
A20: Արդյունքի չափորոշիչներ
A21: Ուսանողական նպաստ ստացող ուսանողների թիվը, մարդ | C21: -994 | E21: -994
A22: Միջոցառման վրա կատարվող ծախսը (հազար դրամ) | C22: =+'Հավելված N 3'!C22 -> -161885.1 | D22: =+'Հավելված N 3'!D22 -> -212310 | E22: =+'Հավելված N 3'!E22 -> -371835.9
A24: Ծրագրի դասիչը` | B24: 1045 | C24: Ցուցանիշների փոփոխություն (ավելացումները նշված են դրական նշանով)
A25: Միջոցառման դասիչը` | B25: 12009 | C25: Առաջին կիսամյակ | D25: Ինն ամիս | E25: Տարի
A26: Միջոցառման անվանումը` | B26: Մարզերում գործող նախնական և միջին մասնագիտական կրթության ուսումնական հաստատությունների սովորողների և մանկավարժական աշխատողների տրանսպորտային ծախսերի փոխհատուցում
A27: Նկարագրությունը` | B27: Մարզերում գործող նախնական և միջին մասնագիտական կրթության ուսումնական հաստատությունների սովորողների և մանկավարժական աշխատողների տրանսպորտային ծախսերի փոխհատուցման ապահովում
A28: Միջոցառման տեսակը` | B28: Տրանսֆերտների տրամադրում
A29: Շահառուների ընտրության չափորոշիչները` | B29: Շահառուների ընտրության չափորոշիչները սահմանված են ՀՀ ԿԳՄՍ նախարարի հրամանով
A30: Արդյունքի չափորոշիչներ
A31: Տրանսպորտային ծախսերի փոխհատուցում ստացող սովորողների թիվը | C31: 700 | E31: 700
A32: Միջոցառման վրա կատարվող ծախսը (հազար դրամ) | C32: =+'Հավելված N 3'!C32 -> 152752.1 | D32: =+'Հավելված N 3'!D32 -> 203177 | E32: =+'Հավելված N 3'!E32 -> 362702.9
A34: Ծրագրի դասիչը` | B34: 1045 | C34: Ցուցանիշների փոփոխություն (ավելացումները նշված են դրական նշանով)
A35: Միջոցառման դասիչը` | B35: 12015 | C35: Առաջին կիսամյակ | D35: Ինն ամիս | E35: Տարի
A36: Միջոցառման անվանումը` | B36: Լեռնային Ղարաբաղից բռնի տեղահանված ընտանիքների Հայաստանի Հանրապետության նախնական (արհեստագործական) և միջին մասնագիտական կրթական ծրագրեր իրականացնող ուսումնական հաստատություններում սովորող ուսանողների ուսման վարձի փոխհատուցում
A37: Նկարագրությունը` | B37: Մինչև 2023 թվականի սեպտեմբերի 19-ը ՀՀ նախնական (արհեստագործական) և միջին մասնագիտական կրթական ծրագրեր իրականացնող ուսումնական հաստատությունների վճարովի ուսուցման համակարգում ընդգրկված ԼՂ բռնի տեղահանված ընտանիքների սովորողի ուսման վարձի փոխհատուցում
A38: Միջոցառման տեսակը` | B38: Տրանսֆերտների տրամադրում
A39: Շահառուների ընտրության չափորոշիչը | B39: ՀՀ ՆՄԿՈՒ և ՄԿՈՒ հաստատություններում սովորող Լեռնային Ղարաբաղից բռնի տեղահանված ընտանիքների ուսանողներ
A40: Արդյունքի չափորոշիչներ
A41: Քանակական | B41: Ուսման վարձի փոխհատուցում ստացող ուսանողների թիվ, մարդ | C41: 35 | E41: 35
A42: Միջոցառման վրա կատարվող ծախսը (հազար դրամ) | C42: =+'Հավելված N 3'!C42 -> 9133 | D42: =+'Հավելված N 3'!D42 -> 9133 | E42: =+'Հավելված N 3'!E42 -> 9133
C43: Աղյուսակ 9․1.58
A45: ՀՀ կառավարություն
A46: ՄԱՍ 2. ՊԵՏԱԿԱՆ ՄԱՐՄՆԻ ԳԾՈՎ ԱՐԴՅՈՒՆՔԱՅԻՆ (ԿԱՏԱՐՈՂԱԿԱՆ) ՑՈՒՑԱՆԻՇՆԵՐԸ
...
