Workbook

Sheet 1
F1: Հավելված N 1
F2: ՀՀ կառավարության 2024 թվականի
F3: -ի N -Ն որոշման
A4: «ՀԱՅԱՍՏԱՆԻ ՀԱՆՐԱՊԵՏՈՒԹՅԱՆ 2024 ԹՎԱԿԱՆԻ ՊԵՏԱԿԱՆ ԲՅՈՒՋԵԻ ՄԱՍԻՆ» ՀԱՅԱՍՏԱՆԻ ՀԱՆՐԱՊԵՏՈՒԹՅԱՆ ՕՐԵՆՔԻ N 1 ՀԱՎԵԼՎԱԾԻ N 2 ԱՂՅՈՒՍԱԿՈՒՄ ԿԱՏԱՐՎՈՂ ՎԵՐԱԲԱՇԽՈՒՄԸ , ՓՈՓՈԽՈՒԹՅՈՒՆՆԵՐԸ ԵՎ ԼՐԱՑՈՒՄՆԵՐԸ, ՀԱՅԱՍՏԱՆԻ ՀԱՆՐԱՊԵՏՈՒԹՅԱՆ ԿԱՌԱՎԱՐՈՒԹՅԱՆ 2023 ԹՎԱԿԱՆԻ ԴԵԿՏԵՄԲԵՐԻ 28-Ի N 2323-Ն ՈՐՈՇՄԱՆ N 5 ՀԱՎԵԼՎԱԾԻ N 1 ԱՂՅՈՒՍԱԿՈՒՄ ԿԱՏԱՐՎՈՂ ՓՈՓՈԽՈՒԹՅՈՒՆՆԵՐԸ ԵՎ ԼՐԱՑՈՒՄՆԵՐԸ
F6: (հազ. դրամ)
A7: Ծրագրային դասիչը | C7: Բյուջետային գլխավոր կարգադրիչների, ծրագրերի և միջոցառումների անվանումները | D7: Ցուցանիշների փոփոխությունը (ավելացումները նշված են դրական նշանով, իսկ նվազեցումները՝ փակագծերում)
A8: Ծրագիր | B8: Միջոցառում | D8: Առաջին կիսամյակ | E8: Ինն ամիս | F8: Տարի
C9: ԸՆԴԱՄԵՆԸ | D9: =D10 -> 0 | E9: =E10 -> 0 | F9: =F10 -> 0
C10: ՀՀ տարածքային կառավարման և ենթակառուցվածքների նախարարություն | D10: =D11+D24+D37 -> 0 | E10: =E11+E24+E37 -> 0 | F10: =F11+F24+F37 -> 0
A11: 1004 | C11: Ծրագրի անվանումը` | D11: =D18 -> -70330.5 | E11: =E18 -> -70330.5 | F11: =F18 -> -70330.5
C12: Ոռոգման համակարգի առողջացում
C13: Ծրագրի նպատակը`
C14: Ոռոգման ծառայությունների հասանելիության և մատչելիության ապահովում
C15: Վերջնական արդյունքի նկարագրությունը`
C16: Ոռոգման ջրի մատակարարման արդյունավետության և հասանելիության բարելավում՝ կորուստների կրճատում
A17: Ծրագրի միջոցառումներ
B18: 31013 | C18: Միջոցառման անվանումը` | D18: ='3'!G24 -> -70330.5 | E18: ='3'!H24 -> -70330.5 | F18: ='3'!I24 -> -70330.5
C19: Փոքր և միջին ջրամբարների կառուցում
C20: Միջոցառման նկարագրությունը`
C21: Փոքր և միջին ջրամբարների կառուցման աշխատանքներ
C22: Միջոցառման տեսակը
C23: Պետական մարմինների կողմից օգտագործվող ոչ ֆինանսական ակտիվների հետ գործառնություններ
A24: 1072 | C24: Ծրագրի անվանումը` | D24: =D31 -> 61000.4 | E24: =E31 -> 61000.4 | F24: =F31 -> 61000.4
C25: Ջրամատակարարման և ջրահեռացման բարելավում
C26: Ծրագրի նպատակը`
C27: Ջրամատակարարման ծառայությունների հասանելիության և մատչելիության ապահովում
C28: Վերջնական արդյունքի նկարագրությունը`
C29: Խմելու ջրի մատակարարման և ջրահեռացման համակարգի բարելավում, կորուստների կրճատում
A30: Ծրագրի միջոցառումներ
B31: 31012 | C31: Միջոցառման անվանումը` | D31: ='3'!G45 -> 61000.4 | E31: ='3'!H45 -> 61000.4 | F31: ='3'!I45 -> 61000.4
C32: Ջրամատակարարման և ջրահեռացման ոլորտում անշարժ գույքի ձեռքբերում
C33: Միջոցառման նկարագրությունը`
C34: Ջրամատակարարման և ջրահեռացման ոլորտում անշարժ գույքի ձեռքբերում
C35: Միջոցառման տեսակը
C36: Պետական մարմինների կողմից օգտագործվող ոչ ֆինանսական ակտիվների հետ գործառնություններ
A37: 1109 | C37: Ծրագրի անվանումը` | D37: =D44 -> 9330.1 | E37: =E44 -> 9330.1 | F37: =F44 -> 9330.1
C38: Ջրային տնտեսության ոլորտում ծրագրերի համակարգում և մոնիտորինգ
C39: Ծրագրի նպատակը`
C40: Ջրային տնտեսության ոլորտում պետական արդյունավետ ծրագրերի մշակման և իրականացման ապահովում
C41: Վերջնական արդյունքի նկարագրությունը`
...

Sheet 2
A1: Հավելված N 2
A2: ՀՀ կառավարության 2024 թվականի
A3: -ի N -Ն որոշման
A4: «ՀԱՅԱՍՏԱՆԻ ՀԱՆՐԱՊԵՏՈՒԹՅԱՆ 2024 ԹՎԱԿԱՆԻ ՊԵՏԱԿԱՆ ԲՅՈՒՋԵԻ ՄԱՍԻՆ» ՀԱՅԱՍՏԱՆԻ ՀԱՆՐԱՊԵՏՈՒԹՅԱՆ ՕՐԵՆՔԻ N 1 ՀԱՎԵԼՎԱԾԻ N 3 ԱՂՅՈՒՍԱԿՈՒՄ ԿԱՏԱՐՎՈՂ ՓՈՓՈԽՈՒԹՅՈՒՆԸ ԵՎ ԼՐԱՑՈՒՄԸ
G5: (հազ. դրամ)
A6: Ծրագրային դասիչ | C6: Բյուջետային գլխավոր կարգադրիչների, ծրագրերի, միջոցառումների և ուղղությունների անվանումները | D6: Ցուցանիշների փոփոխությունը (ավելացումները նշված են դրական նշանով, իսկ նվազեցումները՝ փակագծերում)
D7: Ընդամենը, | E7: այդ թվում՝
A8: Ծրագիր | B8: Միջոցառում | E8: Կառուցման աշխատանքներ | F8: Վերակառուցման, վերանորոգման և վերականգնման աշխատանքներ | G8: Նախագծահե- տազոտական, գեոդեզիա- քարտեզագրա- կան աշխա- տանքներ | H8: Ոչ ֆինանսական այլ ակտիվների ձեռքբերում
C9: ԸՆԴԱՄԵՆԸ | D9: =SUM(E9:H9) -> -9330.1 | E9: =E11 -> -70330.5 | F9: =F11 -> 0 | G9: =G11 -> 0 | H9: =H11 -> 61000.4
C10: այդ թվում՝
C11: ՀՀ ՏԱՐԱԾՔԱՅԻՆ ԿԱՌԱՎԱՐՄԱՆ ԵՎ ԵՆԹԱԿԱՌՈՒՑՎԱԾՔՆԵՐԻ ՆԱԽԱՐԱՐՈՒԹՅՈՒՆ | D11: =SUM(E11:H11) -> -9330.1 | E11: =E13+E14 -> -70330.5 | F11: =F13+F14 -> 0 | G11: =G13+G14 -> 0 | H11: =H13+H14 -> 61000.4
C12: այդ թվում`
A13: 1004 | B13: 31013 | C13: Փոքր և միջին ջրամբարների կառուցում | D13: =SUM(E13:H13) -> -70330.5 | E13: -70330.5 | F13: 0 | H13: 0
A14: 1072 | B14: 31012 | C14: Ջրամատակարարման և ջրահեռացման ոլորտում անշարժ գույքի ձեռքբերում | D14: =SUM(E14:H14) -> 61000.4 | H14: =H16 -> 61000.4
C15: այդ թվում`
C16: ՀՀ Տավուշի մարզի Նոյեմբերյան համայնքի Կողբ բնակավայրում անշարժ գույքի և հողամասի ձեռքբերում | D16: =SUM(D14:D15) -> 61000.4 | H16: ='3'!I53+'3'!I55 -> 61000.4

Sheet 3
H1: Հավելված N3
A2: ՀՀ կառավարության 2024 թվականի
A3: -ի N -Ն որոշման
A4: ՀԱՅԱՍՏԱՆԻ ՀԱՆՐԱՊԵՏՈՒԹՅԱՆ ԿԱՌԱՎԱՐՈՒԹՅԱՆ 2023 ԹՎԱԿԱՆԻ ԴԵԿՏԵՄԲԵՐԻ 28-Ի N 2323-Ն ՈՐՈՇՄԱՆ N 3 ԵՎ N 4 ՀԱՎԵԼՎԱԾՆԵՐՈՒՄ ԿԱՏԱՐՎՈՂ ՓՈՓՈԽՈՒԹՅՈՒՆՆԵՐԸ ԵՎ ԼՐԱՑՈՒՄՆԵՐԸ
I6: (հազ. դրամ)
A7: Գործառական դասիչը | D7: Ծրագրային դասիչը | F7: Բյուջետային ծախսերի գործառական դասակարգման բաժինների, խմբերի և դասերի, բյուջետային ծրագրերի միջոցառումների, բյուջետային հատկացումների գլխավոր կարգադրիչների անվանումները | G7: Ցուցանիշների փոփոխությունը (ավելացումները նշված են դրական նշանով, իսկ նվազեցումները՝ փակագծերում)
G8: Առաջին կիսամյակ | H8: Ինն ամիս | I8: Տարի
A9: Բաժին | B9: Խումբ | C9: Դաս | D9: Ծրագիր | E9: Միջոցառում
F10: ԸՆԴԱՄԵՆԸ ԾԱԽՍԵՐ | G10: =G12 -> 0 | H10: =H12 -> 0 | I10: =I12 -> 0
F11: այդ թվում`
F12: ՀՀ տարածքային կառավարման և ենթակառուցվածքների նախարարություն | G12: =G14+G35 -> 0 | H12: =H14+H35 -> 0 | I12: =I14+I35 -> 0
F13: այդ թվում`
A14: 04 | F14: ՏՆՏԵՍԱԿԱՆ ՀԱՐԱԲԵՐՈՒԹՅՈՒՆՆԵՐ | G14: =G16 -> -70330.5 | H14: =H16 -> -70330.5 | I14: =I16 -> -70330.5
F15: այդ թվում`
B16: 02 | F16: Գյուղատնտեսություն, անտառային տնտեսություն, ձկնորսություն և որսորդություն | G16: =G18 -> -70330.5 | H16: =H18 -> -70330.5 | I16: =I18 -> -70330.5
F17: այդ թվում`
C18: 04 | F18: Ոռոգում | G18: =G20 -> -70330.5 | H18: =H20 -> -70330.5 | I18: =I20 -> -70330.5
F19: այդ թվում`
F20: ՀՀ տարածքային կառավարման և ենթակառուցվածքների նախարարություն | G20: =G22 -> -70330.5 | H20: =H22 -> -70330.5 | I20: =I22 -> -70330.5
F21: այդ թվում`
D22: 1004 | F22: Ոռոգման համակարգի առողջացում | G22: =G24 -> -70330.5 | H22: =H24 -> -70330.5 | I22: =I24 -> -70330.5
F23: այդ թվում`
E24: 31013 | F24: Փոքր և միջին ջրամբարների կառուցում | G24: =G26 -> -70330.5 | H24: =H26 -> -70330.5 | I24: =I26 -> -70330.5
F25: այդ թվում` ըստ կատարողների
F26: ՀՀ տարածքային կառավարման և ենթակառուցվածքների նախարարության ջրային կոմիտե | G26: =G28 -> -70330.5 | H26: =H28 -> -70330.5 | I26: =I28 -> -70330.5
F27: այդ թվում` բյուջետային ծախսերի տնտեսագիտական դասակարգման հոդվածներ
F28: ԸՆԴԱՄԵՆԸ ԾԱԽՍԵՐ | G28: =G29 -> -70330.5 | H28: =H29 -> -70330.5 | I28: =I29 -> -70330.5
F29: ՈՉ ՖԻՆԱՆՍԱԿԱՆ ԱԿՏԻՎՆԵՐԻ ԳԾՈՎ ԾԱԽՍԵՐ | G29: =G30 -> -70330.5 | H29: =H30 -> -70330.5 | I29: =I30 -> -70330.5
F30: ՀԻՄՆԱԿԱՆ ՄԻՋՈՑՆԵՐ | G30: =G31+G33 -> -70330.5 | H30: =H31+H33 -> -70330.5 | I30: =I31+I33 -> -70330.5
F31: ՇԵՆՔԵՐ ԵՎ ՇԻՆՈՒԹՅՈՒՆՆԵՐ | H31: =H32 -> -70330.5 | I31: =I32 -> -70330.5
F32: - Շենքերի և շինությունների շինարարություն | H32: -70330.5 | I32: =H32 -> -70330.5
F33: ԱՅԼ ՀԻՄՆԱԿԱՆ ՄԻՋՈՑՆԵՐ | G33: =G34 -> -70330.5
F34: - Նախագծահետազոտական ծախսեր | G34: -70330.5
A35: 06 | F35: ԲՆԱԿԱՐԱՆԱՅԻՆ ՇԻՆԱՐԱՐՈՒԹՅՈՒՆ ԵՎ ԿՈՄՈՒՆԱԼ ԾԱՌԱՅՈՒԹՅՈՒՆՆԵՐ | G35: =G37 -> 70330.5 | H35: =H37 -> 70330.5 | I35: =I37 -> 70330.5
F36: այդ թվում`
B37: 03 | F37: Ջրամատակարարում | G37: =G39 -> 70330.5 | H37: =H39 -> 70330.5 | I37: =I39 -> 70330.5
F38: այդ թվում`
C39: 01 | F39: Ջրամատակարարում | G39: =G41 -> 70330.5 | H39: =H41 -> 70330.5 | I39: =I41 -> 70330.5
F40: այդ թվում`
F41: ՀՀ տարածքային կառավարման և ենթակառուցվածքների նախարարություն | G41: =G43+G57 -> 70330.5 | H41: =H43+H57 -> 70330.5 | I41: =I43+I57 -> 70330.5
...

Sheet 4
A1: Հավելված N 4
A2: ՀՀ կառավարության 2024 թվականի
A3: -ի N -Ն որոշման
A4: ՀԱՅԱՍՏԱՆԻ ՀԱՆՐԱՊԵՏՈՒԹՅԱՆ ԿԱՌԱՎԱՐՈՒԹՅԱՆ 2023 ԹՎԱԿԱՆԻ ԴԵԿՏԵՄԲԵՐԻ 28-Ի N 2323-Ն ՈՐՈՇՄԱՆ N 5 ՀԱՎԵԼՎԱԾԻ N 2 ԱՂՅՈՒՍԱԿՈՒՄ ԿԱՏԱՐՎՈՂ ՓՈՓՈԽՈՒԹՅՈՒՆԸ ԵՎ ԼՐԱՑՈՒՄԸ
F5: (հազ. դրամ)
A6: Ծրագրային դասիչ | C6: Բյուջետային գլխավոր կարգադրիչների, ծրագրերի, միջոցառումների, միջոցառումները կատարող պետական մարմինների և ուղղությունների անվանումները | D6: Ցուցանիշների փոփոխությունը (գումարների ավելացումները նշված են դրական նշանով, իսկ նվազեցումները՝ փակագծերում)
D7: Առաջին կիսամյակ | E7: Ինն ամիս | F7: Տարի
A8: Ծրագիր | B8: Միջոցառում
C9: ԸՆԴԱՄԵՆԸ | D9: =D11 -> -9330.1 | E9: =E11 -> -9330.1 | F9: =F11 -> -9330.1
C10: այդ թվում՝
C11: ՀՀ ՏԱՐԱԾՔԱՅԻՆ ԿԱՌԱՎԱՐՄԱՆ ԵՎ ԵՆԹԱԿԱՌՈՒՑՎԱԾՔՆԵՐԻ ՆԱԽԱՐԱՐՈՒԹՅՈՒՆ | D11: =D13+D16 -> -9330.1 | E11: =E13+E16 -> -9330.1 | F11: =F13+F16 -> -9330.1
C12: այդ թվում`
A13: 1004 | B13: 31013 | C13: Փոքր և միջին ջրամբարների կառուցում | D13: =D15 -> -70330.5 | E13: =E15 -> -70330.5 | F13: =F15 -> -70330.5
C14: այդ թվում` ըստ կատարողների
C15: ՀՀ տարածքային կառավարման և ենթակառուցվածքների նախարարության ջրային կոմիտե | D15: ='2'!E13 -> -70330.5 | E15: =D15 -> -70330.5 | F15: =E15 -> -70330.5
A16: 1072 | B16: 31012 | C16: Ջրամատակարարման և ջրահեռացման ոլորտում անշարժ գույքի ձեռքբերում | D16: =D18 -> 61000.4 | E16: =E18 -> 61000.4 | F16: =F18 -> 61000.4
C17: այդ թվում` ըստ կատարողների
C18: ՀՀ տարածքային կառավարման և ենթակառուցվածքների նախարարության ջրային կոմիտե | D18: =D20 -> 61000.4 | E18: =E20 -> 61000.4 | F18: =F20 -> 61000.4
C19: այդ թվում` ըստ ուղղությունների
C20: ՀՀ Տավուշի մարզի Նոյեմբերյան համայնքի Կողբ բնակավայրում անշարժ գույքի և հողամասի ձեռքբերում | D20: ='2'!H16 -> 61000.4 | E20: =D20 -> 61000.4 | F20: =E20 -> 61000.4

Sheet 5-1
E1: Հավելված N 5
E2: ՀՀ կառավարության 2024 թվականի
E3: -ի N -Ն որոշման
E4: Աղյուսակ 1
A5: ՀԱՅԱՍՏԱՆԻ ՀԱՆՐԱՊԵՏՈՒԹՅԱՆ ԿԱՌԱՎԱՐՈՒԹՅԱՆ 2023 ԹՎԱԿԱՆԻ ԴԵԿՏԵՄԲԵՐԻ 28-Ի N 2323-Ն ՈՐՈՇՄԱՆ N 9 ՀԱՎԵԼՎԱԾԻ N 9.7 ԵՎ N 9.48 ԱՂՅՈՒՍԱԿՆԵՐՈՒՄ ԿԱՏԱՐՎՈՂ ՓՈՓՈԽՈՒԹՅՈՒՆՆԵՐԸ ԵՎ ԼՐԱՑՈՒՄՆԵՐԸ
E7: Աղյուսակ 9.7
A8: ՀՀ տարածքային կառավարման և ենթակառուցվածքների նախարարություն
A10: ՄԱՍ 2. ՊԵՏԱԿԱՆ ՄԱՐՄՆԻ ԳԾՈՎ ԱՐԴՅՈՒՆՔԱՅԻՆ (ԿԱՏԱՐՈՂԱԿԱՆ) ՑՈՒՑԱՆԻՇՆԵՐԸ
A12: Ծրագրի դասիչը | B12: Ծրագրի անվանումը
A13: 1004 | B13: Ոռոգման համակարգի առողջացում
A14: Ծրագրի միջոցառումները
A16: Ծրագրի դասիչը` | B16: 1004 | C16: Ցուցանիշների փոփոխությունը (նվազեցումները նշված են փակագծերում)
A18: Միջոցառման դասիչը` | B18: 31013 | C18: Առաջին կիսամյակ | D18: Ինն ամիս | E18: Տարի
A19: Միջոցառման անվանումը` | B19: Փոքր և միջին ջրամբարների կառուցում
A20: Նկարագրությունը` | B20: Փոքր և միջին ջրամբարների կառուցման աշխատանքներ
A21: Միջոցառման տեսակը` | B21: Պետական մարմինների կողմից օգտագործվող ոչ ֆինանսական ակտիվների հետ գործառնություններ
A22: Ակտիվն օգտագործող կազմակերպության(ների) անվանում(ները)՛ | B22: ՀՀ ՏԿԵՆ ջրային կոմիտե
A23: Արդյունքի չափորոշիչներ
A24: Միջոցառման վրա կատարվող ծախսը (հազար դրամ) | C24: ='1'!D18 -> -70330.5 | D24: ='1'!E18 -> -70330.5 | E24: ='1'!F18 -> -70330.5
A27: Ծրագրի դասիչը | B27: Ծրագրի անվանումը
A28: 1072 | B28: Ջրամատակարարաման և ջրահեռացման բարելավում
A29: Ծրագրի միջոցառումները
A31: Ծրագրի դասիչը` | B31: 1072 | C31: Ցուցանիշների փոփոխությունը (ավելացումները նշված են դրական նշանով)
A33: Միջոցառման դասիչը` | B33: 31012 | C33: Առաջին կիսամյակ | D33: Ինն ամիս | E33: Տարի
A34: Միջոցառման անվանումը` | B34: Ջրամատակարարման և ջրահեռացման ոլորտում անշարժ գույքի ձեռքբերում
A35: Նկարագրությունը` | B35: Ջրամատակարարման և ջրահեռացման ոլորտում անշարժ գույքի ձեռքբերում
A36: Միջոցառման տեսակը` | B36: Պետական մարմինների կողմից օգտագործվող ոչ ֆինանսական ակտիվների հետ գործառնություններ
A37: Ակտիվն օգտագործող կազմակերպության(ների) անվանում(ները)՛ | B37: ՀՀ ՏԿԵՆ ջրային կոմիտե
A38: Արդյունքի չափորոշիչներ
A39: Գույքի ձեռքբերում, քառ.մ | C39: 387.55 | E39: 387.55
A40: Հողամասի ձեռքբերում ,քառ.մ | C40: 5836.5 | E40: 5836.5
A41: Միջոցառման վրա կատարվող ծախսը (հազար դրամ) | C41: ='1'!D31 -> 61000.4 | D41: ='1'!E31 -> 61000.4 | E41: ='1'!F31 -> 61000.4
A43: Ծրագրի դասիչը | B43: Ծրագրի անվանումը
A44: 1109 | B44: Ջրային տնտեսության ոլորտում ծրագրերի համակարգում և մոնիտորինգ
A45: Ծրագրի միջոցառումները
A47: Ծրագրի դասիչը` | B47: 1109 | C47: Ցուցանիշների փոփոխությունը (ավելացումները նշված են դրական նշանով)
A49: Միջոցառման դասիչը` | B49: 11001 | C49: Առաջին կիսամյակ | D49: Ինն ամիս | E49: Տարի
A50: Միջոցառման անվանումը` | B50: Ջրային տնտեսության ոլորտում պետական քաղաքականության մշակում, ծրագրերի համակարգում և մոնիտորինգ
A51: Նկարագրությունը` | B51: Ոլորտի քաղաքականության խորհրդատվության, կոմիտեի իրավասության տակ ընկնող ծառայությունների ու ծրագրերի համակարգման ծառայություններ
A52: Միջոցառման տեսակը` | B52: Ծառայությունների մատուցում
...

Sheet 5-2
D1: Աղյուսակ 2
A2: ՀԱՅԱՍՏԱՆԻ ՀԱՆՐԱՊԵՏՈՒԹՅԱՆ ԿԱՌԱՎԱՐՈՒԹՅԱՆ 2023 ԹՎԱԿԱՆԻ ԴԵԿՏԵՄԲԵՐԻ 28-Ի N 2323-Ն ՈՐՈՇՄԱՆ N 9.1 ՀԱՎԵԼՎԱԾԻ N 9.1.25 ԵՎ N 9.1.58 ԱՂՅՈՒՍԱԿՆԵՐՈՒՄ ԿԱՏԱՐՎՈՂ ՓՈՓՈԽՈՒԹՅՈՒՆՆԵՐԸ ԵՎ ԼՐԱՑՈՒՄՆԵՐԸ
E3: Աղյուսակ 9.1.25
A4: ՀՀ տարածքային կառավարման և ենթակառուցվածքների նախարարության ջրային կոմիտե
A5: ՄԱՍ 1. ՊԵՏԱԿԱՆ ՄԱՐՄՆԻ ԳԾՈՎ ԱՐԴՅՈՒՆՔԱՅԻՆ (ԿԱՏԱՐՈՂԱԿԱՆ) ՑՈՒՑԱՆԻՇՆԵՐԸ
A7: Ծրագրի դասիչը | B7: Ծրագրի անվանումը
A8: 1004 | B8: Ոռոգման համակարգի առողջացում
A9: Ծրագրի միջոցառումները
A11: Ծրագրի դասիչը` | B11: 1004 | C11: Ցուցանիշների փոփոխությունը (նվազեցումները նշված են փակագծերում)
A13: Միջոցառման դասիչը` | B13: 31013 | C13: Առաջին կիսամյակ | D13: Ինն ամիս | E13: Տարի
A14: Միջոցառման անվանումը` | B14: Փոքր և միջին ջրամբարների կառուցում
A15: Նկարագրությունը` | B15: Փոքր և միջին ջրամբարների կառուցման աշխատանքներ
A16: Միջոցառման տեսակը` | B16: Պետական մարմինների կողմից օգտագործվող ոչ ֆինանսական ակտիվների հետ գործառնություններ
A17: Ակտիվն օգտագործող կազմակերպության(ների) անվանում(ները)՛ | B17: ՀՀ ՏԿԵՆ ջրային կոմիտե
A18: Արդյունքի չափորոշիչներ
A19: Միջոցառման վրա կատարվող ծախսը (հազար դրամ) | C19: ='5-1'!C24 -> -70330.5 | D19: ='5-1'!D24 -> -70330.5 | E19: ='5-1'!E24 -> -70330.5
A22: Ծրագրի դասիչը | B22: Ծրագրի անվանումը
A23: 1072 | B23: Ջրամատակարարաման և ջրահեռացման բարելավում
A24: Ծրագրի միջոցառումները
A26: Ծրագրի դասիչը` | B26: 1072 | C26: Ցուցանիշների փոփոխությունը (ավելացումները նշված են դրական նշանով)
A28: Միջոցառման դասիչը` | B28: 31012 | C28: Առաջին կիսամյակ | D28: Ինն ամիս | E28: Տարի
A29: Միջոցառման անվանումը` | B29: Ջրամատակարարման և ջրահեռացման ոլորտում անշարժ գույքի ձեռքբերում
A30: Նկարագրությունը` | B30: Ջրամատակարարման և ջրահեռացման ոլորտում անշարժ գույքի ձեռքբերում
A31: Միջոցառման տեսակը` | B31: Պետական մարմինների կողմից օգտագործվող ոչ ֆինանսական ակտիվների հետ գործառնություններ
A32: Ակտիվն օգտագործող կազմակերպության(ների) անվանում(ները)՛ | B32: ՀՀ ՏԿԵՆ ջրային կոմիտե
A33: Արդյունքի չափորոշիչներ
A34: Գույքի ձեռքբերում, քառ.մ | C34: 387.55 | E34: 387.55
A35: Հողամասի ձեռքբերում ,քառ.մ | C35: 5836.5 | E35: 5836.5
A36: Միջոցառման վրա կատարվող ծախսը (հազար դրամ) | C36: ='5-1'!C41 -> 61000.4 | D36: ='5-1'!D41 -> 61000.4 | E36: ='5-1'!E41 -> 61000.4
A38: Ծրագրի դասիչը | B38: Ծրագրի անվանումը
A39: 1109 | B39: Ջրային տնտեսության ոլորտում ծրագրերի համակարգում և մոնիտորինգ
A40: Ծրագրի միջոցառումները
A42: Ծրագրի դասիչը` | B42: 1109 | C42: Ցուցանիշների փոփոխությունը (ավելացումները նշված են դրական նշանով)
A44: Միջոցառման դասիչը` | B44: 11001 | C44: Առաջին կիսամյակ | D44: Ինն ամիս | E44: Տարի
A45: Միջոցառման անվանումը` | B45: Ջրային տնտեսության ոլորտում պետական քաղաքականության մշակում, ծրագրերի համակարգում և մոնիտորինգ
A46: Նկարագրությունը` | B46: Ոլորտի քաղաքականության խորհրդատվության, կոմիտեի իրավասության տակ ընկնող ծառայությունների ու ծրագրերի համակարգման ծառայություններ
A47: Միջոցառման տեսակը` | B47: Ծառայությունների մատուցում
A48: Ակտիվն օգտագործող կազմակերպության(ների) անվանում(ները)՛ | B48: ՀՀ ՏԿԵՆ ջրային կոմիտե
A49: Արդյունքի չափորոշիչներ
A50: Շահութահարկի գծով առաջացած պարտավորությունների մարում, հատ | C50: 1 | E50: 1
...

Sheet 6
A1: Հավելված N 6
A2: ՀՀ կառավարության 2024 թվականի
A3: -ի N -Ն որոշման
A5: ՀՀ ԿԱՌԱՎԱՐՈՒԹՅԱՆ 2023 ԹՎԱԿԱՆԻ ԴԵԿՏԵՄԲԵՐԻ 28-Ի N 2323-Ն ՈՐՈՇՄԱՆ N 10 ՀԱՎԵԼՎԱԾՈՒՄ ԿԱՏԱՐՎՈՂ ՓՈՓՈԽՈՒԹՅՈՒՆՆԵՐԸ ԵՎ ԼՐԱՑՈՒՄՆԵՐԸ
A7: Կոդը | B7: Անվանումը | C7: Գնման ձևը | D7: Չափի միավորը | E7: Ցուցանիշների փոփոխությունը (ավելացումները նշված են դրական նշանով, իսկ նվազեցումները՝ փակագծերում)
E8: Միավորի գինը | F8: քանակը | G8: գումարը (հազ. դրամ)
A9: ՀՀ տարածքային կառավարման և ենթակառուցվածքների նախարարության ջրային կոմիտե | G9: =G10+G14 -> -9330.1
A10: Բաժին N 04 | B10: Խումբ N 02 | C10: Դաս N 04 | D10: Ոռոգում | G10: =G11 -> -70330.5
A11: 1004 31013 | B11: Փոքր և միջին ջրամբարների կառուցում | G11: =G12 -> -70330.5
B12: ՄԱՍ II ԱՇԽԱՏԱՆՔՆԵՐ | G12: =G13 -> -70330.5
A13: 45611300/1 | B13: այլ շենքերի, շինությունների հիմնանորոգում | C13: ԲՄ | D13: դրամ | G13: -70330.5
A14: Բաժին N 06 | B14: Խումբ N 03 | C14: Դաս N 01 | D14: Ջրամատակարարում | G14: =G15 -> 61000.4
A15: 1072 31012 | B15: Ջրամատակարարման և ջրահեռացման ոլորտում անշարժ գույքի ձեռքբերում | G15: =G16 -> 61000.4
B16: ՄԱՍ III ԾԱՌԱՅՈՒԹՅՈՒՆՆԵՐ | G16: =G17+G18 -> 61000.4
A17: 70121140/1 | B17: հողերի գնման ծառայություններ | C17: ՄԱ | D17: դրամ | E17: 27612800 | F17: 1 | G17: =E17*F17/1000 -> 27612.8
A18: 70121200/1 | B18: ոչ բնակելի անշարժ գույքի գնման ծառայություններ | C18: ՄԱ | D18: դրամ | E18: 33387600 | F18: 1 | G18: =E18*F18/1000 -> 33387.6

Sheet 7
H1: Հավելված N 7
A2: ՀՀ կառավարության 2024 թվականի
A3: -ի N -Ն որոշման
A4: ՀԱՅԱՍՏԱՆԻ ՀԱՆՐԱՊԵՏՈՒԹՅԱՆ ԿԱՌԱՎԱՐՈՒԹՅԱՆ ՊԱՀՈՒՍՏԱՅԻՆ ՖՈՆԴԻՑ ԿԱՏԱՐՎՈՂ ՀԱՏԿԱՑՈՒՄԸ
H6: (հազ. դրամ)
A7: Գործառական դասիչը | D7: Ծրագրային դասիչը | F7: Բյուջետային ծախսերի գործառական դասակարգման բաժինների, խմբերի և դասերի, բյուջետային ծրագրերի միջոցառումների, բյուջետային հատկացումների գլխավոր կարգադրիչների անվանումները | G7: Ցուցանիշների փոփոխությունը (գումարների ավելացումները նշված են դրական նշանով, իսկ նվազեցումները՝ փակագծերում)
G8: Առաջին կիսամյակ | H8: Ինն ամիս | I8: Տարի
A9: Բաժին | B9: Խումբ | C9: Դաս | D9: Ծրագիր | E9: Միջոցառում
F10: ԸՆԴԱՄԵՆԸ ԾԱԽՍԵՐ | G10: =G12+G32 -> 0 | H10: =H12+H32 -> 0 | I10: =I12+I32 -> 0
F11: այդ թվում`
F12: ՀՀ կառավարություն | G12: =G14 -> -61000.4 | H12: =H14 -> -61000.4 | I12: =I14 -> -61000.4
F13: այդ թվում`
A14: 11 | F14: ՀԻՄՆԱԿԱՆ ԲԱԺԻՆՆԵՐԻՆ ՉԴԱՍՎՈՂ ՊԱՀՈՒՍՏԱՅԻՆ ՖՈՆԴԵՐ | G14: =G16 -> -61000.4 | H14: =H16 -> -61000.4 | I14: =I16 -> -61000.4
F15: այդ թվում`
B16: 01 | F16: ՀՀ կառավարության և համայնքների պահուստային ֆոնդ | G16: =G18 -> -61000.4 | H16: =H18 -> -61000.4 | I16: =I18 -> -61000.4
F17: այդ թվում`
C18: 01 | F18: ՀՀ կառավարության պահուստային ֆոնդ | G18: =G20 -> -61000.4 | H18: =H20 -> -61000.4 | I18: =I20 -> -61000.4
F19: այդ թվում`
F20: ՀՀ կառավարություն | G20: =G22 -> -61000.4 | H20: =H22 -> -61000.4 | I20: =I22 -> -61000.4
F21: այդ թվում`
D22: 1139 | F22: ՀՀ կառավարության պահուստային ֆոնդ | G22: =G24 -> -61000.4 | H22: =H24 -> -61000.4 | I22: =I24 -> -61000.4
F23: այդ թվում`
E24: 11001 | F24: ՀՀ կառավարության պահուստային ֆոնդ | G24: =G26 -> -61000.4 | H24: =H26 -> -61000.4 | I24: =I26 -> -61000.4
F25: այդ թվում` ըստ կատարողների
F26: ՀՀ կառավարություն | G26: =G28 -> -61000.4 | H26: =H28 -> -61000.4 | I26: =I28 -> -61000.4
F27: այդ թվում` բյուջետային ծախսերի տնտեսագիտական դասակարգման հոդվածներ
F28: ԸՆԴԱՄԵՆԸ ԾԱԽՍԵՐ | G28: =G29 -> -61000.4 | H28: =H29 -> -61000.4 | I28: =I29 -> -61000.4
F29: ԸՆԹԱՑԻԿ ԾԱԽՍԵՐ | G29: =G30 -> -61000.4 | H29: =H30 -> -61000.4 | I29: =I30 -> -61000.4
F30: ԱՅԼ ԾԱԽՍԵՐ | G30: =G31 -> -61000.4 | H30: =H31 -> -61000.4 | I30: =I31 -> -61000.4
F31: Պահուստային միջոցներ | G31: ='3'!G95 -> -61000.4 | H31: ='3'!H95 -> -61000.4 | I31: ='3'!I95 -> -61000.4
F32: ՀՀ տարածքային կառավարման և ենթակառուցվածքների նախարարություն | G32: =G34 -> 61000.4 | H32: =H34 -> 61000.4 | I32: =I34 -> 61000.4
F33: այդ թվում`
A34: 06 | F34: ԲՆԱԿԱՐԱՆԱՅԻՆ ՇԻՆԱՐԱՐՈՒԹՅՈՒՆ ԵՎ ԿՈՄՈՒՆԱԼ ԾԱՌԱՅՈՒԹՅՈՒՆՆԵՐ | G34: =G36 -> 61000.4 | H34: =H36 -> 61000.4 | I34: =I36 -> 61000.4
F35: այդ թվում`
B36: 03 | F36: Ջրամատակարարում | G36: =G38 -> 61000.4 | H36: =H38 -> 61000.4 | I36: =I38 -> 61000.4
F37: այդ թվում`
C38: 01 | F38: Ջրամատակարարում | G38: =G40 -> 61000.4 | H38: =H40 -> 61000.4 | I38: =I40 -> 61000.4
F39: այդ թվում`
F40: ՀՀ տարածքային կառավարման և ենթակառուցվածքների նախարարություն | G40: =G42 -> 61000.4 | H40: =H42 -> 61000.4 | I40: =I42 -> 61000.4
F41: այդ թվում`
...
