Workbook

Sheet 1
A2: Հավելված N 1
A3: ՀՀ կառավարության 2024 թվականի
A4: ------------ N ---------- որոշման
A6: «ՀԱՅԱՍՏԱՆԻ ՀԱՆՐԱՊԵՏՈՒԹՅԱՆ 2024 ԹՎԱԿԱՆԻ ՊԵՏԱԿԱՆ ԲՅՈՒՋԵԻ ՄԱՍԻՆ» ՀԱՅԱՍՏԱՆԻ ՀԱՆՐԱՊԵՏՈՒԹՅԱՆ ՕՐԵՆՔԻ N 1 ՀԱՎԵԼՎԱԾԻ N 2 ԱՂՅՈՒՍԱԿՈՒՄ ԿԱՏԱՐՎՈՂ ՓՈՓՈԽՈՒԹՅՈՒՆՆԵՐԸ
F7: հազար դրամներով
A8: Ծրագրային դասիչը | C8: Բյուջետային հատկացումների գլխավոր կարգադրիչների, ծրագրերի և միջոցառումների անվանումները | D8: Ցուցանիշների փոփոխությունները (ավելացումները նշված են դրական նշանով,իսկ նվազեցումները՝ փակագծերում)
A9: Ծրագիր | B9: Միջոցառում | D9: առաջին կիսամյակ | E9: ինն ամիս | F9: տարի
C10: ԸՆԴԱՄԵՆԸ | D10: =+D19+D25 -> 0 | E10: =+E19+E25 -> 0 | F10: =+F19+F25 -> 0
C11: ՀՀ Ազգային ժողով | D11: =D12 -> 0 | E11: =E12 -> 0 | F11: =F12 -> 0
A12: 1024 | C12: Ծրագրի անվանումը` | D12: =+D25+D19 -> 0 | E12: =+E25+E19 -> 0 | F12: =+F25+F19 -> 0
C13: ՀՀ Ազգային ժողովի լիազորությունների իրականացման ապահովում
C14: Ծրագրի նպատակը`
C15: Օրենսդրական դաշտի ձևավորում և կատարելագործում
C16: Վերջնական արդյունքի նկարագրությունը`
C17: Արդյունավետ օրենսդրական դաշտի ապահովում
A18: Ծրագրի միջոցառումներ
B19: 31001 | C19: Միջոցառման անվանումը` | D19: -30800 | E19: -30800 | F19: -30800
C20: Ազգային ժողովի տեխնիկական հագեցվածության բարելավում
C21: Միջոցառման նկարագրությունը`
C22: Ազգային ժողովի աշխատակազմի աշխատանքային պայմանների բարելավման համար վարչական սարքավորումների ձեռքբերում
C23: Միջոցառման տեսակը
C24: Պետական մարմինների կողմից օգտագործվող ոչ ֆինանսական ակտիվների հետ գործառնություններ
B25: 31003 | C25: Միջոցառման անվանումը` | D25: 30800 | E25: 30800 | F25: 30800
C26: ՀՀ Ազգային ժողովի շենքային պայմանների բարելավում
C27: Միջոցառման նկարագրությունը`
C28: ՀՀ Ազգային ժողովի շենք-շինությունների կապիտալ վերանորոգում և նախագծանախահաշվային փաստաթղթերի ձեռքբերում
C29: Միջոցառման տեսակը
C30: Պետական մարմինների կողմից օգտագործվող ոչ ֆինանսական ակտիվների հետ գործառնություններ

Sheet 2
A1: Հավելված N 2
A2: ՀՀ կառավարության 2024 թվականի
A3: ------------ N ---------- որոշման
A5: «ՀԱՅԱՍՏԱՆԻ ՀԱՆՐԱՊԵՏՈՒԹՅԱՆ 2024 ԹՎԱԿԱՆԻ ՊԵՏԱԿԱՆ ԲՅՈՒՋԵԻ ՄԱՍԻՆ» ՀԱՅԱՍՏԱՆԻ ՀԱՆՐԱՊԵՏՈՒԹՅԱՆ ՕՐԵՆՔԻ N 1 ՀԱՎԵԼՎԱԾԻ N 3 ԱՂՅՈՒՍԱԿՈՒՄ ԿԱՏԱՐՎՈՂ ՓՈՓՈԽՈՒԹՅՈՒՆՆԵՐԸ
G6: հազար դրամներով
A7: Ծրագրային դասիչ | C7: Բյուջետային գլխավոր կարգադրիչների, ծրագրերի, միջոցառումների և ուղղությունների անվանումները | D7: Ընդամենը | E7: Ցուցանիշների փոփոխությունները (ավելացումները նշված են դրական նշանով, իսկ նվազեցումները՝ փակագծերում)
E8: այդ թվում՝
A9: Ծրագիր | B9: Միջոցառում | E9: Կառուցման աշխատանքներ | F9: Վերակառուցման, վերանորոգման և վերականգնման աշխատանքներ | G9: Նախագծահե տազոտական, գեոդեզիա- քարտեզագրա կան աշխա տանքներ | H9: Ոչ ֆինանսական այլ ակտիվների ձեռքբերում
C10: ԸՆԴԱՄԵՆԸ | D10: =+D12 -> 0 | E10: =+E12 -> 0 | F10: =+F12 -> 30800 | G10: =+G12 -> 0 | H10: =+H12 -> -30800
C11: այդ թվում՝
C12: =+'1'!C11 -> ՀՀ Ազգային ժողով | D12: =+D15+D14 -> 0 | E12: =+E15 -> 0 | F12: =+F15+F14 -> 30800 | G12: =+G15 -> 0 | H12: =+H15+H14 -> -30800
C13: այդ թվում`
A14: 1024 | B14: 31001 | C14: Ազգային ժողովի տեխնիկական հագեցվածության բարելավում | D14: =SUM(E14:H14) -> -30800 | E14: 0 | F14: 0 | G14: 0 | H14: -30800
A15: ='1'!A12 -> 1024 | B15: ='1'!B25 -> 31003 | C15: ='1'!C26 -> ՀՀ Ազգային ժողովի շենքային պայմանների բարելավում | D15: =SUM(E15:H15) -> 30800 | E15: 0 | F15: 30800 | G15: 0 | H15: 0

Sheet 3
A1: Հավելված N 3
A2: ՀՀ կառավարության 2024 թվականի
A3: ------------ N ---------- որոշման
A5: ՀԱՅԱՍՏԱՆԻ ՀԱՆՐԱՊԵՏՈՒԹՅԱՆ ԿԱՌԱՎԱՐՈՒԹՅԱՆ 2023 ԹՎԱԿԱՆԻ ԴԵԿՏԵՄԲԵՐԻ 28-Ի N 2323-Ն ՈՐՈՇՄԱՆ N 3 ԵՎ N 4 ՀԱՎԵԼՎԱԾՆԵՐՈՒՄ ԿԱՏԱՐՎՈՂ ՓՈՓՈԽՈՒԹՅՈՒՆՆԵՐԸ ԵՎ ԼՐԱՑՈՒՄՆԵՐԸ
I6: ='2'!G6 -> հազար դրամներով
A7: Գործառական դասիչը | D7: Ծրագրային դասիչը | F7: Բյուջետային հատկացումների գլխավոր կարգադրիչների, ծրագրերի, միջոցառումների և միջոցառումները կատարող պետական մարմինների անվանումները | G7: Ցուցանիշների փոփոխությունները (ավելացումները նշված են դրական նշանով,իսկ նվազեցումները՝ փակագծերում)
A8: Բաժին | B8: Խումբ | C8: Դաս | D8: Ծրագիր | E8: Միջոցառում | G8: առաջին կիսամյակ | H8: ինն ամիս | I8: տարի
F9: ԸՆԴԱՄԵՆԸ | G9: 0 | H9: 0 | I9: 0
F10: այդ թվում`
A11: 01 | F11: ԸՆԴՀԱՆՈՒՐ ԲՆՈՒՅԹԻ ՀԱՆՐԱՅԻՆ ԾԱՌԱՅՈՒԹՅՈՒՆՆԵՐ | G11: =G13 -> 0 | H11: =H13 -> 0 | I11: =I13 -> 0
F12: այդ թվում`
B13: 01 | F13: Օրենսդիր և գործադիր մարմիններ, պետական կառավարում, ֆինանսական և հարկաբյուջետային հարաբերություններ, արտաքին հարաբերություններ | G13: =G15 -> 0 | H13: =H15 -> 0 | I13: =I15 -> 0
F14: այդ թվում`
C15: 01 | F15: Օրենսդիր և գործադիր մարմիններ, պետական կառավարում | G15: =G17 -> 0 | H15: =H17 -> 0 | I15: =I17 -> 0
F16: այդ թվում`
F17: =+'1'!C11 -> ՀՀ Ազգային ժողով | G17: =+G19 -> 0 | H17: =+H19 -> 0 | I17: =+I19 -> 0
F18: այդ թվում`
D19: 1024 | F19: ՀՀ Ազգային ժողովի լիազորությունների իրականացման ապահովում | G19: =+G21+G30 -> 0 | H19: =+H21+H30 -> 0 | I19: =+I21+I30 -> 0
F20: այդ թվում`
E21: 31001 | F21: Ազգային ժողովի տեխնիկական հագեցվածության բարելավում | G21: =G23 -> -30800 | H21: =H23 -> -30800 | I21: =I23 -> -30800
F22: այդ թվում` ըստ կատարողների
F23: ՀՀ Ազգային ժողով | G23: =G25 -> -30800 | H23: =H25 -> -30800 | I23: =I25 -> -30800
F24: այդ թվում` բյուջետային ծախսերի տնտեսագիտական դասակարգման հոդվածներ
F25: ԸՆԴԱՄԵՆԸ ԾԱԽՍԵՐ | G25: =G26 -> -30800 | H25: =H26 -> -30800 | I25: =I26 -> -30800
F26: ՈՉ ՖԻՆԱՆՍԱԿԱՆ ԱԿՏԻՎՆԵՐԻ ԳԾՈՎ ԾԱԽՍԵՐ | G26: =G27 -> -30800 | H26: =H27 -> -30800 | I26: =I27 -> -30800
F27: ՀԻՄՆԱԿԱՆ ՄԻՋՈՑՆԵՐ | G27: =G28 -> -30800 | H27: =H28 -> -30800 | I27: =I28 -> -30800
F28: ՄԵՔԵՆԱՆԵՐ ԵՎ ՍԱՐՔԱՎՈՐՈՒՄՆԵՐ | G28: =G29 -> -30800 | H28: =H29 -> -30800 | I28: =I29 -> -30800
F29: - Վարչական սարքավորումներ | G29: -30800 | H29: -30800 | I29: -30800
E30: ='1'!B25 -> 31003 | F30: ՀՀ Ազգային ժողովի շենքային պայմանների բարելավում | G30: =G32 -> 30800 | H30: =H32 -> 30800 | I30: =I32 -> 30800
F31: այդ թվում` ըստ կատարողների
F32: ՀՀ Ազգային ժողով | G32: =G34 -> 30800 | H32: =H34 -> 30800 | I32: =I34 -> 30800
F33: այդ թվում` բյուջետային ծախսերի տնտեսագիտական դասակարգման հոդվածներ
F34: ԸՆԴԱՄԵՆԸ ԾԱԽՍԵՐ | G34: =G37 -> 30800 | H34: =H37 -> 30800 | I34: =I37 -> 30800
F35: ՈՉ ՖԻՆԱՆՍԱԿԱՆ ԱԿՏԻՎՆԵՐԻ ԳԾՈՎ ԾԱԽՍԵՐ | G35: =G36 -> 30800 | H35: =H36 -> 30800 | I35: =I36 -> 30800
F36: ՀԻՄՆԱԿԱՆ ՄԻՋՈՑՆԵՐ | G36: =G37 -> 30800 | H36: =H37 -> 30800 | I36: =I37 -> 30800
F37: ՇԵՆՔԵՐ ԵՎ ՇԻՆՈՒԹՅՈՒՆՆԵՐ | G37: =G38 -> 30800 | H37: =H38 -> 30800 | I37: =I38 -> 30800
F38: - Շենքերի և շինությունների կապիտալ վերանորոգում | G38: 30800 | H38: 30800 | I38: 30800

Sheet 4
A1: Հավելված N 4
A2: ՀՀ կառավարության 2024 թվականի
A3: ------------ N ---------- որոշման
A5: ՀԱՅԱՍՏԱՆԻ ՀԱՆՐԱՊԵՏՈՒԹՅԱՆ ԿԱՌԱՎԱՐՈՒԹՅԱՆ 2023 ԹՎԱԿԱՆԻ ԴԵԿՏԵՄԲԵՐԻ 28-Ի N 2323-Ն ՈՐՈՇՄԱՆ N 5 ՀԱՎԵԼՎԱԾԻ N 2 ԱՂՅՈՒՍԱԿՈՒՄ ԿԱՏԱՐՎՈՂ ՓՈՓՈԽՈՒԹՅՈՒՆՆԵՐԸ ԵՎ ԼՐԱՑՈՒՄՆԵՐԸ
F7: հազար դրամներով
A8: Ծրագրային դասիչ | C8: Բյուջետային գլխավոր կարգադրիչների, ծրագրերի, միջոցառումների, միջոցառումները կատարող պետական մարմինների և ուղղությունների անվանումները | D8: Ցուցանիշների փոփոխությունները (ավելացումները նշված են դրական նշանով, իսկ նվազեցումները՝ փակագծերում)
A9: Ծրագիր | B9: Միջոցառում | D9: առաջին կիսամյակ | E9: ինն ամիս | F9: տարի
C10: ԸՆԴԱՄԵՆԸ | D10: =+D12 -> 0 | E10: =+E12 -> 0 | F10: =+F12 -> 0
C11: այդ թվում՝
C12: =+'1'!C11 -> ՀՀ Ազգային ժողով | D12: =+D17+D14 -> 0 | E12: =+E17+E14 -> 0 | F12: =+F17+F14 -> 0
C13: այդ թվում`
A14: 1024 | B14: 31001 | C14: Ազգային ժողովի տեխնիկական հագեցվածության բարելավում | D14: -30800 | E14: -30800 | F14: -30800
C15: այդ թվում` ըստ կատարողների
C16: ՀՀ Ազգային ժողով | D16: -30800 | E16: -30800 | F16: -30800
A17: 1024 | B17: ='1'!B25 -> 31003 | C17: ='1'!C26 -> ՀՀ Ազգային ժողովի շենքային պայմանների բարելավում | D17: 30800 | E17: 30800 | F17: 30800
C18: այդ թվում` ըստ կատարողների
C19: ՀՀ Ազգային ժողով | D19: 30800 | E19: 30800 | F19: 30800

Sheet 5
A1: Հավելված N 5
A2: ՀՀ կառավարության 2024 թվականի
A3: ------------ N ---------- որոշման
A5: ՀԱՅԱՍՏԱՆԻ ՀԱՆՐԱՊԵՏՈՒԹՅԱՆ ԿԱՌԱՎԱՐՈՒԹՅԱՆ 2023 ԹՎԱԿԱՆԻ ԴԵԿՏԵՄԲԵՐԻ 28-Ի N 2323-Ն ՈՐՈՇՄԱՆ N 9 ՀԱՎԵԼՎԱԾԻ 9.2 ԱՂՅՈՒՍԱԿՈՒՄ ԿԱՏԱՐՎՈՂ ՓՈՓՈԽՈՒԹՅՈՒՆՆԵՐԸ ԵՎ ԼՐԱՑՈՒՄՆԵՐԸ
A7: =+'1'!C11 -> ՀՀ Ազգային ժողով
A8: ՄԱՍ 2. ՊԵՏԱԿԱՆ ՄԱՐՄՆԻ ԳԾՈՎ ԱՐԴՅՈՒՆՔԱՅԻՆ (ԿԱՏԱՐՈՂԱԿԱՆ) ՑՈՒՑԱՆԻՇՆԵՐԸ
A10: Ծրագրի դասիչը | B10: Ծրագրի անվանումը
A11: ='1'!A12 -> 1024 | B11: ='1'!C13 -> ՀՀ Ազգային ժողովի լիազորությունների իրականացման ապահովում
A13: Ծրագրի միջոցառումները
A14: Ծրագրի դասիչը` | B14: ='1'!A12 -> 1024 | C14: Ցուցանիշների փոփոխությունները (նվազեցումները նշված են փակագծերում)
A15: Միջոցառման դասիչը` | B15: 31001 | C15: առաջին կիսամյակ | D15: ինն ամիս | E15: տարի
A16: Միջոցառման անվանումը` | B16: Ազգային ժողովի տեխնիկական հագեցվածության բարելավում
A17: Նկարագրությունը` | B17: Ազգային ժողովի աշխատակազմի աշխատանքային պայմանների բարելավման համար վարչական սարքավորումների ձեռքբերում
A18: Միջոցառման տեսակը` | B18: Պետական մարմինների կողմից օգտագործվող ոչ ֆինանսական ակտիվների հետ գործառնություններ
A19: Ակտիվն օգտագործող կազմակերպության(ների) անվանում(ները)՛ | B19: ՀՀ Ազգային ժողով
A20: Արդյունքի չափորոշիչներ
A21: Քանակական | B21: Համակարգչային սարքավորումների քանակ, հատ | E21: -88
A22: Միջոցառման վրա կատարված ծախսը (հազար դրամ) | C22: -30800 | D22: -30800 | E22: -30800
A25: Ծրագրի դասիչը` | B25: 1024 | C25: Ցուցանիշների փոփոխությունները (ավելացումները նշված են դրական նշանով)
A26: Միջոցառման դասիչը` | B26: ='1'!B25 -> 31003 | C26: առաջին կիսամյակ | D26: ինն ամիս | E26: տարի
A27: Միջոցառման անվանումը` | B27: ='1'!C26 -> ՀՀ Ազգային ժողովի շենքային պայմանների բարելավում
A28: Նկարագրությունը` | B28: ='1'!C28 -> ՀՀ Ազգային ժողովի շենք-շինությունների կապիտալ վերանորոգում և նախագծանախահաշվային փաստաթղթերի ձեռքբերում
A29: Միջոցառման տեսակը` | B29: ='1'!C30 -> Պետական մարմինների կողմից օգտագործվող ոչ ֆինանսական ակտիվների հետ գործառնություններ
A30: Ակտիվն օգտագործող կազմակերպության(ների) անվանում(ները)՛ | B30: ՀՀ Ազգային ժողով
A31: Արդյունքի չափորոշիչներ
A32: Քանակական | B32: Ոռոգման հորատանցքի հորատում՝ հատ | C32: 1 | E32: 1
A33: Միջոցառման վրա կատարված ծախսը (հազար դրամ) | C33: 30800 | D33: 30800 | E33: 30800

Sheet 6
D1: Հավելված N 6
D2: ՀՀ կառավարության 2024 թվականի
D3: ------------ N ---------- որոշման
A5: ՀԱՅԱՍՏԱՆԻ ՀԱՆՐԱՊԵՏՈՒԹՅԱՆ ԿԱՌԱՎԱՐՈՒԹՅԱՆ 2023 ԹՎԱԿԱՆԻ ԴԵԿՏԵՄԲԵՐԻ 28-Ի N 2323-Ն ՈՐՈՇՄԱՆ N 9.1 ՀԱՎԵԼՎԱԾԻ N 9.1.2 ԱՂՅՈՒՍԱԿՈՒՄ ԿԱՏԱՐՎՈՂ ՓՈՓՈԽՈՒԹՅՈՒՆՆԵՐԸ ԵՎ ԼՐԱՑՈՒՄՆԵՐԸ
A7: =+'5'!A7:E7 -> ՀՀ Ազգային ժողով
A8: ՄԱՍ 1. ՊԵՏԱԿԱՆ ՄԱՐՄՆԻ ԳԾՈՎ ԱՐԴՅՈՒՆՔԱՅԻՆ (ԿԱՏԱՐՈՂԱԿԱՆ) ՑՈՒՑԱՆԻՇՆԵՐԸ
A10: Ծրագրի դասիչը | B10: Ծրագրի անվանումը
A11: ='1'!A12 -> 1024 | B11: ='1'!C13 -> ՀՀ Ազգային ժողովի լիազորությունների իրականացման ապահովում
A13: Ծրագրի միջոցառումները
A14: Ծրագրի դասիչը` | B14: ='1'!A12 -> 1024 | C14: Ցուցանիշների փոփոխությունները (նվազեցումները նշված են փակագծերում)
A15: Միջոցառման դասիչը` | B15: 31001 | C15: առաջին կիսամյակ | D15: ինն ամիս | E15: տարի
A16: Միջոցառման անվանումը` | B16: Ազգային ժողովի տեխնիկական հագեցվածության բարելավում
A17: Նկարագրությունը` | B17: Ազգային ժողովի աշխատակազմի աշխատանքային պայմանների բարելավման համար վարչական սարքավորումների ձեռքբերում
A18: Միջոցառման տեսակը` | B18: Պետական մարմինների կողմից օգտագործվող ոչ ֆինանսական ակտիվների հետ գործառնություններ
A19: Ակտիվն օգտագործող կազմակերպության(ների) անվանում(ները)՛ | B19: ՀՀ Ազգային ժողով
A20: Արդյունքի չափորոշիչներ
A21: Քանակական | B21: Համակարգչային սարքավորումների քանակ, հատ | E21: -88
A22: Միջոցառման վրա կատարված ծախսը (հազար դրամ) | C22: -30800 | D22: -30800 | E22: -30800
A25: Ծրագրի դասիչը` | B25: 1024 | C25: Ցուցանիշների փոփոխությունները (ավելացումները նշված են դրական նշանով)
A26: Միջոցառման դասիչը` | B26: ='1'!B25 -> 31003 | C26: առաջին կիսամյակ | D26: ինն ամիս | E26: տարի
A27: Միջոցառման անվանումը` | B27: ='1'!C26 -> ՀՀ Ազգային ժողովի շենքային պայմանների բարելավում
A28: Նկարագրությունը` | B28: ='1'!C28 -> ՀՀ Ազգային ժողովի շենք-շինությունների կապիտալ վերանորոգում և նախագծանախահաշվային փաստաթղթերի ձեռքբերում
A29: Միջոցառման տեսակը` | B29: ='1'!C30 -> Պետական մարմինների կողմից օգտագործվող ոչ ֆինանսական ակտիվների հետ գործառնություններ
A30: Ակտիվն օգտագործող կազմակերպության(ների) անվանում(ները)՛ | B30: ՀՀ Ազգային ժողով
A31: Արդյունքի չափորոշիչներ
A32: Քանակական | B32: Ոռոգման հորատանցքի հորատում՝ հատ | C32: 1 | E32: 1
A33: Միջոցառման վրա կատարված ծախսը (հազար դրամ) | C33: 30800 | D33: 30800 | E33: 30800

Sheet 7
I1: Հավելված N 7
I2: ՀՀ կառավարության 2024 թվականի
I3: ------------ N ---------- որոշման
A5: ՀԱՅԱՍՏԱՆԻ ՀԱՆՐԱՊԵՏՈՒԹՅԱՆ ԿԱՌԱՎԱՐՈՒԹՅԱՆ 2023 ԹՎԱԿԱՆԻ ԴԵԿՏԵՄԲԵՐԻ 28-Ի N 2323-Ն ՈՐՈՇՄԱՆ N 10 ՀԱՎԵԼՎԱԾՈՒՄ ԿԱՏԱՐՎՈՂ ՓՈՓՈԽՈՒԹՅՈՒՆՆԵՐԸ ԵՎ ԼՐԱՑՈՒՄՆԵՐԸ
A7: Գնման առարկայի | G7: Ցուցանիշների փոփոխությունը (ավելացումները նշված են դրական նշանով, իսկ նվազեցումները՝ փակագծերում)
A8: կոդը | B8: անվանումը | C8: գնման ձևը | D8: չափի միավորը | F8: միավորի գինը | G8: քանակը | H8: Գումարը (հազար դրամներով)
A10: =+'[1]5'!A7:E7 -> ՀՀ Ազգային ժողով | H10: =H11 -> 0
A11: Բաժին N 01 | B11: Խումբ N 01 | C11: Դաս N 01 | D11: Օրենսդիր և գործադիր մարմիններ, պետական կառավարում | H11: =+H12+H15 -> 0
A12: 1024 31001 | B12: ՀՀ Ազգային ժողովի տեխնիկական հագեցվածության բարելավում | H12: =+H13 -> -30800
B13: ՄԱՍ I. ԱՊՐԱՆՔՆԵՐ | H13: =H14 -> -30800
A14: 30211220/1 | B14: Սեղանի համակարգիչներ | C14: ԷԱՃ | D14: հատ | F14: 350000 | G14: -88 | H14: =+F14*G14/1000 -> -30800
A15: 1024 31003 | B15: =+'[1]6'!B16 -> ՀՀ Ազգային ժողովի շենքային պայմանների բարելավում | H15: =+H16 -> 30800
B16: ՄԱՍ III. ԱՇԽԱՏԱՆՔՆԵՐ | H16: =H17 -> 30800
A17: 45611300/502 | B17: Այլ շենքերի և շինությունների հիմնանորոգում | C17: ԳՀ | D17: դրամ | F17: 30800000 | G17: 1 | H17: =SUM(G17*F17/1000) -> 30800
