Workbook
Name _tab10: #REF!
Name _tab10: #REF!
Name _tab11: #REF!
Name _tab11: #REF!
Name _tab12: #REF!
Name _tab13: #REF!
Name _tab14: #REF!
Name _tab15: #REF!
Name _tab16: #REF!
Name _tab17: #REF!
Name _tab18: #REF!
Name _tab19: #REF!
Name _tab20: #REF!
Name _tab21: #REF!
Name _tab22: #REF!
Name _tab23: #REF!
Name _tab24: #REF!
Name _tab5: #REF!
Name _tab6: #REF!
Name _tab7: #REF!
Name _tab8: #REF!
Name _tab9: #REF!
Name aaa: #REF!
Name AgencyCode: #REF!
Name AgencyName: #REF!
Name alis: #REF!
Name alisa: #REF!
Name als: #REF!
Name davit: #REF!
Name Functional1: #REF!
Name ggg: #REF!
Name PANature: #REF!
Name par_count: #REF!,#REF!,#REF!,#REF!,#REF!,#REF!,#REF!,#REF!,#REF!,#REF!,#REF!,#REF!,#REF!,#REF!,#REF!
Name par_count: #REF!,#REF!,#REF!,#REF!,#REF!,#REF!,#REF!,#REF!,#REF!,#REF!,#REF!,#REF!,#REF!,#REF!,#REF!
Name par_qual: #REF!,#REF!,#REF!,#REF!,#REF!
Name par_qual: #REF!,#REF!,#REF!,#REF!,#REF!
Name par_time: #REF!,#REF!,#REF!,#REF!
Name par_time: #REF!,#REF!,#REF!,#REF!
Name par2.12s: #REF!
Name par2.4s: #REF!,#REF!,#REF!,#REF!,#REF!,#REF!,#REF!,#REF!,#REF!,#REF!,#REF!,#REF!,#REF!,#REF!,#REF!,#REF!
Name par2.4s: #REF!,#REF!,#REF!,#REF!,#REF!,#REF!,#REF!,#REF!,#REF!,#REF!,#REF!,#REF!,#REF!,#REF!,#REF!,#REF!
Name par2.5s: #REF!,#REF!
Name par2.6s: #REF!,#REF!,#REF!,#REF!
Name par2.7s: #REF!,#REF!
Name par2.9s: #REF!,#REF!,#REF!,#REF!,#REF!,#REF!,#REF!,#REF!,#REF!,#REF!,#REF!,#REF!,#REF!,#REF!,#REF!,#REF!
Name par2.9s: #REF!,#REF!,#REF!,#REF!,#REF!,#REF!,#REF!,#REF!,#REF!,#REF!,#REF!,#REF!,#REF!,#REF!,#REF!,#REF!
Name par4.10s: #REF!,#REF!
Name par4.11d: #REF!,#REF!,#REF!,#REF!,#REF!
Name par4.12d: #REF!
Name par4.13s: #REF!
Name par4.14: #REF!,#REF!,#REF!,#REF!,#REF!,#REF!
Name par4.15: #REF!,#REF!,#REF!
Name par4.16: #REF!,#REF!,#REF!
Name par4.17: #REF!,#REF!,#REF!,#REF!
Name par4.18d: #REF!,#REF!
Name par4.19s: #REF!
Name par4.20f: #REF!
Name par4.21f: #REF!
Name par4.22: #REF!
Name par4.4: #REF!

Sheet Հավելված 1
D1: Հավելված № 1
D2: ՀՀ կառավարության 2024 թվականի
D3: № ------------ -Ն որոշման
A5: «ՀԱՅԱՍՏԱՆԻ ՀԱՆՐԱՊԵՏՈՒԹՅԱՆ 2024 ԹՎԱԿԱՆԻ ՊԵՏԱԿԱՆ ԲՅՈՒՋԵԻ ՄԱՍԻՆ» ՕՐԵՆՔԻ N 1 ՀԱՎԵԼՎԱԾԻ N 2 ԱՂՅՈՒՍԱԿՈՒՄ ԿԱՏԱՐՎՈՂ ՎԵՐԱԲԱՇԽՈՒՄԸ, ԼՐԱՑՈՒՄՆԵՐԸ ԵՎ ՀԱՅԱՍՏԱՆԻ ՀԱՆՐԱՊԵՏՈՒԹՅԱՆ ԿԱՌԱՎԱՐՈՒԹՅԱՆ 2023 ԹՎԱԿԱՆԻ ԴԵԿՏԵՄԲԵՐԻ 28-Ի N 2323-Ն ՈՐՈՇՄԱՆN 5 ՀԱՎԵԼՎԱԾԻ N 1 ԱՂՅՈՒՍԱԿՈՒՄ ԿԱՏԱՐՎՈՂ ՓՈՓՈԽՈՒԹՅՈՒՆՆԵՐԸ ԵՎ ԼՐԱՑՈՒՄՆԵՐԸ
F6: հազար դրամներով
A7: Ծրագրային դասիչը | C7: Բյուջետային հատկացումների գլխավոր կարգադրիչների, ծրագրերի և միջոցառումների անվանումները | D7: Ցուցանիշների փոփոխությունները (ավելացումները նշված են դրական նշանով, իսկ նվազեցումները` փակագծերում)
D8: Առաջին կիսամյակ | E8: Ինն ամիս | F8: Տարի
A9: Ծրագիր | B9: Միջոցառում
C10: ԸՆԴԱՄԵՆԸ | D10: =+D11+D44 -> 0 | E10: =+E11+E44 -> 0 | F10: =+F11+F44 -> 0
C11: ՀՀ էկոնոմիկայի նախարարություն | D11: =D12+D25 -> 0 | E11: =E12+E25 -> 0 | F11: =F12+F25 -> 0
A12: 1187 | C12: Ծրագրի անվանումը` | D12: =+D19 -> -600000 | E12: =+E19 -> -1100000 | F12: =+F19 -> -1400707.5
C13: Գյուղատնտեսության արդիականացման ծրագիր
C14: Ծրագրի նպատակը`
C15: Գյուղատնտեսական տեխնիկական համակարգերի արդիականացում, ինտենսիվ այգիների ներդրման և տոհմաբուծության մեջ նոր ցեղատեսակների բուծման աջակցություն
C16: Վերջնական արդյունքի նկարագրությունը`
C17: Ոռոգման արդիական համակարգեր ներդրված հողատարածքների և տոհմային կենդանիների տեսակարար կշռի ավելացում
A18: Ծրագրի միջոցառումներ
B19: 12017 | C19: Միջոցառման անվանումը` | D19: -600000 | E19: -1100000 | F19: -1400707.5
C20: Գյուղատնտեսական մշակաբույսերի մշակության խթանման նպատակով տրամադրվող նպատակային վարկերի տոկոսադրույքների սուբսիդավորում
C21: Միջոցառման նկարագրությունը`
C22: Վարկերի տոկոսադրույքների սուբսիդավորման միջոցով խթանել Հայաստանի Հանրապետությունում գյուղատնտեսական մշակաբույսերի տարածքների ավելացումը
C23: Միջոցառման տեսակը
C24: Տրանսֆերտների տրամադրում
A25: 1059 | C25: Ծրագրի անվանումը` | D25: =+D38+D32 -> 600000 | E25: =+E38+E32 -> 1100000 | F25: =+F38+F32 -> 1400707.5
C26: Բուսաբուծության խթանում և բույսերի պաշտպանություն
C27: Ծրագրի նպատակը`
C28: Հողագործությունից ստացվող արդյունքի բարելավում
C29: Վերջնական արդյունքի նկարագրությունը`
C30: Մշակաբույսերի միջին բերքատվության բարձրացում:ՀՀ գյուղատնտեսական նշանակության ողջ հողատարածքի համար կազմված ագրոքիմիական քարտեզներով ապահովվածություն: Հացահատիկի և հատիկաընդեղենի արտադրության ծավալների ավելացում:
A31: Ծրագրի միջոցառումներ
B32: 11010 | C32: Միջոցառման անվանումը` | D32: 3700 | E32: 15000 | F32: 40900
C33: ՀՀ-ում գարնանացան մշակաբույսերի և բազմամյա խոտաբույսերի ցանքատարածությունների մոնիթորինգի իրականացմանն աջակցություն
C34: Միջոցառման նկարագրությունը`
C35: Համայնքների կողմից գարնանացան մշակաբույսերի և բազմամյա խոտաբույսերի մոնիթորինգի իրականացում, արդյունքների ամփոփում և համապատասխան տեղեկատվության ներկայացում
C36: Միջոցառման տեսակը
C37: Ծառայությունների մատուցում
B38: 12003 | C38: Միջոցառման անվանումը` | D38: 596300 | E38: 1085000 | F38: 1359807.5
C39: ՀՀ-ում գարնանացան մշակաբույսերի և բազմամյա խոտաբույսերի մշակության հիմնական աշխատանքների համար կատարված ծախսերի մասնակի փոխհատուցման տրամադրում
C40: Միջոցառման նկարագրությունը`
C41: Գարնանացան մշակաբույսերի և բազմամյա խոտաբույսերի ցանքատարածությունների ընդլայնմանը նպաստելու նպատակով մշակության հիմնական աշխատանքների համար կատարված ծախսերի մասնակի փոխհատուցում
...

Sheet Հավելված 2
H1: Հավելված № 2
G2: ՀՀ կառավարության 2024 թվականի
G3: № ------------ -Ն որոշման
A5: ՀԱՅԱՍՏԱՆԻ ՀԱՆՐԱՊԵՏՈՒԹՅԱՆ ԿԱՌԱՎԱՐՈՒԹՅԱՆ 2023 ԹՎԱԿԱՆԻ ԴԵԿՏԵՄԲԵՐԻ 28 Ի N 2323-Ն ՈՐՈՇՄԱՆ N 3 և N 4 ՀԱՎԵԼՎԱԾՆԵՐՈՒՄ ԿԱՏԱՐՎՈՂ ՓՈՓՈԽՈՒԹՅՈՒՆՆԵՐԸ ԵՎ ԼՐԱՑՈՒՄՆԵՐԸ
I6: հազար դրամներով
A7: Գործառական դասիչը | D7: Ծրագրային դասիչը | F7: Բյուջետային ծախսերի գործառական դասակարգման բաժինների, խմբերի և դասերի, բյուջետային ծրագրերի միջոցառումների, բյուջետային հատկացումների գլխավոր կարգադրիչների անվանումները | G7: Ցուցանիշների փոփոխությունները (ավելացումները նշված են դրական նշանով, իսկ նվազեցումները` փակագծերում)
G8: Առաջին կիսամյակ | H8: Ինն ամիս | I8: Տարի
A9: Բաժին | B9: Խումբ | C9: Դաս | D9: Ծրագիր | E9: Միջոցառում
F10: ԸՆԴԱՄԵՆԸ ԾԱԽՍԵՐ | G10: =G12+G51 -> 0 | H10: =H12+H51 -> 0 | I10: =I12+I51 -> 0
F11: այդ թվում`
F12: ՀՀ էկոնոմիկայի նախարարություն | G12: =+G14 -> 0 | H12: =+H14 -> 0 | I12: =+I14 -> 0
F13: այդ թվում`
A14: 04 | F14: ՏՆՏԵՍԱԿԱՆ ՀԱՐԱԲԵՐՈՒԹՅՈՒՆՆԵՐ | G14: =+G16 -> 0 | H14: =+H16 -> 0 | I14: =+I16 -> 0
F15: այդ թվում`
B16: 02 | F16: Գյուղատնտեսություն, անտառային տնտեսություն, ձկնորսություն և որսորդություն | G16: =+G18 -> 0 | H16: =+H18 -> 0 | I16: =+I18 -> 0
F17: այդ թվում`
C18: 01 | F18: Գյուղատնտեսություն | G18: =+G20+G40 -> 0 | H18: =+H20+H40 -> 0 | I18: =+I20+I40 -> 0
F19: այդ թվում`
D20: 1059 | F20: Բուսաբուծության խթանում և բույսերի պաշտպանություն | G20: =+G22+G31 -> 600000 | H20: =+H22+H31 -> 1100000 | I20: =+I22+I31 -> 1400707.5
F21: այդ թվում`
E22: 11010 | F22: ՀՀ-ում գարնանացան մշակաբույսերի և բազմամյա խոտաբույսերի ցանքատարածությունների մոնիթորինգի իրականացմանն աջակցություն | G22: =+G24 -> 3700 | H22: =+H24 -> 15000 | I22: =+I24 -> 40900
F23: այդ թվում` ըստ կատարողների
F24: ՀՀ էկոնոմիկայի նախարարություն | G24: =+G26 -> 3700 | H24: =+H26 -> 15000 | I24: =+I26 -> 40900
F25: այդ թվում` բյուջետային ծախսերի տնտեսագիտական դասակարգման հոդվածներ
F26: ԸՆԴԱՄԵՆԸ ԾԱԽՍԵՐ | G26: =+G27 -> 3700 | H26: =+H27 -> 15000 | I26: =+I27 -> 40900
F27: ԸՆԹԱՑԻԿ ԾԱԽՍԵՐ | G27: =+G28 -> 3700 | H27: =+H28 -> 15000 | I27: =+I28 -> 40900
F28: ԴՐԱՄԱՇՆՈՐՀՆԵՐ | G28: =+G29 -> 3700 | H28: =+H29 -> 15000 | I28: =+I29 -> 40900
F29: Ընթացիկ դրամաշնորհներ պետական հատվածի այլ մակարդակներին | G29: =+G30 -> 3700 | H29: =+H30 -> 15000 | I29: =+I30 -> 40900
F30: - Այլ ընթացիկ դրամաշնորհներ համայնքներին | G30: =+'Հավելված 1'!D32 -> 3700 | H30: =+'Հավելված 1'!E32 -> 15000 | I30: =+'Հավելված 1'!F32 -> 40900
E31: 12003 | F31: ՀՀ-ում գարնանացան մշակաբույսերի և բազմամյա խոտաբույսերի մշակության հիմնական աշխատանքների համար կատարված ծախսերի մասնակի փոխհատուցման տրամադրում | G31: =+G33 -> 596300 | H31: =+H33 -> 1085000 | I31: =+I33 -> 1359807.5
F32: այդ թվում` ըստ կատարողների
F33: ՀՀ էկոնոմիկայի նախարարություն | G33: =+G35 -> 596300 | H33: =+H35 -> 1085000 | I33: =+I35 -> 1359807.5
F34: այդ թվում` բյուջետային ծախսերի տնտեսագիտական դասակարգման հոդվածներ
F35: ԸՆԴԱՄԵՆԸ ԾԱԽՍԵՐ | G35: =+G36 -> 596300 | H35: =+H36 -> 1085000 | I35: =+I36 -> 1359807.5
F36: ԸՆԹԱՑԻԿ ԾԱԽՍԵՐ | G36: =+G37 -> 596300 | H36: =+H37 -> 1085000 | I36: =+I37 -> 1359807.5
F37: ՍՈՑԻԱԼԱԿԱՆ ՆՊԱՍՏՆԵՐ ԵՎ ԿԵՆՍԱԹՈՇԱԿՆԵՐ | G37: =+G38 -> 596300 | H37: =+H38 -> 1085000 | I37: =+I38 -> 1359807.5
F38: Սոցիալական օգնության դրամական արտահայտությամբ նպաստներ (բյուջեից) | G38: =+G39 -> 596300 | H38: =+H39 -> 1085000 | I38: =+I39 -> 1359807.5
F39: - Այլ նպաստներ բյուջեից | G39: =+'Հավելված 1'!D38 -> 596300 | H39: =+'Հավելված 1'!E38 -> 1085000 | I39: =+'Հավելված 1'!F38 -> 1359807.5 | J39: =+G30*3/100 -> 111
D40: 1187 | F40: Գյուղատնտեսության արդիականացման ծրագիր | G40: =+G42 -> -600000 | H40: =+H42 -> -1100000 | I40: =+I42 -> -1400707.5
F41: այդ թվում`
...

Sheet Հավելված 3
G1: Հավելված № 3
F2: ՀՀ կառավարության 2024 թվականի
G3: № ------------ -Ն որոշման
B5: ՀԱՅԱՍՏԱՆԻ ՀԱՆՐԱՊԵՏՈՒԹՅԱՆ ԿԱՌԱՎԱՐՈՒԹՅԱՆ 2023 ԹՎԱԿԱՆԻ ԴԵԿՏԵՄԲԵՐԻ 28-Ի N 2323-Ն ՈՐՈՇՄԱՆ N 5 ՀԱՎԵԼՎԱԾԻ 7 ԱՂՅՈՒՍԱԿՈՒՄ ԿԱՏԱՐՎՈՂ ԼՐԱՑՈՒՄԸ
H6: հազար դրամներով
B7: Ծրագրային դասիչ | D7: Բյուջետային հատկացումների գլխավոր կարգադրիչների, ծրագրերի, միջոցառումների, ծախսային ուղղությունների անվանումները | G7: Միջոցառումները կատարող պետական մարմինների և դրամաշնորհ ստացող տնտեսվարող սուբյեկտների անվանումները | H7: Տարի
B8: Ծրագիր | C8: Միջոցառում | H8: Ցուցանիշների փոփոխությունները (ավելացումները նշված են դրական նշանով)
B9: 1 | C9: 2 | D9: 3 | G9: 4 | H9: 5
B10: ԸՆԴԱՄԵՆԸ | H10: =+H11 -> 40900
B11: ՀՀ էկոնոմիկայի նախարարություն | H11: =+H12 -> 40900
B12: 1059 | C12: Բուսաբուծության խթանում և բույսերի պաշտպանություն | H12: =+H13 -> 40900
C13: 11010 | D13: ՀՀ-ում գարնանացան մշակաբույսերի և բազմամյա խոտաբույսերի ցանքատարածությունների մոնիթորինգի իրականացմանն աջակցություն | G13: ՀՀ էկոնոմիկայի նախարարություն | H13: =+H14 -> 40900
G14: ՀՀ կառավարության կողմից հաստատված համապատասխան ծրագրի չափանիշները բավարարող համայնքներ | H14: 40900

Sheet Հավելված4
E1: Հավելված № 4
C2: ՀՀ կառավարության 2024 թվականի
D3: № ------------ -Ն որոշման
A5: ՀԱՅԱՍՏԱՆԻ ՀԱՆՐԱՊԵՏՈՒԹՅԱՆ ԿԱՌԱՎԱՐՈՒԹՅԱՆ 2023 ԹՎԱԿԱՆԻ ԴԵԿՏԵՄԲԵՐԻ 28-Ի N 2323-Ն ՈՐՈՇՄԱՆ N 9 ՀԱՎԵԼՎԱԾԻ 9.10 ԱՂՅՈՒՍԱԿՈՒՄ ԵՎ N 9.1 ՀԱՎԵԼՎԱԾԻ 9.1.10 ԱՂՅՈՒՍԱԿՈՒՄ ԿԱՏԱՐՎՈՂ ՓՈՓՈԽՈՒԹՅՈՒՆՆԵՐԸ ԵՎ ԼՐԱՑՈՒՄՆԵՐԸ
A7: ՀՀ էկոնոմիկայի նախարարություն
A8: ՄԱՍ 1. ՊԵՏԱԿԱՆ ՄԱՐՄՆԻ ԳԾՈՎ ԱՐԴՅՈՒՆՔԱՅԻՆ (ԿԱՏԱՐՈՂԱԿԱՆ) ՑՈՒՑԱՆԻՇՆԵՐԸ
A9: Ծրագրի դասիչը | B9: Ծրագրի անվանումը
A10: 1059 | B10: Բուսաբուծության խթանում և բույսերի պաշտպանություն
A12: Ծրագրի միջոցառումները
A13: Ծրագրի դասիչը` | B13: 1059 | C13: Ցուցանիշների փոփոխությունը (ավելացումները նշված են դրական նշանով)
A14: Միջոցառման դասիչը` | B14: 11010 | C14: Առաջին կիսամյակ | D14: Ինն ամիս | E14: Տարի
A15: Միջոցառման անվանումը` | B15: ՀՀ-ում գարնանացան մշակաբույսերի և բազմամյա խոտաբույսերի ցանքատարածությունների մոնիթորինգի իրականացմանն աջակցություն
A16: Նկարագրությունը` | B16: Համայնքների կողմից գարնանացան մշակաբույսերի և բազմամյա խոտաբույսերի մոնիթորինգի իրականացում, արդյունքների ամփոփում և համապատասխան տեղեկատվության ներկայացում
A17: Միջոցառման տեսակը` | B17: Ծառայությունների մատուցում
A18: Շահառուների ընտրության չափանիշները | B18: ՀՀ գյուղատնտեսական տնտեսավարողներ՛ ընտրված համաձայն՛ ՀՀ կառավարության համապատասխան որոշմամբ հաստատված ծրագրի և ֆինանսական կառույցների կողմից հաստատված համապատասխան չափանիշների
A19: Արդյունքի չափորոշիչներ
A20: Մոնիթորինգի ենթարկված ցանքատարածություններ, հա | C20: 17000 | E20: 17000
A21: Միջոցառման վրա կատարվող ծախսը (հազար դրամ) | C21: =+'Հավելված 1'!D32 -> 3700 | D21: =+'Հավելված 1'!E32 -> 15000 | E21: =+'Հավելված 1'!F32 -> 40900
A24: Ծրագրի դասիչը` | B24: 1059 | C24: Ցուցանիշների փոփոխությունը (ավելացումները նշված են դրական նշանով)
A25: Միջոցառման դասիչը` | B25: 12003 | C25: Առաջին կիսամյակ | D25: Ինն ամիս | E25: Տարի
A26: Միջոցառման անվանումը` | B26: ՀՀ-ում գարնանացան մշակաբույսերի և բազմամյա խոտաբույսերի մշակության հիմնական աշխատանքների համար կատարված ծախսերի մասնակի փոխհատուցման տրամադրում
A27: Նկարագրությունը` | B27: Գարնանացան մշակաբույսերի և բազմամյա խոտաբույսերի ցանքատարածությունների ընդլայնմանը նպաստելու նպատակով մշակության հիմնական աշխատանքների համար կատարված ծախսերի մասնակի փոխհատուցում
A28: Միջոցառման տեսակը` | B28: Տրանսֆերտների տրամադրում
A29: Շահառուների ընտրության չափանիշները | B29: ՀՀ գյուղատնտեսական տնտեսավարողներ՛ ընտրված համաձայն՛ ՀՀ կառավարության համապատասխան որոշմամբ հաստատված ծրագրի և ֆինանսական կառույցների կողմից հաստատված համապատասխան չափանիշների
A30: Արդյունքի չափորոշիչներ
A31: հացահատիկային մշակաբույսեր, հա | C31: 12700 | E31: 12700
A32: հատիկաընդեղեն մշակաբույսեր, հա | C32: 1500 | E32: 1500
A33: կերային խոտաբույսեր, հա | C33: 2800 | E33: 2800
A34: Միջոցառման վրա կատարվող ծախսը (հազար դրամ) | C34: =+'Հավելված 1'!D38 -> 596300 | D34: =+'Հավելված 1'!E38 -> 1085000 | E34: =+'Հավելված 1'!F38 -> 1359807.5
F36: ՀԱՅԱՍՏԱՆԻ ՀԱՆՐԱՊԵՏՈՒԹՅԱՆ ԿԱՌԱՎԱՐՈՒԹՅԱՆ 2021 ԹՎԱԿԱՆԻ ԴԵԿՏԵՄԲԵՐԻ 23-Ի N 2121-Ն ՈՐՈՇՄԱՆ N 9 ՀԱՎԵԼՎԱԾԻ 9.10 ԱՂՅՈՒՍԱԿՈՒՄ N 9.1 ՀԱՎԵԼՎԱԾԻ 9.1.10 ԱՂՅՈՒՍԱԿՈՒՄ ԿԱՏԱՐՎՈՂ ՓՈՓՈԽՈՒԹՅՈՒՆՆԵՐԸ ԵՎ ԼՐԱՑՈՒՄԸ
A37: Ծրագրի դասիչը | B37: Ծրագրի անվանումը
A38: 1187 | B38: Գյուղատնտեսության արդիականացման ծրագիր
A40: Ծրագրի միջոցառումները
A41: Ծրագրի դասիչը` | B41: 1187 | C41: Ցուցանիշների փոփոխությունը (նվազեցումները նշված են փակագծերում)
A42: Միջոցառման դասիչը` | B42: 12017 | C42: Առաջին կիսամյակ | D42: Ինն ամիս | E42: Տարի
A43: Միջոցառման անվանումը` | B43: Գյուղատնտեսական մշակաբույսերի մշակության խթանման նպատակով տրամադրվող նպատակային վարկերի տոկոսադրույքների սուբսիդավորում
A44: Նկարագրությունը` | B44: Վարկերի տոկոսադրույքների սուբսիդավորման միջոցով խթանել Հայաստանի Հանրապետությունում գյուղատնտեսական մշակաբույսերի տարածքների ավելացումը
A45: Միջոցառման տեսակը` | B45: Տրանսֆերտների տրամադրում
A46: Շահառուների ընտրության չափանիշները | B46: ՀՀ գյուղատնտեսական տնտեսավարողներ՛ ընտրված համաձայն՛ ՀՀ կառավարության համապատասխան որոշմամբ հաստատված ծրագրի և ֆինանսական կառույցների կողմից հաստատված համապատասխան չափանիշների
A47: Արդյունքի չափորոշիչներ
...
