Workbook
Name _tab10: #REF!
Name _tab10: #REF!
Name _tab10: #REF!
Name _tab10: #REF!
Name _tab10: #REF!
Name _tab11: #REF!
Name _tab11: #REF!
Name _tab11: #REF!
Name _tab11: #REF!
Name _tab11: #REF!
Name _tab12: #REF!
Name _tab12: #REF!
Name _tab12: #REF!
Name _tab12: #REF!
Name _tab12: #REF!
Name _tab13: #REF!
Name _tab13: #REF!
Name _tab13: #REF!
Name _tab13: #REF!
Name _tab13: #REF!
Name _tab14: #REF!
Name _tab14: #REF!
Name _tab14: #REF!
Name _tab14: #REF!
Name _tab14: #REF!
Name _tab15: #REF!
Name _tab15: #REF!
Name _tab15: #REF!
Name _tab15: #REF!
Name _tab15: #REF!
Name _tab16: #REF!
Name _tab16: #REF!
Name _tab16: #REF!
Name _tab16: #REF!
Name _tab16: #REF!
Name _tab17: #REF!
Name _tab17: #REF!
Name _tab17: #REF!
Name _tab17: #REF!
Name _tab17: #REF!
Name _tab18: #REF!
Name _tab18: #REF!
Name _tab18: #REF!
Name _tab18: #REF!
Name _tab18: #REF!
Name _tab19: #REF!
Name _tab19: #REF!
Name _tab19: #REF!
Name _tab19: #REF!
Name _tab19: #REF!
Name _tab20: #REF!
Name _tab20: #REF!
Name _tab20: #REF!
Name _tab20: #REF!
Name _tab20: #REF!
Name _tab21: #REF!
Name _tab21: #REF!
Name _tab21: #REF!
Name _tab21: #REF!
Name _tab21: #REF!

Sheet 1
F1: Հավելված N 1
F2: ՀՀ կառավարության 2024 թվականի
F3: ___________ ___-ի N _______ -Ն որոշման
A7: «ՀԱՅԱՍՏԱՆԻ ՀԱՆՐԱՊԵՏՈՒԹՅԱՆ 2024 ԹՎԱԿԱՆԻ ՊԵՏԱԿԱՆ ԲՅՈՒՋԵԻ ՄԱՍԻՆ» ՀԱՅԱՍՏԱՆԻ ՀԱՆՐԱՊԵՏՈՒԹՅԱՆ ՕՐԵՆՔԻ N 1 ՀԱՎԵԼՎԱԾԻ N 2 ԱՂՅՈՒՍԱԿՈՒՄ ԿԱՏԱՐՎՈՂ ՎԵՐԱԲԱՇԽՈՒՄԸ ԵՎ ՀԱՅԱՍՏԱՆԻ ՀԱՆՐԱՊԵՏՈՒԹՅԱՆ ԿԱՌԱՎԱՐՈՒԹՅԱՆ 2023 ԹՎԱԿԱՆԻ ԴԵԿՏԵՄԲԵՐԻ 28-Ի N 2323-Ն ՈՐՈՇՄԱՆ N 5 ՀԱՎԵԼՎԱԾԻ N 1 ԱՂՅՈՒՍԱԿՈՒՄ ԿԱՏԱՐՎՈՂ ՓՈՓՈԽՈՒԹՅՈՒՆՆԵՐԸ
F8: (հազ.դրամ)
A9: Ծրագրային դասիչը | C9: Բյուջետային հատկացումների գլխավոր կարգադրիչների, ծրագրերի և միջոցառումների անվանումները | D9: Ցուցանիշների փոփոխությունը (նվազեցումները նշված են փակագծերում)
D10: Առաջին կիսամյակ | E10: Ինն ամիս | F10: Տարի
A11: Ծրագիր | B11: Միջոցառում
C12: Ընդամենը | D12: =+D13 -> -369460.7 | E12: =+E13 -> -369460.7 | F12: =+F13 -> -369460.7
C13: ՀՀ պաշտպանության նախարարություն | D13: =+D15 -> -369460.7 | E13: =+E15 -> -369460.7 | F13: =+F15 -> -369460.7
C14: Ծրագրի անվանումը՝
A15: 1169 | C15: ՀՀ պաշտպանության ապահովում | D15: =+D21+D28 -> -369460.7 | E15: =+E21+E28 -> -369460.7 | F15: =+F21+F28 -> -369460.7
C16: Ծրագրի նպատակը՝
C17: ՀՀ ԶՈւ ռազմավարական ծավալումն ապահովող մարտական պատրաստականության պահպանում՝ արտաքին թշնամուց ՀՀ պետական սահմանների պաշտպանության ապահովում
C18: Վերջնական արդյունքի նկարագրությունը՝
C19: ՀՀ ԶՈւ ռազմավարական ծավալումն ապահովող մարտական պատրաստականության պահպանում
A20: Ծրագրի միջոցառումներ
B21: 11001 | C21: Միջոցառման անվանումը՝ | D21: =+'3'!G22 -> -229789 | E21: =+'3'!H22 -> -229789 | F21: =+'3'!I22 -> -229789
C22: Ռազմական կարիքների բավարարում
C23: Միջոցառման նկարագրությունը՝
C24: Ընթացիկ գործունեության ապահովման գործողություններ
C25: Միջոցառման տեսակը
C26: Ծառայությունների մատուցում
A27: Ծրագրի միջոցառումներ
B28: 31001 | C28: Միջոցառման անվանումը՝ | D28: =+'3'!G39 -> -139671.7 | E28: =+'3'!H39 -> -139671.7 | F28: =+'3'!I39 -> -139671.7
C29: ՀՀ պաշտպանության նախարարության շենքային պայմանների բարելավում
C30: Միջոցառման նկարագրությունը՝
C31: Պաշտպանության կարիքների համար բնակելի, գրասենյակային և այլ նշանակության շենքերի և շինությունների կառուցում
C32: Միջոցառման տեսակը
C33: Պետական մարմինների կողմից օգտագործվող ոչ ֆինանսական ակտիվների հետ գործառնություններ

Sheet 2
H1: Հավելված N 2
H2: ՀՀ կառավարության 2024 թվականի
H3: ___________ ___-ի N _______ -Ն որոշման
A5: «ՀԱՅԱՍՏԱՆԻ ՀԱՆՐԱՊԵՏՈՒԹՅԱՆ 2024 ԹՎԱԿԱՆԻ ՊԵՏԱԿԱՆ ԲՅՈՒՋԵԻ ՄԱՍԻՆ» ՀԱՅԱՍՏԱՆԻ ՀԱՆՐԱՊԵՏՈՒԹՅԱՆ ՕՐԵՆՔԻ N 1 ՀԱՎԵԼՎԱԾԻ N 3 ԱՂՅՈՒՍԱԿՈՒՄ ԿԱՏԱՐՎՈՂ ՓՈՓՈԽՈՒԹՅՈՒՆԸ
G6: (հազ.դրամ)
A7: Ծրագրային դասիչ | C7: Բյուջետային գլխավոր կարգադրիչների, ծրագրերի, միջոցառումների և ուղղությունների անվանումները | D7: Ցուցանիշների փոփոխությունը (նվազեցումները նշված են փակագծերում)
D8: Ընդամենը, | E8: այդ թվում՝
A9: Ծրագիր | B9: Միջոցառում | E9: Կառուցման աշխատանքներ | F9: Վերակառուցման, վերանորոգման և վերականգնման աշխատանքներ | G9: Նախագծահե- տազոտական, գեոդեզիա- քարտեզագրա- կան աշխա- տանքներ | H9: Ոչ ֆինանսական այլ ակտիվների ձեռքբերում
C10: ԸՆԴԱՄԵՆԸ | D10: =+D12 -> -139671.7 | E10: =+E12 -> -139671.7 | H10: =+H12 -> 0
C11: այդ թվում՝
C12: ՀՀ ՊԱՇՏՊԱՆՈՒԹՅԱՆ ՆԱԽԱՐԱՐՈՒԹՅՈՒՆ | D12: =+D14 -> -139671.7 | E12: =+E14 -> -139671.7 | H12: =+H14 -> 0
C13: այդ թվում`
A14: 1169 | B14: 31001 | C14: ՀՀ պաշտպանության նախարարության շենքային պայմաններ բարելավում | D14: =SUM(E14:H14) -> -139671.7 | E14: =+'3'!I39 -> -139671.7

Sheet 3
I1: Հավելված N 3
F2: ՀՀ կառավարության 2024 թվականի
F3: ___________ ___-ի N _______ -Ն որոշման
A7: ՀԱՅԱՍՏԱՆԻ ՀԱՆՐԱՊԵՏՈՒԹՅԱՆ ԿԱՌԱՎԱՐՈՒԹՅԱՆ 2023 ԹՎԱԿԱՆԻ ԴԵԿՏԵՄԲԵՐԻ 28-Ի N 2323-Ն ՈՐՈՇՄԱՆ N 3 և N 4 ՀԱՎԵԼՎԱԾՆԵՐՈՒՄ ԿԱՏԱՐՎՈՂ ՓՈՓՈԽՈՒԹՅՈՒՆՆԵՐԸ
I8: (հազ.դրամ)
A10: Գործառական դասիչը | D10: Ծրագրային դասիչը | F10: Բյուջետային ծախսերի գործառական դասակարգման բաժինների, խմբերի և դասերի, բյուջետային ծրագրերի միջոցառումների, բյուջետային հատկացումների գլխավոր կարգադրիչների անվանումները | G10: Ցուցանիշների փոփոխությունը (նվազեցումները նշված են փակագծերում)
G11: Առաջին կիսամյակ | H11: Ինն ամիս | I11: Տարի
A12: Բաժին | B12: Խումբ | C12: Դաս | D12: Ծրագիր | E12: Միջոցառում
F13: ԸՆԴԱՄԵՆԸ ԾԱԽՍԵՐ այդ թվում՝ | G13: =+G14 -> -369460.7 | H13: =+H14 -> -369460.7 | I13: =+I14 -> -369460.7
A14: 02 | F14: ՊԱՇՏՊԱՆՈՒԹՅՈՒՆ | G14: =+G16 -> -369460.7 | H14: =+H16 -> -369460.7 | I14: =+I16 -> -369460.7
F15: այդ թվում`
B16: 01 | F16: Ռազմական պաշտպանություն | G16: =+G20 -> -369460.7 | H16: =+H20 -> -369460.7 | I16: =+I20 -> -369460.7
F17: այդ թվում`
C18: 01 | F18: Ռազմական պաշտպանություն | G18: =+G20 -> -369460.7 | H18: =+H20 -> -369460.7 | I18: =+I20 -> -369460.7
F19: այդ թվում`
F20: ՀՀ պաշտպանության նախարարություն | G20: =+G21 -> -369460.7 | H20: =+H21 -> -369460.7 | I20: =+I21 -> -369460.7
D21: 1169 | F21: ՀՀ պաշտպանության ապահովում | G21: =+G22+G31 -> -369460.7 | H21: =+H22+H31 -> -369460.7 | I21: =+I22+I31 -> -369460.7
E22: 11001 | F22: Ռազմական կարիքների բավարարում | G22: =+G24 -> -229789 | H22: =+H24 -> -229789 | I22: =+I24 -> -229789
F23: այդ թվում` ըստ կատարողների
F24: ՀՀ պաշտպանության նախարարություն | G24: =+G26 -> -229789 | H24: =+H26 -> -229789 | I24: =+I26 -> -229789
F25: այդ թվում` բյուջետային ծախսերի տնտեսագիտական դասակարգման հոդվածներ
F26: ԸՆԴԱՄԵՆԸ ԾԱԽՍԵՐ | G26: =+G27 -> -229789 | H26: =+H27 -> -229789 | I26: =+I27 -> -229789
F27: ԸՆԹԱՑԻԿ ԾԱԽՍԵՐ | G27: =+G28 -> -229789 | H27: =+H28 -> -229789 | I27: =+I28 -> -229789
F28: ԱՅԼ ԾԱԽՍԵՐ | G28: =G29 -> -229789 | H28: =H29 -> -229789 | I28: =I29 -> -229789
F29: ԱՅԼ ԾԱԽՍԵՐ | G29: =+G30 -> -229789 | H29: =+H30 -> -229789 | I29: =+I30 -> -229789
F30: - Այլ ծախսեր | G30: -229789 | H30: -229789 | I30: -229789
E31: 31001 | F31: ՀՀ պաշտպանության նախարարության շենքային պայմանների բարելավում | G31: =+G33 -> -139671.7 | H31: =+H33 -> -139671.7 | I31: =+I33 -> -139671.7
F32: այդ թվում` ըստ կատարողների
F33: ՀՀ պաշտպանության նախարարություն | G33: =+G35 -> -139671.7 | H33: =+H35 -> -139671.7 | I33: =+I35 -> -139671.7
F34: այդ թվում` բյուջետային ծախսերի տնտեսագիտական դասակարգման հոդվածներ
F35: ԸՆԴԱՄԵՆԸ ԾԱԽՍԵՐ | G35: =+G36 -> -139671.7 | H35: =+H36 -> -139671.7 | I35: =+I36 -> -139671.7
F36: ՈՉ ՖԻՆԱՆՍԱԿԱՆ ԱԿՏԻՎՆԵՐԻ ԳԾՈՎ ԾԱԽՍԵՐ | G36: =+G37 -> -139671.7 | H36: =+H37 -> -139671.7 | I36: =+I37 -> -139671.7
F37: ՀԻՄՆԱԿԱՆ ՄԻՋՈՑՆԵՐ | G37: =G38 -> -139671.7 | H37: =H38 -> -139671.7 | I37: =I38 -> -139671.7
F38: ՇԵՆՔԵՐ ԵՎ ՇԻՆՈՒԹՅՈՒՆՆԵՐ | G38: =+G39 -> -139671.7 | H38: =+H39 -> -139671.7 | I38: =+I39 -> -139671.7
F39: - Շենքերի և շինությունների շինարարություն | G39: -139671.7 | H39: -139671.7 | I39: -139671.7

Sheet 4
A1: Հավելված N 4
A2: ՀՀ կառավարության 2024 թվականի
A3: ______________ ի ___Ն որոշման
A5: ՀԱՅԱՍՏԱՆԻ ՀԱՆՐԱՊԵՏՈՒԹՅԱՆ ԿԱՌԱՎԱՐՈՒԹՅԱՆ 2023 ԹՎԱԿԱՆԻ ԴԵԿՏԵՄԲԵՐԻ 28-Ի N 2323-Ն ՈՐՈՇՄԱՆ N 5 ՀԱՎԵԼՎԱԾԻ N 2 ԱՂՅՈՒՍԱԿՈՒՄ ԿԱՏԱՐՎՈՂ ՓՈՓՈԽՈՒԹՅՈՒՆՆԵՐԸ
F6: (հազ.դրամ)
A7: Ծրագրային դասիչ | C7: Բյուջետային գլխավոր կարգադրիչների, ծրագրերի, միջոցառումների և ուղղությունների անվանումները | D7: Ցուցանիշների փոփոխությունը (նվազեցումները նշված են փակագծերում)
A8: Ծրագիր | B8: Միջոցառում | D8: Առաջին կիսամյակ | E8: Ինն ամիս | F8: Տարի
C10: ԸՆԴԱՄԵՆԸ | D10: =+D12 -> -139671.7 | E10: =+E12 -> -139671.7 | F10: =+F12 -> -139671.7
C11: այդ թվում՝
C12: ՀՀ ՊԱՇՏՊԱՆՈՒԹՅԱՆ ՆԱԽԱՐԱՐՈՒԹՅՈՒՆ | D12: =+D14 -> -139671.7 | E12: =+E14 -> -139671.7 | F12: =+F14 -> -139671.7
C13: այդ թվում`
A14: 1169 | B14: 31001 | C14: ՀՀ պաշտպանության նախարարության շենքային պայմանների բարելավում | D14: =D16 -> -139671.7 | E14: =E16 -> -139671.7 | F14: =F16 -> -139671.7
C15: այդ թվում` ըստ կատարողների
C16: ՀՀ պաշտպանության նախարարություն | D16: -139671.7 | E16: -139671.7 | F16: -139671.7

Sheet 5
E1: Հավելված N 5
B2: ՀՀ կառավարության 2024 թվականի
B3: ______________ ի ___Ն որոշման
A6: ՀԱՅԱՍՏԱՆԻ ՀԱՆՐԱՊԵՏՈՒԹՅԱՆ ԿԱՌԱՎԱՐՈՒԹՅԱՆ 2023 ԹՎԱԿԱՆԻ ԴԵԿՏԵՄԲԵՐԻ 28-Ի N 2323-Ն ՈՐՈՇՄԱՆ N 9 ՀԱՎԵԼՎԱԾԻ N 9.14 ԵՎ N 9.1 ՀԱՎԵԼՎԱԾԻ N 9.1.14 ԱՂՅՈՒՍԱԿՆԵՐՈՒՄ ԿԱՏԱՐՎՈՂ ՓՈՓՈԽՈՒԹՅՈՒՆՆԵՐ
A7: ՀՀ պաշտպանության նախարարություն
A8: ՄԱՍ 2. ՊԵՏԱԿԱՆ ՄԱՐՄՆԻ ԳԾՈՎ ԱՐԴՅՈՒՆՔԱՅԻՆ (ԿԱՏԱՐՈՂԱԿԱՆ) ՑՈՒՑԱՆԻՇՆԵՐԸ
A10: Ծրագրի դասիչը | B10: Ծրագրի անվանումը
A11: 1169 | B11: ՀՀ պաշտպանության ապահովում
A13: Ծրագրի միջոցառումները
A15: Ծրագրի դասիչը` | B15: 1169 | C15: Ցուցանիշների փոփոխությունը (նվազեցումները նշված են փակագծերում)
A16: Միջոցառման դասիչը` | B16: 11001 | C16: Առաջին կիսամյակ | D16: Ինն ամիս | E16: Տարի
A17: Միջոցառման անվանումը` | B17: Ռազմական կարիքների բավարարում
A18: Նկարագրությունը` | B18: Ընթացիկ գործունեության ապահովման գործողություններ
A19: Միջոցառման տեսակը` | B19: Ծառայությունների մատուցում
A20: Ծառայությունը մատուցող կազմակերպության(ների) անվանում(ներ)ը | B20: ՀՀ պաշտպանության նախարարություն
A21: Արդյունքի չափորոշիչներ
A22: Չի սահմանվում
A23: Միջոցառման վրա կատարվող ծախսը (հազար դրամ) | C23: =+'3'!G22 -> -229789 | D23: =+'3'!H22 -> -229789 | E23: =+'3'!I22 -> -229789
A25: ՄԱՍ 1. ՊԵՏԱԿԱՆ ՄԱՐՄՆԻ ԳԾՈՎ ԱՐԴՅՈՒՆՔԱՅԻՆ (ԿԱՏԱՐՈՂԱԿԱՆ) ՑՈՒՑԱՆԻՇՆԵՐԸ
A27: Ծրագրի դասիչը` | B27: 1169 | C27: Ցուցանիշների փոփոխությունը (նվազեցումները նշված են փակագծերում)
A28: Միջոցառման դասիչը` | B28: 31001 | C28: Առաջին կիսամյակ | D28: Ինն ամիս | E28: Տարի
A29: Միջոցառման անվանումը` | B29: ՀՀ պաշտպանության նախարարության շենքային պայմանների բարելավում
A30: Նկարագրությունը` | B30: Պաշտպանության կարիքների համար բնակելի, գրասենյակային և այլ նշանակության շենքերի և շինությունների կառուցում
A31: Միջոցառման տեսակը` | B31: Պետական մարմինների կողմից օգտագործվող ոչ ֆինանսական ակտիվների հետ գործառնություններ
A32: Ակտիվն օգտագործող կազմակերպության(ներ) անվանում(ներ)ը | B32: ՀՀ պաշտպանության նախարարություն
A33: Արդյունքի չափորոշիչներ
A34: չի սահմանվում
A35: Միջոցառման վրա կատարվող ծախսը (հազար դրամ) | C35: -139671.7 | D35: -139671.7 | E35: -139671.7

Sheet Sheet1
A1: 4239 | B1: 20939.6
A2: 4252 | B2: 4001.2
A3: 4261 | B3: 24221.5
A4: 4264 | B4: 658398.2
A5: 4267 | B5: 51113.2
A6: 4269 | B6: 58135.2
A7: 5121 | B7: 34800
A8: 5122 | B8: 30780.6
A9: 5129 | B9: 165718.2
A10: 5132 | B10: 33.2
