Workbook
Name _tab10: #REF!
Name _tab11: #REF!
Name _tab12: #REF!
Name _tab13: #REF!
Name _tab14: #REF!
Name _tab15: #REF!
Name _tab16: #REF!
Name _tab17: #REF!
Name _tab18: #REF!
Name _tab19: #REF!
Name _tab20: #REF!
Name _tab21: #REF!
Name _tab22: #REF!
Name _tab23: #REF!
Name _tab24: #REF!
Name _tab5: #REF!
Name _tab6: #REF!
Name _tab7: #REF!
Name _tab8: #REF!
Name _tab9: #REF!
Name par_count: #REF!,#REF!,#REF!,#REF!,#REF!,#REF!,#REF!,#REF!,#REF!,#REF!,#REF!,#REF!,#REF!,#REF!,#REF!
Name par_qual: #REF!,#REF!,#REF!,#REF!,#REF!
Name par_time: #REF!,#REF!,#REF!,#REF!
Name par2.12s: #REF!
Name par2.4s: #REF!,#REF!,#REF!,#REF!,#REF!,#REF!,#REF!,#REF!,#REF!,#REF!,#REF!,#REF!,#REF!,#REF!,#REF!,#REF!
Name par2.5s: #REF!,#REF!
Name par2.6s: #REF!,#REF!,#REF!,#REF!
Name par2.7s: #REF!,#REF!
Name par2.9s: #REF!,#REF!,#REF!,#REF!,#REF!,#REF!,#REF!,#REF!,#REF!,#REF!,#REF!,#REF!,#REF!,#REF!,#REF!,#REF!
Name par4.10s: #REF!,#REF!
Name par4.11d: #REF!,#REF!,#REF!,#REF!,#REF!
Name par4.12d: #REF!
Name par4.13s: #REF!
Name par4.14: #REF!,#REF!,#REF!,#REF!,#REF!,#REF!
Name par4.15: #REF!,#REF!,#REF!
Name par4.16: #REF!,#REF!,#REF!
Name par4.17: #REF!,#REF!,#REF!,#REF!
Name par4.18d: #REF!,#REF!
Name par4.19s: #REF!
Name par4.20f: #REF!
Name par4.21f: #REF!
Name par4.22: #REF!
Name par4.4: #REF!
Name par4.5: #REF!
Name par4.6s: #REF!
Name par4.7s: #REF!
Name par4.8: #REF!,#REF!,#REF!,#REF!,#REF!
Name par4.9: #REF!,#REF!,#REF!,#REF!,#REF!,#REF!
Name par5.1: #REF!,#REF!
Name par5.3: #REF!,#REF!,#REF!,#REF!,#REF!,#REF!
Name par5.4: #REF!,#REF!,#REF!,#REF!,#REF!
Name par5.5: #REF!
Name par5.6: #REF!,#REF!
Name program: #REF!,#REF!,#REF!,#REF!,#REF!,#REF!,#REF!,#REF!,#REF!,#REF!,#REF!,#REF!,#REF!,#REF!,#REF!,#REF!,#REF!,#REF!,#REF!,#REF!

Sheet 1
B1: Հավելված № 1
B2: ՀՀ կառավարության 2024 թվականի
B3: __________ «____» -ի
B4: № ---------- Ն որոշման
B5: «ՀԱՅԱՍՏԱՆԻ ՀԱՆՐԱՊԵՏՈՒԹՅԱՆ 2024 ԹՎԱԿԱՆԻ ՊԵՏԱԿԱՆ ԲՅՈՒՋԵԻ ՄԱՍԻՆ» ՀԱՅԱՍՏԱՆԻ ՀԱՆՐԱՊԵՏՈՒԹՅԱՆ ՕՐԵՆՔԻ N 1 ՀԱՎԵԼՎԱԾԻ N 1 ԱՂՅՈՒՍԱԿՈՒՄ ԿԱՏԱՐՎՈՂ ՓՈՓՈԽՈՒԹՅՈՒՆՆԵՐԸ
D6: հազար դրամ
B7: Ծրագրային դասիչը | C7: Ծրագրի անվանումը | D7: Ցուցանիշների փոփոխությունները (ավելացումը նշված է դրական նշանով, իսկ նվազեցումը` փակագծերում)
D8: Տարի
B9: Ընդամենը | D9: =+D10+D11+D12+D13+D14 -> 0
B10: 1126 | C10: Առողջապահության ոլորտում պետական քաղաքականության մշակում, ծրագրերի համակարգում և մոնիտորինգ | D10: =+'2'!G24 -> -550000
B11: 1201 | C11: Շտապ բժշկական օգնություն | D11: =+'2'!G62 -> 400000
B12: 1202 | C12: Ոչ վարակիչ հիվանդությունների բժշկական օգնության ապահովում | D12: =+'2'!G75 -> -1650000
B13: 1207 | C13: Սոցիալապես անապահով և առանձին խմբերի անձանց բժշկական օգնություն | D13: =+'2'!G100 -> 1700000
B14: 1208 | C14: Վարակիչ հիվանդությունների կանխարգելման ծրագիր | D14: =+'2'!G125 -> 100000

Sheet 2
B1: Հավելված № 2
B2: ՀՀ կառավարության 2024 թվականի
B3: __________ «____» -ի
B4: № ----------Ն որոշման
B5: «ՀԱՅԱՍՏԱՆԻ ՀԱՆՐԱՊԵՏՈՒԹՅԱՆ 2024 ԹՎԱԿԱՆԻ ՊԵՏԱԿԱՆ ԲՅՈՒՋԵԻ ՄԱՍԻՆ» ՀԱՅԱՍՏԱՆԻ ՀԱՆՐԱՊԵՏՈՒԹՅԱՆ ՕՐԵՆՔԻ N 1 ՀԱՎԵԼՎԱԾԻ N 2 ԱՂՅՈՒՍԱԿՈՒՄ ԿԱՏԱՐՎՈՂ ՎԵՐԱԲԱՇԽՈՒՄԸ ԵՎ ՀԱՅԱՍՏԱՆԻ ՀԱՆՐԱՊԵՏՈՒԹՅԱՆ ԿԱՌԱՎԱՐՈՒԹՅԱՆ 2023 ԹՎԱԿԱՆԻ ԴԵԿՏԵՄԲԵՐԻ 28-Ի № 2323-Ն ՈՐՈՇՄԱՆ № 5 ՀԱՎԵԼՎԱԾԻ № 1 ԱՂՅՈՒՍԱԿՈՒՄ ԿԱՏԱՐՎՈՂ ՓՈՓՈԽՈՒԹՅՈՒՆՆԵՐԸ
B6: հազար դրամ
B7: Ծրագրային դասիչը | D7: Բյուջետային հատկացումների գլխավոր կարգադրիչների, ծրագրերի և միջոցառումների անվանումները | E7: Ցուցանիշների փոփոխությունները (ավելացումը նշված է դրական նշանով, իսկ նվազեցումը` փակագծերում)
B8: Ծրագիր | C8: Միջոցառում | E8: Առաջին կիսամյակ | F8: Ինն ամիս | G8: Տարի
D9: ԸՆԴԱՄԵՆԸ | E9: =+E10 -> 0 | F9: =+F10 -> 0 | G9: =+G10 -> 0
D10: ՀՀ առողջապահության նախարարություն | E10: =+E11+E24+E43+E62+E75+E100+E125 -> 0 | F10: =+F11+F24+F43+F62+F75+F100+F125 -> 0 | G10: =+G11+G24+G43+G62+G75+G100+G125 -> 0
B11: 1099 | D11: Ծրագրի անվանումը` | E11: =+E18 -> 0 | F11: =+F18 -> -708000 | G11: =+G18 -> 0
D12: Առողջության առաջնային պահպանում
D13: Ծրագրի նպատակը`
D14: Բնակչությանը մատչելի և որակյալ առաջնային բժշկական օգնության և սպասարկման տրամադրում, առողջության վատթարացման ռիսկի գործոնների վերհանում և դրանց հնարավոր անբարենպաստ ազդեցության կանխարգելում
D15: Վերջնական արդյունքի նկարագրությունը`
D16: Առողջության առաջնային պահպանման օղակում ցուցաբերվող բժշկական օգնության որակի, հիվանդությունների վաղ հայտնաբերման և կանխարգելման մակարդակի բարելավում, առողջապահական ծառայությունների վերաբերյալ իրազեկվածության և դրանց նկատմամբ պահանջարկի ավելացում
B17: Ծրագրի միջոցառումներ
C18: 11001 | D18: Միջոցառման անվանումը` | E18: 0 | F18: -708000 | G18: 0
D19: Ըստ փաստացի կատարողականի փոխհատուցվող ամբուլատոր-պոլիկլինիկական բժշկական օգնության ծառայություններ
D20: Միջոցառման նկարագրությունը`
D21: Հիվանդությունների կանխարգելում, հայտնաբերում, բուժում, նեղ մասնագիտացված ամբուլատոր ծառայություններ, լաբորատոր-գործիքային հետազոտություններ, զորակոչային և նախազորակոչային տարիքի անձանց բուժման և փորձաքննության ամբուլատոր ծառայություններ
D22: Միջոցառման տեսակը
D23: Ծառայությունների մատուցում
B24: 1126 | D24: Ծրագրի անվանումը | E24: =+E31+E37 -> 0 | F24: =+F31+F37 -> -371658.4 | G24: =+G31+G37 -> -550000
D25: Առողջապահության ոլորտում պետական քաղաքականության մշակում, ծրագրերի համակարգում և մոնիտորինգ
D26: Ծրագրի նպատակը
D27: Մարդու և հանրության առողջության պահպանում, բնակչության առողջության բարելավում, հիվանդությունների կանխարգելում, հաշմանդամության և մահացության ցուցանիշների նվազեցում
D28: Վերջնական արդյունքի նկարագրությունը
D29: Առողջապահության ոլորտում իրականացվող ծրագրերի ազդեցության և արդյունավետության բարելավում
B30: Ծրագրի միջոցառումներ
C31: 31002 | D31: Միջոցառման անվանումը | E31: 0 | F31: =+'3'!E11 -> -371658.4 | G31: =+F31 -> -371658.4
D32: Առողջապահական կազմակերպությունների վերազինում
D33: Միջոցառման նկարագրությունը
D34: Բնակչությանը որակյալ բժշկական օգնության և սպասարկման ծառայություններ մատուցելու նպատակով՛ առողջապահական կազմակերպությունների անհրաժեշտ սարքավորումներով վերազինում
D35: Միջոցառման տեսակը
D36: Պետական մարմինների կողմից օգտագործվող ոչ ֆինանսական ակտիվների հետ գործառնություններ
C37: 31003 | D37: Միջոցառման անվանումը | E37: =+'[1]6'!E25 -> 0 | F37: 0 | G37: =+'3'!E19 -> -178341.6
D38: Առողջապահական կազմակերպությունների կառուցում, վերակառուցում
D39: Միջոցառման նկարագրությունը
D40: Բնակչությանը որակյալ բժշկական օգնության և սպասարկման ծառայություններ մատուցելու նպատակով առողջապահական կազմակերպությունների վերազինում
...

Sheet 3
B1: Հավելված № 3
B2: ՀՀ կառավարության 2024 թվականի
B3: __________ «____» -ի
B4: N_____ -Ն որոշման
B5: (հազ. դրամ)
B6: «ՀԱՅԱՍՏԱՆԻ ՀԱՆՐԱՊԵՏՈՒԹՅԱՆ 2024 ԹՎԱԿԱՆԻ ՊԵՏԱԿԱՆ ԲՅՈՒՋԵԻ ՄԱՍԻՆ» ՀԱՅԱՍՏԱՆԻ ՀԱՆՐԱՊԵՏՈՒԹՅԱՆ ՕՐԵՆՔԻ № 1 ՀԱՎԵԼՎԱԾԻ № 3 ԱՂՅՈՒՍԱԿՈՒՄ ԿԱՏԱՐՎՈՂ ՓՈՓՈԽՈՒԹՅՈՒՆՆԵՐԸ
B7: Ծրագրային դասիչ | D7: Բյուջետային գլխավոր կարգադրիչների, ծրագրերի, միջոցառումների և ուղղությունների անվանումները | E7: Ցուցանիշների փոփոխությունները (ավելացումները նշված են դրական նշանով, իսկ նվազեցումները` փակագծերում)
E8: Ընդամենը | F8: այդ թվում
B9: Ծրագիր | C9: Միջոցառում | F9: Կառուցման աշխատանքներ | G9: Վերակառուցման, վերանորոգման և վերականգնման աշխատանքներ | H9: Նախագծահե- տազոտական, գեոդեզիա- քարտեզագրական աշխատանքներ | I9: Ոչ ֆինանսական այլ ակտիվների ձեռքբերում
D10: ՀՀ ԱՌՈՂՋԱՊԱՀՈՒԹՅԱՆ ՆԱԽԱՐԱՐՈՒԹՅՈՒՆ | E10: =+E11+E19 -> -550000 | F10: =+F11+F19 -> 0 | G10: =+G11+G19 -> -178341.6 | H10: =+H11+H19 -> 0 | I10: =+I11+I19 -> -371658.4
B11: 1126 | C11: 31002 | D11: Առողջապահական կազմակերպությունների վերազինում | E11: =+E13+E15+E17 -> -371658.4 | F11: =+F13+F15+F17 -> 0 | G11: =+G13+G15+G17 -> 0 | H11: =+H13+H15+H17 -> 0 | I11: =+I13+I15+I17 -> -371658.4
D12: այդ թվում`
D13: ՀՀ Արագածոտնի մարզ | E13: =E14 -> -91658.4 | F13: =F14 -> 0 | G13: =G14 -> 0 | H13: =H14 -> 0 | I13: =I14 -> -91658.4
D14: ՀՀ Արագածոտնի մարզի «Թալինի բժշկական կենտրոն» ՓԲԸ | E14: =+F14+G14+H14+I14 -> -91658.4 | I14: -91658.4
D15: ՀՀ Արարատի մարզ | E15: =+E16 -> -250000 | F15: =+F16 -> 0 | G15: =+G16 -> 0 | H15: =+H16 -> 0 | I15: =+I16 -> -250000
D16: ՀՀ Արարատի մարզի «Արտաշատի բժշկական կենտրոն» ՓԲԸ պոլիկլինիկա | E16: =+F16+G16+H16+I16 -> -250000 | I16: =+'[1]6'!G21 -> -250000
D17: ՀՀ Սյունիքի մարզ | E17: =E18 -> -30000 | F17: =F18 -> 0 | G17: =G18 -> 0 | H17: =H18 -> 0 | I17: =I18 -> -30000
D18: «Դատաբժշկական գիտագործնական կենտրոն» ՊՈԱԿ-ի Կապանի դիահերձարան | E18: =+F18+G18+H18+I18 -> -30000 | I18: -30000
C19: 31003 | D19: Առողջապահական կազմակերպությունների կառուցում, վերակառուցում | E19: =+E21+E23 -> -178341.6 | F19: =+F21+F23 -> 0 | G19: =+G21+G23 -> -178341.6 | H19: =+H21+H23 -> 0 | I19: =+I21+I23 -> 0
D20: այդ թվում`
D21: ՀՀ Արմավիրի մարզ | E21: =+E22 -> -113994.4 | F21: =+F22 -> 0 | G21: =+G22 -> -113994.4 | H21: =+H22 -> 0 | I21: =+I22 -> 0
D22: ՀՀ Արմավիրի մարզի «Զարիշատ(Արամ) Մարտինի Մկրտչյանի անվան Արմավիրի բժշկական կենտրոն» ՓԲԸ պոլիկլինիկա | E22: =+F22+G22+H22+I22 -> -113994.4 | G22: -113994.4
D23: ՀՀ Շիրակի մարզ | E23: =+E24 -> -64347.2 | F23: =+F24 -> 0 | G23: =+G24 -> -64347.2 | H23: =+H24 -> 0 | I23: =+I24 -> 0
D24: ՀՀ Շիրակի մարզի «Գյումրու թիվ 1 պոլիկլինիկա» ՓԲԸ | E24: =+F24+G24+H24+I24 -> -64347.2 | G24: -64347.2

Sheet 4
B1: Հավելված № 4
B2: ՀՀ կառավարության 2024 թվականի
B3: __________ «____» -ի
B4: № ------------ -Ն որոշման
B5: ՀԱՅԱՍՏԱՆԻ ՀԱՆՐԱՊԵՏՈՒԹՅԱՆ ԿԱՌԱՎԱՐՈՒԹՅԱՆ 2023 ԹՎԱԿԱՆԻ ԴԵԿՏԵՄԲԵՐԻ 28-Ի № 2323-Ն ՈՐՈՇՄԱՆ NN 3 և 4 ՀԱՎԵԼՎԱԾՆԵՐՈՒՄ ԿԱՏԱՐՎՈՂ ՓՈՓՈԽՈՒԹՅՈՒՆՆԵՐԸ
B6: հազար դրամ
B7: Գործառական դասիչը | E7: Ծրագրային դասիչը | G7: Բյուջետային հատկացումների գլխավոր կարգադրիչների, ծրագրերի, միջոցառումների և միջոցառումները կատարող պետական մարմինների անվանումները | H7: Ցուցանիշների փոփոխությունները (ավելացումը նշված է դրական նշանով, իսկ նվազեցումը` փակագծերում)
B8: բաժին | C8: խումբ | D8: դաս | E8: Ծրագիր | F8: Միջոցառում | H8: Առաջին կիսամյակ | I8: Ինն ամիս | J8: Տարի
B9: ԸՆԴԱՄԵՆԸ | H9: =+H10 -> 0 | I9: =+I10 -> 0 | J9: =+J10 -> 0
B10: 07 | G10: ԱՌՈՂՋԱՊԱՀՈՒԹՅՈՒՆ | H10: =+H12+H59+H155 -> 0 | I10: =+I12+I59+I155 -> 0 | J10: =+J12+J59+J155 -> 0
G11: այդ թվում՝
C12: 02 | G12: Արտահիվանդանոցային ծառայություններ | H12: =+H14+H29+H44 -> 0 | I12: =+I14+I29+I44 -> 192000 | J12: =+J14+J29+J44 -> 900000
G13: այդ թվում՝
D14: 01 | G14: Ընդհանուր բնույթի բժշկական ծառայություններ | H14: =+H18 -> 0 | I14: =+I18 -> -708000 | J14: =+J18 -> 0
G15: այդ թվում՝
G16: ՀՀ առողջապահության նախարարություն | H16: =+H18 -> 0 | I16: =+I18 -> -708000 | J16: =+J18 -> 0
G17: այդ թվում՝
E18: 1099 | G18: Առողջության առաջնային պահպանում | H18: =+H20 -> 0 | I18: =+I20 -> -708000 | J18: =+J20 -> 0
G19: այդ թվում`
F20: 11001 | G20: Ըստ փաստացի կատարողականի փոխհատուցվող ամբուլատոր-պոլիկլինիկական բժշկական օգնության ծառայություններ | H20: =+H22 -> 0 | I20: =+I22 -> -708000 | J20: =+J22 -> 0
G21: այդ թվում` ըստ կատարողների
G22: ՀՀ առողջապահության նախարարություն | H22: =+H24 -> 0 | I22: =+I24 -> -708000 | J22: =+J24 -> 0
G23: այդ թվում` բյուջետային ծախսերի տնտեսագիտական դասակարգման հոդվածներ
G24: ԸՆԴԱՄԵՆԸ ԾԱԽՍԵՐ | H24: =+H25 -> 0 | I24: =+I25 -> -708000 | J24: =+J25 -> 0
G25: ԸՆԹԱՑԻԿ ԾԱԽՍԵՐ | H25: =H26 -> 0 | I25: =I26 -> -708000 | J25: =J26 -> 0
G26: ՍՈՑԻԱԼԱԿԱՆ ՆՊԱՍՏՆԵՐ ԵՎ ԿԵՆՍԱԹՈՇԱԿՆԵՐ | H26: =+H28 -> 0 | I26: =+I28 -> -708000 | J26: =+J28 -> 0
G27: Սոցիալական օգնության դրամական արտահայտությամբ նպաստներ (բյուջեից)
G28: - Այլ նպաստներ բյուջեից | H28: =+'2'!E18 -> 0 | I28: =+'2'!F18 -> -708000 | J28: =+'2'!G18 -> 0
D29: 02 | G29: Մասնագիտացված բժշկական ծառայություններ | H29: =+H31 -> 0 | I29: =+I31 -> 500000 | J29: =+J31 -> 500000
G30: այդ թվում՝
G31: ՀՀ առողջապահության նախարարություն | H31: =+H33 -> 0 | I31: =+I33 -> 500000 | J31: =+J33 -> 500000
G32: այդ թվում՝
E33: 1202 | G33: Ոչ վարակիչ հիվանդությունների բժշկական օգնության ապահովում | H33: =+H35 -> 0 | I33: =+I35 -> 500000 | J33: =+J35 -> 500000
G34: այդ թվում`
F35: 11001 | G35: Հեմոդիալիզի և պերիտոնիալ դիալիզի անցկացման ծառայություններ | H35: =+H37 -> 0 | I35: =+I37 -> 500000 | J35: =+J37 -> 500000
G36: այդ թվում` ըստ կատարողների
G37: ՀՀ առողջապահության նախարարություն | H37: =+H39 -> 0 | I37: =+I39 -> 500000 | J37: =+J39 -> 500000
G38: այդ թվում` բյուջետային ծախսերի տնտեսագիտական դասակարգման հոդվածներ
G39: ԸՆԴԱՄԵՆԸ ԾԱԽՍԵՐ | H39: =+H40 -> 0 | I39: =+I40 -> 500000 | J39: =+J40 -> 500000
G40: ԸՆԹԱՑԻԿ ԾԱԽՍԵՐ | H40: =H41 -> 0 | I40: =I41 -> 500000 | J40: =J41 -> 500000
...

Sheet 5
B1: Հավելված № 5
B2: ՀՀ կառավարության 2024 թվականի
B3: __________ «____» -ի
B4: N_____ -Ն որոշման
B5: ՀԱՅԱՍՏԱՆԻ ՀԱՆՐԱՊԵՏՈՒԹՅԱՆ ԿԱՌԱՎԱՐՈՒԹՅԱՆ 2023 ԹՎԱԿԱՆԻ ԴԵԿՏԵՄԲԵՐԻ 28-Ի № 2323-Ն ՈՐՈՇՄԱՆ № 5 ՀԱՎԵԼՎԱԾԻ № 2 ԱՂՅՈՒՍԱԿՈՒՄ ԿԱՏԱՐՎՈՂ ՓՈՓՈԽՈՒԹՅՈՒՆՆԵՐԸ
B6: (հազ. դրամ)
B7: Ծրագրային դասիչ | D7: Բյուջետային գլխավոր կարգադրիչների, ծրագրերի, միջոցառումների և ուղղությունների անվանումները | E7: Ցուցանիշների փոփոխությունները (ավելացումները նշված են դրական նշանով, իսկ նվազեցումները` փակագծերում)
B8: Ծրագիր | C8: Միջոցառում | E8: Առաջին կիսամյակ | F8: Ինն ամիս | G8: Տարի
D9: ՀՀ ԱՌՈՂՋԱՊԱՀՈՒԹՅԱՆ ՆԱԽԱՐԱՐՈՒԹՅՈՒՆ | E9: =+E11+E21 -> 0 | F9: =+F11+F21 -> -371658.4 | G9: =+G11+G21 -> -550000
B10: 1126 | D10: այդ թվում՛
C11: 31002 | D11: Առողջապահական կազմակերպությունների վերազինում | E11: =+E13 -> 0 | F11: =+F13 -> -371658.4 | G11: =+G13 -> -371658.4
D12: այդ թվում` ըստ կատարողների
D13: ՀՀ առողջապահության նախարարություն | E13: =+E15+E17+E19 -> 0 | F13: =+F15+F17+F19 -> -371658.4 | G13: =+G15+G17+G19 -> -371658.4
D14: այդ թվում`ըստ ուղղությունների
D15: ՀՀ Արագածոտնի մարզ | E15: =+E16 -> 0 | F15: =+F16 -> -91658.4 | G15: =+G16 -> -91658.4
D16: ՀՀ Արագածոտնի մարզի «Թալինի բժշկական կենտրոն» ՓԲԸ | F16: =+'3'!E14 -> -91658.4 | G16: =+F16 -> -91658.4
D17: ՀՀ Արարատի մարզ | E17: =+E18 -> 0 | F17: =+F18 -> -250000 | G17: =+G18 -> -250000
D18: ՀՀ Արարատի մարզի «Արտաշատի բժշկական կենտրոն» ՓԲԸ պոլիկլինիկա | E18: 0 | F18: =+'3'!E16 -> -250000 | G18: =+F18 -> -250000
D19: ՀՀ Սյունիքի մարզ | E19: =+E20 -> 0 | F19: =+F20 -> -30000 | G19: =+G20 -> -30000
D20: «Դատաբժշկական գիտագործնական կենտրոն» ՊՈԱԿ-ի Կապանի դիահերձարան | E20: 0 | F20: =+'3'!E18 -> -30000 | G20: =+F20 -> -30000
C21: 31003 | D21: Առողջապահական կազմակերպությունների կառուցում, վերակառուցում | E21: =+E23 -> 0 | F21: =+F23 -> 0 | G21: =+G23 -> -178341.6
D22: այդ թվում՝ ըստ կատարողների
D23: ՀՀ առողջապահության նախարարություն | E23: =+E25+E27 -> 0 | F23: =+F25+F27 -> 0 | G23: =+G25+G27 -> -178341.6
D24: այդ թվում`ըստ ուղղությունների
D25: ՀՀ Արմավիրի մարզ | E25: =+E26 -> 0 | F25: =+F26 -> 0 | G25: =+G26 -> -113994.4
D26: ՀՀ Արմավիրի մարզի «Զարիշատ(Արամ) Մարտինի Մկրտչյանի անվան Արմավիրի բժշկական կենտրոն» ՓԲԸ պոլիկլինիկա | E26: 0 | F26: 0 | G26: =+'3'!E22 -> -113994.4
D27: ՀՀ Շիրակի մարզ | E27: =+E28 -> 0 | F27: =+F28 -> 0 | G27: =+G28 -> -64347.2
D28: ՀՀ Շիրակի մարզի «Գյումրու թիվ 1 պոլիկլինիկա» ՓԲԸ | E28: 0 | F28: 0 | G28: =+'3'!E24 -> -64347.2

Sheet 6
B1: Հավելված № 6
B2: ՀՀ կառավարության 2024 թվականի
B3: __________ «____» -ի
B4: № ------------ -Ն որոշման
B5: ՀՀ Առողջապահության նախարարություն
B6: ՀԱՅԱՍՏԱՆԻ ՀԱՆՐԱՊԵՏՈՒԹՅԱՆ ԿԱՌԱՎԱՐՈՒԹՅԱՆ 2023 ԹՎԱԿԱՆԻ ԴԵԿՏԵՄԲԵՐԻ 28-Ի N 2323-Ն ՈՐՈՇՄԱՆ N 9 ՀԱՎԵԼՎԱԾԻ 9.8 ԱՂՅՈՒՍԱԿՈՒՄ ԿԱՏԱՐՎՈՂ ՓՈՓՈԽՈՒԹՅՈՒՆՆԵՐԸ
B7: ՄԱՍ 2. ՊԵՏԱԿԱՆ ՄԱՐՄՆԻ ԳԾՈՎ ԱՐԴՅՈՒՆՔԱՅԻՆ (ԿԱՏԱՐՈՂԱԿԱՆ) ՑՈՒՑԱՆԻՇՆԵՐԸ
B8: Ծրագրի դասիչը | C8: Ծրագրի անվանումը
B9: 1099 | C9: Առողջության առաջնային պահպանում
B10: Ծրագրի միջոցառումները
B11: Ծրագրի դասիչը` | C11: 1099 | D11: Ցուցանիշների փոփոխությունները (նվազեցումները նշված են փակագծերում)
B12: Միջոցառման դասիչը` | C12: 11001 | D12: Առաջին կիսամյակ | E12: Ինն ամիս | F12: Տարի
B13: Միջոցառման անվանումը` | C13: Ըստ փաստացի կատարողականի փոխհատուցվող ամբուլատոր-պոլիկլինիկական բժշկական օգնության ծառայություններ
B14: Նկարագրությունը` | C14: Հիվանդությունների կանխարգելում, հայտնաբերում, բուժում, նեղ մասնագիտացված ամբուլատոր ծառայություններ, լաբորատոր-գործիքային հետազոտություններ, զորակոչային և նախազորակոչային տարիքի անձանց բուժման և փորձաքննության ամբուլատոր ծառայություններ
B15: Միջոցառման տեսակը` | C15: Ծառայությունների մատուցում
B16: Ակտիվն օգտագործող կազմակերպության (ների) անվանում(ներ)ը | C16: ՀՀ գնումների մասին օրենսդրությանը համապատասխան ընտրված կազմակերպություններ
B17: Արդյունքի չափորոշիչներ
B18: Միջոցառման վրա կատարվող ծախսը (հազար դրամ) | D18: =+'2'!E18 -> 0 | E18: =+'2'!F18 -> -708000 | F18: =+'2'!G18 -> 0
B20: Ծրագրի դասիչը | C20: Ծրագրի անվանումը
B21: 1126 | C21: Առողջապահության ոլորտում պետական քաղաքականության մշակում, ծրագրերի համակարգում և մոնիտորինգ
B23: Ծրագրի միջոցառումները
B24: Ծրագրի դասիչը` | C24: 1126 | D24: Ցուցանիշների փոփոխությունները (նվազեցումները նշված են փակագծերում)
B25: Միջոցառման դասիչը` | C25: 31002 | D25: Առաջին կիսամյակ | E25: Ինն ամիս | F25: Տարի
B26: Միջոցառման անվանումը` | C26: Առողջապահական կազմակերպությունների վերազինում
B27: Նկարագրությունը` | C27: Բնակչությանը որակյալ բժշկական օգնության և սպասարկման ծառայություններ մատուցելու նպատակով՛ առողջապահական կազմակերպությունների անհրաժեշտ սարքավորումներով վերազինում
B28: Միջոցառման տեսակը` | C28: Պետական մարմինների կողմից օգտագործվող ոչ ֆինանսական ակտիվների հետ գործառնություններ
B29: Ակտիվն օգտագործող կազմակերպության (ների) անվանում(ներ)ը | C29: Բժշկական կազմակերպություններ
B30: Արդյունքի չափորոշիչներ
B31: Վերազինվող բուժհաստատությունների քանակ | F31: -2
B32: Միջոցառման վրա կատարվող ծախսը (հազար դրամ) | D32: =+'2'!E31 -> 0 | E32: =+'2'!F31 -> -371658.4 | F32: =+'2'!G31 -> -371658.4
B34: Ծրագրի դասիչը` | C34: 1126 | D34: Ցուցանիշների փոփոխությունները (նվազեցումները նշված են փակագծերում)
B35: Միջոցառման դասիչը` | C35: 31003 | D35: Առաջին կիսամյակ | E35: Ինն ամիս | F35: Տարի
B36: Միջոցառման անվանումը` | C36: Առողջապահական կազմակերպությունների կառուցում, վերակառուցում
B37: Նկարագրությունը` | C37: Բնակչությանը որակյալ բժշկական օգնության և սպասարկման ծառայություններ մատուցելու նպատակով առողջապահական կազմակերպությունների կառուցում, վերակառուցում
B38: Միջոցառման տեսակը` | C38: Պետական մարմինների կողմից օգտագործվող ոչ ֆինանսական ակտիվների հետ գործառնություններ
B39: Ակտիվն օգտագործող կազմակերպության (ների) անվանում(ներ)ը | C39: ՀՀ գնումների մասին օրենսդրությանը համապատասխան ընտրված կազմակերպություններ
B40: Արդյունքի չափորոշիչներ
B41: Կառուցվող այլ առողջապահական կազմակերպություններ, այդ թվում պոլիկլինիկաներ,թիվ | F41: -1
B42: Նոր կառուցվող կազմակերպությունների թիվ, հատ | F42: -1
B43: Միջոցառման վրա կատարվող ծախսը (հազար դրամ) | D43: =+'2'!E37 -> 0 | E43: =+'2'!F37 -> 0 | F43: =+'2'!G37 -> -178341.6
...

Sheet 7
B1: Հավելված № 7
B2: ՀՀ կառավարության 2024 թվականի
B3: __________ «____» -ի
B4: № ------------ -Ն որոշման
B5: ՀՀ առողջապահության նախարարություն
B6: ՀԱՅԱՍՏԱՆԻ ՀԱՆՐԱՊԵՏՈՒԹՅԱՆ ԿԱՌԱՎԱՐՈՒԹՅԱՆ 2023 ԹՎԱԿԱՆԻ ԴԵԿՏԵՄԲԵՐԻ 28-Ի N 2323-Ն ՈՐՈՇՄԱՆ N 9.1 ՀԱՎԵԼՎԱԾԻ 9.1.8 ԱՂՅՈՒՍԱԿՈՒՄ ԿԱՏԱՐՎՈՂ ՓՈՓՈԽՈՒԹՅՈՒՆՆԵՐԸ
B7: ՄԱՍ 1. ՊԵՏԱԿԱՆ ՄԱՐՄՆԻ ԳԾՈՎ ԱՐԴՅՈՒՆՔԱՅԻՆ (ԿԱՏԱՐՈՂԱԿԱՆ) ՑՈՒՑԱՆԻՇՆԵՐԸ
B8: Ծրագրի դասիչը | C8: Ծրագրի անվանումը
B9: 1099 | C9: Առողջության առաջնային պահպանում
B10: Ծրագրի միջոցառումները
B11: Ծրագրի դասիչը` | C11: 1099 | D11: Ցուցանիշների փոփոխությունները (նվազեցումները նշված են փակագծերում)
B12: Միջոցառման դասիչը` | C12: 11001 | D12: Առաջին կիսամյակ | E12: Ինն ամիս | F12: Տարի
B13: Միջոցառման անվանումը` | C13: Ըստ փաստացի կատարողականի փոխհատուցվող ամբուլատոր-պոլիկլինիկական բժշկական օգնության ծառայություններ
B14: Նկարագրությունը` | C14: Հիվանդությունների կանխարգելում, հայտնաբերում, բուժում, նեղ մասնագիտացված ամբուլատոր ծառայություններ, լաբորատոր-գործիքային հետազոտություններ, զորակոչային և նախազորակոչային տարիքի անձանց բուժման և փորձաքննության ամբուլատոր ծառայություններ
B15: Միջոցառման տեսակը` | C15: Ծառայությունների մատուցում
B16: Ակտիվն օգտագործող կազմակերպության (ների) անվանում(ներ)ը | C16: ՀՀ գնումների մասին օրենսդրությանը համապատասխան ընտրված կազմակերպություններ
B17: Արդյունքի չափորոշիչներ
B18: Միջոցառման վրա կատարվող ծախսը (հազար դրամ) | D18: =+'6'!D18 -> 0 | E18: =+'6'!E18 -> -708000 | F18: =+'6'!F18 -> 0
B20: Ծրագրի դասիչը | C20: Ծրագրի անվանումը
B21: 1126 | C21: Առողջապահության ոլորտում պետական քաղաքականության մշակում, ծրագրերի համակարգում և մոնիտորինգ
B22: Ծրագրի դասիչը` | C22: 1126 | D22: Ցուցանիշների փոփոխությունները (նվազեցումները նշված են փակագծերում)
B23: Միջոցառման դասիչը` | C23: 31002 | D23: Առաջին կիսամյակ | E23: Ինն ամիս | F23: Տարի
B24: Միջոցառման անվանումը` | C24: Առողջապահական կազմակերպությունների վերազինում
B25: Նկարագրությունը` | C25: Բնակչությանը որակյալ բժշկական օգնության և սպասարկման ծառայություններ մատուցելու նպատակով՛ առողջապահական կազմակերպությունների անհրաժեշտ սարքավորումներով վերազինում
B26: Միջոցառման տեսակը` | C26: Պետական մարմինների կողմից օգտագործվող ոչ ֆինանսական ակտիվների հետ գործառնություններ
B27: Ակտիվն օգտագործող կազմակերպության (ների) անվանում(ներ)ը | C27: Բժշկական կազմակերպություններ
B28: Արդյունքի չափորոշիչներ
B29: Վերազինվող բուժհաստատությունների քանակ | F29: -2
B30: Միջոցառման վրա կատարվող ծախսը (հազար դրամ) | D30: =+'6'!D32 -> 0 | E30: =+'6'!E32 -> -371658.4 | F30: =+'6'!F32 -> -371658.4
B32: Ծրագրի դասիչը` | C32: 1126 | D32: Ցուցանիշների փոփոխությունները (նվազեցումները նշված են փակագծերում)
B33: Միջոցառման դասիչը` | C33: 31003 | D33: Առաջին կիսամյակ | E33: Ինն ամիս | F33: Տարի
B34: Միջոցառման անվանումը` | C34: Առողջապահական կազմակերպությունների կառուցում, վերակառուցում
B35: Նկարագրությունը` | C35: Բնակչությանը որակյալ բժշկական օգնության և սպասարկման ծառայություններ մատուցելու նպատակով առողջապահական կազմակերպությունների կառուցում, վերակառուցում
B36: Միջոցառման տեսակը` | C36: Պետական մարմինների կողմից օգտագործվող ոչ ֆինանսական ակտիվների հետ գործառնություններ
B37: Ակտիվն օգտագործող կազմակերպության (ների) անվանում(ներ)ը | C37: ՀՀ գնումների մասին օրենսդրությանը համապատասխան ընտրված կազմակերպություններ
B38: Արդյունքի չափորոշիչներ
B39: Կառուցվող այլ առողջապահական կազմակերպություններ, այդ թվում պոլիկլինիկաներ,թիվ | F39: -1
B40: Նոր կառուցվող կազմակերպությունների թիվ, հատ | F40: -1
B41: Միջոցառման վրա կատարվող ծախսը (հազար դրամ) | D41: =+'6'!D43 -> 0 | E41: =+'6'!E43 -> 0 | F41: =+'6'!F43 -> -178341.6
B43: Ծրագրի դասիչը | C43: Ծրագրի անվանումը
...

Sheet 8
B1: Հավելված № 8
B2: ՀՀ կառավարության 2024 թվականի
B3: __________ «____» -ի
B4: N_____ -Ն որոշման
B5: ՀԱՅԱՍՏԱՆԻ ՀԱՆՐԱՊԵՏՈՒԹՅԱՆ ԿԱՌԱՎԱՐՈՒԹՅԱՆ 2024 ԹՎԱԿԱՆԻ ԴԵԿՏԵՄԲԵՐԻ 28-Ի № 2323-Ն ՈՐՈՇՄԱՆ № 10 ՀԱՎԵԼՎԱԾՈՒՄ ԿԱՏԱՐՎՈՂ ՓՈՓՈԽՈՒԹՅՈՒՆՆԵՐԸ
B6: Կոդը | C6: Անվանումը | F6: Գնման ձևը | G6: Չափման միավորը | H6: Միավորի գինը | I6: Քանակը | J6: Ցուցանիշների փոփոխությունները (նվազեցումները նշված են փակագծերում)
J7: Գումարը (հազար դրամով)
B8: ՀՀ առողջապահության նախարարություն | J8: =+J9+J16 -> -550000
B9: Բաժին N 07 | C9: Խումբ N 06 | D9: Դաս N 02 | E9: Առողջապահություն (այլ դասերին չպատկանող) | J9: =+J10 -> -371658.4
B10: 1126 31002 | C10: Առողջապահական կազմակերպությունների վերազինում | J10: =+J11 -> -371658.4
C11: ՄԱՍ I. Ա Պ Ր Ա Ն Ք Ն Ե Ր | J11: =+J12+J13+J14 -> -371658.4
B12: 33141174-7 | C12: բժշկական սարքերի հավաքածուներ | F12: ԷԱՃ | G12: հատ | H12: 250000000 | I12: -1 | J12: =+H12*I12/1000 -> -250000 | K12: Հվկակ Արտաշատ
B13: 33141174-8 | C13: բժշկական սարքերի հավաքածուներ | F13: ԷԱՃ | G13: հատ | H13: 381910000 | I13: -0.24 | J13: =+H13*I13/1000 -> -91658.4 | K13: Թալին
B14: 33911110-1 | C14: դիահերձման գործիքների հավաքածու | F14: գհ | G14: հատ | H14: 30000000 | I14: -1 | J14: =+H14*I14/1000 -> -30000 | K14: Կապան դիահ
B15: ՀՀ առողջապահության նախարարություն
B16: 1126 31003 | C16: Առողջապահական կազմակերպությունների կառուցում, վերակառուցում | J16: =+J17 -> -178341.6
C17: ՄԱՍ II. ԱՇԽԱՏԱՆՔՆԵՐ | J17: =+J18 -> -178341.6
B18: 45451700-7 | C18: վերակառուցման աշխատանքներ | F18: ԲՄ | G18: դրամ | J18: -178341.6
