Workbook
Name a: #REF!
Name a: #REF!
Name a: #REF!
Name a: #REF!
Name a: #REF!
Name AgencyCode: #REF!
Name AgencyCode: #REF!
Name AgencyCode: #REF!
Name AgencyCode: #REF!
Name AgencyCode: #REF!
Name AgencyCode: #REF!
Name AgencyCode: #REF!
Name AgencyName: #REF!
Name AgencyName: #REF!
Name AgencyName: #REF!
Name AgencyName: #REF!
Name AgencyName: #REF!
Name davit: #REF!
Name davit: #REF!
Name davit: #REF!
Name davit: #REF!
Name Functional1: #REF!
Name Functional1: #REF!
Name Functional1: #REF!
Name Functional1: #REF!
Name Functional1: #REF!
Name ggg: #REF!
Name ggg: #REF!
Name ggg: #REF!
Name ggg: #REF!
Name PANature: #REF!
Name PANature: #REF!
Name PANature: #REF!
Name PANature: #REF!
Name PANature: #REF!
Name PAType: #REF!
Name PAType: #REF!
Name PAType: #REF!
Name PAType: #REF!
Name PAType: #REF!
Name Performance2: #REF!
Name Performance2: #REF!
Name Performance2: #REF!
Name Performance2: #REF!
Name Performance2: #REF!
Name PerformanceType: #REF!
Name PerformanceType: #REF!
Name PerformanceType: #REF!
Name PerformanceType: #REF!
Name PerformanceType: #REF!
Name Հավելված: #REF!
Name Հավելված: #REF!
Name Հավելված: #REF!
Name Հավելված: #REF!
Name Հավելված10: #REF!
Name Հավելված10: #REF!
Name Հավելված11: #REF!
Name Հավելված11: #REF!
Name Հավելված20: #REF!
Name Հավելված20: #REF!

Sheet Հավելված N 1
C1: Հավելված N 1
C2: ՀՀ կառավարության 2024 թվականի
C3: ______________ ի ___Ն որոշման
A6: «ՀԱՅԱUՏԱՆԻ ՀԱՆՐԱՊԵՏՈՒԹՅԱՆ 2024 ԹՎԱԿԱՆԻ ՊԵՏԱԿԱՆ ԲՅՈՒՋԵԻ ՄԱUԻՆ» ՀԱՅԱUՏԱՆԻ ՀԱՆՐԱՊԵՏՈՒԹՅԱՆ OՐԵՆՔԻ N 1 ՀԱՎԵԼՎԱԾԻ N 2 ԱՂՅՈՒՍԱԿՈՒՄ ԿԱՏԱՐՎՈՂ ՎԵՐԱԲԱՇԽՈՒՄԸ ԵՎ ՀԱՅԱՍՏԱՆԻ ՀԱՆՐԱՊԵՏՈՒԹՅԱՆ ԿԱՌԱՎԱՐՈՒԹՅԱՆ 2023 ԹՎԱԿԱՆԻ ԴԵԿՏԵՄԲԵՐԻ 28-Ի N 2323-Ն ՈՐՈՇՄԱՆ N 5 ՀԱՎԵԼՎԱԾԻ N 1 ԱՂՅՈՒՍԱԿՈՒՄ ԿԱՏԱՐՎՈՂ ՓՈՓՈԽՈՒԹՅՈՒՆՆԵՐԸ ԵՎ ԼՐԱՑՈՒՄՆԵՐԸ
F9: հազ. դրամներով
A10: Ծրագրային դասիչը | C10: Բյուջետային հատկացումների գլխավոր կարգադրիչների, ծրագրերի և միջոցառումների անվանումները | D10: Ցուցանիշների փոփոխությունը (ավելացումները նշված են դրական նշանով)
A11: Ծրագիր | B11: Միջոցառում | D11: Առաջին կիսամյակ | E11: Ինն ամիս | F11: Տարի
A12: 1192 | C12: ԸՆԴԱՄԵՆԸ | D12: =+D14 -> 0 | E12: =+E14 -> 0 | F12: =+F14 -> 0
C13: այդ թվում
C14: ՀՀ ԿՐԹՈՒԹՅԱՆ, ԳԻՏՈՒԹՅԱՆ, ՄՇԱԿՈՒՅԹԻ ԵՎ ՍՊՈՐՏԻ ՆԱԽԱՐԱՐՈՒԹՅՈՒՆ | D14: =+D16+D35 -> 0 | E14: =+E16+E35 -> 0 | F14: =+F16+F35 -> 0
A15: 1045 | C15: Ծրագրի անվանումը`
C16: Նախնական (արհեստագործական) և միջին մասնագիտական կրթություն | D16: =+D23+D29 -> -11793 | E16: =+E23+E29 -> -17500 | F16: =+F23+F29 -> -17500
C17: Ծրագրի նպատակը`
C18: Աշխատաշուկայի արդի պահանջներին համապատասխան նախնական մասնագիտական (արհեստագործական) և միջին մասնագիտական կրթության որակավորում ունեցող մասնագետների պատրաստում, կրթության մատչելիության ապահովում:
C19: Վերջնական արդյունքի նկարագրությունը`
C20: Նախնական (արհեստագործական) և միջին մասնագիտական կրթության գրավչության բարձրացում, մատչելի և մրցունակ նախնական (արհեստագործական) և միջին մասնագիտական կրթության ապահովում
C21: Ծրագրի միջոցառումներ
B22: 32001 | C22: Միջոցառման անվանումը`
C23: Նախնական մասնագիտական (արհեստագործական) և միջին մասնագիտական ուսումնական հաստատությունների շենքային պայմանների բարելավում | D23: =+'Հավելված N 2'!G78 -> -11793 | E23: =+'Հավելված N 2'!H78 -> -17500 | F23: =+'Հավելված N 2'!I78 -> -62844.1
C24: Միջոցառման նկարագրությունը`
C25: ՆՄՄԿՈՒ հաստատությունների շենքերի հիմնանորոգման և նախագծման (շինարարական աշխատանքներ, ջեռուցման համակարգի ստեղծում, ներքին հարդարում, տարածքի բարեկարգում) աշխատանքների իրականացում
C26: Միջոցառման տեսակը
C27: Այլ պետական կազմակերպությունների կողմից օգտագործվող ոչ ֆինանսական ակտիվների հետ գործառնություններ
B28: 32005 | C28: Միջոցառման անվանումը`
C29: Նախնական մասնագիտական (արհեստագործական) և միջին մասնագիտական ուսումնական հաստատությունների շենքերի կառուցում | D29: =+'Հավելված N 2'!G94 -> 0 | E29: =+'Հավելված N 2'!H94 -> 0 | F29: =+'Հավելված N 2'!I94 -> 45344.1
C30: Միջոցառման նկարագրությունը`
C31: ՆՄՄԿՈՒ հաստատությունների շենքերի (մասնաշենքերի) կառուցման և նախագծման աշխատանքների իրականացում
C32: Միջոցառման տեսակը
C33: Այլ պետական կազմակերպությունների կողմից օգտագործվող ոչ ֆինանսական ակտիվների հետ գործառնություններ
A34: 1236 | C34: Ծրագրի անվանումը`
C35: Հանրակրթական և նախադպրոցական հաստատությունների հիմնում, կառուցում, բարելավում | D35: =+D42+D48+D54+D60 -> 11793 | E35: =+E42+E48+E54+E60 -> 17500 | F35: =+F42+F48+F54+F60 -> 17500
C36: Ծրագրի նպատակը`
C37: Առնվազն 300 դպրոցի և 500 մանկապարտեզի կառուցման, վերակառուցման, հիմնանորոգման ծրագրերի իրականացում ՀՀ պետական բյուջեի միջոցների շրջանակներում
C38: Վերջնական արդյունքի նկարագրությունը`
C39: Կրթական միջավայրի բարելավում
C40: Ծրագրի միջոցառումներ
B41: 32001 | C41: Միջոցառման անվանումը`
C42: Մանկապարտեզների նոր շենքերի կառուցում | D42: =+'Հավելված N 2'!G26 -> 0 | E42: =+'Հավելված N 2'!H26 -> 136268.8 | F42: =+'Հավելված N 2'!I26 -> 188679.8
C43: Միջոցառման նկարագրությունը`
C44: Նախադպրոցական կրթության հասանելիության ապահովման նպատակով՛ մանկապարտեզների հիմնում, նոր շենքերի (մասնաշենքերի), ներառյալ՛ ,Մոդուլայինե տիպի շենքերի կառուցում և նախագծում
...

Sheet Հավելված N 2
F1: Հավելված N 2
F2: ՀՀ կառավարության 2024 թվականի
F3: ______________ ի ___Ն որոշման
A7: ՀԱՅԱՍՏԱՆԻ ՀԱՆՐԱՊԵՏՈՒԹՅԱՆ ԿԱՌԱՎԱՐՈՒԹՅԱՆ 2023 ԹՎԱԿԱՆԻ ԴԵԿՏԵՄԲԵՐԻ 28-Ի N 2323-Ն ՈՐՈՇՄԱՆ N 3 ԵՎ N 4 ՀԱՎԵԼՎԱԾՆԵՐՈՒՄ ԿԱՏԱՐՎՈՂ ՓՈՓՈԽՈՒԹՅՈՒՆՆԵՐԸ ԵՎ ԼՐԱՑՈՒՄՆԵՐԸ
I10: հազ. դրամներով
A11: Գործառական դասիչը | D11: Ծրագրային դասիչը | F11: Բյուջետային հատկացումների գլխավոր կարգադրիչների, ծրագրերի, միջոցառումների և միջոցառումները կատարող պետական մարմինների անվանումները | G11: Ցուցանիշների փոփոխությունը (ավելացումները նշված են դրական նշանով, իսկ նվազեցումները փակագծերում)
A12: Բաժին | B12: Խումբ | C12: Դաս | D12: Ծրագիր | E12: Միջոցառում | G12: Առաջին կիսամյակ | H12: Ինն ամիս | I12: Տարի
F13: ԸՆԴԱՄԵՆԸ | G13: =+G15 -> 0 | H13: =+H15 -> 0 | I13: =+I15 -> 0
F14: այդ թվում՝
F15: ՀՀ ԿՐԹՈՒԹՅԱՆ, ԳԻՏՈՒԹՅԱՆ, ՄՇԱԿՈՒՅԹԻ ԵՎ ՍՊՈՐՏԻ ՆԱԽԱՐԱՐՈՒԹՅՈՒՆ | G15: =+G16 -> 0 | H15: =+H16 -> 0 | I15: =+I16 -> 0
A16: 09 | F16: ԿՐԹՈՒԹՅՈՒՆ | G16: =+G18+G44+G70 -> 0 | H16: =+H18+H44+H70 -> 0 | I16: =+I18+I44+I70 -> 0
F17: այդ թվում`
B18: 01 | F18: Նախադպրոցական և տարրական ընդհանուր կրթություն | G18: =+G20 -> -5707 | H18: =+H20 -> 0 | I18: =+I20 -> 0
F19: այդ թվում`
C20: 01 | F20: Նախադպրոցական կրթություն | G20: =+G22 -> -5707 | H20: =+H22 -> 0 | I20: =+I22 -> 0
F21: այդ թվում`
F22: ՀՀ կրթության, գիտության, մշակույթի և սպորտի նախարարություն | G22: =+G24 -> -5707 | H22: =+H24 -> 0 | I22: =+I24 -> 0
F23: այդ թվում`
D24: 1236 | E24: Հանրակրթական և նախադպրոցական հաստատությունների հիմնում, կառուցում, բարելավում | G24: =+G26+G35 -> -5707 | H24: =+H26+H35 -> 0 | I24: =+I26+I35 -> 0
F25: այդ թվում`
E26: 32001 | F26: Մանկապարտեզների նոր շենքերի կառուցում | G26: =+G28 -> 0 | H26: =+H28 -> 136268.8 | I26: =+I28 -> 188679.8
F27: այդ թվում` ըստ կատարողների
F28: ՀՀ քաղաքաշինության կոմիտե | G28: =+G30 -> 0 | H28: =+H30 -> 136268.8 | I28: =+I30 -> 188679.8
F29: այդ թվում՝ բյուջետային ծախսերի տնտեսագիտական դասակարգման հոդվածներ
F30: ԸՆԴԱՄԵՆԸ ԾԱԽՍԵՐ | G30: =G31 -> 0 | H30: =H31 -> 136268.8 | I30: =I31 -> 188679.8
F31: ՈՉ ՖԻՆԱՆՍԱԿԱՆ ԱԿՏԻՎՆԵՐԻ ԳԾՈՎ ԾԱԽՍԵՐ | G31: =+G32 -> 0 | H31: =+H32 -> 136268.8 | I31: =+I32 -> 188679.8
F32: ՀԻՄՆԱԿԱՆ ՄԻՋՈՑՆԵՐ | G32: =+G33 -> 0 | H32: =+H33 -> 136268.8 | I32: =+I33 -> 188679.8
F33: ՇԵՆՔԵՐ ԵՎ ՇԻՆՈՒԹՅՈՒՆՆԵՐ | G33: =+G34 -> 0 | H33: =+H34 -> 136268.8 | I33: =+I34 -> 188679.8
F34: - Շենքերի և շինությունների շինարարություն | G34: =+'Հավելված N 4'!E31 -> 0 | H34: =+'Հավելված N 4'!F31 -> 136268.8 | I34: =+'Հավելված N 4'!G31 -> 188679.8
E35: 32002 | F35: Մանկապարտեզների շենքերի վերակառուցում, հիմնանորոգում | G35: =+G37 -> -5707 | H35: =+H37 -> -136268.8 | I35: =+I37 -> -188679.8
F36: այդ թվում` ըստ կատարողների
F37: ՀՀ տարածքային կառավարման և ենթակառուցվածքների նախարարություն | G37: =+G39 -> -5707 | H37: =+H39 -> -136268.8 | I37: =+I39 -> -188679.8
F38: այդ թվում՝ բյուջետային ծախսերի տնտեսագիտական դասակարգման հոդվածներ
F39: ԸՆԴԱՄԵՆԸ ԾԱԽՍԵՐ | G39: =G40 -> -5707 | H39: =H40 -> -136268.8 | I39: =I40 -> -188679.8
F40: ՈՉ ՖԻՆԱՆՍԱԿԱՆ ԱԿՏԻՎՆԵՐԻ ԳԾՈՎ ԾԱԽՍԵՐ | G40: =+G41 -> -5707 | H40: =+H41 -> -136268.8 | I40: =+I41 -> -188679.8
F41: ՀԻՄՆԱԿԱՆ ՄԻՋՈՑՆԵՐ | G41: =+G42 -> -5707 | H41: =+H42 -> -136268.8 | I41: =+I42 -> -188679.8
F42: ՇԵՆՔԵՐ ԵՎ ՇԻՆՈՒԹՅՈՒՆՆԵՐ | G42: =+G43 -> -5707 | H42: =+H43 -> -136268.8 | I42: =+I43 -> -188679.8
F43: - Շենքերի և շինությունների կապիտալ վերանորոգում | G43: =+'Հավելված N 4'!E37 -> -5707 | H43: =+'Հավելված N 4'!F37 -> -136268.8 | I43: =+'Հավելված N 4'!G37 -> -188679.8
B44: 02 | F44: Միջնակարգ ընդհանուր կրթություն | G44: =+G46 -> 17500 | H44: =+H46 -> 17500 | I44: =+I46 -> 17500
F45: այդ թվում`
...

Sheet Հավելված N 3
F1: Հավելված N 3
F2: ՀՀ կառավարության 2024 թվականի
F3: ______________ ի ___Ն որոշման
A5: «ՀԱՅԱUՏԱՆԻ ՀԱՆՐԱՊԵՏՈՒԹՅԱՆ 2024 ԹՎԱԿԱՆԻ ՊԵՏԱԿԱՆ ԲՅՈՒՋԵԻ ՄԱUԻՆ» ՀԱՅԱUՏԱՆԻ ՀԱՆՐԱՊԵՏՈՒԹՅԱՆ OՐԵՆՔԻ N 1 ՀԱՎԵԼՎԱԾԻ N 3 ԱՂՅՈՒՍԱԿՈՒՄ ԿԱՏԱՐՎՈՂ ՓՈՓՈԽՈՒԹՅՈՒՆՆԵՐԸ ԵՎ ԼՐԱՑՈՒՄՆԵՐԸ
G8: հազ. դրամներով
A9: Ծրագրային դասիչ | C9: Բյուջետային գլխավոր կարգադրիչների, ծրագրերի, միջոցառումների, միջոցառումները կատարող պետական մարմինների և ուղղությունների անվանումները | D9: Ընդամենը | E9: Ցուցանիշների փոփոխությունը (ավելացումները նշված են դրական նշանով, իսկ նվազեցումները՝ փակագծերում)
A10: Ծրագիր | B10: Միջոցառում | E10: Կառուցման աշխատանքներ | F10: Վերակառուցման, վերանորոգման և վերականգնման աշխատանքներ | G10: Նախագծահե- տազոտական, գեոդեզիա- քարտեզագրա- կան աշխա- տանքներ | H10: Ոչ ֆինանսական այլ ակտիվների ձեռքբերում
C11: ԸՆԴԱՄԵՆԸ | D11: =SUM(E11:H11) -> 0 | E11: =+E13 -> 188679.8 | F11: =+F13 -> -206179.8 | G11: =+G13 -> 17500 | H11: =+H13 -> 0
C12: այդ թվում՝
C13: ՀՀ ԿՐԹՈՒԹՅԱՆ, ԳԻՏՈՒԹՅԱՆ, ՄՇԱԿՈՒՅԹԻ ԵՎ ՍՊՈՐՏԻ ՆԱԽԱՐԱՐՈՒԹՅՈՒՆ | D13: =SUM(E13:H13) -> 0 | E13: =+E15+E21+E25+E29+E32+E40 -> 188679.8 | F13: =+F15+F21+F25+F29+F32+F40 -> -206179.8 | G13: =+G15+G21+G25+G29+G32+G40 -> 17500 | H13: =+H15+H21+H25+H29+H32+H40 -> 0
C14: այդ թվում`
A15: 1045 | B15: 32001 | C15: Նախնական մասնագիտական (արհեստագործական) և միջին մասնագիտական ուսումնական հաստատությունների շենքային պայմանների բարելավում | D15: =SUM(E15:H15) -> -62844.1 | E15: =+E17+E19 -> 0 | F15: =+F17+F19 -> -17500 | G15: =+G17+G19 -> -45344.1 | H15: =+H17+H19 -> 0
C16: այդ թվում`
C17: ՀՀ Արմավիրի մարզ | D17: =SUM(E17:H17) -> -45344.1 | E17: =+E18 -> 0 | F17: =+F18 -> 0 | G17: =+G18 -> -45344.1 | H17: =+H18 -> 0
C18: «Արմավիրի տարածաշրջանային պետական քոլեջ» ՊՈԱԿ | D18: =+E18+F18+G18+H18 -> -45344.1 | G18: =+'Հավելված N 8'!I42+'Հավելված N 8'!I43 -> -45344.1
C19: ՀՀ Շիրակի մարզ | D19: =SUM(E19:H19) -> -17500 | E19: =+E20 -> 0 | F19: =+F20 -> -17500 | G19: =+G20 -> 0 | H19: =+H20 -> 0
C20: «Արթիկի պետական քոլեջ» ՊՈԱԿ | D20: =+E20+F20+G20+H20 -> -17500 | F20: =+'Հավելված N 8'!I17 -> -17500
A21: 1045 | B21: 32005 | C21: Նախնական մասնագիտական (արհեստագործական) և միջին մասնագիտական ուսումնական հաստատությունների շենքերի կառուցում | D21: =SUM(E21:H21) -> 45344.1 | E21: =+E23 -> 0 | F21: =+F23 -> 0 | G21: =+G23 -> 45344.1 | H21: =+H23 -> 0
C22: այդ թվում`
C23: ՀՀ Արմավիրի մարզ | D23: =SUM(E23:H23) -> 45344.1 | E23: =+E24 -> 0 | F23: =+F24 -> 0 | G23: =+G24 -> 45344.1 | H23: =+H24 -> 0
C24: «Արմավիրի տարածաշրջանային պետական քոլեջ» ՊՈԱԿ | D24: =+E24+F24+G24+H24 -> 45344.1 | G24: =+'Հավելված N 8'!I46+'Հավելված N 8'!I47 -> 45344.1
A25: 1236 | B25: 32001 | C25: Մանկապարտեզների նոր շենքերի կառուցում | D25: =SUM(E25:H25) -> 188679.8 | E25: =+E27 -> 188679.8 | F25: =+F27 -> 0 | G25: =+G27 -> 0 | H25: =+H27 -> 0
C26: այդ թվում`
C27: ՀՀ Արմավիրի մարզ | D27: =SUM(E27:H27) -> 188679.8 | E27: =+E28 -> 188679.8 | F27: =+F28 -> 0 | G27: =+G28 -> 0 | H27: =+H28 -> 0
C28: ՀՀ Արմավիրի մարզի Փշատավան համայնքում «Մոդուլային» տիպի 144 տեղ հզորությամբ մսուր-մանկապարտեզ | D28: =+E28+F28+G28+H28 -> 188679.8 | E28: =+'Հավելված N 8'!I23+'Հավելված N 8'!I25+'Հավելված N 8'!I26 -> 188679.8
A29: 1236 | B29: 32002 | C29: Մանկապարտեզների շենքերի վերակառուցում, հիմնանորոգում | D29: =SUM(E29:H29) -> -188679.8 | E29: =+E31 -> 0 | F29: =+F31 -> -188679.8 | G29: =+G31 -> 0 | H29: =+H31 -> 0
C30: այդ թվում`
C31: Մանկապարտեզների շենքերի վերակառուցում, հիմնանորոգում | D31: =SUM(E31:H31) -> -188679.8 | E31: 0 | F31: =-D28 -> -188679.8 | G31: 0 | H31: 0
A32: 1236 | B32: 32003 | C32: Հանրակրթական դպրոցների նոր շենքերի կառուցում | D32: =SUM(E32:H32) -> 7500 | E32: =+E34+E36+E38 -> 0 | F32: =+F34+F36+F38 -> 0 | G32: =+G34+G36+G38 -> 7500 | H32: =+H34+H36+H38 -> 0
C33: այդ թվում`
C34: ՀՀ Արարատի մարզ | D34: =SUM(E34:H34) -> 2500 | E34: =+E35 -> 0 | F34: =+F35 -> 0 | G34: =+G35 -> 2500 | H34: =+H35 -> 0
C35: «Նիզամիի միջնակարգ դպրոց» ՊՈԱԿ | D35: =+E35+F35+G35+H35 -> 2500 | G35: =+'Հավելված N 8'!I30 -> 2500
C36: ՀՀ Արմավիրի մարզ | D36: =SUM(E36:H36) -> 2500 | E36: =+E37 -> 0 | F36: =+F37 -> 0 | G36: =+G37 -> 2500 | H36: =+H37 -> 0
C37: «Հայկաշենի Գ. Կիրակոսյանի անվան միջնակարգ դպրոց» ՊՈԱԿ | D37: =+E37+F37+G37+H37 -> 2500 | G37: =+'Հավելված N 8'!I31 -> 2500
C38: ՀՀ Տավուշի մարզ | D38: =SUM(E38:H38) -> 2500 | E38: =+E39 -> 0 | F38: =+F39 -> 0 | G38: =+G39 -> 2500 | H38: =+H39 -> 0
C39: «Նավուրի միջնակարգ դպրոց» ՊՈԱԿ | D39: =+E39+F39+G39+H39 -> 2500 | G39: =+'Հավելված N 8'!I32 -> 2500
A40: 1236 | B40: 32005 | C40: Կրթահամալիրների կառուցում | D40: =SUM(E40:H40) -> 10000 | E40: =+E42+E44+E46+E48 -> 0 | F40: =+F42+F44+F46+F48 -> 0 | G40: =+G42+G44+G46+G48 -> 10000 | H40: =+H42+H44+H46+H48 -> 0
C41: այդ թվում`
C42: ՀՀ Արագածոտնի մարզ | D42: =SUM(E42:H42) -> 2500 | E42: =+E43 -> 0 | F42: =+F43 -> 0 | G42: =+G43 -> 2500 | H42: =+H43 -> 0
C43: գ․ Հացաշենի մոդուլային կրթահամալիր | D43: =+E43+F43+G43+H43 -> 2500 | G43: =+'Հավելված N 8'!I35 -> 2500
...

Sheet Հավելված N 4
F1: Հավելված N 4
E2: ՀՀ կառավարության 2024 թվականի
F3: ______________ ի ___Ն որոշման
B6: ՀԱՅԱՍՏԱՆԻ ՀԱՆՐԱՊԵՏՈՒԹՅԱՆ ԿԱՌԱՎԱՐՈՒԹՅԱՆ 2023 ԹՎԱԿԱՆԻ ԴԵԿՏԵՄԲԵՐԻ 28-Ի N 2323-Ն ՈՐՈՇՄԱՆ N 5 ՀԱՎԵԼՎԱԾԻ N 2 ԱՂՅՈՒՍԱԿՈՒՄ ԿԱՏԱՐՎՈՂ ՓՈՓՈԽՈՒԹՅՈՒՆՆԵՐԸ ԵՎ ԼՐԱՑՈՒՄՆԵՐԸ
G8: հազ. դրամներով
B9: Ծրագրային դասիչ | D9: Բյուջետային գլխավոր կարգադրիչների, ծրագրերի, միջոցառումների, միջոցառումները կատարող պետական մարմինների և ուղղությունների անվանումները | E9: Ցուցանիշների փոփոխությունը (ավելացումները նշված են դրական նշանով, իսկ նվազեցումները՝ փակագծերում)
B10: Ծրագիր | C10: Միջոցառում | E10: Առաջին կիսամյակ | F10: Ինն ամիս | G10: Տարի
D11: ՀՀ ԿՐԹՈՒԹՅԱՆ, ԳԻՏՈՒԹՅԱՆ, ՄՇԱԿՈՒՅԹԻ ԵՎ ՍՊՈՐՏԻ ՆԱԽԱՐԱՐՈՒԹՅՈՒՆ | E11: =+E13+E23+E29+E35+E38+E48 -> 0 | F11: =+F13+F23+F29+F35+F38+F48 -> 0 | G11: =+G13+G23+G29+G35+G38+G48 -> 0
D12: այդ թվում՝
B13: 1045 | C13: 32001 | D13: Նախնական մասնագիտական (արհեստագործական) և միջին մասնագիտական ուսումնական հաստատությունների շենքային պայմանների բարելավում | E13: =+E15+E19 -> -11793 | F13: =+F15+F19 -> -17500 | G13: =+G15+G19 -> -62844.1
D14: այդ թվում` ըստ կատարողների
D15: ՀՀ քաղաքաշինության կոմիտե | E15: =+E17 -> 0 | F15: =+F17 -> 0 | G15: =+G17 -> -45344.1
D16: այդ թվում՝ ըստ ուղղությունների
D17: ՀՀ Արմավիրի մարզ | E17: =SUM(E18:E18) -> 0 | F17: =SUM(F18:F18) -> 0 | G17: =SUM(G18:G18) -> -45344.1
D18: =+'Հավելված N 3'!C18 -> «Արմավիրի տարածաշրջանային պետական քոլեջ» ՊՈԱԿ | E18: 0 | F18: 0 | G18: =+'Հավելված N 3'!D18 -> -45344.1
D19: ՀՀ կրթության, գիտության, մշակույթի և սպորտի նախարարություն | E19: =+E21 -> -11793 | F19: =+F21 -> -17500 | G19: =+G21 -> -17500
D20: այդ թվում՝ ըստ ուղղությունների
D21: ՀՀ Շիրակի մարզ | E21: =SUM(E22:E22) -> -11793 | F21: =SUM(F22:F22) -> -17500 | G21: =SUM(G22:G22) -> -17500
D22: =+'Հավելված N 3'!C20 -> «Արթիկի պետական քոլեջ» ՊՈԱԿ | E22: -11793 | F22: =+G22 -> -17500 | G22: =+'Հավելված N 3'!D20 -> -17500
B23: 1045 | C23: 32005 | D23: Նախնական մասնագիտական (արհեստագործական) և միջին մասնագիտական ուսումնական հաստատությունների շենքերի կառուցում | E23: =+E25 -> 0 | F23: =+F25 -> 0 | G23: =+G25 -> 45344.1
D24: այդ թվում` ըստ կատարողների
D25: ՀՀ քաղաքաշինության կոմիտե | E25: =+E27 -> 0 | F25: =+F27 -> 0 | G25: =+G27 -> 45344.1
D26: այդ թվում՝ ըստ ուղղությունների
D27: ՀՀ Արմավիրի մարզ | E27: =SUM(E28:E28) -> 0 | F27: =SUM(F28:F28) -> 0 | G27: =SUM(G28:G28) -> 45344.1
D28: =+'Հավելված N 3'!C24 -> «Արմավիրի տարածաշրջանային պետական քոլեջ» ՊՈԱԿ | E28: 0 | F28: 0 | G28: =+'Հավելված N 3'!D24 -> 45344.1
B29: 1236 | C29: 32001 | D29: Մանկապարտեզների նոր շենքերի կառուցում | E29: =+E31 -> 0 | F29: =+F31 -> 136268.8 | G29: =+G31 -> 188679.8
D30: այդ թվում` ըստ կատարողների
D31: ՀՀ քաղաքաշինության կոմիտե | E31: =+E33 -> 0 | F31: =+F33 -> 136268.8 | G31: =+G33 -> 188679.8
D32: այդ թվում՝ ըստ ուղղությունների
D33: ՀՀ Արմավիրի մարզ | E33: =+E34 -> 0 | F33: =+F34 -> 136268.8 | G33: =+G34 -> 188679.8
D34: =+'Հավելված N 3'!C28 -> ՀՀ Արմավիրի մարզի Փշատավան համայնքում «Մոդուլային» տիպի 144 տեղ հզորությամբ մսուր-մանկապարտեզ | E34: 0 | F34: =130000+5595.6+673.2 -> 136268.8 | G34: =+'Հավելված N 3'!D28 -> 188679.8
B35: 1236 | C35: 32002 | D35: Մանկապարտեզների շենքերի վերակառուցում, հիմնանորոգում | E35: =+E37 -> -5707 | F35: =+F37 -> -136268.8 | G35: =+G37 -> -188679.8
D36: այդ թվում` ըստ կատարողների
D37: ՀՀ տարածքային կառավարման և ենթակառուցվածքների նախարարություն | E37: =-17500-E22 -> -5707 | F37: =-F34 -> -136268.8 | G37: =+'Հավելված N 3'!D31 -> -188679.8
B38: 1236 | C38: 32003 | D38: Հանրակրթական դպրոցների նոր շենքերի կառուցում | E38: =+E40 -> 7500 | F38: =+F40 -> 7500 | G38: =+G40 -> 7500
D39: այդ թվում` ըստ կատարողների
D40: ՀՀ քաղաքաշինության կոմիտե | E40: =+E42+E44+E46 -> 7500 | F40: =+F42+F44+F46 -> 7500 | G40: =+G42+G44+G46 -> 7500
D41: այդ թվում՝ ըստ ուղղությունների
D42: ՀՀ Արարատի մարզ | E42: =+E43 -> 2500 | F42: =+F43 -> 2500 | G42: =+G43 -> 2500
D43: =+'Հավելված N 3'!C35 -> «Նիզամիի միջնակարգ դպրոց» ՊՈԱԿ | E43: =+G43 -> 2500 | F43: =+G43 -> 2500 | G43: =+'Հավելված N 3'!D35 -> 2500
...

Sheet Հավելված N 5
C1: Հավելված N 5
C2: ՀՀ կառավարության 2024 թվականի
C3: ______________ ի ___Ն որոշման
B6: ՀԱՅԱՍՏԱՆԻ ՀԱՆՐԱՊԵՏՈՒԹՅԱՆ ԿԱՌԱՎԱՐՈՒԹՅԱՆ 2023 ԹՎԱԿԱՆԻ ԴԵԿՏԵՄԲԵՐԻ 28-Ի N 2323-Ն ՈՐՈՇՄԱՆ N 9 ՀԱՎԵԼՎԱԾԻ N 9.13 ԱՂՅՈՒՍԱԿՈՒՄ ԿԱՏԱՐՎՈՂ ՓՈՓՈԽՈՒԹՅՈՒՆՆԵՐԸ ԵՎ ԼՐԱՑՈՒՄՆԵՐԸ
A8: Աղյուսակ 9․13
C9: ՀՀ կրթության, գիտության, մշակույթի և սպորտի նախարարություն
B10: ՄԱՍ 2. ՊԵՏԱԿԱՆ ՄԱՐՄՆԻ ԳԾՈՎ ԱՐԴՅՈՒՆՔԱՅԻՆ (ԿԱՏԱՐՈՂԱԿԱՆ) ՑՈՒՑԱՆԻՇՆԵՐԸ
B13: Ծրագրի դասիչը | C13: Ծրագրի անվանումը
B14: 1045 | C14: Նախնական (արհեստագործական) և միջին մասնագիտական կրթություն
B16: Ծրագրի միջոցառումները
B17: Ծրագրի դասիչը՝ | C17: 1045 | D17: Ցուցանիշների փոփոխությունը (նվազեցումները նշված են փակագծերում)
B18: Միջոցառման դասիչը՝ | C18: 32001 | D18: Առաջին կիսամյակ | E18: Ինն ամիս | F18: Տարի
B19: Միջոցառման անվանումը` | C19: Նախնական մասնագիտական (արհեստագործական) և միջին մասնագիտական ուսումնական հաստատությունների շենքային պայմանների բարելավում
B20: Նկարագրությունը` | C20: ՆՄՄԿՈՒ հաստատությունների շենքերի հիմնանորոգման և նախագծման (շինարարական աշխատանքներ, ջեռուցման համակարգի ստեղծում, ներքին հարդարում, տարածքի բարեկարգում) աշխատանքների իրականացում
B21: Միջոցառման տեսակը` | C21: Այլ պետական կազմակերպությունների կողմից օգտագործվող ոչ ֆինանսական ակտիվների հետ գործառնություններ
B22: Ակտիվն օգտագործող կազմակերպությունների անվանումները | C22: Միջին մասնագիտական ուսումնական հաստատություններ
B23: Արդյունքի չափորոշիչներ
B24: Նախագծանախահաշվային փաստաթղթերի քանակ, հատ | F24: -1
B25: Միջոցառման վրա կատարվող ծախսը (հազար դրամ) | D25: =+'Հավելված N 1'!D23 -> -11793 | E25: =+'Հավելված N 1'!E23 -> -17500 | F25: =+'Հավելված N 1'!F23 -> -62844.1
B27: Ծրագրի միջոցառումները
B28: Ծրագրի դասիչը՝ | C28: 1045 | D28: Ցուցանիշների փոփոխությունը (ավելացումները նշված են դրական նշանով)
B29: Միջոցառման դասիչը՝ | C29: 32005 | D29: Առաջին կիսամյակ | E29: Ինն ամիս | F29: Տարի
B30: Միջոցառման անվանումը` | C30: Նախնական մասնագիտական (արհեստագործական) և միջին մասնագիտական ուսումնական հաստատությունների շենքերի կառուցում
B31: Նկարագրությունը` | C31: ՆՄՄԿՈՒ հաստատությունների շենքերի (մասնաշենքերի) կառուցման և նախագծման աշխատանքների իրականացում
B32: Միջոցառման տեսակը` | C32: Այլ պետական կազմակերպությունների կողմից օգտագործվող ոչ ֆինանսական ակտիվների հետ գործառնություններ
B33: Ակտիվն օգտագործող կազմակերպությունների անվանումները | C33: Նախնական մասնագիտական (արհեստագործական) և միջին մասնագիտական ուսումնական հաստատություններ
B34: Արդյունքի չափորոշիչներ
B35: Նախագծանախահաշվային փաստաթղթերի քանակ, հատ | F35: 1
B36: Միջոցառման վրա կատարվող ծախսը (հազար դրամ) | D36: =+'Հավելված N 1'!D29 -> 0 | E36: =+'Հավելված N 1'!E29 -> 0 | F36: =+'Հավելված N 1'!F29 -> 45344.1
B38: Ծրագրի դասիչը | C38: Ծրագրի անվանումը
B39: 1236 | C39: Հանրակրթական և նախադպրոցական հաստատությունների հիմնում, կառուցում, բարելավում
B41: Ծրագրի միջոցառումները
B42: Ծրագրի դասիչը՝ | C42: 1236 | D42: Ցուցանիշների փոփոխությունը (ավելացումները նշված են դրական նշանով)
B43: Միջոցառման դասիչը՝ | C43: 32001 | D43: Առաջին կիսամյակ | E43: Ինն ամիս | F43: Տարի
B44: Միջոցառման անվանումը` | C44: Մանկապարտեզների նոր շենքերի կառուցում
B45: Նկարագրությունը` | C45: Նախադպրոցական կրթության հասանելիության ապահովման նպատակով՛ մանկապարտեզների հիմնում, նոր շենքերի (մասնաշենքերի), ներառյալ՛ ,Մոդուլայինե տիպի շենքերի կառուցում և նախագծում
B46: Միջոցառման տեսակը` | C46: Այլ պետական կազմակերպությունների կողմից օգտագործվող ոչ ֆինանսական ակտիվների հետ գործառնություններ
B47: Ակտիվն օգտագործող կազմակերպությունների անվանումները | C47: Նախադպրոցական կրթությույն իրականացնող ուսումնական հաստատություններ
B48: Արդյունքի չափորոշիչներ
B49: Միջոցառման վրա կատարվող ծախսը (հազար դրամ) | D49: =+'Հավելված N 1'!D42 -> 0 | E49: =+'Հավելված N 1'!E42 -> 136268.8 | F49: =+'Հավելված N 1'!F42 -> 188679.8
...

Sheet Հավելված N 6
C1: Հավելված N 6
C2: ՀՀ կառավարության 2024 թվականի
C3: ______________ ի ___Ն որոշման
A6: ՀԱՅԱՍՏԱՆԻ ՀԱՆՐԱՊԵՏՈՒԹՅԱՆ ԿԱՌԱՎԱՐՈՒԹՅԱՆ 2023 ԹՎԱԿԱՆԻ ԴԵԿՏԵՄԲԵՐԻ 28-Ի N 2323-Ն ՈՐՈՇՄԱՆ N 8 ՀԱՎԵԼՎԱԾԻ ՑԱՆԿՈՒՄ ԿԱՏԱՐՎՈՂ ՓՈՓՈԽՈՒԹՅՈՒՆԸ
A9: Ծրագրային դասիչը | C9: Բյուջետային հատակացումների գլխավոր կարգադրիչներ, ծրագրերի, միջոցառումների անվանումները | D9: Ցուցանիշների փոփոխությունը (նվազեցումները նշված են փակագծերում)
A10: Ծրագիր | B10: Միջոցառում
C11: ԸՆԴԱՄԵՆԸ
C12: այդ թվում՝
A13: 1236 | C13: Հանրակրթական և նախադպրոցական հաստատությունների հիմնում, կառուցում, բարելավում
B14: 32002 | C14: Մանկապարտեզների շենքերի վերակառուցում, հիմնանորոգում | D14: =+'Հավելված N 4'!G37 -> -188679.8

Sheet Հավելված N 7
C1: Հավելված N 7
C2: ՀՀ կառավարության 2024 թվականի
C3: ______________ ի ___Ն որոշման
B6: ՀԱՅԱՍՏԱՆԻ ՀԱՆՐԱՊԵՏՈՒԹՅԱՆ ԿԱՌԱՎԱՐՈՒԹՅԱՆ 2023 ԹՎԱԿԱՆԻ ԴԵԿՏԵՄԲԵՐԻ 28-Ի N 2323-Ն ՈՐՈՇՄԱՆ N 9․1 ՀԱՎԵԼՎԱԾԻ N 9․1․7, 9.1.13 ԵՎ 9.1.39 ԱՂՅՈՒՍԱԿՆԵՐՈՒՄ ԿԱՏԱՐՎՈՂ ՓՈՓՈԽՈՒԹՅՈՒՆՆԵՐԸ ԵՎ ԼՐԱՑՈՒՄՆԵՐԸ
A9: Աղյուսակ 9․1.7
C10: ՀՀ տարածքային կառավարման և ենթակառուցվածքների նախարարություն
B11: ՄԱՍ 1. ՊԵՏԱԿԱՆ ՄԱՐՄՆԻ ԳԾՈՎ ԱՐԴՅՈՒՆՔԱՅԻՆ (ԿԱՏԱՐՈՂԱԿԱՆ) ՑՈՒՑԱՆԻՇՆԵՐԸ
B14: Ծրագրի դասիչը | C14: Ծրագրի անվանումը
B15: 1236 | C15: Հանրակրթական և նախադպրոցական հաստատությունների հիմնում, կառուցում, բարելավում
B17: Ծրագրի միջոցառումները
B18: Ծրագրի դասիչը՝ | C18: 1236 | D18: Ցուցանիշների փոփոխությունը (նվազեցումները նշված են փակագծերում)
B19: Միջոցառման դասիչը՝ | C19: 32002 | D19: Առաջին կիսամյակ | E19: Ինն ամիս | F19: Տարի
B20: Միջոցառման անվանումը` | C20: Մանկապարտեզների շենքերի վերակառուցում, հիմնանորոգում
B21: Նկարագրությունը` | C21: Նախադպրոցական կրթության հասանելիության ապահովման նպատակով՛ մանկապարտեզների շենքերի (մասնաշենքերի), վերակառուցում, հիմնանորոգում և նախագծում
B22: Միջոցառման տեսակը` | C22: Այլ պետական կազմակերպությունների կողմից օգտագործվող ոչ ֆինանսական ակտիվների հետ գործառնություններ
B23: Ակտիվն օգտագործող կազմակերպությունների անվանումները | C23: Նախադպրոցական կրթությույն իրականացնող ուսումնական հաստատություններ
B24: Արդյունքի չափորոշիչներ
B25: Միջոցառման վրա կատարվող ծախսը (հազար դրամ) | D25: =+'Հավելված N 2'!G37 -> -5707 | E25: =+'Հավելված N 2'!H37 -> -136268.8 | F25: =+'Հավելված N 2'!I37 -> -188679.8
A31: Աղյուսակ 9․1.13
C32: ՀՀ կրթության, գիտության, մշակույթի և սպորտի նախարարություն
B33: ՄԱՍ 1. ՊԵՏԱԿԱՆ ՄԱՐՄՆԻ ԳԾՈՎ ԱՐԴՅՈՒՆՔԱՅԻՆ (ԿԱՏԱՐՈՂԱԿԱՆ) ՑՈՒՑԱՆԻՇՆԵՐԸ
B36: Ծրագրի դասիչը | C36: Ծրագրի անվանումը
B37: 1045 | C37: Նախնական (արհեստագործական) և միջին մասնագիտական կրթություն
B39: Ծրագրի միջոցառումները
B40: Ծրագրի դասիչը՝ | C40: 1045 | D40: Ցուցանիշների փոփոխությունը (նվազեցումները նշված են փակագծերում)
B41: Միջոցառման դասիչը՝ | C41: 32001 | D41: Առաջին կիսամյակ | E41: Ինն ամիս | F41: Տարի
B42: Միջոցառման անվանումը` | C42: Նախնական մասնագիտական (արհեստագործական) և միջին մասնագիտական ուսումնական հաստատությունների շենքային պայմանների բարելավում
B43: Նկարագրությունը` | C43: ՆՄՄԿՈՒ հաստատությունների շենքերի հիմնանորոգման և նախագծման (շինարարական աշխատանքներ, ջեռուցման համակարգի ստեղծում, ներքին հարդարում, տարածքի բարեկարգում) աշխատանքների իրականացում
B44: Միջոցառման տեսակը` | C44: Այլ պետական կազմակերպությունների կողմից օգտագործվող ոչ ֆինանսական ակտիվների հետ գործառնություններ
B45: Ակտիվն օգտագործող կազմակերպությունների անվանումները | C45: Միջին մասնագիտական ուսումնական հաստատություններ
B46: Արդյունքի չափորոշիչներ
B47: Միջոցառման վրա կատարվող ծախսը (հազար դրամ) | D47: =+'Հավելված N 2'!G80 -> -11793 | E47: =+'Հավելված N 2'!H80 -> -17500 | F47: =+'Հավելված N 2'!I80 -> -17500
A53: Աղյուսակ 9․1.39
C54: ՀՀ քաղաքաշինության կոմիտե
B55: ՄԱՍ 1. ՊԵՏԱԿԱՆ ՄԱՐՄՆԻ ԳԾՈՎ ԱՐԴՅՈՒՆՔԱՅԻՆ (ԿԱՏԱՐՈՂԱԿԱՆ) ՑՈՒՑԱՆԻՇՆԵՐԸ
B58: Ծրագրի դասիչը | C58: Ծրագրի անվանումը
B59: 1045 | C59: Նախնական (արհեստագործական) և միջին մասնագիտական կրթություն
B61: Ծրագրի միջոցառումները
B62: Ծրագրի դասիչը՝ | C62: 1045 | D62: Ցուցանիշների փոփոխությունը (նվազեցումները նշված են փակագծերում)
B63: Միջոցառման դասիչը՝ | C63: 32001 | D63: Առաջին կիսամյակ | E63: Ինն ամիս | F63: Տարի
...

Sheet Հավելված N 8
H1: Հավելված N 8
H2: ՀՀ կառավարության 2024 թվականի
H3: ______________ ի ___Ն որոշման
A6: ՀԱՅԱՍՏԱՆԻ ՀԱՆՐԱՊԵՏՈՒԹՅԱՆ ԿԱՌԱՎԱՐՈՒԹՅԱՆ 2023 ԹՎԱԿԱՆԻ ԴԵԿՏԵՄԲԵՐԻ 28-Ի N 2323-Ն N 10 ՀԱՎԵԼՎԱԾՈՒՄ ԿԱՏԱՐՎՈՂ ՓՈՓՈԽՈՒԹՅՈՒՆԸ ԵՎ ԼՐԱՑՈՒՄՆԵՐԸ
A10: Կոդը | B10: Անվանումը | E10: Գնման ձևը | F10: Չափման միավորը | G10: Միավորի գինը | H10: Ցուցանիշների փոփոխությունը (ավելացումները նշված են դրական նշանով, իսկ նվազեցումները՝ փակագծերում)
H11: Քանակը | I11: Գումարը (հազար դրամ)
A12: 1 | B12: 2 | E12: 3 | F12: 4 | G12: 5 | H12: 6 | I12: 7
A13: ՀՀ կրթության, գիտության, մշակույթի և սպորտի նախարարություն | I13: =+I14 -> -17500
A14: Բաժին N 09 | B14: Խումբ N 06 | C14: Դաս N 01 | D14: Կրթությանը տրամադրվող օժանդակ ծառայություններ | I14: =+I15 -> -17500
A15: 1045-32001 | B15: Նախնական մասնագիտական (արհեստագործական) և միջին մասնագիտական ուսումնական հաստատությունների շենքային պայմանների բարելավում | I15: =+I16 -> -17500
B16: ՄԱՍ II. ԱՇԽԱՏԱՆՔՆԵՐ | I16: =+I17 -> -17500
A17: 45231129-3 | B17: ջեռուցման հետ կապված աշխատանքներ | E17: ԳՀ | F17: դրամ | I17: -17500
A19: ՀՀ քաղաքաշինության կոմիտե | I19: =+I20 -> 188679.8
A20: Բաժին N 09 | B20: Խումբ N 01 | C20: Դաս N 01 | D20: Նախադպրոցական կրթություն | I20: =+I21 -> 188679.8
A21: 1236-32001 | B21: Մանկապարտեզների նոր շենքերի կառուցում | I21: =+I22+I24 -> 188679.8
B22: ՄԱՍ II. ԱՇԽԱՏԱՆՔՆԵՐ | I22: =SUM(I23:I23) -> 180000
A23: 45221142-6 | B23: ընդհանուր շինարարական աշխատանքներ | E23: ԲՄ | F23: դրամ | I23: 180000
B24: ՄԱՍ III. ԾԱՌԱՅՈՒԹՅՈՒՆՆԵՐ | I24: =SUM(I25:I26) -> 8679.8
A25: 71351540-6 | B25: տեխնիկական հսկողության ծառայություններ | E25: ԳՀ | F25: դրամ | I25: 7747.7
A26: 98111140-6 | B26: հեղինակային հսկողության ծառայություններ | E26: ՄԱ | F26: դրամ | I26: 932.1
A27: Բաժին N 09 | B27: Խումբ N 02 | C27: Դաս N 01 | D27: Հիմնական ընդհանուր կրթություն | I27: =+I28+I33 -> 17500
A28: 1236-32003 | B28: Հանրակրթական դպրոցների նոր շենքերի կառուցում | I28: =+I29 -> 7500
B29: ՄԱՍ III. ԾԱՌԱՅՈՒԹՅՈՒՆՆԵՐ | I29: =SUM(I30:I32) -> 7500
A30: 71241200-75 | B30: նախագծերի պատրաստում, ծախսերի գնահատում | E30: ՄԱ | F30: դրամ | I30: 2500
A31: 71241200-76 | B31: նախագծերի պատրաստում, ծախսերի գնահատում | E31: ՄԱ | F31: դրամ | I31: 2500
A32: 71241200-77 | B32: նախագծերի պատրաստում, ծախսերի գնահատում | E32: ՄԱ | F32: դրամ | I32: 2500
A33: 1236-32005 | B33: Կրթահամալիրների կառուցում | I33: =+I34 -> 10000
B34: ՄԱՍ III. ԾԱՌԱՅՈՒԹՅՈՒՆՆԵՐ | I34: =SUM(I35:I38) -> 10000
A35: 71241200-71 | B35: նախագծերի պատրաստում, ծախսերի գնահատում | E35: ՄԱ | F35: դրամ | I35: 2500
A36: 71241200-72 | B36: նախագծերի պատրաստում, ծախսերի գնահատում | E36: ՄԱ | F36: դրամ | I36: 2500
A37: 71241200-73 | B37: նախագծերի պատրաստում, ծախսերի գնահատում | E37: ՄԱ | F37: դրամ | I37: 2500
A38: 71241200-74 | B38: նախագծերի պատրաստում, ծախսերի գնահատում | E38: ՄԱ | F38: դրամ | I38: 2500
A39: Բաժին N 09 | B39: Խումբ N 06 | C39: Դաս N 01 | D39: Կրթությանը տրամադրվող օժանդակ ծառայություններ | I39: =+I44+I40 -> 0
A40: 1045-32001 | B40: Նախնական մասնագիտական (արհեստագործական) և միջին մասնագիտական ուսումնական հաստատությունների շենքային պայմանների բարելավում | I40: =+I41 -> -45344.1
B41: ՄԱՍ III. ԾԱՌԱՅՈՒԹՅՈՒՆՆԵՐ | I41: =SUM(I42:I43) -> -45344.1
A42: 71241200-1 | B42: նախագծերի պատրաստում, ծախսերի գնահատում | E42: ԳՀ | F42: դրամ | G42: 43184900 | H42: -1 | I42: =+ROUND(G42*H42/1000,1) -> -43184.9
A43: 50531140-1 | B43: փորձաքննության ծառայություններ | E43: ԳՀ | F43: դրամ | G43: 2159200 | H43: -1 | I43: =+ROUND(G43*H43/1000,1) -> -2159.2
A44: 1045-32005 | B44: Նախնական մասնագիտական (արհեստագործական) և միջին մասնագիտական ուսումնական հաստատությունների շենքերի կառուցում | I44: =+I45 -> 45344.1
B45: ՄԱՍ III. ԾԱՌԱՅՈՒԹՅՈՒՆՆԵՐ | I45: =SUM(I46:I47) -> 45344.1
A46: 71241200 | B46: նախագծերի պատրաստում, ծախսերի գնահատում | E46: ԳՀ | F46: դրամ | G46: 43184900 | H46: 1 | I46: =+ROUND(G46*H46/1000,1) -> 43184.9
...
