Workbook
Name a: #REF!
Name a: #REF!
Name a: #REF!
Name a: #REF!
Name a: #REF!
Name AgencyCode: #REF!
Name AgencyCode: #REF!
Name AgencyCode: #REF!
Name AgencyCode: #REF!
Name AgencyCode: #REF!
Name AgencyCode: #REF!
Name AgencyCode: #REF!
Name AgencyName: #REF!
Name AgencyName: #REF!
Name AgencyName: #REF!
Name AgencyName: #REF!
Name AgencyName: #REF!
Name davit: #REF!
Name davit: #REF!
Name davit: #REF!
Name davit: #REF!
Name Functional1: #REF!
Name Functional1: #REF!
Name Functional1: #REF!
Name Functional1: #REF!
Name Functional1: #REF!
Name ggg: #REF!
Name ggg: #REF!
Name ggg: #REF!
Name ggg: #REF!
Name PANature: #REF!
Name PANature: #REF!
Name PANature: #REF!
Name PANature: #REF!
Name PANature: #REF!
Name PAType: #REF!
Name PAType: #REF!
Name PAType: #REF!
Name PAType: #REF!
Name PAType: #REF!
Name Performance2: #REF!
Name Performance2: #REF!
Name Performance2: #REF!
Name Performance2: #REF!
Name Performance2: #REF!
Name PerformanceType: #REF!
Name PerformanceType: #REF!
Name PerformanceType: #REF!
Name PerformanceType: #REF!
Name PerformanceType: #REF!
Name Հավելված: #REF!
Name Հավելված: #REF!
Name Հավելված: #REF!
Name Հավելված: #REF!
Name Հավելված10: #REF!
Name Հավելված10: #REF!
Name Հավելված11: #REF!
Name Հավելված11: #REF!
Name Հավելված20: #REF!
Name Հավելված20: #REF!

Sheet Հավելված N 1
C1: Հավելված N 1
C2: ՀՀ կառավարության 2024 թվականի
C3: ______________ ի ___Ն որոշման
A6: «ՀԱՅԱUՏԱՆԻ ՀԱՆՐԱՊԵՏՈՒԹՅԱՆ 2024 ԹՎԱԿԱՆԻ ՊԵՏԱԿԱՆ ԲՅՈՒՋԵԻ ՄԱUԻՆ» ՀԱՅԱUՏԱՆԻ ՀԱՆՐԱՊԵՏՈՒԹՅԱՆ OՐԵՆՔԻ N 1 ՀԱՎԵԼՎԱԾԻ N 2 ԱՂՅՈՒՍԱԿՈՒՄ ԿԱՏԱՐՎՈՂ ՎԵՐԱԲԱՇԽՈՒՄԸ ԵՎ ՀԱՅԱՍՏԱՆԻ ՀԱՆՐԱՊԵՏՈՒԹՅԱՆ ԿԱՌԱՎԱՐՈՒԹՅԱՆ 2023 ԹՎԱԿԱՆԻ ԴԵԿՏԵՄԲԵՐԻ 28-Ի N 2323-Ն ՈՐՈՇՄԱՆ N 5 ՀԱՎԵԼՎԱԾԻ N 1 ԱՂՅՈՒՍԱԿՈՒՄ ԿԱՏԱՐՎՈՂ ՓՈՓՈԽՈՒԹՅՈՒՆՆԵՐԸ ԵՎ ԼՐԱՑՈՒՄՆԵՐԸ
F9: հազ. դրամներով
A10: Ծրագրային դասիչը | C10: Բյուջետային հատկացումների գլխավոր կարգադրիչների, ծրագրերի և միջոցառումների անվանումները | D10: Ցուցանիշների փոփոխությունը (ավելացումները նշված են դրական նշանով)
A11: Ծրագիր | B11: Միջոցառում | D11: Առաջին կիսամյակ | E11: Ինն ամիս | F11: Տարի
A12: 1192 | C12: ԸՆԴԱՄԵՆԸ | D12: =+D14 -> 0 | E12: =+E14 -> 0 | F12: =+F14 -> 0
C13: այդ թվում
C14: ՀՀ ԿՐԹՈՒԹՅԱՆ, ԳԻՏՈՒԹՅԱՆ, ՄՇԱԿՈՒՅԹԻ ԵՎ ՍՊՈՐՏԻ ՆԱԽԱՐԱՐՈՒԹՅՈՒՆ | D14: =+D16+D35 -> 0 | E14: =+E16+E35 -> 0 | F14: =+F16+F35 -> 0
A15: 1045 | C15: Ծրագրի անվանումը`
C16: Նախնական (արհեստագործական) և միջին մասնագիտական կրթություն | D16: =+D23+D29 -> -11793 | E16: =+E23+E29 -> -17500 | F16: =+F23+F29 -> -17500
C17: Ծրագրի նպատակը`
C18: Աշխատաշուկայի արդի պահանջներին համապատասխան նախնական մասնագիտական (արհեստագործական) և միջին մասնագիտական կրթության որակավորում ունեցող մասնագետների պատրաստում, կրթության մատչելիության ապահովում:
C19: Վերջնական արդյունքի նկարագրությունը`
C20: Նախնական (արհեստագործական) և միջին մասնագիտական կրթության գրավչության բարձրացում, մատչելի և մրցունակ նախնական (արհեստագործական) և միջին մասնագիտական կրթության ապահովում
C21: Ծրագրի միջոցառումներ
B22: 32001 | C22: Միջոցառման անվանումը`
C23: Նախնական մասնագիտական (արհեստագործական) և միջին մասնագիտական ուսումնական հաստատությունների շենքային պայմանների բարելավում | D23: =+'Հավելված N 2'!G78 -> -11793 | E23: =+'Հավելված N 2'!H78 -> -17500 | F23: =+'Հավելված N 2'!I78 -> -62844.1
C24: Միջոցառման նկարագրությունը`
C25: ՆՄՄԿՈՒ հաստատությունների շենքերի հիմնանորոգման և նախագծման (շինարարական աշխատանքներ, ջեռուցման համակարգի ստեղծում, ներքին հարդարում, տարածքի բարեկարգում) աշխատանքների իրականացում
C26: Միջոցառման տեսակը
C27: Այլ պետական կազմակերպությունների կողմից օգտագործվող ոչ ֆինանսական ակտիվների հետ գործառնություններ
B28: 32005 | C28: Միջոցառման անվանումը`
C29: Նախնական մասնագիտական (արհեստագործական) և միջին մասնագիտական ուսումնական հաստատությունների շենքերի կառուցում | D29: =+'Հավելված N 2'!G94 -> 0 | E29: =+'Հավելված N 2'!H94 -> 0 | F29: =+'Հավելված N 2'!I94 -> 45344.1
C30: Միջոցառման նկարագրությունը`
C31: ՆՄՄԿՈՒ հաստատությունների շենքերի (մասնաշենքերի) կառուցման և նախագծման աշխատանքների իրականացում
C32: Միջոցառման տեսակը
C33: Այլ պետական կազմակերպությունների կողմից օգտագործվող ոչ ֆինանսական ակտիվների հետ գործառնություններ
A34: 1236 | C34: Ծրագրի անվանումը`
C35: Հանրակրթական և նախադպրոցական հաստատությունների հիմնում, կառուցում, բարելավում | D35: =+D42+D48+D54+D60 -> 11793 | E35: =+E42+E48+E54+E60 -> 17500 | F35: =+F42+F48+F54+F60 -> 17500
C36: Ծրագրի նպատակը`
C37: Առնվազն 300 դպրոցի և 500 մանկապարտեզի կառուցման, վերակառուցման, հիմնանորոգման ծրագրերի իրականացում ՀՀ պետական բյուջեի միջոցների շրջանակներում
C38: Վերջնական արդյունքի նկարագրությունը`
C39: Կրթական միջավայրի բարելավում
C40: Ծրագրի միջոցառումներ
B41: 32001 | C41: Միջոցառման անվանումը`
C42: Մանկապարտեզների նոր շենքերի կառուցում | D42: =+'Հավելված N 2'!G26 -> 0 | E42: =+'Հավելված N 2'!H26 -> 136268.8 | F42: =+'Հավելված N 2'!I26 -> 188679.8
C43: Միջոցառման նկարագրությունը`
C44: Նախադպրոցական կրթության հասանելիության ապահովման նպատակով՛ մանկապարտեզների հիմնում, նոր շենքերի (մասնաշենքերի), ներառյալ՛ ,Մոդուլայինե տիպի շենքերի կառուցում և նախագծում
C45: Միջոցառման տեսակը
C46: Այլ պետական կազմակերպությունների կողմից օգտագործվող ոչ ֆինանսական ակտիվների հետ գործառնություններ
B47: 32002 | C47: Միջոցառման անվանումը`
C48: Մանկապարտեզների շենքերի վերակառուցում, հիմնանորոգում | D48: =+'Հավելված N 2'!G35 -> -5707 | E48: =+'Հավելված N 2'!H35 -> -136268.8 | F48: =+'Հավելված N 2'!I35 -> -188679.8
C49: Միջոցառման նկարագրությունը`
C50: Նախադպրոցական կրթության հասանելիության ապահովման նպատակով՛ մանկապարտեզների շենքերի (մասնաշենքերի), վերակառուցում, հիմնանորոգում և նախագծում
C51: Միջոցառման տեսակը
C52: Այլ պետական կազմակերպությունների կողմից օգտագործվող ոչ ֆինանսական ակտիվների հետ գործառնություններ
B53: 32003 | C53: Միջոցառման անվանումը`
C54: Հանրակրթական դպրոցների նոր շենքերի կառուցում | D54: =+'Հավելված N 2'!G52 -> 7500 | E54: =+'Հավելված N 2'!H52 -> 7500 | F54: =+'Հավելված N 2'!I52 -> 7500
C55: Միջոցառման նկարագրությունը`
C56: ՀՀ մարզերում կրթական որակյալ ծառայությունների հասանելիության ապահովման ծրագրի շրջանակներում հանրակրթական և նախադպրոցական կրթության հասանելիության ապահովման նպատակով կրթական կենտրոնների կառուցում
C57: Միջոցառման տեսակը
C58: Այլ պետական կազմակերպությունների կողմից օգտագործվող ոչ ֆինանսական ակտիվների հետ գործառնություններ
B59: 32005 | C59: Միջոցառման անվանումը`
C60: Կրթահամալիրների կառուցում | D60: =+'Հավելված N 2'!G61 -> 10000 | E60: =+'Հավելված N 2'!H61 -> 10000 | F60: =+'Հավելված N 2'!I61 -> 10000
C61: Միջոցառման նկարագրությունը`
C62: ՀՀ մարզերում կրթական որակյալ ծառայությունների հասանելիության ապահովման ծրագրի շրջանակներում հանրակրթական և նախադպրոցական կրթության հասանելիության ապահովման նպատակով կրթական կենտրոնների կառուցում
C63: Միջոցառման տեսակը
C64: Այլ պետական կազմակերպությունների կողմից օգտագործվող ոչ ֆինանսական ակտիվների հետ գործառնություններ

Sheet Հավելված N 2
F1: Հավելված N 2
F2: ՀՀ կառավարության 2024 թվականի
F3: ______________ ի ___Ն որոշման
A7: ՀԱՅԱՍՏԱՆԻ ՀԱՆՐԱՊԵՏՈՒԹՅԱՆ ԿԱՌԱՎԱՐՈՒԹՅԱՆ 2023 ԹՎԱԿԱՆԻ ԴԵԿՏԵՄԲԵՐԻ 28-Ի N 2323-Ն ՈՐՈՇՄԱՆ N 3 ԵՎ N 4 ՀԱՎԵԼՎԱԾՆԵՐՈՒՄ ԿԱՏԱՐՎՈՂ ՓՈՓՈԽՈՒԹՅՈՒՆՆԵՐԸ ԵՎ ԼՐԱՑՈՒՄՆԵՐԸ
I10: հազ. դրամներով
A11: Գործառական դասիչը | D11: Ծրագրային դասիչը | F11: Բյուջետային հատկացումների գլխավոր կարգադրիչների, ծրագրերի, միջոցառումների և միջոցառումները կատարող պետական մարմինների անվանումները | G11: Ցուցանիշների փոփոխությունը (ավելացումները նշված են դրական նշանով, իսկ նվազեցումները փակագծերում)
A12: Բաժին | B12: Խումբ | C12: Դաս | D12: Ծրագիր | E12: Միջոցառում | G12: Առաջին կիսամյակ | H12: Ինն ամիս | I12: Տարի
F13: ԸՆԴԱՄԵՆԸ | G13: =+G15 -> 0 | H13: =+H15 -> 0 | I13: =+I15 -> 0
F14: այդ թվում՝
F15: ՀՀ ԿՐԹՈՒԹՅԱՆ, ԳԻՏՈՒԹՅԱՆ, ՄՇԱԿՈՒՅԹԻ ԵՎ ՍՊՈՐՏԻ ՆԱԽԱՐԱՐՈՒԹՅՈՒՆ | G15: =+G16 -> 0 | H15: =+H16 -> 0 | I15: =+I16 -> 0
A16: 09 | F16: ԿՐԹՈՒԹՅՈՒՆ | G16: =+G18+G44+G70 -> 0 | H16: =+H18+H44+H70 -> 0 | I16: =+I18+I44+I70 -> 0
F17: այդ թվում`
B18: 01 | F18: Նախադպրոցական և տարրական ընդհանուր կրթություն | G18: =+G20 -> -5707 | H18: =+H20 -> 0 | I18: =+I20 -> 0
F19: այդ թվում`
C20: 01 | F20: Նախադպրոցական կրթություն | G20: =+G22 -> -5707 | H20: =+H22 -> 0 | I20: =+I22 -> 0
F21: այդ թվում`
F22: ՀՀ կրթության, գիտության, մշակույթի և սպորտի նախարարություն | G22: =+G24 -> -5707 | H22: =+H24 -> 0 | I22: =+I24 -> 0
F23: այդ թվում`
D24: 1236 | E24: Հանրակրթական և նախադպրոցական հաստատությունների հիմնում, կառուցում, բարելավում | G24: =+G26+G35 -> -5707 | H24: =+H26+H35 -> 0 | I24: =+I26+I35 -> 0
F25: այդ թվում`
E26: 32001 | F26: Մանկապարտեզների նոր շենքերի կառուցում | G26: =+G28 -> 0 | H26: =+H28 -> 136268.8 | I26: =+I28 -> 188679.8
F27: այդ թվում` ըստ կատարողների
F28: ՀՀ քաղաքաշինության կոմիտե | G28: =+G30 -> 0 | H28: =+H30 -> 136268.8 | I28: =+I30 -> 188679.8
F29: այդ թվում՝ բյուջետային ծախսերի տնտեսագիտական դասակարգման հոդվածներ
F30: ԸՆԴԱՄԵՆԸ ԾԱԽՍԵՐ | G30: =G31 -> 0 | H30: =H31 -> 136268.8 | I30: =I31 -> 188679.8
F31: ՈՉ ՖԻՆԱՆՍԱԿԱՆ ԱԿՏԻՎՆԵՐԻ ԳԾՈՎ ԾԱԽՍԵՐ | G31: =+G32 -> 0 | H31: =+H32 -> 136268.8 | I31: =+I32 -> 188679.8
F32: ՀԻՄՆԱԿԱՆ ՄԻՋՈՑՆԵՐ | G32: =+G33 -> 0 | H32: =+H33 -> 136268.8 | I32: =+I33 -> 188679.8
F33: ՇԵՆՔԵՐ ԵՎ ՇԻՆՈՒԹՅՈՒՆՆԵՐ | G33: =+G34 -> 0 | H33: =+H34 -> 136268.8 | I33: =+I34 -> 188679.8
F34: - Շենքերի և շինությունների շինարարություն | G34: =+'Հավելված N 4'!E31 -> 0 | H34: =+'Հավելված N 4'!F31 -> 136268.8 | I34: =+'Հավելված N 4'!G31 -> 188679.8
E35: 32002 | F35: Մանկապարտեզների շենքերի վերակառուցում, հիմնանորոգում | G35: =+G37 -> -5707 | H35: =+H37 -> -136268.8 | I35: =+I37 -> -188679.8
F36: այդ թվում` ըստ կատարողների
F37: ՀՀ տարածքային կառավարման և ենթակառուցվածքների նախարարություն | G37: =+G39 -> -5707 | H37: =+H39 -> -136268.8 | I37: =+I39 -> -188679.8
F38: այդ թվում՝ բյուջետային ծախսերի տնտեսագիտական դասակարգման հոդվածներ
F39: ԸՆԴԱՄԵՆԸ ԾԱԽՍԵՐ | G39: =G40 -> -5707 | H39: =H40 -> -136268.8 | I39: =I40 -> -188679.8
F40: ՈՉ ՖԻՆԱՆՍԱԿԱՆ ԱԿՏԻՎՆԵՐԻ ԳԾՈՎ ԾԱԽՍԵՐ | G40: =+G41 -> -5707 | H40: =+H41 -> -136268.8 | I40: =+I41 -> -188679.8
F41: ՀԻՄՆԱԿԱՆ ՄԻՋՈՑՆԵՐ | G41: =+G42 -> -5707 | H41: =+H42 -> -136268.8 | I41: =+I42 -> -188679.8
F42: ՇԵՆՔԵՐ ԵՎ ՇԻՆՈՒԹՅՈՒՆՆԵՐ | G42: =+G43 -> -5707 | H42: =+H43 -> -136268.8 | I42: =+I43 -> -188679.8
F43: - Շենքերի և շինությունների կապիտալ վերանորոգում | G43: =+'Հավելված N 4'!E37 -> -5707 | H43: =+'Հավելված N 4'!F37 -> -136268.8 | I43: =+'Հավելված N 4'!G37 -> -188679.8
B44: 02 | F44: Միջնակարգ ընդհանուր կրթություն | G44: =+G46 -> 17500 | H44: =+H46 -> 17500 | I44: =+I46 -> 17500
F45: այդ թվում`
C46: 01 | F46: Հիմնական ընդհանուր կրթություն | G46: =+G48 -> 17500 | H46: =+H48 -> 17500 | I46: =+I48 -> 17500
F47: այդ թվում`
F48: ՀՀ կրթության, գիտության, մշակույթի և սպորտի նախարարություն | G48: =+G50 -> 17500 | H48: =+H50 -> 17500 | I48: =+I50 -> 17500
F49: այդ թվում`
D50: 1236 | E50: Հանրակրթական և նախադպրոցական հաստատությունների հիմնում, կառուցում, բարելավում | G50: =+G52+G61 -> 17500 | H50: =+H52+H61 -> 17500 | I50: =+I52+I61 -> 17500
F51: այդ թվում`
E52: 32003 | F52: Հանրակրթական դպրոցների նոր շենքերի կառուցում | G52: =+G54 -> 7500 | H52: =+H54 -> 7500 | I52: =+I54 -> 7500
F53: այդ թվում` ըստ կատարողների
F54: ՀՀ քաղաքաշինության կոմիտե | G54: =+G56 -> 7500 | H54: =+H56 -> 7500 | I54: =+I56 -> 7500
F55: այդ թվում՝ բյուջետային ծախսերի տնտեսագիտական դասակարգման հոդվածներ
F56: ԸՆԴԱՄԵՆԸ ԾԱԽՍԵՐ | G56: =G57 -> 7500 | H56: =H57 -> 7500 | I56: =I57 -> 7500
F57: ՈՉ ՖԻՆԱՆՍԱԿԱՆ ԱԿՏԻՎՆԵՐԻ ԳԾՈՎ ԾԱԽՍԵՐ | G57: =+G58 -> 7500 | H57: =+H58 -> 7500 | I57: =+I58 -> 7500
F58: ՀԻՄՆԱԿԱՆ ՄԻՋՈՑՆԵՐ | G58: =+G59 -> 7500 | H58: =+H59 -> 7500 | I58: =+I59 -> 7500
F59: ԱՅԼ ՀԻՄՆԱԿԱՆ ՄԻՋՈՑՆԵՐ | G59: =+G60 -> 7500 | H59: =+H60 -> 7500 | I59: =+I60 -> 7500
F60: – Նախագծահետազոտական ծախսեր | G60: =+'Հավելված N 4'!E40 -> 7500 | H60: =+'Հավելված N 4'!F40 -> 7500 | I60: =+'Հավելված N 4'!G40 -> 7500
E61: 32005 | F61: Կրթահամալիրների կառուցում | G61: =+G63 -> 10000 | H61: =+H63 -> 10000 | I61: =+I63 -> 10000
F62: այդ թվում` ըստ կատարողների
F63: ՀՀ քաղաքաշինության կոմիտե | G63: =+G65 -> 10000 | H63: =+H65 -> 10000 | I63: =+I65 -> 10000
F64: այդ թվում՝ բյուջետային ծախսերի տնտեսագիտական դասակարգման հոդվածներ
F65: ԸՆԴԱՄԵՆԸ ԾԱԽՍԵՐ | G65: =G66 -> 10000 | H65: =H66 -> 10000 | I65: =I66 -> 10000
F66: ՈՉ ՖԻՆԱՆՍԱԿԱՆ ԱԿՏԻՎՆԵՐԻ ԳԾՈՎ ԾԱԽՍԵՐ | G66: =+G67 -> 10000 | H66: =+H67 -> 10000 | I66: =+I67 -> 10000
F67: ՀԻՄՆԱԿԱՆ ՄԻՋՈՑՆԵՐ | G67: =+G68 -> 10000 | H67: =+H68 -> 10000 | I67: =+I68 -> 10000
F68: ԱՅԼ ՀԻՄՆԱԿԱՆ ՄԻՋՈՑՆԵՐ | G68: =+G69 -> 10000 | H68: =+H69 -> 10000 | I68: =+I69 -> 10000
F69: – Նախագծահետազոտական ծախսեր | G69: =+'Հավելված N 4'!E50 -> 10000 | H69: =+'Հավելված N 4'!F50 -> 10000 | I69: =+'Հավելված N 4'!G50 -> 10000
B70: 06 | F70: Կրթությանը տրամադրվող օժանդակ ծառայություններ | G70: =+G72 -> -11793 | H70: =+H72 -> -17500 | I70: =+I72 -> -17500
F71: այդ թվում`
C72: 01 | F72: Կրթությանը տրամադրվող օժանդակ ծառայություններ | G72: =+G74 -> -11793 | H72: =+H74 -> -17500 | I72: =+I74 -> -17500
F73: այդ թվում`
F74: ՀՀ կրթության, գիտության, մշակույթի և սպորտի նախարարություն | G74: =+G76 -> -11793 | H74: =+H76 -> -17500 | I74: =+I76 -> -17500
F75: այդ թվում`
D76: 1045 | E76: Նախնական (արհեստագործական) և միջին մասնագիտական կրթություն | G76: =+G78+G94 -> -11793 | H76: =+H78+H94 -> -17500 | I76: =+I78+I94 -> -17500
F77: այդ թվում`
E78: 32001 | F78: Նախնական մասնագիտական (արհեստագործական) և միջին մասնագիտական ուսումնական հաստատությունների շենքային պայմանների բարելավում | G78: =+G80+G87 -> -11793 | H78: =+H80+H87 -> -17500 | I78: =+I80+I87 -> -62844.1
F79: այդ թվում` ըստ կատարողների
F80: ՀՀ կրթության, գիտության, մշակույթի և սպորտի նախարարություն | G80: =+G82 -> -11793 | H80: =+H82 -> -17500 | I80: =+I82 -> -17500
F81: այդ թվում՝ բյուջետային ծախսերի տնտեսագիտական դասակարգման հոդվածներ
F82: ԸՆԴԱՄԵՆԸ ԾԱԽՍԵՐ | G82: =G83 -> -11793 | H82: =H83 -> -17500 | I82: =I83 -> -17500
F83: ՈՉ ՖԻՆԱՆՍԱԿԱՆ ԱԿՏԻՎՆԵՐԻ ԳԾՈՎ ԾԱԽՍԵՐ | G83: =+G84 -> -11793 | H83: =+H84 -> -17500 | I83: =+I84 -> -17500
F84: ՀԻՄՆԱԿԱՆ ՄԻՋՈՑՆԵՐ | G84: =+G85 -> -11793 | H84: =+H85 -> -17500 | I84: =+I85 -> -17500
F85: ՇԵՆՔԵՐ ԵՎ ՇԻՆՈՒԹՅՈՒՆՆԵՐ | G85: =+G86 -> -11793 | H85: =+H86 -> -17500 | I85: =+I86 -> -17500
F86: - Շենքերի և շինությունների կապիտալ վերանորոգում | G86: =+'Հավելված N 4'!E19 -> -11793 | H86: =+'Հավելված N 4'!F19 -> -17500 | I86: =+'Հավելված N 4'!G19 -> -17500
F87: ՀՀ քաղաքաշինության կոմիտե | G87: =+G89 -> 0 | H87: =+H89 -> 0 | I87: =+I89 -> -45344.1
F88: այդ թվում՝ բյուջետային ծախսերի տնտեսագիտական դասակարգման հոդվածներ
F89: ԸՆԴԱՄԵՆԸ ԾԱԽՍԵՐ | G89: =G90 -> 0 | H89: =H90 -> 0 | I89: =I90 -> -45344.1
F90: ՈՉ ՖԻՆԱՆՍԱԿԱՆ ԱԿՏԻՎՆԵՐԻ ԳԾՈՎ ԾԱԽՍԵՐ | G90: =+G91 -> 0 | H90: =+H91 -> 0 | I90: =+I91 -> -45344.1
F91: ՀԻՄՆԱԿԱՆ ՄԻՋՈՑՆԵՐ | G91: =+G92 -> 0 | H91: =+H92 -> 0 | I91: =+I92 -> -45344.1
F92: ԱՅԼ ՀԻՄՆԱԿԱՆ ՄԻՋՈՑՆԵՐ | G92: =+G93 -> 0 | H92: =+H93 -> 0 | I92: =+I93 -> -45344.1
F93: – Նախագծահետազոտական ծախսեր | G93: =+'Հավելված N 4'!E15 -> 0 | H93: =+'Հավելված N 4'!F15 -> 0 | I93: =+'Հավելված N 4'!G15 -> -45344.1
E94: 32005 | F94: Նախնական մասնագիտական (արհեստագործական) և միջին մասնագիտական ուսումնական հաստատությունների շենքերի կառուցում | G94: =+G96 -> 0 | H94: =+H96 -> 0 | I94: =+I96 -> 45344.1
F95: այդ թվում` ըստ կատարողների
F96: ՀՀ քաղաքաշինության կոմիտե | G96: =+G98 -> 0 | H96: =+H98 -> 0 | I96: =+I98 -> 45344.1
F97: այդ թվում՝ բյուջետային ծախսերի տնտեսագիտական դասակարգման հոդվածներ
F98: ԸՆԴԱՄԵՆԸ ԾԱԽՍԵՐ | G98: =G99 -> 0 | H98: =H99 -> 0 | I98: =I99 -> 45344.1
F99: ՈՉ ՖԻՆԱՆՍԱԿԱՆ ԱԿՏԻՎՆԵՐԻ ԳԾՈՎ ԾԱԽՍԵՐ | G99: =+G100 -> 0 | H99: =+H100 -> 0 | I99: =+I100 -> 45344.1
F100: ՀԻՄՆԱԿԱՆ ՄԻՋՈՑՆԵՐ | G100: =+G101 -> 0 | H100: =+H101 -> 0 | I100: =+I101 -> 45344.1
F101: ԱՅԼ ՀԻՄՆԱԿԱՆ ՄԻՋՈՑՆԵՐ | G101: =+G102 -> 0 | H101: =+H102 -> 0 | I101: =+I102 -> 45344.1
F102: – Նախագծահետազոտական ծախսեր | G102: =+'Հավելված N 4'!E25 -> 0 | H102: =+'Հավելված N 4'!F25 -> 0 | I102: =+'Հավելված N 4'!G25 -> 45344.1

Sheet Հավելված N 3
F1: Հավելված N 3
F2: ՀՀ կառավարության 2024 թվականի
F3: ______________ ի ___Ն որոշման
A5: «ՀԱՅԱUՏԱՆԻ ՀԱՆՐԱՊԵՏՈՒԹՅԱՆ 2024 ԹՎԱԿԱՆԻ ՊԵՏԱԿԱՆ ԲՅՈՒՋԵԻ ՄԱUԻՆ» ՀԱՅԱUՏԱՆԻ ՀԱՆՐԱՊԵՏՈՒԹՅԱՆ OՐԵՆՔԻ N 1 ՀԱՎԵԼՎԱԾԻ N 3 ԱՂՅՈՒՍԱԿՈՒՄ ԿԱՏԱՐՎՈՂ ՓՈՓՈԽՈՒԹՅՈՒՆՆԵՐԸ ԵՎ ԼՐԱՑՈՒՄՆԵՐԸ
G8: հազ. դրամներով
A9: Ծրագրային դասիչ | C9: Բյուջետային գլխավոր կարգադրիչների, ծրագրերի, միջոցառումների, միջոցառումները կատարող պետական մարմինների և ուղղությունների անվանումները | D9: Ընդամենը | E9: Ցուցանիշների փոփոխությունը (ավելացումները նշված են դրական նշանով, իսկ նվազեցումները՝ փակագծերում)
A10: Ծրագիր | B10: Միջոցառում | E10: Կառուցման աշխատանքներ | F10: Վերակառուցման, վերանորոգման և վերականգնման աշխատանքներ | G10: Նախագծահե- տազոտական, գեոդեզիա- քարտեզագրա- կան աշխա- տանքներ | H10: Ոչ ֆինանսական այլ ակտիվների ձեռքբերում
C11: ԸՆԴԱՄԵՆԸ | D11: =SUM(E11:H11) -> 0 | E11: =+E13 -> 188679.8 | F11: =+F13 -> -206179.8 | G11: =+G13 -> 17500 | H11: =+H13 -> 0
C12: այդ թվում՝
C13: ՀՀ ԿՐԹՈՒԹՅԱՆ, ԳԻՏՈՒԹՅԱՆ, ՄՇԱԿՈՒՅԹԻ ԵՎ ՍՊՈՐՏԻ ՆԱԽԱՐԱՐՈՒԹՅՈՒՆ | D13: =SUM(E13:H13) -> 0 | E13: =+E15+E21+E25+E29+E32+E40 -> 188679.8 | F13: =+F15+F21+F25+F29+F32+F40 -> -206179.8 | G13: =+G15+G21+G25+G29+G32+G40 -> 17500 | H13: =+H15+H21+H25+H29+H32+H40 -> 0
C14: այդ թվում`
A15: 1045 | B15: 32001 | C15: Նախնական մասնագիտական (արհեստագործական) և միջին մասնագիտական ուսումնական հաստատությունների շենքային պայմանների բարելավում | D15: =SUM(E15:H15) -> -62844.1 | E15: =+E17+E19 -> 0 | F15: =+F17+F19 -> -17500 | G15: =+G17+G19 -> -45344.1 | H15: =+H17+H19 -> 0
C16: այդ թվում`
C17: ՀՀ Արմավիրի մարզ | D17: =SUM(E17:H17) -> -45344.1 | E17: =+E18 -> 0 | F17: =+F18 -> 0 | G17: =+G18 -> -45344.1 | H17: =+H18 -> 0
C18: «Արմավիրի տարածաշրջանային պետական քոլեջ» ՊՈԱԿ | D18: =+E18+F18+G18+H18 -> -45344.1 | G18: =+'Հավելված N 8'!I42+'Հավելված N 8'!I43 -> -45344.1
C19: ՀՀ Շիրակի մարզ | D19: =SUM(E19:H19) -> -17500 | E19: =+E20 -> 0 | F19: =+F20 -> -17500 | G19: =+G20 -> 0 | H19: =+H20 -> 0
C20: «Արթիկի պետական քոլեջ» ՊՈԱԿ | D20: =+E20+F20+G20+H20 -> -17500 | F20: =+'Հավելված N 8'!I17 -> -17500
A21: 1045 | B21: 32005 | C21: Նախնական մասնագիտական (արհեստագործական) և միջին մասնագիտական ուսումնական հաստատությունների շենքերի կառուցում | D21: =SUM(E21:H21) -> 45344.1 | E21: =+E23 -> 0 | F21: =+F23 -> 0 | G21: =+G23 -> 45344.1 | H21: =+H23 -> 0
C22: այդ թվում`
C23: ՀՀ Արմավիրի մարզ | D23: =SUM(E23:H23) -> 45344.1 | E23: =+E24 -> 0 | F23: =+F24 -> 0 | G23: =+G24 -> 45344.1 | H23: =+H24 -> 0
C24: «Արմավիրի տարածաշրջանային պետական քոլեջ» ՊՈԱԿ | D24: =+E24+F24+G24+H24 -> 45344.1 | G24: =+'Հավելված N 8'!I46+'Հավելված N 8'!I47 -> 45344.1
A25: 1236 | B25: 32001 | C25: Մանկապարտեզների նոր շենքերի կառուցում | D25: =SUM(E25:H25) -> 188679.8 | E25: =+E27 -> 188679.8 | F25: =+F27 -> 0 | G25: =+G27 -> 0 | H25: =+H27 -> 0
C26: այդ թվում`
C27: ՀՀ Արմավիրի մարզ | D27: =SUM(E27:H27) -> 188679.8 | E27: =+E28 -> 188679.8 | F27: =+F28 -> 0 | G27: =+G28 -> 0 | H27: =+H28 -> 0
C28: ՀՀ Արմավիրի մարզի Փշատավան համայնքում «Մոդուլային» տիպի 144 տեղ հզորությամբ մսուր-մանկապարտեզ | D28: =+E28+F28+G28+H28 -> 188679.8 | E28: =+'Հավելված N 8'!I23+'Հավելված N 8'!I25+'Հավելված N 8'!I26 -> 188679.8
A29: 1236 | B29: 32002 | C29: Մանկապարտեզների շենքերի վերակառուցում, հիմնանորոգում | D29: =SUM(E29:H29) -> -188679.8 | E29: =+E31 -> 0 | F29: =+F31 -> -188679.8 | G29: =+G31 -> 0 | H29: =+H31 -> 0
C30: այդ թվում`
C31: Մանկապարտեզների շենքերի վերակառուցում, հիմնանորոգում | D31: =SUM(E31:H31) -> -188679.8 | E31: 0 | F31: =-D28 -> -188679.8 | G31: 0 | H31: 0
A32: 1236 | B32: 32003 | C32: Հանրակրթական դպրոցների նոր շենքերի կառուցում | D32: =SUM(E32:H32) -> 7500 | E32: =+E34+E36+E38 -> 0 | F32: =+F34+F36+F38 -> 0 | G32: =+G34+G36+G38 -> 7500 | H32: =+H34+H36+H38 -> 0
C33: այդ թվում`
C34: ՀՀ Արարատի մարզ | D34: =SUM(E34:H34) -> 2500 | E34: =+E35 -> 0 | F34: =+F35 -> 0 | G34: =+G35 -> 2500 | H34: =+H35 -> 0
C35: «Նիզամիի միջնակարգ դպրոց» ՊՈԱԿ | D35: =+E35+F35+G35+H35 -> 2500 | G35: =+'Հավելված N 8'!I30 -> 2500
C36: ՀՀ Արմավիրի մարզ | D36: =SUM(E36:H36) -> 2500 | E36: =+E37 -> 0 | F36: =+F37 -> 0 | G36: =+G37 -> 2500 | H36: =+H37 -> 0
C37: «Հայկաշենի Գ. Կիրակոսյանի անվան միջնակարգ դպրոց» ՊՈԱԿ | D37: =+E37+F37+G37+H37 -> 2500 | G37: =+'Հավելված N 8'!I31 -> 2500
C38: ՀՀ Տավուշի մարզ | D38: =SUM(E38:H38) -> 2500 | E38: =+E39 -> 0 | F38: =+F39 -> 0 | G38: =+G39 -> 2500 | H38: =+H39 -> 0
C39: «Նավուրի միջնակարգ դպրոց» ՊՈԱԿ | D39: =+E39+F39+G39+H39 -> 2500 | G39: =+'Հավելված N 8'!I32 -> 2500
A40: 1236 | B40: 32005 | C40: Կրթահամալիրների կառուցում | D40: =SUM(E40:H40) -> 10000 | E40: =+E42+E44+E46+E48 -> 0 | F40: =+F42+F44+F46+F48 -> 0 | G40: =+G42+G44+G46+G48 -> 10000 | H40: =+H42+H44+H46+H48 -> 0
C41: այդ թվում`
C42: ՀՀ Արագածոտնի մարզ | D42: =SUM(E42:H42) -> 2500 | E42: =+E43 -> 0 | F42: =+F43 -> 0 | G42: =+G43 -> 2500 | H42: =+H43 -> 0
C43: գ․ Հացաշենի մոդուլային կրթահամալիր | D43: =+E43+F43+G43+H43 -> 2500 | G43: =+'Հավելված N 8'!I35 -> 2500
C44: ՀՀ Գեղարքունիքի մարզ | D44: =SUM(E44:H44) -> 2500 | E44: =+E45 -> 0 | F44: =+F45 -> 0 | G44: =+G45 -> 2500 | H44: =+H45 -> 0
C45: գ․ Արփունքի մոդուլային կրթահամալիր | D45: =+E45+F45+G45+H45 -> 2500 | G45: =+'Հավելված N 8'!I36 -> 2500
C46: ՀՀ Կոտայքի մարզ | D46: =SUM(E46:H46) -> 2500 | E46: =+E47 -> 0 | F46: =+F47 -> 0 | G46: =+G47 -> 2500 | H46: =+H47 -> 0
C47: գ․ Նուռնուսի մոդուլային կրթահամալիր | D47: =+E47+F47+G47+H47 -> 2500 | G47: =+'Հավելված N 8'!I37 -> 2500
C48: ՀՀ Վայոց Ձորի մարզ | D48: =SUM(E48:H48) -> 2500 | E48: =+E49 -> 0 | F48: =+F49 -> 0 | G48: =+G49 -> 2500 | H48: =+H49 -> 0
C49: գ․ Գողթանիկի մոդուլային կրթահամալիր | D49: =+E49+F49+G49+H49 -> 2500 | G49: =+'Հավելված N 8'!I38 -> 2500

Sheet Հավելված N 4
F1: Հավելված N 4
E2: ՀՀ կառավարության 2024 թվականի
F3: ______________ ի ___Ն որոշման
B6: ՀԱՅԱՍՏԱՆԻ ՀԱՆՐԱՊԵՏՈՒԹՅԱՆ ԿԱՌԱՎԱՐՈՒԹՅԱՆ 2023 ԹՎԱԿԱՆԻ ԴԵԿՏԵՄԲԵՐԻ 28-Ի N 2323-Ն ՈՐՈՇՄԱՆ N 5 ՀԱՎԵԼՎԱԾԻ N 2 ԱՂՅՈՒՍԱԿՈՒՄ ԿԱՏԱՐՎՈՂ ՓՈՓՈԽՈՒԹՅՈՒՆՆԵՐԸ ԵՎ ԼՐԱՑՈՒՄՆԵՐԸ
G8: հազ. դրամներով
B9: Ծրագրային դասիչ | D9: Բյուջետային գլխավոր կարգադրիչների, ծրագրերի, միջոցառումների, միջոցառումները կատարող պետական մարմինների և ուղղությունների անվանումները | E9: Ցուցանիշների փոփոխությունը (ավելացումները նշված են դրական նշանով, իսկ նվազեցումները՝ փակագծերում)
B10: Ծրագիր | C10: Միջոցառում | E10: Առաջին կիսամյակ | F10: Ինն ամիս | G10: Տարի
D11: ՀՀ ԿՐԹՈՒԹՅԱՆ, ԳԻՏՈՒԹՅԱՆ, ՄՇԱԿՈՒՅԹԻ ԵՎ ՍՊՈՐՏԻ ՆԱԽԱՐԱՐՈՒԹՅՈՒՆ | E11: =+E13+E23+E29+E35+E38+E48 -> 0 | F11: =+F13+F23+F29+F35+F38+F48 -> 0 | G11: =+G13+G23+G29+G35+G38+G48 -> 0
D12: այդ թվում՝
B13: 1045 | C13: 32001 | D13: Նախնական մասնագիտական (արհեստագործական) և միջին մասնագիտական ուսումնական հաստատությունների շենքային պայմանների բարելավում | E13: =+E15+E19 -> -11793 | F13: =+F15+F19 -> -17500 | G13: =+G15+G19 -> -62844.1
D14: այդ թվում` ըստ կատարողների
D15: ՀՀ քաղաքաշինության կոմիտե | E15: =+E17 -> 0 | F15: =+F17 -> 0 | G15: =+G17 -> -45344.1
D16: այդ թվում՝ ըստ ուղղությունների
D17: ՀՀ Արմավիրի մարզ | E17: =SUM(E18:E18) -> 0 | F17: =SUM(F18:F18) -> 0 | G17: =SUM(G18:G18) -> -45344.1
D18: =+'Հավելված N 3'!C18 -> «Արմավիրի տարածաշրջանային պետական քոլեջ» ՊՈԱԿ | E18: 0 | F18: 0 | G18: =+'Հավելված N 3'!D18 -> -45344.1
D19: ՀՀ կրթության, գիտության, մշակույթի և սպորտի նախարարություն | E19: =+E21 -> -11793 | F19: =+F21 -> -17500 | G19: =+G21 -> -17500
D20: այդ թվում՝ ըստ ուղղությունների
D21: ՀՀ Շիրակի մարզ | E21: =SUM(E22:E22) -> -11793 | F21: =SUM(F22:F22) -> -17500 | G21: =SUM(G22:G22) -> -17500
D22: =+'Հավելված N 3'!C20 -> «Արթիկի պետական քոլեջ» ՊՈԱԿ | E22: -11793 | F22: =+G22 -> -17500 | G22: =+'Հավելված N 3'!D20 -> -17500
B23: 1045 | C23: 32005 | D23: Նախնական մասնագիտական (արհեստագործական) և միջին մասնագիտական ուսումնական հաստատությունների շենքերի կառուցում | E23: =+E25 -> 0 | F23: =+F25 -> 0 | G23: =+G25 -> 45344.1
D24: այդ թվում` ըստ կատարողների
D25: ՀՀ քաղաքաշինության կոմիտե | E25: =+E27 -> 0 | F25: =+F27 -> 0 | G25: =+G27 -> 45344.1
D26: այդ թվում՝ ըստ ուղղությունների
D27: ՀՀ Արմավիրի մարզ | E27: =SUM(E28:E28) -> 0 | F27: =SUM(F28:F28) -> 0 | G27: =SUM(G28:G28) -> 45344.1
D28: =+'Հավելված N 3'!C24 -> «Արմավիրի տարածաշրջանային պետական քոլեջ» ՊՈԱԿ | E28: 0 | F28: 0 | G28: =+'Հավելված N 3'!D24 -> 45344.1
B29: 1236 | C29: 32001 | D29: Մանկապարտեզների նոր շենքերի կառուցում | E29: =+E31 -> 0 | F29: =+F31 -> 136268.8 | G29: =+G31 -> 188679.8
D30: այդ թվում` ըստ կատարողների
D31: ՀՀ քաղաքաշինության կոմիտե | E31: =+E33 -> 0 | F31: =+F33 -> 136268.8 | G31: =+G33 -> 188679.8
D32: այդ թվում՝ ըստ ուղղությունների
D33: ՀՀ Արմավիրի մարզ | E33: =+E34 -> 0 | F33: =+F34 -> 136268.8 | G33: =+G34 -> 188679.8
D34: =+'Հավելված N 3'!C28 -> ՀՀ Արմավիրի մարզի Փշատավան համայնքում «Մոդուլային» տիպի 144 տեղ հզորությամբ մսուր-մանկապարտեզ | E34: 0 | F34: =130000+5595.6+673.2 -> 136268.8 | G34: =+'Հավելված N 3'!D28 -> 188679.8
B35: 1236 | C35: 32002 | D35: Մանկապարտեզների շենքերի վերակառուցում, հիմնանորոգում | E35: =+E37 -> -5707 | F35: =+F37 -> -136268.8 | G35: =+G37 -> -188679.8
D36: այդ թվում` ըստ կատարողների
D37: ՀՀ տարածքային կառավարման և ենթակառուցվածքների նախարարություն | E37: =-17500-E22 -> -5707 | F37: =-F34 -> -136268.8 | G37: =+'Հավելված N 3'!D31 -> -188679.8
B38: 1236 | C38: 32003 | D38: Հանրակրթական դպրոցների նոր շենքերի կառուցում | E38: =+E40 -> 7500 | F38: =+F40 -> 7500 | G38: =+G40 -> 7500
D39: այդ թվում` ըստ կատարողների
D40: ՀՀ քաղաքաշինության կոմիտե | E40: =+E42+E44+E46 -> 7500 | F40: =+F42+F44+F46 -> 7500 | G40: =+G42+G44+G46 -> 7500
D41: այդ թվում՝ ըստ ուղղությունների
D42: ՀՀ Արարատի մարզ | E42: =+E43 -> 2500 | F42: =+F43 -> 2500 | G42: =+G43 -> 2500
D43: =+'Հավելված N 3'!C35 -> «Նիզամիի միջնակարգ դպրոց» ՊՈԱԿ | E43: =+G43 -> 2500 | F43: =+G43 -> 2500 | G43: =+'Հավելված N 3'!D35 -> 2500
D44: ՀՀ Արմավիրի մարզ | E44: =+E45 -> 2500 | F44: =+F45 -> 2500 | G44: =+G45 -> 2500
D45: =+'Հավելված N 3'!C37 -> «Հայկաշենի Գ. Կիրակոսյանի անվան միջնակարգ դպրոց» ՊՈԱԿ | E45: =+G45 -> 2500 | F45: =+G45 -> 2500 | G45: =+'Հավելված N 3'!D37 -> 2500
D46: ՀՀ Տավուշի մարզ | E46: =+E47 -> 2500 | F46: =+F47 -> 2500 | G46: =+G47 -> 2500
D47: =+'Հավելված N 3'!C39 -> «Նավուրի միջնակարգ դպրոց» ՊՈԱԿ | E47: =+G47 -> 2500 | F47: =+G47 -> 2500 | G47: =+'Հավելված N 3'!D39 -> 2500
B48: 1236 | C48: 32005 | D48: Կրթահամալիրների կառուցում | E48: =+E50 -> 10000 | F48: =+F50 -> 10000 | G48: =+G50 -> 10000
D49: այդ թվում` ըստ կատարողների
D50: ՀՀ քաղաքաշինության կոմիտե | E50: =+E52+E54+E56+E58 -> 10000 | F50: =+F52+F54+F56+F58 -> 10000 | G50: =+G52+G54+G56+G58 -> 10000
D51: այդ թվում՝ ըստ ուղղությունների
D52: ՀՀ Արագածոտնի մարզ | E52: =+E53 -> 2500 | F52: =+F53 -> 2500 | G52: =+G53 -> 2500
D53: =+'Հավելված N 3'!C43 -> գ․ Հացաշենի մոդուլային կրթահամալիր | E53: =+F53 -> 2500 | F53: =+G53 -> 2500 | G53: =+'Հավելված N 3'!D43 -> 2500
D54: ՀՀ Գեղարքունիքի մարզ | E54: =+E55 -> 2500 | F54: =+F55 -> 2500 | G54: =+G55 -> 2500
D55: =+'Հավելված N 3'!C45 -> գ․ Արփունքի մոդուլային կրթահամալիր | E55: =+F55 -> 2500 | F55: =+G55 -> 2500 | G55: =+'Հավելված N 3'!D45 -> 2500
D56: ՀՀ Կոտայքի մարզ | E56: =+E57 -> 2500 | F56: =+F57 -> 2500 | G56: =+G57 -> 2500
D57: =+'Հավելված N 3'!C47 -> գ․ Նուռնուսի մոդուլային կրթահամալիր | E57: =+F57 -> 2500 | F57: =+G57 -> 2500 | G57: =+'Հավելված N 3'!D47 -> 2500
D58: ՀՀ Վայոց Ձորի մարզ | E58: =+E59 -> 2500 | F58: =+F59 -> 2500 | G58: =+G59 -> 2500
D59: =+'Հավելված N 3'!C49 -> գ․ Գողթանիկի մոդուլային կրթահամալիր | E59: =+F59 -> 2500 | F59: =+G59 -> 2500 | G59: =+'Հավելված N 3'!D49 -> 2500

Sheet Հավելված N 5
C1: Հավելված N 5
C2: ՀՀ կառավարության 2024 թվականի
C3: ______________ ի ___Ն որոշման
B6: ՀԱՅԱՍՏԱՆԻ ՀԱՆՐԱՊԵՏՈՒԹՅԱՆ ԿԱՌԱՎԱՐՈՒԹՅԱՆ 2023 ԹՎԱԿԱՆԻ ԴԵԿՏԵՄԲԵՐԻ 28-Ի N 2323-Ն ՈՐՈՇՄԱՆ N 9 ՀԱՎԵԼՎԱԾԻ N 9.13 ԱՂՅՈՒՍԱԿՈՒՄ ԿԱՏԱՐՎՈՂ ՓՈՓՈԽՈՒԹՅՈՒՆՆԵՐԸ ԵՎ ԼՐԱՑՈՒՄՆԵՐԸ
A8: Աղյուսակ 9․13
C9: ՀՀ կրթության, գիտության, մշակույթի և սպորտի նախարարություն
B10: ՄԱՍ 2. ՊԵՏԱԿԱՆ ՄԱՐՄՆԻ ԳԾՈՎ ԱՐԴՅՈՒՆՔԱՅԻՆ (ԿԱՏԱՐՈՂԱԿԱՆ) ՑՈՒՑԱՆԻՇՆԵՐԸ
B13: Ծրագրի դասիչը | C13: Ծրագրի անվանումը
B14: 1045 | C14: Նախնական (արհեստագործական) և միջին մասնագիտական կրթություն
B16: Ծրագրի միջոցառումները
B17: Ծրագրի դասիչը՝ | C17: 1045 | D17: Ցուցանիշների փոփոխությունը (նվազեցումները նշված են փակագծերում)
B18: Միջոցառման դասիչը՝ | C18: 32001 | D18: Առաջին կիսամյակ | E18: Ինն ամիս | F18: Տարի
B19: Միջոցառման անվանումը` | C19: Նախնական մասնագիտական (արհեստագործական) և միջին մասնագիտական ուսումնական հաստատությունների շենքային պայմանների բարելավում
B20: Նկարագրությունը` | C20: ՆՄՄԿՈՒ հաստատությունների շենքերի հիմնանորոգման և նախագծման (շինարարական աշխատանքներ, ջեռուցման համակարգի ստեղծում, ներքին հարդարում, տարածքի բարեկարգում) աշխատանքների իրականացում
B21: Միջոցառման տեսակը` | C21: Այլ պետական կազմակերպությունների կողմից օգտագործվող ոչ ֆինանսական ակտիվների հետ գործառնություններ
B22: Ակտիվն օգտագործող կազմակերպությունների անվանումները | C22: Միջին մասնագիտական ուսումնական հաստատություններ
B23: Արդյունքի չափորոշիչներ
B24: Նախագծանախահաշվային փաստաթղթերի քանակ, հատ | F24: -1
B25: Միջոցառման վրա կատարվող ծախսը (հազար դրամ) | D25: =+'Հավելված N 1'!D23 -> -11793 | E25: =+'Հավելված N 1'!E23 -> -17500 | F25: =+'Հավելված N 1'!F23 -> -62844.1
B27: Ծրագրի միջոցառումները
B28: Ծրագրի դասիչը՝ | C28: 1045 | D28: Ցուցանիշների փոփոխությունը (ավելացումները նշված են դրական նշանով)
B29: Միջոցառման դասիչը՝ | C29: 32005 | D29: Առաջին կիսամյակ | E29: Ինն ամիս | F29: Տարի
B30: Միջոցառման անվանումը` | C30: Նախնական մասնագիտական (արհեստագործական) և միջին մասնագիտական ուսումնական հաստատությունների շենքերի կառուցում
B31: Նկարագրությունը` | C31: ՆՄՄԿՈՒ հաստատությունների շենքերի (մասնաշենքերի) կառուցման և նախագծման աշխատանքների իրականացում
B32: Միջոցառման տեսակը` | C32: Այլ պետական կազմակերպությունների կողմից օգտագործվող ոչ ֆինանսական ակտիվների հետ գործառնություններ
B33: Ակտիվն օգտագործող կազմակերպությունների անվանումները | C33: Նախնական մասնագիտական (արհեստագործական) և միջին մասնագիտական ուսումնական հաստատություններ
B34: Արդյունքի չափորոշիչներ
B35: Նախագծանախահաշվային փաստաթղթերի քանակ, հատ | F35: 1
B36: Միջոցառման վրա կատարվող ծախսը (հազար դրամ) | D36: =+'Հավելված N 1'!D29 -> 0 | E36: =+'Հավելված N 1'!E29 -> 0 | F36: =+'Հավելված N 1'!F29 -> 45344.1
B38: Ծրագրի դասիչը | C38: Ծրագրի անվանումը
B39: 1236 | C39: Հանրակրթական և նախադպրոցական հաստատությունների հիմնում, կառուցում, բարելավում
B41: Ծրագրի միջոցառումները
B42: Ծրագրի դասիչը՝ | C42: 1236 | D42: Ցուցանիշների փոփոխությունը (ավելացումները նշված են դրական նշանով)
B43: Միջոցառման դասիչը՝ | C43: 32001 | D43: Առաջին կիսամյակ | E43: Ինն ամիս | F43: Տարի
B44: Միջոցառման անվանումը` | C44: Մանկապարտեզների նոր շենքերի կառուցում
B45: Նկարագրությունը` | C45: Նախադպրոցական կրթության հասանելիության ապահովման նպատակով՛ մանկապարտեզների հիմնում, նոր շենքերի (մասնաշենքերի), ներառյալ՛ ,Մոդուլայինե տիպի շենքերի կառուցում և նախագծում
B46: Միջոցառման տեսակը` | C46: Այլ պետական կազմակերպությունների կողմից օգտագործվող ոչ ֆինանսական ակտիվների հետ գործառնություններ
B47: Ակտիվն օգտագործող կազմակերպությունների անվանումները | C47: Նախադպրոցական կրթությույն իրականացնող ուսումնական հաստատություններ
B48: Արդյունքի չափորոշիչներ
B49: Միջոցառման վրա կատարվող ծախսը (հազար դրամ) | D49: =+'Հավելված N 1'!D42 -> 0 | E49: =+'Հավելված N 1'!E42 -> 136268.8 | F49: =+'Հավելված N 1'!F42 -> 188679.8
B51: Ծրագրի միջոցառումները
B52: Ծրագրի դասիչը՝ | C52: 1236 | D52: Ցուցանիշների փոփոխությունը (նվազեցումները նշված են փակագծերում)
B53: Միջոցառման դասիչը՝ | C53: 32002 | D53: Առաջին կիսամյակ | E53: Ինն ամիս | F53: Տարի
B54: Միջոցառման անվանումը` | C54: Մանկապարտեզների շենքերի վերակառուցում, հիմնանորոգում
B55: Նկարագրությունը` | C55: Նախադպրոցական կրթության հասանելիության ապահովման նպատակով՛ մանկապարտեզների շենքերի (մասնաշենքերի), վերակառուցում, հիմնանորոգում և նախագծում
B56: Միջոցառման տեսակը` | C56: Այլ պետական կազմակերպությունների կողմից օգտագործվող ոչ ֆինանսական ակտիվների հետ գործառնություններ
B57: Ակտիվն օգտագործող կազմակերպությունների անվանումները | C57: Նախադպրոցական կրթությույն իրականացնող ուսումնական հաստատություններ
B58: Արդյունքի չափորոշիչներ
B59: Միջոցառման վրա կատարվող ծախսը (հազար դրամ) | D59: =+'Հավելված N 1'!D48 -> -5707 | E59: =+'Հավելված N 1'!E48 -> -136268.8 | F59: =+'Հավելված N 1'!F48 -> -188679.8
B61: Ծրագրի միջոցառումները
B62: Ծրագրի դասիչը՝ | C62: 1236 | D62: Ցուցանիշների փոփոխությունը (ավելացումները նշված են դրական նշանով)
B63: Միջոցառման դասիչը՝ | C63: 32003 | D63: Առաջին կիսամյակ | E63: Ինն ամիս | F63: Տարի
B64: Միջոցառման անվանումը` | C64: Հանրակրթական դպրոցների նոր շենքերի կառուցում
B65: Նկարագրությունը` | C65: ՀՀ մարզերում կրթական որակյալ ծառայությունների հասանելիության ապահովման ծրագրի շրջանակներում հանրակրթական և նախադպրոցական կրթության հասանելիության ապահովման նպատակով կրթական կենտրոնների կառուցում
B66: Միջոցառման տեսակը` | C66: Այլ պետական կազմակերպությունների կողմից օգտագործվող ոչ ֆինանսական ակտիվների հետ գործառնություններ
B67: Ակտիվն օգտագործող կազմակերպությունների անվանումները | C67: Նախադպրոցական կրթությույն իրականացնող ուսումնական հաստատություններ
B68: Արդյունքի չափորոշիչներ
B69: Միջոցառման վրա կատարվող ծախսը (հազար դրամ) | D69: =+'Հավելված N 1'!D54 -> 7500 | E69: =+'Հավելված N 1'!E54 -> 7500 | F69: =+'Հավելված N 1'!F54 -> 7500
B71: Ծրագրի միջոցառումները
B72: Ծրագրի դասիչը՝ | C72: 1236 | D72: Ցուցանիշների փոփոխությունը (ավելացումները նշված են դրական նշանով)
B73: Միջոցառման դասիչը՝ | C73: 32005 | D73: Առաջին կիսամյակ | E73: Ինն ամիս | F73: Տարի
B74: Միջոցառման անվանումը` | C74: Կրթահամալիրների կառուցում
B75: Նկարագրությունը` | C75: ՀՀ մարզերում կրթական որակյալ ծառայությունների հասանելիության ապահովման ծրագրի շրջանակներում հանրակրթական և նախադպրոցական կրթության հասանելիության ապահովման նպատակով կրթական կենտրոնների կառուցում
B76: Միջոցառման տեսակը` | C76: Այլ պետական կազմակերպությունների կողմից օգտագործվող ոչ ֆինանսական ակտիվների հետ գործառնություններ
B77: Ակտիվն օգտագործող կազմակերպությունների անվանումները | C77: Նախադպրոցական կրթությույն իրականացնող ուսումնական հաստատություններ
B78: Արդյունքի չափորոշիչներ
B79: Միջոցառման վրա կատարվող ծախսը (հազար դրամ) | D79: =+'Հավելված N 1'!D60 -> 10000 | E79: =+'Հավելված N 1'!E60 -> 10000 | F79: =+'Հավելված N 1'!F60 -> 10000

Sheet Հավելված N 6
C1: Հավելված N 6
C2: ՀՀ կառավարության 2024 թվականի
C3: ______________ ի ___Ն որոշման
A6: ՀԱՅԱՍՏԱՆԻ ՀԱՆՐԱՊԵՏՈՒԹՅԱՆ ԿԱՌԱՎԱՐՈՒԹՅԱՆ 2023 ԹՎԱԿԱՆԻ ԴԵԿՏԵՄԲԵՐԻ 28-Ի N 2323-Ն ՈՐՈՇՄԱՆ N 8 ՀԱՎԵԼՎԱԾԻ ՑԱՆԿՈՒՄ ԿԱՏԱՐՎՈՂ ՓՈՓՈԽՈՒԹՅՈՒՆԸ
A9: Ծրագրային դասիչը | C9: Բյուջետային հատակացումների գլխավոր կարգադրիչներ, ծրագրերի, միջոցառումների անվանումները | D9: Ցուցանիշների փոփոխությունը (նվազեցումները նշված են փակագծերում)
A10: Ծրագիր | B10: Միջոցառում
C11: ԸՆԴԱՄԵՆԸ
C12: այդ թվում՝
A13: 1236 | C13: Հանրակրթական և նախադպրոցական հաստատությունների հիմնում, կառուցում, բարելավում
B14: 32002 | C14: Մանկապարտեզների շենքերի վերակառուցում, հիմնանորոգում | D14: =+'Հավելված N 4'!G37 -> -188679.8

Sheet Հավելված N 7
C1: Հավելված N 7
C2: ՀՀ կառավարության 2024 թվականի
C3: ______________ ի ___Ն որոշման
B6: ՀԱՅԱՍՏԱՆԻ ՀԱՆՐԱՊԵՏՈՒԹՅԱՆ ԿԱՌԱՎԱՐՈՒԹՅԱՆ 2023 ԹՎԱԿԱՆԻ ԴԵԿՏԵՄԲԵՐԻ 28-Ի N 2323-Ն ՈՐՈՇՄԱՆ N 9․1 ՀԱՎԵԼՎԱԾԻ N 9․1․7, 9.1.13 ԵՎ 9.1.39 ԱՂՅՈՒՍԱԿՆԵՐՈՒՄ ԿԱՏԱՐՎՈՂ ՓՈՓՈԽՈՒԹՅՈՒՆՆԵՐԸ ԵՎ ԼՐԱՑՈՒՄՆԵՐԸ
A9: Աղյուսակ 9․1.7
C10: ՀՀ տարածքային կառավարման և ենթակառուցվածքների նախարարություն
B11: ՄԱՍ 1. ՊԵՏԱԿԱՆ ՄԱՐՄՆԻ ԳԾՈՎ ԱՐԴՅՈՒՆՔԱՅԻՆ (ԿԱՏԱՐՈՂԱԿԱՆ) ՑՈՒՑԱՆԻՇՆԵՐԸ
B14: Ծրագրի դասիչը | C14: Ծրագրի անվանումը
B15: 1236 | C15: Հանրակրթական և նախադպրոցական հաստատությունների հիմնում, կառուցում, բարելավում
B17: Ծրագրի միջոցառումները
B18: Ծրագրի դասիչը՝ | C18: 1236 | D18: Ցուցանիշների փոփոխությունը (նվազեցումները նշված են փակագծերում)
B19: Միջոցառման դասիչը՝ | C19: 32002 | D19: Առաջին կիսամյակ | E19: Ինն ամիս | F19: Տարի
B20: Միջոցառման անվանումը` | C20: Մանկապարտեզների շենքերի վերակառուցում, հիմնանորոգում
B21: Նկարագրությունը` | C21: Նախադպրոցական կրթության հասանելիության ապահովման նպատակով՛ մանկապարտեզների շենքերի (մասնաշենքերի), վերակառուցում, հիմնանորոգում և նախագծում
B22: Միջոցառման տեսակը` | C22: Այլ պետական կազմակերպությունների կողմից օգտագործվող ոչ ֆինանսական ակտիվների հետ գործառնություններ
B23: Ակտիվն օգտագործող կազմակերպությունների անվանումները | C23: Նախադպրոցական կրթությույն իրականացնող ուսումնական հաստատություններ
B24: Արդյունքի չափորոշիչներ
B25: Միջոցառման վրա կատարվող ծախսը (հազար դրամ) | D25: =+'Հավելված N 2'!G37 -> -5707 | E25: =+'Հավելված N 2'!H37 -> -136268.8 | F25: =+'Հավելված N 2'!I37 -> -188679.8
A31: Աղյուսակ 9․1.13
C32: ՀՀ կրթության, գիտության, մշակույթի և սպորտի նախարարություն
B33: ՄԱՍ 1. ՊԵՏԱԿԱՆ ՄԱՐՄՆԻ ԳԾՈՎ ԱՐԴՅՈՒՆՔԱՅԻՆ (ԿԱՏԱՐՈՂԱԿԱՆ) ՑՈՒՑԱՆԻՇՆԵՐԸ
B36: Ծրագրի դասիչը | C36: Ծրագրի անվանումը
B37: 1045 | C37: Նախնական (արհեստագործական) և միջին մասնագիտական կրթություն
B39: Ծրագրի միջոցառումները
B40: Ծրագրի դասիչը՝ | C40: 1045 | D40: Ցուցանիշների փոփոխությունը (նվազեցումները նշված են փակագծերում)
B41: Միջոցառման դասիչը՝ | C41: 32001 | D41: Առաջին կիսամյակ | E41: Ինն ամիս | F41: Տարի
B42: Միջոցառման անվանումը` | C42: Նախնական մասնագիտական (արհեստագործական) և միջին մասնագիտական ուսումնական հաստատությունների շենքային պայմանների բարելավում
B43: Նկարագրությունը` | C43: ՆՄՄԿՈՒ հաստատությունների շենքերի հիմնանորոգման և նախագծման (շինարարական աշխատանքներ, ջեռուցման համակարգի ստեղծում, ներքին հարդարում, տարածքի բարեկարգում) աշխատանքների իրականացում
B44: Միջոցառման տեսակը` | C44: Այլ պետական կազմակերպությունների կողմից օգտագործվող ոչ ֆինանսական ակտիվների հետ գործառնություններ
B45: Ակտիվն օգտագործող կազմակերպությունների անվանումները | C45: Միջին մասնագիտական ուսումնական հաստատություններ
B46: Արդյունքի չափորոշիչներ
B47: Միջոցառման վրա կատարվող ծախսը (հազար դրամ) | D47: =+'Հավելված N 2'!G80 -> -11793 | E47: =+'Հավելված N 2'!H80 -> -17500 | F47: =+'Հավելված N 2'!I80 -> -17500
A53: Աղյուսակ 9․1.39
C54: ՀՀ քաղաքաշինության կոմիտե
B55: ՄԱՍ 1. ՊԵՏԱԿԱՆ ՄԱՐՄՆԻ ԳԾՈՎ ԱՐԴՅՈՒՆՔԱՅԻՆ (ԿԱՏԱՐՈՂԱԿԱՆ) ՑՈՒՑԱՆԻՇՆԵՐԸ
B58: Ծրագրի դասիչը | C58: Ծրագրի անվանումը
B59: 1045 | C59: Նախնական (արհեստագործական) և միջին մասնագիտական կրթություն
B61: Ծրագրի միջոցառումները
B62: Ծրագրի դասիչը՝ | C62: 1045 | D62: Ցուցանիշների փոփոխությունը (նվազեցումները նշված են փակագծերում)
B63: Միջոցառման դասիչը՝ | C63: 32001 | D63: Առաջին կիսամյակ | E63: Ինն ամիս | F63: Տարի
B64: Միջոցառման անվանումը` | C64: Նախնական մասնագիտական (արհեստագործական) և միջին մասնագիտական ուսումնական հաստատությունների շենքային պայմանների բարելավում
B65: Նկարագրությունը` | C65: ՆՄՄԿՈՒ հաստատությունների շենքերի հիմնանորոգման և նախագծման (շինարարական աշխատանքներ, ջեռուցման համակարգի ստեղծում, ներքին հարդարում, տարածքի բարեկարգում) աշխատանքների իրականացում
B66: Միջոցառման տեսակը` | C66: Այլ պետական կազմակերպությունների կողմից օգտագործվող ոչ ֆինանսական ակտիվների հետ գործառնություններ
B67: Ակտիվն օգտագործող կազմակերպությունների անվանումները | C67: Միջին մասնագիտական ուսումնական հաստատություններ
B68: Արդյունքի չափորոշիչներ
B69: Նախագծանախահաշվային փաստաթղթերի քանակ, հատ | F69: -1
B70: Միջոցառման վրա կատարվող ծախսը (հազար դրամ) | D70: =+'Հավելված N 2'!G87 -> 0 | E70: =+'Հավելված N 2'!H87 -> 0 | F70: =+'Հավելված N 2'!I87 -> -45344.1
B72: Ծրագրի միջոցառումները
B73: Ծրագրի դասիչը՝ | C73: 1045 | D73: Ցուցանիշների փոփոխությունը (ավելացումները նշված են դրական նշանով)
B74: Միջոցառման դասիչը՝ | C74: 32005 | D74: Առաջին կիսամյակ | E74: Ինն ամիս | F74: Տարի
B75: Միջոցառման անվանումը` | C75: Նախնական մասնագիտական (արհեստագործական) և միջին մասնագիտական ուսումնական հաստատությունների շենքերի կառուցում
B76: Նկարագրությունը` | C76: ՆՄՄԿՈՒ հաստատությունների շենքերի (մասնաշենքերի) կառուցման և նախագծման աշխատանքների իրականացում
B77: Միջոցառման տեսակը` | C77: Այլ պետական կազմակերպությունների կողմից օգտագործվող ոչ ֆինանսական ակտիվների հետ գործառնություններ
B78: Ակտիվն օգտագործող կազմակերպությունների անվանումները | C78: Նախնական մասնագիտական (արհեստագործական) և միջին մասնագիտական ուսումնական հաստատություններ
B79: Արդյունքի չափորոշիչներ
B80: Նախագծանախահաշվային փաստաթղթերի քանակ, հատ | F80: 1
B81: Միջոցառման վրա կատարվող ծախսը (հազար դրամ) | D81: =+'Հավելված N 2'!G96 -> 0 | E81: =+'Հավելված N 2'!H96 -> 0 | F81: =+'Հավելված N 2'!I96 -> 45344.1
B83: Ծրագրի դասիչը | C83: Ծրագրի անվանումը
B84: 1236 | C84: Հանրակրթական և նախադպրոցական հաստատությունների հիմնում, կառուցում, բարելավում
B86: Ծրագրի միջոցառումները
B87: Ծրագրի դասիչը՝ | C87: 1236 | D87: Ցուցանիշների փոփոխությունը (ավելացումները նշված են դրական նշանով)
B88: Միջոցառման դասիչը՝ | C88: 32001 | D88: Առաջին կիսամյակ | E88: Ինն ամիս | F88: Տարի
B89: Միջոցառման անվանումը` | C89: Մանկապարտեզների նոր շենքերի կառուցում
B90: Նկարագրությունը` | C90: Նախադպրոցական կրթության հասանելիության ապահովման նպատակով՛ մանկապարտեզների հիմնում, նոր շենքերի (մասնաշենքերի), ներառյալ՛ ,Մոդուլայինե տիպի շենքերի կառուցում և նախագծում
B91: Միջոցառման տեսակը` | C91: Այլ պետական կազմակերպությունների կողմից օգտագործվող ոչ ֆինանսական ակտիվների հետ գործառնություններ
B92: Ակտիվն օգտագործող կազմակերպությունների անվանումները | C92: Նախադպրոցական կրթությույն իրականացնող ուսումնական հաստատություններ
B93: Արդյունքի չափորոշիչներ
B94: Միջոցառման վրա կատարվող ծախսը (հազար դրամ) | D94: =+'Հավելված N 2'!G28 -> 0 | E94: =+'Հավելված N 2'!H28 -> 136268.8 | F94: =+'Հավելված N 2'!I28 -> 188679.8
B96: Ծրագրի միջոցառումները
B97: Ծրագրի դասիչը՝ | C97: 1236 | D97: Ցուցանիշների փոփոխությունը (ավելացումները նշված են դրական նշանով)
B98: Միջոցառման դասիչը՝ | C98: 32003 | D98: Առաջին կիսամյակ | E98: Ինն ամիս | F98: Տարի
B99: Միջոցառման անվանումը` | C99: Հանրակրթական դպրոցների նոր շենքերի կառուցում
B100: Նկարագրությունը` | C100: ՀՀ մարզերում կրթական որակյալ ծառայությունների հասանելիության ապահովման ծրագրի շրջանակներում հանրակրթական և նախադպրոցական կրթության հասանելիության ապահովման նպատակով կրթական կենտրոնների կառուցում
B101: Միջոցառման տեսակը` | C101: Այլ պետական կազմակերպությունների կողմից օգտագործվող ոչ ֆինանսական ակտիվների հետ գործառնություններ
B102: Ակտիվն օգտագործող կազմակերպությունների անվանումները | C102: Նախադպրոցական կրթությույն իրականացնող ուսումնական հաստատություններ
B103: Արդյունքի չափորոշիչներ
B104: Միջոցառման վրա կատարվող ծախսը (հազար դրամ) | D104: =+'Հավելված N 2'!G54 -> 7500 | E104: =+'Հավելված N 2'!H54 -> 7500 | F104: =+'Հավելված N 2'!I54 -> 7500
B106: Ծրագրի միջոցառումները
B107: Ծրագրի դասիչը՝ | C107: 1236 | D107: Ցուցանիշների փոփոխությունը (ավելացումները նշված են դրական նշանով)
B108: Միջոցառման դասիչը՝ | C108: 32005 | D108: Առաջին կիսամյակ | E108: Ինն ամիս | F108: Տարի
B109: Միջոցառման անվանումը` | C109: Կրթահամալիրների կառուցում
B110: Նկարագրությունը` | C110: ՀՀ մարզերում կրթական որակյալ ծառայությունների հասանելիության ապահովման ծրագրի շրջանակներում հանրակրթական և նախադպրոցական կրթության հասանելիության ապահովման նպատակով կրթական կենտրոնների կառուցում
B111: Միջոցառման տեսակը` | C111: Այլ պետական կազմակերպությունների կողմից օգտագործվող ոչ ֆինանսական ակտիվների հետ գործառնություններ
B112: Ակտիվն օգտագործող կազմակերպությունների անվանումները | C112: Նախադպրոցական կրթությույն իրականացնող ուսումնական հաստատություններ
B113: Արդյունքի չափորոշիչներ
B114: Միջոցառման վրա կատարվող ծախսը (հազար դրամ) | D114: =+'Հավելված N 2'!G63 -> 10000 | E114: =+'Հավելված N 2'!H63 -> 10000 | F114: =+'Հավելված N 2'!I63 -> 10000

Sheet Հավելված N 8
H1: Հավելված N 8
H2: ՀՀ կառավարության 2024 թվականի
H3: ______________ ի ___Ն որոշման
A6: ՀԱՅԱՍՏԱՆԻ ՀԱՆՐԱՊԵՏՈՒԹՅԱՆ ԿԱՌԱՎԱՐՈՒԹՅԱՆ 2023 ԹՎԱԿԱՆԻ ԴԵԿՏԵՄԲԵՐԻ 28-Ի N 2323-Ն N 10 ՀԱՎԵԼՎԱԾՈՒՄ ԿԱՏԱՐՎՈՂ ՓՈՓՈԽՈՒԹՅՈՒՆԸ ԵՎ ԼՐԱՑՈՒՄՆԵՐԸ
A10: Կոդը | B10: Անվանումը | E10: Գնման ձևը | F10: Չափման միավորը | G10: Միավորի գինը | H10: Ցուցանիշների փոփոխությունը (ավելացումները նշված են դրական նշանով, իսկ նվազեցումները՝ փակագծերում)
H11: Քանակը | I11: Գումարը (հազար դրամ)
A12: 1 | B12: 2 | E12: 3 | F12: 4 | G12: 5 | H12: 6 | I12: 7
A13: ՀՀ կրթության, գիտության, մշակույթի և սպորտի նախարարություն | I13: =+I14 -> -17500
A14: Բաժին N 09 | B14: Խումբ N 06 | C14: Դաս N 01 | D14: Կրթությանը տրամադրվող օժանդակ ծառայություններ | I14: =+I15 -> -17500
A15: 1045-32001 | B15: Նախնական մասնագիտական (արհեստագործական) և միջին մասնագիտական ուսումնական հաստատությունների շենքային պայմանների բարելավում | I15: =+I16 -> -17500
B16: ՄԱՍ II. ԱՇԽԱՏԱՆՔՆԵՐ | I16: =+I17 -> -17500
A17: 45231129-3 | B17: ջեռուցման հետ կապված աշխատանքներ | E17: ԳՀ | F17: դրամ | I17: -17500
A19: ՀՀ քաղաքաշինության կոմիտե | I19: =+I20 -> 188679.8
A20: Բաժին N 09 | B20: Խումբ N 01 | C20: Դաս N 01 | D20: Նախադպրոցական կրթություն | I20: =+I21 -> 188679.8
A21: 1236-32001 | B21: Մանկապարտեզների նոր շենքերի կառուցում | I21: =+I22+I24 -> 188679.8
B22: ՄԱՍ II. ԱՇԽԱՏԱՆՔՆԵՐ | I22: =SUM(I23:I23) -> 180000
A23: 45221142-6 | B23: ընդհանուր շինարարական աշխատանքներ | E23: ԲՄ | F23: դրամ | I23: 180000
B24: ՄԱՍ III. ԾԱՌԱՅՈՒԹՅՈՒՆՆԵՐ | I24: =SUM(I25:I26) -> 8679.8
A25: 71351540-6 | B25: տեխնիկական հսկողության ծառայություններ | E25: ԳՀ | F25: դրամ | I25: 7747.7
A26: 98111140-6 | B26: հեղինակային հսկողության ծառայություններ | E26: ՄԱ | F26: դրամ | I26: 932.1
A27: Բաժին N 09 | B27: Խումբ N 02 | C27: Դաս N 01 | D27: Հիմնական ընդհանուր կրթություն | I27: =+I28+I33 -> 17500
A28: 1236-32003 | B28: Հանրակրթական դպրոցների նոր շենքերի կառուցում | I28: =+I29 -> 7500
B29: ՄԱՍ III. ԾԱՌԱՅՈՒԹՅՈՒՆՆԵՐ | I29: =SUM(I30:I32) -> 7500
A30: 71241200-75 | B30: նախագծերի պատրաստում, ծախսերի գնահատում | E30: ՄԱ | F30: դրամ | I30: 2500
A31: 71241200-76 | B31: նախագծերի պատրաստում, ծախսերի գնահատում | E31: ՄԱ | F31: դրամ | I31: 2500
A32: 71241200-77 | B32: նախագծերի պատրաստում, ծախսերի գնահատում | E32: ՄԱ | F32: դրամ | I32: 2500
A33: 1236-32005 | B33: Կրթահամալիրների կառուցում | I33: =+I34 -> 10000
B34: ՄԱՍ III. ԾԱՌԱՅՈՒԹՅՈՒՆՆԵՐ | I34: =SUM(I35:I38) -> 10000
A35: 71241200-71 | B35: նախագծերի պատրաստում, ծախսերի գնահատում | E35: ՄԱ | F35: դրամ | I35: 2500
A36: 71241200-72 | B36: նախագծերի պատրաստում, ծախսերի գնահատում | E36: ՄԱ | F36: դրամ | I36: 2500
A37: 71241200-73 | B37: նախագծերի պատրաստում, ծախսերի գնահատում | E37: ՄԱ | F37: դրամ | I37: 2500
A38: 71241200-74 | B38: նախագծերի պատրաստում, ծախսերի գնահատում | E38: ՄԱ | F38: դրամ | I38: 2500
A39: Բաժին N 09 | B39: Խումբ N 06 | C39: Դաս N 01 | D39: Կրթությանը տրամադրվող օժանդակ ծառայություններ | I39: =+I44+I40 -> 0
A40: 1045-32001 | B40: Նախնական մասնագիտական (արհեստագործական) և միջին մասնագիտական ուսումնական հաստատությունների շենքային պայմանների բարելավում | I40: =+I41 -> -45344.1
B41: ՄԱՍ III. ԾԱՌԱՅՈՒԹՅՈՒՆՆԵՐ | I41: =SUM(I42:I43) -> -45344.1
A42: 71241200-1 | B42: նախագծերի պատրաստում, ծախսերի գնահատում | E42: ԳՀ | F42: դրամ | G42: 43184900 | H42: -1 | I42: =+ROUND(G42*H42/1000,1) -> -43184.9
A43: 50531140-1 | B43: փորձաքննության ծառայություններ | E43: ԳՀ | F43: դրամ | G43: 2159200 | H43: -1 | I43: =+ROUND(G43*H43/1000,1) -> -2159.2
A44: 1045-32005 | B44: Նախնական մասնագիտական (արհեստագործական) և միջին մասնագիտական ուսումնական հաստատությունների շենքերի կառուցում | I44: =+I45 -> 45344.1
B45: ՄԱՍ III. ԾԱՌԱՅՈՒԹՅՈՒՆՆԵՐ | I45: =SUM(I46:I47) -> 45344.1
A46: 71241200 | B46: նախագծերի պատրաստում, ծախսերի գնահատում | E46: ԳՀ | F46: դրամ | G46: 43184900 | H46: 1 | I46: =+ROUND(G46*H46/1000,1) -> 43184.9
A47: 50531140 | B47: փորձաքննության ծառայություններ | E47: ԳՀ | F47: դրամ | G47: 2159200 | H47: 1 | I47: =+ROUND(G47*H47/1000,1) -> 2159.2
