Workbook
Name AgencyCode: #REF!
Name AgencyCode: #REF!
Name AgencyName: #REF!
Name AgencyName: #REF!
Name åû: #REF!
Name davit: #REF!
Name Functional1: #REF!
Name Functional1: #REF!
Name ggg: #REF!
Name mas: #REF!
Name mass: #REF!
Name PANature: #REF!
Name PANature: #REF!
Name PAType: #REF!
Name PAType: #REF!
Name Performance2: #REF!
Name Performance2: #REF!
Name PerformanceType: #REF!
Name PerformanceType: #REF!
Name x: #REF!
Name Հավելված: #REF!
Name Մաս: #REF!
Name շախմատիստ: #REF!

Sheet H1
D1: Հավելված N 1
D2: ՀՀ կառավարության 2024 թվականի
D3: ______________ ի ___Ն որոշման
A5: ՀԱՅԱՍՏԱՆԻ ՀԱՆՐԱՊԵՏՈՒԹՅԱՆ ԿԱՌԱՎԱՐՈՒԹՅԱՆ 2023 ԹՎԱԿԱՆԻ ԴԵԿՏԵՄԲԵՐԻ 28-Ի N 2323-Ն ՈՐՈՇՄԱՆ N 1 ՀԱՎԵԼՎԱԾԻ N 1 ԱՂՅՈՒՍԱԿՈՒՄ ԿԱՏԱՐՎՈՂ ՓՈՓՈԽՈՒԹՅՈՒՆՆԵՐԸ
D7: հազ. դրամ
A8: Պետական բյուջեի դեֆիցիտի ֆինանսավորման աղբյուրներն ու դրանց տարրերի անվանումները | B8: Ցուցանիշների փոփոխությունը (Ավելացումները նշված են դրական նշանով)
B9: Առաջին կիսամյակ | C9: Ինն ամիս | D9: Տարի
A10: ԸՆԴԱՄԵՆԸ | B10: =B12 -> 2725984.1 | C10: =C12 -> 1645984.1 | D10: =D12 -> 0
A11: այդ թվում՝
A12: Ա. Ներքին աղբյուրներ-ընդամենը | B12: =B13 -> 2725984.1 | C12: =C13 -> 1645984.1 | D12: =D13 -> 0
A13: 2. Ֆինանսական զուտ ակտիվներ | B13: =B15 -> 2725984.1 | C13: =C15 -> 1645984.1 | D13: =D16 -> 0
A14: այդ թվում՝
A15: 2.6. Այլ | B15: =B16 -> 2725984.1 | C15: =C16 -> 1645984.1 | D15: =D16 -> 0
A16: ժամանակավորապես ազատ միջոցներ | B16: ='H2'!D12 -> 2725984.1 | C16: ='H2'!E12 -> 1645984.1 | D16: 0

Sheet H2
A1: Հավելված N 2
A2: ՀՀ կառավարության 2024 թվականի
A3: ______________ ի ___Ն որոշման
A5: «ՀԱՅԱUՏԱՆԻ ՀԱՆՐԱՊԵՏՈՒԹՅԱՆ 2024 ԹՎԱԿԱՆԻ ՊԵՏԱԿԱՆ ԲՅՈՒՋԵԻ ՄԱUԻՆ» OՐԵՆՔԻ N 1 ՀԱՎԵԼՎԱԾԻ N 2 ԱՂՅՈՒՍԱԿՈՒՄ ԿԱՏԱՐՎՈՂ ՎԵՐԱԲԱՇԽՈՒՄԸ ԵՎ ՀԱՅԱՍՏԱՆԻ ՀԱՆՐԱՊԵՏՈՒԹՅԱՆ ԿԱՌԱՎԱՐՈՒԹՅԱՆ 2023 ԹՎԱԿԱՆԻ ԴԵԿՏԵՄԲԵՐԻ 28-Ի ԹԻՎ 2323-Ն ՈՐՈՇՄԱՆ N 5 ՀԱՎԵԼՎԱԾԻ N 1 ԱՂՅՈՒՍԱԿՈՒՄ ԿԱՏԱՐՎՈՂ ՓՈՓՈԽՈՒԹՅՈՒՆՆԵՐԸ ԵՎ ԼՐԱՑՈՒՄՆԵՐԸ
F7: հազար դրամով
A8: Ծրագրային դասիչը | C8: Բյուջետային հատկացումների գլխավոր կարգադրիչների, ծրագրերի և միջոցառումների անվանումները | D8: Ցուցանիշների փոփոխությունը(ավելացումները նշված են դրական նշանով, իսկ նվազեցումները` փակագծերում)
A9: Ծրագիր | B9: Միջոցառում | D9: Առաջին կիսամյակ | E9: Ինն ամիս | F9: Տարի
A10: 1192 | C10: ԸՆԴԱՄԵՆԸ | D10: =D12 -> 2725984.1 | E10: =E12 -> 1645984.1 | F10: =F12 -> 0
C11: այդ թվում
C12: ՀՀ ՏԱՐԱԾՔԱՅԻՆ ԿԱՌԱՎԱՐՄԱՆ ԵՎ ԵՆԹԱԿԱՌՈՒՑՎԱԾՔՆԵՐԻ ՆԱԽԱՐԱՐՈՒԹՅՈՒՆ | D12: =D13+D39+D26+D58 -> 2725984.1 | E12: =E13+E39+E26+E58 -> 1645984.1 | F12: =F13+F39+F26+F58 -> 0
A13: 1004 | C13: Ծրագրի անվանումը` | D13: =D20 -> -625000 | E13: =E20 -> -1390000 | F13: =F20 -> -2041584.1
C14: Ոռոգման համակարգի առողջացում
C15: Ծրագրի նպատակը`
C16: Ոռոգման ծառայությունների հասանելիության և մատչելիության ապահովում
C17: Վերջնական արդյունքի նկարագրությունը`
C18: Ոռոգման ջրի մատակարարման արդյունավետության և հասանելիության բարելավում, կորուստների կրճատում
C19: Ծրագրի միջոցառումներ
B20: 31004 | C20: Միջոցառման անվանումը` | D20: ='H3'!G21 -> -625000 | E20: ='H3'!H21 -> -1390000 | F20: ='H3'!I21 -> -2041584.1
C21: Գերմանիայի զարգացման վարկերի բանկի աջակցությամբ իրականացվող Ախուրյան գետի ջրային ռեսուրսների ինտեգրված կառավարման ծրագրի շրջանակներում ջրային տնտեսության ենթակառուցվածքների հիմնանորոգում
C22: Միջոցառման նկարագրությունը`
C23: Գերմանիայի զարգացման վարկերի բանկի աջակցությամբ իրականացվող Ախուրյան գետի ջրային ռեսուրսների ինտեգրված կառավարման ծրագիր
C24: Միջոցառման տեսակը
C25: Պետական մարմինների կողմից օգտագործվող ոչ ֆինանսական ակտիվների հետ գործառնություններ
A26: 1019 | C26: Ծրագրի անվանումը` | D26: =D33 -> 225000 | E26: =E33 -> 910000 | F26: =F33 -> 910000
C27: Սոցիալական ներդրումների և տեղական զարգացման ծրագիր
C28: Ծրագրի նպատակը`
C29: Նպաստել տարածքներում բնակչության նյութական և ոչ նյութական բարեկեցության աճին
C30: Վերջնական արդյունքի նկարագրությունը`
C31: Համայնքային և միջհամայնքային ենթակառուցվածքների և որակի հասանելիության բարելավում, ինստիտուցիոնալ և ֆինանասական կարողությունների հզորացում
C32: Ծրագրի միջոցառումներ
B33: 12004 | C33: Միջոցառման անվանումը` | D33: ='H3'!G88 -> 225000 | E33: ='H3'!H88 -> 910000 | F33: ='H3'!I88 -> 910000
C34: Համաշխարհային բանկի աջակցությամբ իրականացվող Սոցիալական ներդրումների և տեղական զարգացման ծրագրի լրացուցիչ ֆինանսավորման վարկի շրջանակներում ՀՀ համայնքային և միջհամայնքային ենթակառուցվածքների որակի, օգտագործման և հասանելիության բարելավում:
C35: Միջոցառման նկարագրությունը`
C36: Ջրագծերի, առողջապահության, կրթության օբյեկտների, մշակույթային տների, ծերանոցների, մանկատների, հատուկ դպրոցների, մանկապարտզների և կոյուղու օբյեկտնրի հիմն. և շինարարություն., գույքի և սարքավորումների տրամադրում շահառու ենթածրագրերի համար:
C37: Միջոցառման տեսակը
C38: Տրանսֆերտների տրամադրում
A39: 1049 | C39: Ծրագրի անվանումը` | D39: =D46+D52 -> 3931584.1 | E39: =E46+E52 -> 3931584.1 | F39: =F46+F52 -> 3931584.1
C40: Ճանապարհային ցանցի բարելավում
C41: Ծրագրի նպատակը`
C42: Ճանապարհային ցանցի բարելավում և անվտանգ երթևեկության ապահովում
C43: Վերջնական արդյունքի նկարագրությունը`
C44: Ճանապարհների ծածկի որակի և փոխադրումների արդյունավետության բարելավում, ճանապարհների վիճակով պայմանավորված պատահարների նվազում
C45: Ծրագրի միջոցառումներ
B46: 11012 | C46: Միջոցառման անվանումը` | D46: ='H5'!G40 -> 2931000 | E46: =D46 -> 2931000 | F46: =E46 -> 2931000
C47: Եվրասիական զարգացման բանկի աջակցությամբ իրականացվող Հյուսիս-հարավ միջանցքի զարգացման ծրագրի համակարգում և կառավարում
C48: Միջոցառման նկարագրությունը`
C49: Խորհրդատվական ծառայություններ և պահպանման ծախսեր
C50: Միջոցառման տեսակը
C51: Ծառայությունների մատուցում
B52: 11017 | C52: Միջոցառման անվանումը` | D52: ='H5'!E51 -> 1000584.1 | E52: =D52 -> 1000584.1 | F52: =E52 -> 1000584.1
C53: Հյուսիս-հարավ ճանապարհային միջանցքի զարգացման ծրագրի Քաջարանի թունելի և մոտեցումների համակարգում և կառավարում
C54: Միջոցառման նկարագրությունը`
C55: Հյուսիս-հարավ ճանապարհային միջանցքի զարգացման ծրագրի շրջանակներում հողերի օտարում (Քաջարանի թունել և մոտեցում)
C56: Միջոցառման տեսակը
C57: Ծառայությունների մատուցում
A58: 1157 | C58: Ծրագրի անվանումը` | D58: =D65 -> -805600 | E58: =E65 -> -1805600 | F58: =F65 -> -2800000
C59: Քաղաքային զարգացում
C60: Ծրագրի նպատակը`
C61: Քաղաքային ենթակառուցվածքների զարգացում
C62: Վերջնական արդյունքի նկարագրությունը`
C63: Քաղաքային ենթակառուցվածքների արդիականացում և բարելավում
C64: Ծրագրի միջոցառումներ
B65: 21002 | C65: Միջոցառման անվանումը` | D65: ='H6'!D13 -> -805600 | E65: ='H6'!E13 -> -1805600 | F65: ='H6'!F13 -> -2800000
C66: Երևանի մետրոպոլիտենի ենթակառուցվածքների կառուցում
C67: Միջոցառման նկարագրությունը`
C68: Երևանի մետրոպոլիտենի ենթակառուցվածքների կառուցում
C69: Միջոցառման տեսակը
C70: Հանրության կողմից անմիջականորեն օգտագործվող ակտիվների հետ կապված միջոցառումներ
C86: ՀԱՅԱՍՏԱՆԻ ՀԱՆՐԱՊԵՏՈՒԹՅԱՆ ՎԱՐՉԱՊԵՏԻ ԱՇԽԱՏԱԿԱԶՄԻ ՂԵԿԱՎԱՐ՝ | F86: Ա.ՀԱՐՈՒԹՅՈՒՆՅԱՆ

Sheet H3
A1: Հավելված N 3
A2: ՀՀ կառավարության 2024 թվականի
A3: ______________ ի ___Ն որոշման
A5: ՀԱՅԱՍՏԱՆԻ ՀԱՆՐԱՊԵՏՈՒԹՅԱՆ ԿԱՌԱՎԱՐՈՒԹՅԱՆ 2023 ԹՎԱԿԱՆԻ ԴԵԿՏԵՄԲԵՐԻ 28-Ի ԹԻՎ 2323-Ն ՈՐՈՇՄԱՆ N 3 ԵՎ N 4 ՀԱՎԵԼՎԱԾՆԵՐՈՒՄ ԿԱՏԱՐՎՈՂ ՓՈՓՈԽՈՒԹՅՈՒՆՆԵՐԸ ԵՎ ԼՐԱՑՈՒՄՆԵՐԸ
A8: Գործառական դասիչը | D8: Ծրագրային դասիչը | F8: Բյուջետային հատկացումների գլխավոր կարգադրիչների, ծրագրերի, միջոցառումների և միջոցառումները կատարող պետական մարմինների անվանումները | G8: Ցուցանիշների փոփոխությունը (ավելացումները նշված են դրական նշանով, իսկ նվազեցումները` փակագծերում)
A9: Բաժին | B9: Խումբ | C9: Դաս | D9: Ծրագիր | E9: Միջոցառում | G9: Առաջին կիսամյակ | H9: Ինն ամիս | I9: Տարի
F10: ԸՆԴԱՄԵՆԸ | G10: =G12 -> 2725984.1 | H10: =H12 -> 1645984.1 | I10: =I12 -> 0
F11: այդ թվում
F12: ՀՀ ՏԱՐԱԾՔԱՅԻՆ ԿԱՌԱՎԱՐՄԱՆ ԵՎ ԵՆԹԱԿԱՌՈՒՑՎԱԾՔՆԵՐԻ ՆԱԽԱՐԱՐՈՒԹՅՈՒՆ | G12: =+G13 -> 2725984.1 | H12: =+H13 -> 1645984.1 | I12: =+I13 -> 0
A13: 04 | F13: ՏՆՏԵՍԱԿԱՆ ՀԱՐԱԲԵՐՈՒԹՅՈՒՆՆԵՐ | G13: =G15+G30+G75 -> 2725984.1 | H13: =H15+H30+H75 -> 1645984.1 | I13: =I15+I30+I75 -> 0
F14: այդ թվում`
B15: 02 | F15: Գյուղատնտեսություն, անտառային տնտեսություն, ձկնորսություն և որսորդություն | G15: =G17 -> -625000 | H15: =H17 -> -1390000 | I15: =I17 -> -2041584.1
F16: այդ թվում`
C17: 04 | F17: Ոռոգում | G17: =G19 -> -625000 | H17: =H19 -> -1390000 | I17: =I19 -> -2041584.1
F18: այդ թվում`
D19: 1004 | F19: Ոռոգման համակարգի առողջացում | G19: =G21 -> -625000 | H19: =H21 -> -1390000 | I19: =I21 -> -2041584.1
F20: այդ թվում`
E21: 31004 | F21: Գերմանիայի զարգացման վարկերի բանկի աջակցությամբ իրականացվող Ախուրյան գետի ջրային ռեսուրսների ինտեգրված կառավարման ծրագրի շրջանակներում ջրային տնտեսության ենթակառուցվածքների հիմնանորոգում | G21: =G23 -> -625000 | H21: =H23 -> -1390000 | I21: =I23 -> -2041584.1
F22: այդ թվում` ըստ կատարողների
F23: ՀՀ տարածքային կառավարման և ենթակառուցվածքների նախարարության ջրային կոմիտե | G23: =G25 -> -625000 | H23: =H25 -> -1390000 | I23: =I25 -> -2041584.1
F24: այդ թվում` բյուջետային ծախսերի տնտեսագիտական դասակարգման հոդվածներ
F25: ԸՆԴԱՄԵՆԸ ԾԱԽՍԵՐ | G25: =G26 -> -625000 | H25: =H26 -> -1390000 | I25: =I26 -> -2041584.1
F26: ՈՉ ՖԻՆԱՆՍԱԿԱՆ ԱԿՏԻՎՆԵՐԻ ԳԾՈՎ ԾԱԽՍԵՐ | G26: =G27 -> -625000 | H26: =H27 -> -1390000 | I26: =I27 -> -2041584.1
F27: ՀԻՄՆԱԿԱՆ ՄԻՋՈՑՆԵՐ | G27: =G28 -> -625000 | H27: =H28 -> -1390000 | I27: =I28 -> -2041584.1
F28: ՇԵՆՔԵՐ ԵՎ ՇԻՆՈՒԹՅՈՒՆՆԵՐ | G28: =G29 -> -625000 | H28: =H29 -> -1390000 | I28: =I29 -> -2041584.1
F29: - Շենքերի և շինությունների շինարարություն | G29: ='H5'!E18 -> -625000 | H29: ='H5'!H16 -> -1390000 | I29: ='H5'!K16 -> -2041584.1
B30: 05 | F30: Տրանսպորտ | G30: =G32+G60 -> 3125984.1 | H30: =H32+H60 -> 2125984.1 | I30: =I32+I60 -> 1131584.1
F31: այդ թվում`
C32: 01 | F32: Ճանապարհային տրանսպորտ | G32: =G34 -> 3931584.1 | H32: =H34 -> 3931584.1 | I32: =I34 -> 3931584.1
F33: այդ թվում`
F34: ՀՀ տարածքային կառավարման և ենթակառուցվածքների նախարարություն | G34: =G36 -> 3931584.1 | H34: =H36 -> 3931584.1 | I34: =I36 -> 3931584.1
F35: այդ թվում`
D36: 1049 | F36: Ճանապարհային ցանցի բարելավում | G36: =G38+G49 -> 3931584.1 | H36: =H38+H49 -> 3931584.1 | I36: =I38+I49 -> 3931584.1
F37: այդ թվում`
E38: 11012 | F38: Եվրասիական զարգացման բանկի աջակցությամբ իրականացվող Հյուսիս-հարավ միջանցքի զարգացման ծրագրի համակարգում և կառավարում | G38: =G40 -> 2931000 | H38: =H40 -> 2931000 | I38: =I40 -> 2931000
F39: այդ թվում` ըստ կատարողների
F40: ՀՀ տարածքային կառավարման և ենթակառուցվածքների նախարարություն | G40: =G42 -> 2931000 | H40: =H42 -> 2931000 | I40: =I42 -> 2931000
F41: այդ թվում` բյուջետային ծախսերի տնտեսագիտական դասակարգման հոդվածներ
F42: ԸՆԴԱՄԵՆԸ ԾԱԽՍԵՐ | G42: =G43 -> 2931000 | H42: =H43 -> 2931000 | I42: =I43 -> 2931000
F43: ԸՆԹԱՑԻԿ ԾԱԽՍԵՐ | G43: =G44+G47 -> 2931000 | H43: =H44+H47 -> 2931000 | I43: =I44+I47 -> 2931000
F44: ԴՐԱՄԱՇՆՈՐՀՆԵՐ | G44: =G45 -> 2631000 | H44: =H45 -> 2631000 | I44: =I45 -> 2631000
F45: Կապիտալ դրամաշնորհներ պետական հատվածի այլ մակարդակներին | G45: =G46 -> 2631000 | H45: =H46 -> 2631000 | I45: =I46 -> 2631000
F46: - Այլ կապիտալ դրամաշնորհներ | G46: ='H5'!E48 -> 2631000 | H46: =G46 -> 2631000 | I46: =H46 -> 2631000
F47: ԱՅԼ ԾԱԽՍԵՐ | G47: =G48 -> 300000 | H47: =G47 -> 300000 | I47: =I48 -> 300000
F48: Հարկեր, պարտադիր վճարներ և տույժեր, որոնք կառավարման տարբեր մակարդակների կողմից կիրառվում են միմյանց նկատմամբ | G48: ='H5'!E50 -> 300000 | H48: =G48 -> 300000 | I48: =H48 -> 300000
E49: 11017 | F49: Հյուսիս-հարավ ճանապարհային միջանցքի զարգացման ծրագրի Քաջարանի թունելի և մոտեցումների համակարգում և կառավարում | G49: =G51 -> 1000584.1 | H49: =H51 -> 1000584.1 | I49: =I51 -> 1000584.1
F50: այդ թվում` ըստ կատարողների
F51: ՀՀ տարածքային կառավարման և ենթակառուցվածքների նախարարություն | G51: =G53 -> 1000584.1 | H51: =H53 -> 1000584.1 | I51: =I53 -> 1000584.1
F52: այդ թվում` բյուջետային ծախսերի տնտեսագիտական դասակարգման հոդվածներ
F53: ԸՆԴԱՄԵՆԸ ԾԱԽՍԵՐ | G53: =G54 -> 1000584.1 | H53: =H54 -> 1000584.1 | I53: =I54 -> 1000584.1
F54: ԸՆԹԱՑԻԿ ԾԱԽՍԵՐ | G54: =G55+G58 -> 1000584.1 | H54: =H55+H58 -> 1000584.1 | I54: =I55+I58 -> 1000584.1
F55: ԴՐԱՄԱՇՆՈՐՀՆԵՐ | G55: =G56 -> 850584.1 | H55: =H56 -> 850584.1 | I55: =I56 -> 850584.1
F56: Կապիտալ դրամաշնորհներ պետական հատվածի այլ մակարդակներին | G56: =G57 -> 850584.1 | H56: =H57 -> 850584.1 | I56: =I57 -> 850584.1
F57: - Այլ կապիտալ դրամաշնորհներ | G57: ='H5'!E59 -> 850584.1 | H57: =G57 -> 850584.1 | I57: =H57 -> 850584.1
F58: ԱՅԼ ԾԱԽՍԵՐ | G58: =G59 -> 150000 | H58: =H59 -> 150000 | I58: =I59 -> 150000
F59: Հարկեր, պարտադիր վճարներ և տույժեր, որոնք կառավարման տարբեր մակարդակների կողմից կիրառվում են միմյանց նկատմամբ | G59: ='H5'!E61 -> 150000 | H59: =G59 -> 150000 | I59: =H59 -> 150000
C60: 05 | F60: Խողովակաշարային և այլ տրանսպորտ | G60: =G62 -> -805600 | H60: =H62 -> -1805600 | I60: =I62 -> -2800000
F61: այդ թվում`
D62: 1157 | F62: Քաղաքային զարգացում | G62: =G64 -> -805600 | H62: =H64 -> -1805600 | I62: =I64 -> -2800000
F63: այդ թվում`
E64: 21002 | F64: Երևանի մետրոպոլիտենի ենթակառուցվածքների կառուցում | G64: =G66 -> -805600 | H64: =H66 -> -1805600 | I64: =I66 -> -2800000
F65: այդ թվում` ըստ կատարողների
F66: ՀՀ տարածքային կառավարման և ենթակառուցվածքների նախարարություն | G66: =G68 -> -805600 | H66: =H68 -> -1805600 | I66: =I68 -> -2800000
F67: այդ թվում` բյուջետային ծախսերի տնտեսագիտական դասակարգման հոդվածներ
F68: ԸՆԴԱՄԵՆԸ ԾԱԽՍԵՐ | G68: =G69 -> -805600 | H68: =H69 -> -1805600 | I68: =I69 -> -2800000
F69: ՈՉ ՖԻՆԱՆՍԱԿԱՆ ԱԿՏԻՎՆԵՐԻ ԳԾՈՎ ԾԱԽՍԵՐ | G69: =G70 -> -805600 | H69: =H70 -> -1805600 | I69: =I70 -> -2800000
F70: ՀԻՄՆԱԿԱՆ ՄԻՋՈՑՆԵՐ | G70: =G71 -> -805600 | H70: =H71 -> -1805600 | I70: =I71+I73 -> -2800000
F71: ՇԵՆՔԵՐ ԵՎ ՇԻՆՈՒԹՅՈՒՆՆԵՐ | G71: =G72 -> -805600 | H71: =H72 -> -1805600 | I71: =I72 -> -3565100
F72: - Շենքերի և շինությունների շինարարություն | G72: ='H6'!D13 -> -805600 | H72: ='H6'!E13 -> -1805600 | I72: ='H4'!E13 -> -3565100
F73: ԱՅԼ ՀԻՄՆԱԿԱՆ ՄԻՋՈՑՆԵՐ | G73: 0 | H73: 0 | I73: =I74 -> 765100
F74: - Նախագծահետազոտական ծախսեր | G74: 0 | H74: 0 | I74: ='H4'!G13 -> 765100
B75: 09 | F75: Տնտեսական հարաբերություններ (այլ դասերին չպատկանող) | G75: =G77 -> 225000 | H75: =H77 -> 910000 | I75: =I77 -> 910000
F76: այդ թվում`
C77: 01 | F77: Տնտեսական հարաբերություններ (այլ դասերին չպատկանող) | G77: =G80 -> 225000 | H77: =H80 -> 910000 | I77: =I80 -> 910000
D78: 1019 | F78: Սոցիալական ներդրումների և տեղական զարգացման ծրագիր | G78: =G80 -> 225000 | H78: =H80 -> 910000 | I78: =I80 -> 910000
F79: այդ թվում`
E80: 12004 | F80: Համաշխարհային բանկի աջակցությամբ իրականացվող Սոցիալական ներդրումների և տեղական զարգացման ծրագրի լրացուցիչ ֆինանսավորման վարկի շրջանակներում ՀՀ համայնքային և միջհամայնքային ենթակառուցվածքների որակի, օգտագործման և հասանելիության բարելավում | G80: =G83 -> 225000 | H80: =H83 -> 910000 | I80: =I83 -> 910000
F81: այդ թվում` ըստ կատարողների
F82: ՀՀ տարածքային կառավարման և ենթակառուցվածքների նախարարություն | G82: =G83 -> 225000 | H82: =H83 -> 910000 | I82: =I83 -> 910000
F83: այդ թվում` բյուջետային ծախսերի տնտեսագիտական դասակարգման հոդվածներ | G83: =G85 -> 225000 | H83: =H85 -> 910000 | I83: =I85 -> 910000
F84: ԸՆԴԱՄԵՆԸ ԾԱԽՍԵՐ | G84: =G85 -> 225000 | H84: =H85 -> 910000 | I84: =I85 -> 910000
F85: ՈՉ ՖԻՆԱՆՍԱԿԱՆ ԱԿՏԻՎՆԵՐԻ ԳԾՈՎ ԾԱԽՍԵՐ | G85: =G86 -> 225000 | H85: =H86 -> 910000 | I85: =I86 -> 910000
F86: ՀԻՄՆԱԿԱՆ ՄԻՋՈՑՆԵՐ | G86: =G87 -> 225000 | H86: =H87 -> 910000 | I86: =I87 -> 910000
F87: ՄԵՔԵՆԱՆԵՐ ԵՎ ՍԱՐՔԱՎՈՐՈՒՄՆԵՐ | G87: =G88 -> 225000 | H87: =H88 -> 910000 | I87: =I88 -> 910000
F88: - Վարչական սարքավորումներ | G88: ='H5'!E27 -> 225000 | H88: ='H5'!H27 -> 910000 | I88: ='H5'!L27 -> 910000
C125: ՀԱՅԱՍՏԱՆԻ ՀԱՆՐԱՊԵՏՈՒԹՅԱՆ ՎԱՐՉԱՊԵՏԻ ԱՇԽԱՏԱԿԱԶՄԻ ՂԵԿԱՎԱՐ՝ | G125: Ա.ՀԱՐՈՒԹՅՈՒՆՅԱՆ

Sheet H4
H1: Հավելված N4
G2: ՀՀ կառավարության 2024 թվականի
G3: ------------ N ---------- որոշման
A4: «ՀԱՅԱՍՏԱՆԻ ՀԱՆՐԱՊԵՏՈՒԹՅԱՆ 2024 ԹՎԱԿԱՆԻ ՊԵՏԱԿԱՆ ԲՅՈՒՋԵԻ ՄԱՍԻՆ» ՕՐԵՆՔԻ N 1 ՀԱՎԵԼՎԱԾԻ N 3 ԱՂՅՈՒՍԱԿՈՒՄ ԿԱՏԱՐՎՈՂ ՓՈՓՈԽՈՒԹՅՈՒՆԸ
G5: հազ.դրամ
A6: Ծրագրային դասիչ | C6: Բյուջետային գլխավոր կարգադրիչների ծրագրերի միջոցառումների և ուղղությունների անվանումները | D6: Ընդամենը հազ. դրամ | E6: Ցուցանիշների փոփոխությունը(ավելացումները նշված են դրական նշանով, իսկ նվազեցումները` փակագծերում)
E7: այդ թվում
A8: Ծրագիր | B8: Միջոցառում | E8: Կառուցման աշխատանքներ | F8: Վերակառուցման, վերանորոգման և վերականգնման աշխատանքներ | G8: Նախագծահե- տազոտական, գեոդեզիա- քարտեզագրա- կան աշխա- տանքներ | H8: Ոչ ֆինանսական այլ ակտիվների ձեռքբերում
C9: ԸՆԴԱՄԵՆԸ | D9: =E9+F9+G9+H9 -> -2800000 | E9: =E11 -> -3565100 | F9: =F11 -> 0 | G9: =G11 -> 765100 | H9: =H11 -> 0
C10: այդ թվում՝
C11: ՀՀ տարածքային կառավարման և ենթակառուցվածքների նախարարություն | D11: =E11+F11+G11+H11 -> -2800000 | E11: =E13 -> -3565100 | F11: =F13 -> 0 | G11: =G13 -> 765100 | H11: =H13 -> 0
C12: այդ թվում`
A13: 1157 | B13: 21002 | C13: Երևանի մետրոպոլիտենի ենթակառուցվածքների կառուցում | D13: =E13+F13+G13+H13 -> -2800000 | E13: ='H6'!F15-G13 -> -3565100 | F13: 0 | G13: 765100 | H13: 0
C16: ՀԱՅԱՍՏԱՆԻ ՀԱՆՐԱՊԵՏՈՒԹՅԱՆ
C17: ՎԱՐՉԱՊԵՏԻ ԱՇԽԱՏԱԿԱԶՄԻ ՂԵԿԱՎԱՐ՝ | D17: Ա. ՀԱՐՈՒԹՅՈՒՆՅԱՆ

Sheet H5
M1: Հավելված N5
M2: ՀՀ կառավարության 2024 թվականի
M3: ______________ ի ___Ն որոշման
B5: «ՀԱՅԱUՏԱՆԻ ՀԱՆՐԱՊԵՏՈՒԹՅԱՆ 2024 ԹՎԱԿԱՆԻ ՊԵՏԱԿԱՆ ԲՅՈՒՋԵԻ ՄԱUԻՆ» OՐԵՆՔԻ N 1 ՀԱՎԵԼՎԱԾԻ N 4 ԱՂՅՈՒՍԱԿՈՒՄ ԵՎ ՀԱՅԱՍՏԱՆԻ ՀԱՆՐԱՊԵՏՈՒԹՅԱՆ ԿԱՌԱՎԱՐՈՒԹՅԱՆ 2023 ԹՎԱԿԱՆԻ ԴԵԿՏԵՄԲԵՐԻ 28-Ի N 2323-Ն ՈՐՈՇՄԱՆ N 5 ՀԱՎԵԼՎԱԾԻ N 3 ԱՂՅՈՒՍԱԿՈՒՄ ԿԱՏԱՐՎՈՂ ԼՐԱՑՈՒՄՆԵՐԸ ԵՎ ՓՈՓՈԽՈՒԹՅՈՒՆՆԵՐԸ
M6: հազ. դրամ
B7: Ծրագրային դասիչը | D7: Բյուջետային գլխավոր կարգադրիչների, ծրագրերի և միջոցառումների անվանումները | E7: Ցուցանիշների փոփոխությունը (Ավելացումները նշված են դրական նշանով, իսկ նվազեցումները՝ փակագծերում)
E8: Առաջին կիսամյակ | H8: Ինն ամիս | K8: Տարի
E9: Ընդամենը | F9: այդ թվում` | H9: Ընդամենը | I9: այդ թվում` | K9: Ընդամենը | L9: այդ թվում`
B10: Ծրագիր | C10: Միջոցառում | F10: Վարկային միջոցներ | G10: Համաֆինան սավորում | I10: Վարկային միջոցներ | J10: Համաֆինան սավորում | L10: Վարկային միջոցներ | M10: Համաֆինան սավորում
D11: ԸՆԴԱՄԵՆԸ | E11: =E13+E14 -> 3531584.1 | F11: =F13+F14 -> 0 | G11: =G13+G14 -> 3531584.1 | H11: =H13+H14 -> 3451584.1 | I11: =I13+I14 -> 0 | J11: =J13+J14 -> 3451584.1 | K11: =K13+K14 -> 2800000 | L11: =L13+L14 -> 0 | M11: =M13+M14 -> 2800000
D12: այդ թվում`
D13: ԸՆԹԱՑԻԿ ԾԱԽՍԵՐ | E13: =E45+E56 -> 3931584.1 | F13: =F45+F56 -> 0 | G13: =G45+G56 -> 3931584.1 | H13: =H45+H56 -> 3931584.1 | I13: =I45+I56 -> 0 | J13: =J45+J56 -> 3931584.1 | K13: =K45+K56 -> 3931584.1 | L13: =L45+L56 -> 0 | M13: =M45+M56 -> 3931584.1
D14: ՈՉ ՖԻՆԱՆՍԱԿԱՆ ԱԿՏԻՎՆԵՐԻ ԳԾՈՎ ԾԱԽՍԵՐ | E14: =E23+E34 -> -400000 | F14: =F23+F34 -> 0 | G14: =G23+G34 -> -400000 | H14: =H23+H34 -> -480000 | I14: =I23+I34 -> 0 | J14: =J23+J34 -> -480000 | K14: =K23+K34 -> -1131584.1 | L14: =L23+L34 -> 0 | M14: =M23+M34 -> -1131584.1
D15: ՀՀ ՏԱՐԱԾՔԱՅԻՆ ԿԱՌԱՎԱՐՄԱՆ ԵՎ ԵՆԹԱԿԱՌՈՒՑՎԱԾՔՆԵՐԻ ՆԱԽԱՐԱՐՈՒԹՅՈՒՆ | E15: =E38+E16+E27 -> 3531584.1 | F15: =F38+F16+F27 -> 0 | G15: =G38+G16+G27 -> 3531584.1 | H15: =H38+H16+H27 -> 3451584.1 | I15: =I38+I16+I27 -> 0 | J15: =J38+J16+J27 -> 3451584.1 | K15: =K38+K16+K27 -> 2800000 | L15: =L38+L16+L27 -> 0 | M15: =M38+M16+M27 -> 2800000
B16: 1004 | D16: Ոռոգման համակարգի առողջացում | E16: =E18 -> -625000 | F16: =F18 -> -225000 | G16: =G18 -> -400000 | H16: =I16+J16 -> -1390000 | I16: =I18 -> -910000 | J16: =J18 -> -480000 | K16: =L16+M16 -> -2041584.1 | L16: =L18 -> -910000 | M16: =M18 -> -1131584.1
D17: այդ թվում` | H17: =I17+J17 -> 0 | K17: =L17+M17 -> 0 | L17: 0
C18: 31004 | D18: Գերմանիայի զարգացման վարկերի բանկի աջակցությամբ իրականացվող Ախուրյան գետի ջրային ռեսուրսների ինտեգրված կառավարման ծրագրի շրջանակներում ջրային տնտեսության ենթակառուցվածքների հիմնանորոգում | E18: =E20 -> -625000 | F18: =F20 -> -225000 | G18: =G20 -> -400000 | H18: =I18+J18 -> -1390000 | I18: =I20 -> -910000 | J18: =J20 -> -480000 | K18: =L18+M18 -> -2041584.1 | L18: =L20 -> -910000 | M18: =M20 -> -1131584.1
D19: այդ թվում` ըստ կատարողների | H19: =I19+J19 -> 0 | K19: =L19+M19 -> 0 | L19: 0
D20: ՀՀ տարածքային կառավարման և ենթակառուցվածքների նախարարության ջրային կոմիտե | E20: =E22 -> -625000 | F20: =F22 -> -225000 | G20: =G22 -> -400000 | H20: =I20+J20 -> -1390000 | I20: =I22 -> -910000 | J20: =J22 -> -480000 | K20: =L20+M20 -> -2041584.1 | L20: =L22 -> -910000 | M20: =M22 -> -1131584.1
D21: այդ թվում` բյուջետային ծախսերի տնտեսագիտական դասակարգման հոդվածներ | H21: =I21+J21 -> 0 | K21: =L21+M21 -> 0
D22: ԸՆԴԱՄԵՆԸ ԾԱԽՍԵՐ | E22: =E23 -> -625000 | F22: =F23 -> -225000 | G22: =G23 -> -400000 | H22: =I22+J22 -> -1390000 | I22: =I23 -> -910000 | J22: =J23 -> -480000 | K22: =L22+M22 -> -2041584.1 | L22: =L25 -> -910000 | M22: =M23 -> -1131584.1
D23: ՈՉ ՖԻՆԱՆՍԱԿԱՆ ԱԿՏԻՎՆԵՐԻ ԳԾՈՎ ԾԱԽՍԵՐ | E23: =E24 -> -625000 | F23: =F24 -> -225000 | G23: =G24 -> -400000 | H23: =I23+J23 -> -1390000 | I23: =I24 -> -910000 | J23: =J24 -> -480000 | K23: =L23+M23 -> -2041584.1 | L23: =L24 -> -910000 | M23: =M24 -> -1131584.1
D24: ՀԻՄՆԱԿԱՆ ՄԻՋՈՑՆԵՐ | E24: =E25 -> -625000 | F24: =F25 -> -225000 | G24: =G25 -> -400000 | H24: =I24+J24 -> -1390000 | I24: =I25 -> -910000 | J24: =J25 -> -480000 | K24: =L24+M24 -> -2041584.1 | L24: =L25 -> -910000 | M24: =M25 -> -1131584.1
D25: ՇԵՆՔԵՐ ԵՎ ՇԻՆՈՒԹՅՈՒՆՆԵՐ | E25: =E26 -> -625000 | F25: =F26 -> -225000 | G25: =G26 -> -400000 | H25: =I25+J25 -> -1390000 | I25: =I26 -> -910000 | J25: =J26 -> -480000 | K25: =L25+M25 -> -2041584.1 | L25: =L26 -> -910000 | M25: =M26 -> -1131584.1
D26: - Շենքերի և շինությունների շինարարություն | E26: =F26+G26 -> -625000 | F26: -225000 | G26: -400000 | H26: =I26+J26 -> -1390000 | I26: =-I27 -> -910000 | J26: -480000 | K26: =L26+M26 -> -2041584.1 | L26: =-L27 -> -910000 | M26: -1131584.1
B27: 1019 | D27: Սոցիալական ներդրումների և տեղական զարգացման ծրագիր | E27: =+E29 -> 225000 | F27: =+F29 -> 225000 | G27: =+G29 -> 0 | H27: =+H29 -> 910000 | I27: =+I29 -> 910000 | J27: =+J29 -> 0 | K27: =+K29 -> 910000 | L27: =+L29 -> 910000 | M27: =+M29 -> 0
D28: այդ թվում`
C29: 12004 | D29: Համաշխարհային բանկի աջակցությամբ իրականացվող Սոցիալական ներդրումների և տեղական զարգացման ծրագրի լրացուցիչ ֆինանսավորման վարկի շրջանակներում ՀՀ համայնքային և միջհամայնքային ենթակառուցվածքների որակի, օգտագործման և հասանելիության բարելավում | E29: =+F29+G29 -> 225000 | F29: =+F31 -> 225000 | G29: =+G31 -> 0 | H29: =+I29+J29 -> 910000 | I29: =+I31 -> 910000 | J29: =+J31 -> 0 | K29: =+L29+M29 -> 910000 | L29: =+L31 -> 910000 | M29: =+M31 -> 0
D30: այդ թվում` ըստ կատարողների
D31: ՀՀ տարածքային կառավարման և ենթակառուցվածքների նախարարություն | E31: =F31+G31 -> 225000 | F31: =+F33 -> 225000 | G31: =+G33 -> 0 | H31: =I31+J31 -> 910000 | I31: =+I33 -> 910000 | J31: =+J33 -> 0 | K31: =L31+M31 -> 910000 | L31: =+L33 -> 910000 | M31: =+M33 -> 0
D32: այդ թվում` բյուջետային ծախսերի տնտեսագիտական դասակարգման հոդվածներ
D33: ԸՆԴԱՄԵՆԸ ԾԱԽՍԵՐ | E33: =+F33+G33 -> 225000 | F33: =+F34 -> 225000 | G33: =+G34 -> 0 | H33: =+I33+J33 -> 910000 | I33: =+I34 -> 910000 | J33: =+J34 -> 0 | K33: =+L33+M33 -> 910000 | L33: =+L34 -> 910000 | M33: =+M34 -> 0
D34: ՈՉ ՖԻՆԱՆՍԱԿԱՆ ԱԿՏԻՎՆԵՐԻ ԳԾՈՎ ԾԱԽՍԵՐ | E34: =+F34+G34 -> 225000 | F34: =+F35 -> 225000 | G34: =+G35 -> 0 | H34: =+I34+J34 -> 910000 | I34: =+I35 -> 910000 | J34: =+J35 -> 0 | K34: =+L34+M34 -> 910000 | L34: =+L35 -> 910000 | M34: =+M35 -> 0
D35: ՀԻՄՆԱԿԱՆ ՄԻՋՈՑՆԵՐ | E35: =+F35+G35 -> 225000 | F35: =+F36 -> 225000 | G35: =+G36 -> 0 | H35: =+I35+J35 -> 910000 | I35: =+I36 -> 910000 | J35: =+J36 -> 0 | K35: =+L35+M35 -> 910000 | L35: =+L36 -> 910000 | M35: =+M36 -> 0
D36: ՄԵՔԵՆԱՆԵՐ ԵՎ ՍԱՐՔԱՎՈՐՈՒՄՆԵՐ | E36: =+F36+G36 -> 225000 | F36: =F37 -> 225000 | G36: =G37 -> 0 | H36: =+I36+J36 -> 910000 | I36: =I37 -> 910000 | J36: =J37 -> 0 | K36: =+L36+M36 -> 910000 | L36: =L37 -> 910000 | M36: =M37 -> 0
D37: - Վարչական սարքավորումներ | E37: =+F37+G37 -> 225000 | F37: 225000 | H37: =+I37+J37 -> 910000 | I37: 910000 | K37: =+L37+M37 -> 910000 | L37: 910000
B38: 1049 | D38: Ճանապարհային ցանցի բարելավում | E38: =E40+E51 -> 3931584.1 | F38: =F40+F51 -> 0 | G38: =G40+G51 -> 3931584.1 | H38: =H40+H51 -> 3931584.1 | I38: =I40+I51 -> 0 | J38: =J40+J51 -> 3931584.1 | K38: =K40+K51 -> 3931584.1 | L38: 0 | M38: =M40+M51 -> 3931584.1
D39: այդ թվում` | L39: 0
C40: 11012 | D40: Եվրասիական զարգացման բանկի աջակցությամբ իրականացվող Հյուսիս-հարավ միջանցքի զարգացման ծրագրի համակարգում և կառավարում | E40: =F40+G40 -> 2931000 | F40: 0 | G40: =G42 -> 2931000 | H40: =I40+J40 -> 2931000 | I40: 0 | J40: =J42 -> 2931000 | K40: =L40+M40 -> 2931000 | L40: 0 | M40: =J40 -> 2931000
D41: այդ թվում` ըստ կատարողների | E41: =F41+G41 -> 0 | I41: 0 | L41: 0
D42: ՀՀ տարածքային կառավարման և ենթակառուցվածքների նախարարություն | E42: =F42+G42 -> 2931000 | F42: 0 | G42: =G44 -> 2931000 | H42: =I42+J42 -> 2931000 | I42: 0 | J42: =J44 -> 2931000 | K42: =L42+M42 -> 2931000 | L42: 0 | M42: =J42 -> 2931000
D43: այդ թվում` բյուջետային ծախսերի տնտեսագիտական դասակարգման հոդվածներ | E43: =F43+G43 -> 0 | F43: 0 | I43: 0 | L43: 0
D44: ԸՆԴԱՄԵՆԸ ԾԱԽՍԵՐ | E44: =F44+G44 -> 2931000 | F44: 0 | G44: =G45 -> 2931000 | H44: =I44+J44 -> 2931000 | I44: 0 | J44: =J45 -> 2931000 | K44: =L44+M44 -> 2931000 | L44: 0 | M44: =J44 -> 2931000
D45: ԸՆԹԱՑԻԿ ԾԱԽՍԵՐ | E45: =F45+G45 -> 2931000 | F45: 0 | G45: =G46+G49 -> 2931000 | H45: =I45+J45 -> 2931000 | I45: 0 | J45: =J46+J49 -> 2931000 | K45: =L45+M45 -> 2931000 | L45: 0 | M45: =J45 -> 2931000
D46: ԴՐԱՄԱՇՆՈՐՀՆԵՐ | E46: =F46+G46 -> 2631000 | F46: 0 | G46: =G47 -> 2631000 | H46: =I46+J46 -> 2631000 | I46: 0 | J46: =J47 -> 2631000 | K46: =L46+M46 -> 2631000 | L46: 0 | M46: =J46 -> 2631000
D47: Կապիտալ դրամաշնորհներ պետական հատվածի այլ մակարդակներին | E47: =F47+G47 -> 2631000 | F47: 0 | G47: =G48 -> 2631000 | H47: =I47+J47 -> 2631000 | I47: 0 | J47: =J48 -> 2631000 | K47: =L47+M47 -> 2631000 | L47: 0 | M47: =J47 -> 2631000
D48: - Այլ կապիտալ դրամաշնորհներ | E48: =F48+G48 -> 2631000 | F48: 0 | G48: 2631000 | H48: =I48+J48 -> 2631000 | I48: 0 | J48: =G48 -> 2631000 | K48: =L48+M48 -> 2631000 | L48: 0 | M48: =J48 -> 2631000
D49: ԱՅԼ ԾԱԽՍԵՐ | E49: =F49+G49 -> 300000 | F49: 0 | G49: =G50 -> 300000 | H49: =I49+J49 -> 300000 | I49: 0 | J49: =J50 -> 300000 | K49: =L49+M49 -> 300000 | L49: 0 | M49: =J49 -> 300000
D50: Հարկեր, պարտադիր վճարներ և տույժեր, որոնք կառավարման տարբեր մակարդակների կողմից կիրառվում են միմյանց նկատմամբ | E50: =F50+G50 -> 300000 | F50: 0 | G50: 300000 | H50: =I50+J50 -> 300000 | I50: 0 | J50: =G50 -> 300000 | K50: =L50+M50 -> 300000 | L50: 0 | M50: =J50 -> 300000
C51: 11017 | D51: Հյուսիս-հարավ ճանապարհային միջանցքի զարգացման ծրագրի Քաջարանի թունելի և մոտեցումների համակարգում և կառավարում | E51: =F51+G51 -> 1000584.1 | F51: 0 | G51: =G53 -> 1000584.1 | H51: =I51+J51 -> 1000584.1 | I51: 0 | J51: =J53 -> 1000584.1 | K51: =L51+M51 -> 1000584.1 | L51: 0 | M51: =M53 -> 1000584.1
D52: այդ թվում` ըստ կատարողների | F52: 0 | I52: 0 | L52: 0
D53: ՀՀ տարածքային կառավարման և ենթակառուցվածքների նախարարություն | E53: =F53+G53 -> 1000584.1 | F53: 0 | G53: =G55 -> 1000584.1 | H53: =I53+J53 -> 1000584.1 | I53: 0 | J53: =J55 -> 1000584.1 | K53: =L53+M53 -> 1000584.1 | L53: 0 | M53: =M55 -> 1000584.1
D54: այդ թվում` բյուջետային ծախսերի տնտեսագիտական դասակարգման հոդվածներ | F54: 0 | I54: 0 | L54: 0
D55: ԸՆԴԱՄԵՆԸ ԾԱԽՍԵՐ | E55: =F55+G55 -> 1000584.1 | F55: 0 | G55: =G56 -> 1000584.1 | H55: =I55+J55 -> 1000584.1 | I55: 0 | J55: =J56 -> 1000584.1 | K55: =L55+M55 -> 1000584.1 | L55: 0 | M55: =M56 -> 1000584.1
D56: ԸՆԹԱՑԻԿ ԾԱԽՍԵՐ | E56: =F56+G56 -> 1000584.1 | F56: 0 | G56: =G57+G60 -> 1000584.1 | H56: =I56+J56 -> 1000584.1 | I56: 0 | J56: =J57+J61 -> 1000584.1 | K56: =L56+M56 -> 1000584.1 | L56: 0 | M56: =M57+M60 -> 1000584.1
D57: ԴՐԱՄԱՇՆՈՐՀՆԵՐ | E57: =F57+G57 -> 850584.1 | F57: 0 | G57: =G58 -> 850584.1 | H57: =I57+J57 -> 850584.1 | I57: 0 | J57: =J58 -> 850584.1 | K57: =L57+M57 -> 850584.1 | L57: 0 | M57: =M58 -> 850584.1
D58: Կապիտալ դրամաշնորհներ պետական հատվածի այլ մակարդակներին | E58: =F58+G58 -> 850584.1 | F58: 0 | G58: =G59 -> 850584.1 | H58: =I58+J58 -> 850584.1 | I58: 0 | J58: =J59 -> 850584.1 | K58: =L58+M58 -> 850584.1 | L58: 0 | M58: =M59 -> 850584.1
D59: - Այլ կապիտալ դրամաշնորհներ | E59: =F59+G59 -> 850584.1 | F59: 0 | G59: 850584.1 | H59: =I59+J59 -> 850584.1 | I59: 0 | J59: =G59 -> 850584.1 | K59: =L59+M59 -> 850584.1 | L59: 0 | M59: =J59 -> 850584.1
D60: ԱՅԼ ԾԱԽՍԵՐ | E60: =F60+G60 -> 150000 | F60: 0 | G60: =G61 -> 150000 | H60: =I60+J60 -> 150000 | I60: 0 | J60: =J61 -> 150000 | K60: =L60+M60 -> 150000 | L60: 0 | M60: =M61 -> 150000
D61: Հարկեր, պարտադիր վճարներ և տույժեր, որոնք կառավարման տարբեր մակարդակների կողմից կիրառվում են միմյանց նկատմամբ | E61: =F61+G61 -> 150000 | F61: 0 | G61: 150000 | H61: =I61+J61 -> 150000 | I61: 0 | J61: =G61 -> 150000 | K61: =L61+M61 -> 150000 | L61: 0 | M61: =J61 -> 150000

Sheet H6
F1: Հավելված N6
C2: ՀՀ կառավարության 2024թվականի
C3: ______________ ի ___Ն որոշման
A5: ՀԱՅԱUՏԱՆԻ ՀԱՆՐԱՊԵՏՈՒԹՅԱՆ ԿԱՌԱՎԱՐՈՒԹՅԱՆ 2023 ԹՎԱԿԱՆԻ ԴԵԿՏԵՄԲԵՐԻ 28-Ի N 2323-Ն ՈՐՈՇՄԱՆ N 5 ՀԱՎԵԼՎԱԾԻ N 2 ԱՂՅՈՒՍԱԿՈՒՄ ԿԱՏԱՐՎՈՂ ՓՈՓՈԽՈՒԹՅՈՒՆԸ
F6: հազ. դրամ
A7: Ծրագրային դասիչը | C7: Բյուջետային գլխավոր կարգադրիչների, ծրագրերի, միջոցառումների և ուղղությունների անվանումները | D7: Ցուցանիշների փոփոխությունը ( նվազեցումները` նշված են փակագծերում)
A8: Ծրագիր | B8: Միջոց_x000D_առում | D8: Առաջին կիսամյակ | E8: Ինն ամիս | F8: Տարի
C9: ԸՆԴԱՄԵՆԸ | D9: =D11 -> -805600 | E9: =E11 -> -1805600 | F9: =F11 -> -2800000
C10: այդ թվում`
C11: =[1]h2!C11 -> ՀՀ տարածքային կառավարման և ենթակառուցվածքների նախարարություն | D11: =D13 -> -805600 | E11: =E13 -> -1805600 | F11: =F13 -> -2800000
C12: այդ թվում`
A13: 1157 | B13: 21002 | C13: Երևանի մետրոպոլիտենի ենթակառուցվածքների կառուցում | D13: =D15 -> -805600 | E13: =E15 -> -1805600 | F13: =F15 -> -2800000
C14: այդ թվում` ըստ կատարողների
C15: ՀՀ տարածքային կառավարման և ենթակառուցվածքների նախարարություն | D15: -805600 | E15: -1805600 | F15: -2800000
C18: ՀԱՅԱՍՏԱՆԻ ՀԱՆՐԱՊԵՏՈՒԹՅԱՆ ՎԱՐՉԱՊԵՏԻ ԱՇԽԱՏԱԿԱԶՄԻ ՂԵԿԱՎԱՐ՝ | F18: Ա.ՀԱՐՈՒԹՅՈՒՆՅԱՆ

Sheet H7
D1: Հավելված N7
C2: ՀՀ կառավարության 2024 թվականի
C3: ______________ ի ___Ն որոշման
A5: ՀԱՅԱՍՏԱՆԻ ՀԱՆՐԱՊԵՏՈՒԹՅԱՆ ԿԱՌԱՎԱՐՈՒԹՅԱՆ 2023 ԹՎԱԿԱՆԻ ԴԵԿՏԵՄԲԵՐԻ 28-Ի N 2323-Ն ՈՐՈՇՄԱՆ N 8 ՀԱՎԵԼՎԱԾՈՒՄ ԿԱՏԱՐՎՈՂ ԼՐԱՑՈՒՄԸ
D7: հազ. դրամ
A8: Ծրագրային դասիչը | C8: Բյուջետային հատակացումների գլխավոր կարգադրիչներ, ծրագրերի, միջոցառումների անվանումները | D8: Ցուցանիշների փոփոխությունը (նվազեցումները` նշված են փակագծերում)
A9: Ծրագիր | B9: Միջոցառում
C10: ԸՆԴԱՄԵՆԸ | D10: =SUM(D11) -> -2800000
A11: 1157 | C11: Քաղաքային զարգացում | D11: =D12 -> -2800000
B12: 21002 | C12: Երևանի մետրոպոլիտենի ենթակառուցվածքների կառուցում | D12: ='H6'!F13 -> -2800000
A17: ՀԱՅԱՍՏԱՆԻ ՀԱՆՐԱՊԵՏՈՒԹՅԱՆ
A18: ՎԱՐՉԱՊԵՏԻ ԱՇԽԱՏԱԿԱԶՄԻ
B19: ՂԵԿԱՎԱՐ՝ | D19: Ա. ՀԱՐՈՒԹՅՈՒՆՅԱՆ

Sheet H8
E1: Հավելված N 8
E2: ՀՀ կառավարության 2024 թվականի
E3: ______________ ի ___Ն որոշման
A5: ՀԱՅԱՍՏԱՆԻ ՀԱՆՐԱՊԵՏՈՒԹՅԱՆ ԿԱՌԱՎԱՐՈՒԹՅԱՆ 2023 ԹՎԱԿԱՆԻ ԴԵԿՏԵՄԲԵՐԻ 28-Ի N 2323-Ն ՈՐՈՇՄԱՆ N 9 ՀԱՎԵԼՎԱԾԻ NN 9.7 ԱՂՅՈՒՍԱԿՈՒՄ ԿԱՏԱՐՎՈՂ ՓՈՓՈԽՈՒԹՅՈՒՆՆԵՐԸ ԵՎ ԼՐԱՑՈՒՄՆԵՐԸ
E6: Աղյուսակ 9.7
A7: ՀՀ ՏԱՐԱԾՔԱՅԻՆ ԿԱՌԱՎԱՐՄԱՆ ԵՎ ԵՆԹԱԿԱՌՈՒՑՎԱԾՔՆԵՐԻ ՆԱԽԱՐԱՐՈՒԹՅՈՒՆ
A8: ՄԱՍ 2. ՊԵՏԱԿԱՆ ՄԱՐՄՆԻ ԳԾՈՎ ԱՐԴՅՈՒՆՔԱՅԻՆ (ԿԱՏԱՐՈՂԱԿԱՆ) ՑՈՒՑԱՆԻՇՆԵՐԸ
A9: Ծրագրի դասիչը | B9: Ծրագրի անվանումը
A10: 1004 | B10: Ոռոգման համակարգի առողջացում
A11: Ծրագրի միջոցառումները
A12: Ծրագրի դասիչը` | B12: 1004 | C12: Ցուցանիշների փոփոխությունը (նվազեցումները նշված են փակագծերում)
A13: Միջոցառման դասիչը` | B13: 31004 | C13: Առաջին կիսամյակ | D13: Ինն ամիս | E13: Տարի
A14: Միջոցառման անվանումը` | B14: Գերմանիայի զարգացման վարկերի բանկի աջակցությամբ իրականացվող Ախուրյան գետի ջրային ռեսուրսների ինտեգրված կառավարման ծրագրի շրջանակներում ջրային տնտեսության ենթակառուցվածքների հիմնանորոգում
A15: Նկարագրությունը` | B15: Գերմանիայի զարգացման վարկերի բանկի աջակցությամբ իրականացվող Ախուրյան գետի ջրային ռեսուրսների ինտեգրված կառավարման ծրագիր
A16: Միջոցառման տեսակը` | B16: Պետական մարմինների կողմից օգտագործվող ոչ ֆինանսական ակտիվների հետ գործառնություններ
A17: Ակտիվն օգտագործող կազմակերպության(ների) անվանում(ները)՛ | B17: Մասնագիտացված միավոր
A18: Արդյունքի չափորոշիչներ
A19: Թունելների վերակառուցում, մ | C19: -135 | E19: =C19 -> -135
A20: Միջոցառման վրա կատարվող ծախսը (հազար դրամ) | C20: ='H2'!D20 -> -625000 | D20: ='H2'!E20 -> -1390000 | E20: ='H2'!F20 -> -2041584.1
A22: Ծրագրի դասիչը | B22: Ծրագրի անվանումը
A23: 1019 | B23: Սոցիալական ներդրումների և տեղական զարգացման ծրագիր
A25: Ծրագրի միջոցառումները
A26: Ծրագրի դասիչը` | B26: 1019 | C26: Ցուցանիշների փոփոխությունը (ավելացումները նշված են դրական նշանով)
A27: Միջոցառման դասիչը` | B27: 12004 | C27: Առաջին կիսամյակ | D27: Ինն ամիս | E27: Տարի
A28: Միջոցառման անվանումը` | B28: Համաշխարհային բանկի աջակցությամբ իրականացվող Սոցիալական ներդրումների և տեղական զարգացման ծրագրի լրացուցիչ ֆինանսավորման վարկի շրջանակներում ՀՀ համայնքային և միջհամայնքային ենթակառուցվածքների որակի, օգտագործման և հասանելիության բարելավում:
A29: Նկարագրությունը` | B29: Ջրագծերի, առողջապահության, կրթության օբյեկտների, մշակույթային տների, ծերանոցների, մանկատների, հատուկ դպրոցների, մանկապարտզների և կոյուղու օբյեկտնրի հիմն. և շինարարություն., գույքի և սարքավորումների տրամադրում շահառու ենթածրագրերի համար:
A30: Միջոցառման տեսակը` | B30: Տրանսֆերտների տրամադրում
A31: Շահառուների ընտրության չափանիշները | B31: ՀՀ բնակչություն
A32: Արդյունքի չափորոշիչներ
A33: Միջոցառման վրա կատարվող ծախսը (հազար դրամ) | C33: ='H2'!D33 -> 225000 | D33: ='H2'!E33 -> 910000 | E33: ='H2'!F33 -> 910000
A35: Ծրագրի դասիչը | B35: Ծրագրի անվանումը
A36: 1049 | B36: Ճանապարհային ցանցի բարելավում
A38: Ծրագրի միջոցառումները
A39: Ծրագրի դասիչը` | B39: 1049 | C39: Ցուցանիշների փոփոխությունը (ավելացումները նշված են դրական նշանով)
A40: Միջոցառման դասիչը` | B40: 11012 | C40: Առաջին կիսամյակ | D40: Ինն ամիս | E40: Տարի
A41: Միջոցառման անվանումը` | B41: Եվրասիական զարգացման բանկի աջակցությամբ իրականացվող Հյուսիս-հարավ միջանցքի զարգացման ծրագրի համակարգում և կառավարում
A42: Նկարագրությունը` | B42: Խորհրդատվական ծառայություններ և պահպանման ծախսեր
A43: Միջոցառման տեսակը` | B43: Ծառայությունների մատուցում
A44: Միջոցառումն իրականացնողի անվանումը՛ | B44: Մասնագիտացված միավոր
A45: Արդյունքի չափորոշիչներ
A46: Միջոցառման վրա կատարվող ծախսը (հազար դրամ) | C46: ='H2'!D46 -> 2931000 | D46: ='H2'!E46 -> 2931000 | E46: ='H2'!F46 -> 2931000
A48: Ծրագրի դասիչը` | B48: 1049 | C48: Ցուցանիշների փոփոխությունը (ավելացումները նշված են դրական նշանով)
A49: Միջոցառման դասիչը` | B49: 11017 | C49: Առաջին կիսամյակ | D49: Ինն ամիս | E49: Տարի
A50: Միջոցառման անվանումը` | B50: Հյուսիս-հարավ ճանապարհային միջանցքի զարգացման ծրագրի Քաջարանի թունելի և մոտեցումների համակարգում և կառավարում
A51: Նկարագրությունը` | B51: Հյուսիս-հարավ ճանապարհային միջանցքի զարգացման ծրագրի շրջանակներում հողերի օտարում (Քաջարանի թունել և մոտեցում)
A52: Միջոցառման տեսակը` | B52: Ծառայությունների մատուցում
A53: Միջոցառումն իրականացնողի անվանումը՛ | B53: Մասնագիտացված միավոր
A54: Արդյունքի չափորոշիչներ
A55: Միջոցառման վրա կատարվող ծախսը (հազար դրամ) | C55: ='H2'!D52 -> 1000584.1 | D55: ='H2'!E52 -> 1000584.1 | E55: ='H2'!F52 -> 1000584.1
A57: Ծրագրի դասիչը | B57: Ծրագրի անվանումը
A58: 1157 | B58: Քաղաքային զարգացում
A60: Ծրագրի միջոցառումները
A61: Ծրագրի դասիչը` | B61: 1157 | C61: Ցուցանիշների փոփոխությունը (նվազեցումները նշված են փակագծերում)
A62: Միջոցառման դասիչը` | B62: 21002 | C62: Առաջին կիսամյակ | D62: Ինն ամիս | E62: Տարի
A63: Միջոցառման անվանումը` | B63: Երևանի մետրոպոլիտենի ենթակառուցվածքների կառուցում
A64: Նկարագրությունը` | B64: Երևանի մետրոպոլիտենի ենթակառուցվածքների կառուցում
A65: Միջոցառման տեսակը` | B65: Հանրության կողմից անմիջականորեն օգտագործվող ակտիվների հետ կապված միջոցառումներ
A66: Շահառուների ընտրության չափանիշները | B66: ՀՀ բնակչություն
A67: Արդյունքի չափորոշիչներ
A68: Միջոցառման վրա կատարվող ծախսը (հազար դրամ) | C68: ='H2'!D65 -> -805600 | D68: ='H2'!E65 -> -1805600 | E68: ='H2'!F65 -> -2800000

Sheet H9
E1: Հավելված N 9
E2: ՀՀ կառավարության 2024 թվականի
E3: ______________ ի ___Ն որոշման
A5: ՀԱՅԱՍՏԱՆԻ ՀԱՆՐԱՊԵՏՈՒԹՅԱՆ ԿԱՌԱՎԱՐՈՒԹՅԱՆ 2023 ԹՎԱԿԱՆԻ ԴԵԿՏԵՄԲԵՐԻ 28-Ի N 2323-Ն ՈՐՈՇՄԱՆ N 9.1 ՀԱՎԵԼՎԱԾԻ NN 9.1.7 ԵՎ 9.1․25 ԱՂՅՈՒՍԱԿՆԵՐՈՒՄ ԿԱՏԱՐՎՈՂ ՓՈՓՈԽՈՒԹՅՈՒՆՆԵՐԸ ԵՎ ԼՐԱՑՈՒՄՆԵՐԸ
E7: Աղյուսակ 9.1.7
A8: ՀՀ ՏԱՐԱԾՔԱՅԻՆ ԿԱՌԱՎԱՐՄԱՆ ԵՎ ԵՆԹԱԿԱՌՈՒՑՎԱԾՔՆԵՐԻ ՆԱԽԱՐԱՐՈՒԹՅՈՒՆ
A9: ՄԱՍ 1. ՊԵՏԱԿԱՆ ՄԱՐՄՆԻ ԳԾՈՎ ԱՐԴՅՈՒՆՔԱՅԻՆ (ԿԱՏԱՐՈՂԱԿԱՆ) ՑՈՒՑԱՆԻՇՆԵՐԸ
A10: Ծրագրի դասիչը | B10: Ծրագրի անվանումը
A11: 1019 | B11: Սոցիալական ներդրումների և տեղական զարգացման ծրագիր
A13: Ծրագրի միջոցառումները
A14: Ծրագրի դասիչը` | B14: 1019 | C14: Ցուցանիշների փոփոխությունը (ավելացումները նշված են դրական նշանով)
A15: Միջոցառման դասիչը` | B15: 12004 | C15: Առաջին կիսամյակ | D15: Ինն ամիս | E15: Տարի
A16: Միջոցառման անվանումը` | B16: Համաշխարհային բանկի աջակցությամբ իրականացվող Սոցիալական ներդրումների և տեղական զարգացման ծրագրի լրացուցիչ ֆինանսավորման վարկի շրջանակներում ՀՀ համայնքային և միջհամայնքային ենթակառուցվածքների որակի, օգտագործման և հասանելիության բարելավում:
A17: Նկարագրությունը` | B17: Ջրագծերի, առողջապահության, կրթության օբյեկտների, մշակույթային տների, ծերանոցների, մանկատների, հատուկ դպրոցների, մանկապարտզների և կոյուղու օբյեկտնրի հիմն. և շինարարություն., գույքի և սարքավորումների տրամադրում շահառու ենթածրագրերի համար:
A18: Միջոցառման տեսակը` | B18: Տրանսֆերտների տրամադրում
A19: Շահառուների ընտրության չափանիշները | B19: ՀՀ բնակչություն
A20: Արդյունքի չափորոշիչներ
A21: Միջոցառման վրա կատարվող ծախսը (հազար դրամ) | C21: ='H8'!C33 -> 225000 | D21: ='H8'!D33 -> 910000 | E21: ='H8'!E33 -> 910000
A23: Ծրագրի դասիչը | B23: Ծրագրի անվանումը
A24: 1049 | B24: Ճանապարհային ցանցի բարելավում
A26: Ծրագրի միջոցառումները
A27: Ծրագրի դասիչը` | B27: 1049 | C27: Ցուցանիշների փոփոխությունը (ավելացումները նշված են դրական նշանով)
A28: Միջոցառման դասիչը` | B28: 11012 | C28: Առաջին կիսամյակ | D28: Ինն ամիս | E28: Տարի
A29: Միջոցառման անվանումը` | B29: Եվրասիական զարգացման բանկի աջակցությամբ իրականացվող Հյուսիս-հարավ միջանցքի զարգացման ծրագրի համակարգում և կառավարում
A30: Նկարագրությունը` | B30: Խորհրդատվական ծառայություններ և պահպանման ծախսեր
A31: Միջոցառման տեսակը` | B31: Ծառայությունների մատուցում
A32: Միջոցառումն իրականացնողի անվանումը՛ | B32: Մասնագիտացված միավոր
A33: Արդյունքի չափորոշիչներ
A34: Միջոցառման վրա կատարվող ծախսը (հազար դրամ) | C34: ='H2'!D46 -> 2931000 | D34: ='H2'!E46 -> 2931000 | E34: ='H2'!F46 -> 2931000
A37: Ծրագրի դասիչը` | B37: 1049 | C37: Ցուցանիշների փոփոխությունը (ավելացումները նշված են դրական նշանով)
A38: Միջոցառման դասիչը` | B38: 11017 | C38: Առաջին կիսամյակ | D38: Ինն ամիս | E38: Տարի
A39: Միջոցառման անվանումը` | B39: Հյուսիս-հարավ ճանապարհային միջանցքի զարգացման ծրագրի Քաջարանի թունելի և մոտեցումների համակարգում և կառավարում
A40: Նկարագրությունը` | B40: Հյուսիս-հարավ ճանապարհային միջանցքի զարգացման ծրագրի շրջանակներում հողերի օտարում (Քաջարանի թունել և մոտեցում)
A41: Միջոցառման տեսակը` | B41: Ծառայությունների մատուցում
A42: Միջոցառումն իրականացնողի անվանումը՛ | B42: Մասնագիտացված միավոր
A43: Արդյունքի չափորոշիչներ
A44: Միջոցառման վրա կատարվող ծախսը (հազար դրամ) | C44: ='H2'!D52 -> 1000584.1 | D44: ='H2'!E52 -> 1000584.1 | E44: ='H2'!F52 -> 1000584.1
A46: Ծրագրի դասիչը | B46: Ծրագրի անվանումը
A47: 1157 | B47: Քաղաքային զարգացում
A49: Ծրագրի միջոցառումները
A50: Ծրագրի դասիչը` | B50: 1157 | C50: Ցուցանիշների փոփոխությունը (նվազեցումները նշված են փակագծերում)
A51: Միջոցառման դասիչը` | B51: 21002 | C51: Առաջին կիսամյակ | D51: Ինն ամիս | E51: Տարի
A52: Միջոցառման անվանումը` | B52: Երևանի մետրոպոլիտենի ենթակառուցվածքների կառուցում
A53: Նկարագրությունը` | B53: Երևանի մետրոպոլիտենի ենթակառուցվածքների կառուցում
A54: Միջոցառման տեսակը` | B54: Հանրության կողմից անմիջականորեն օգտագործվող ակտիվների հետ կապված միջոցառումներ
A55: Շահառուների ընտրության չափանիշները | B55: ՀՀ բնակչություն
A56: Արդյունքի չափորոշիչներ
A57: Միջոցառման վրա կատարվող ծախսը (հազար դրամ) | C57: ='H2'!D65 -> -805600 | D57: ='H2'!E65 -> -1805600 | E57: ='H2'!F65 -> -2800000
E59: Աղյուսակ 9.1.25
A60: ՀՀ տարածքային կառավարման և ենթակառուցվածքների նախարարության ջրային կոմիտե
A61: ՄԱՍ 1. ՊԵՏԱԿԱՆ ՄԱՐՄՆԻ ԳԾՈՎ ԱՐԴՅՈՒՆՔԱՅԻՆ (ԿԱՏԱՐՈՂԱԿԱՆ) ՑՈՒՑԱՆԻՇՆԵՐԸ
A64: Ծրագրի դասիչը | B64: Ծրագրի անվանումը
A65: 1004 | B65: Ոռոգման համակարգի առողջացում
A67: Ծրագրի միջոցառումները
A68: Ծրագրի դասիչը` | B68: 1004 | C68: Ցուցանիշների փոփոխությունը (նվազեցումները նշված են փակագծերում)
A69: Միջոցառման դասիչը` | B69: 31004 | C69: Առաջին կիսամյակ | D69: Ինն ամիս | E69: Տարի
A70: Միջոցառման անվանումը` | B70: Գերմանիայի զարգացման վարկերի բանկի աջակցությամբ իրականացվող Ախուրյան գետի ջրային ռեսուրսների ինտեգրված կառավարման ծրագրի շրջանակներում ջրային տնտեսության ենթակառուցվածքների հիմնանորոգում
A71: Նկարագրությունը` | B71: Գերմանիայի զարգացման վարկերի բանկի աջակցությամբ իրականացվող Ախուրյան գետի ջրային ռեսուրսների ինտեգրված կառավարման ծրագիր
A72: Միջոցառման տեսակը` | B72: Պետական մարմինների կողմից օգտագործվող ոչ ֆինանսական ակտիվների հետ գործառնություններ
A73: Ակտիվն օգտագործող կազմակերպության(ների) անվանում(ները)՛ | B73: Մասնագիտացված միավոր
A74: Արդյունքի չափորոշիչներ
A75: Թունելների վերակառուցում, մ | C75: ='H8'!C19 -> -135 | E75: =C75 -> -135
A76: Միջոցառման վրա կատարվող ծախսը (հազար դրամ) | C76: ='H2'!D20 -> -625000 | D76: ='H2'!E20 -> -1390000 | E76: ='H2'!F20 -> -2041584.1
