Workbook

Sheet 1
F1: Հավելված N 1
F2: ՀՀ կառավարության 2024 թվականի
F3: -ի N -Ն որոշման
A4: «ՀԱՅԱՍՏԱՆԻ ՀԱՆՐԱՊԵՏՈՒԹՅԱՆ 2024 ԹՎԱԿԱՆԻ ՊԵՏԱԿԱՆ ԲՅՈՒՋԵԻ ՄԱՍԻՆ» ՀԱՅԱՍՏԱՆԻ ՀԱՆՐԱՊԵՏՈՒԹՅԱՆ ՕՐԵՆՔԻ N 1 ՀԱՎԵԼՎԱԾԻ N 2 ԱՂՅՈՒՍԱԿՈՒՄ ԿԱՏԱՐՎՈՂ ՎԵՐԱԲԱՇԽՈՒՄԸ, ՓՈՓՈԽՈՒԹՅՈՒՆՆԵՐԸ ԵՎ ԼՐԱՑՈՒՄՆԵՐԸ, ՀԱՅԱՍՏԱՆԻ ՀԱՆՐԱՊԵՏՈՒԹՅԱՆ ԿԱՌԱՎԱՐՈՒԹՅԱՆ 2023 ԹՎԱԿԱՆԻ ԴԵԿՏԵՄԲԵՐԻ 28-Ի N 2323-Ն ՈՐՈՇՄԱՆ N 5 ՀԱՎԵԼՎԱԾԻ N 1 ԱՂՅՈՒՍԱԿՈՒՄ ԿԱՏԱՐՎՈՂ ՓՈՓՈԽՈՒԹՅՈՒՆՆԵՐԸ ԵՎ ԼՐԱՑՈՒՄՆԵՐԸ
F6: (հազ. դրամ)
A7: Ծրագրային դասիչը | C7: Բյուջետային գլխավոր կարգադրիչների, ծրագրերի և միջոցառումների անվանումները | D7: Ցուցանիշների փոփոխությունը (ավելացումները նշված են դրական նշանով, իսկ նվազեցումները՝ փակագծերում)
A8: Ծրագիր | B8: Միջոցառում | D8: Առաջին կիսամյակ | E8: Ինն ամիս | F8: Տարի
C9: ԸՆԴԱՄԵՆԸ | D9: =D10+D43 -> 0 | E9: =E10+E43 -> 0 | F9: =F10+F43 -> 0
C10: ՀՀ տարածքային կառավարման և ենթակառուցվածքների նախարարություն | D10: =D11+D30 -> 0 | E10: =E11+E30 -> 0 | F10: =F11+F30 -> 0
A11: 1004 | C11: Ծրագրի անվանումը` | D11: =D18+D24 -> -50600 | E11: =E18+E24 -> -50600 | F11: =F18+F24 -> -50600
C12: Ոռոգման համակարգի առողջացում
C13: Ծրագրի նպատակը`
C14: Ոռոգման ծառայությունների հասանելիության և մատչելիության ապահովում
C15: Վերջնական արդյունքի նկարագրությունը`
C16: Ոռոգման ջրի մատակարարման արդյունավետության և հասանելիության բարելավում՝ կորուստների կրճատում
A17: Ծրագրի միջոցառումներ
B18: 31013 | C18: Միջոցառման անվանումը` | D18: ='3'!G21 -> -50600 | E18: ='3'!H21 -> -50600 | F18: ='3'!I21 -> 0
C19: Փոքր և միջին ջրամբարների կառուցում
C20: Միջոցառման նկարագրությունը`
C21: Փոքր և միջին ջրամբարների կառուցման աշխատանքներ
C22: Միջոցառման տեսակը
C23: Պետական մարմինների կողմից օգտագործվող ոչ ֆինանսական ակտիվների հետ գործառնություններ
B24: 31014 | C24: Միջոցառման անվանումը` | D24: ='3'!G30 -> 0 | E24: ='3'!H30 -> 0 | F24: ='3'!I30 -> -50600
C25: Ջրամբարների վերականգնման և վերազինման աշխատանքներ
C26: Միջոցառման նկարագրությունը`
C27: Ջրամբարների վերականգնման և վերազինման համար նախագծերի և աշխատանքների ձեռքբերում
C28: Միջոցառման տեսակը
C29: Պետական մարմինների կողմից օգտագործվող ոչ ֆինանսական ակտիվների հետ գործառնություններ
A30: 1072 | C30: Ծրագրի անվանումը` | D30: =D37 -> 50600 | E30: =E37 -> 50600 | F30: =F37 -> 50600
C31: Ջրամատակարարաման և ջրահեռացման բարելավում
C32: Ծրագրի նպատակը`
C33: Ջրամատակարարման ծառայությունների հասանելիության և մատչելիության ապահովում
C34: Վերջնական արդյունքի նկարագրությունը`
C35: Խմելու ջրի մատակարարման և ջրահեռացման համակարգի բարելավում, կորուստների կրճատում
A36: Ծրագրի միջոցառումներ
B37: 12002 | C37: Միջոցառման անվանումը` | D37: ='3'!G49 -> 50600 | E37: ='3'!H49 -> 50600 | F37: ='3'!I49 -> 50600
C38: Աջակցություն ջրամատակարարաման և ջրահեռացման համակարգի ընկերություններին
C39: Միջոցառման նկարագրությունը`
C40: Աջակցություն ջրամատակարարաման և ջրահեռացման համակարգի ընկերություններին
C41: Միջոցառման տեսակը
C42: Տրանսֆերտների տրամադրում
C43: ՀՀ կառավարություն | D43: =D44 -> 0 | E43: =E44 -> 0 | F43: =F44 -> 0
A44: 1139 | C44: Ծրագրի անվանումը` | D44: =D51+D57 -> 0 | E44: =E51+E57 -> 0 | F44: =F51+F57 -> 0
C45: ՀՀ կառավարության պահուստային ֆոնդ
C46: Ծրագրի նպատակը`
C47: Պետական բյուջեում չկանխատեսված՝ ինչպես նաեւ բյուջետային երաշխիքների ապահովման ծախսերի ֆինանսավորման ապահովում
C48: Վերջնական արդյունքի նկարագրությունը`
C49: Պահուստային ֆոնդի կառավարման արդյունավետության և թափանցիկության ապահովում
A50: Ծրագրի միջոցառումներ
B51: 11001 | C51: Միջոցառման անվանումը` | D51: ='3'!G68 -> -50600 | E51: ='3'!H68 -> -50600 | F51: ='3'!I68 -> -50600
C52: ՀՀ կառավարության պահուստային ֆոնդ
C53: Միջոցառման նկարագրությունը`
C54: ՀՀ պետական բյուջեում նախատեսված ելքերի լրացուցիչ ֆինանսավորման՝ պետական բյուջեում չկանխատեսված ելքերի՝ ինչպես նաև բյուջետային երաշխիքների ապահովման ելքերի ֆինանսավորման ապահովում
C55: Միջոցառման տեսակը
C56: Ծառայությունների մատուցում
B57: 11001 | C57: Միջոցառման անվանումը` | D57: ='3'!G76 -> 50600 | E57: ='3'!H76 -> 50600 | F57: ='3'!I76 -> 50600
C58: ՀՀ կառավարության պահուստային ֆոնդ
C59: Միջոցառման նկարագրությունը`
C60: ՀՀ պետական բյուջեում նախատեսված ելքերի լրացուցիչ ֆինանսավորման՝ պետական բյուջեում չկանխատեսված ելքերի՝ ինչպես նաև բյուջետային երաշխիքների ապահովման ելքերի ֆինանսավորման ապահովում
C61: Միջոցառման տեսակը
C62: Ծառայությունների մատուցում

Sheet 2
A1: Հավելված N 2
A2: ՀՀ կառավարության 2024 թվականի
A3: -ի N -Ն որոշման
A4: «ՀԱՅԱՍՏԱՆԻ ՀԱՆՐԱՊԵՏՈՒԹՅԱՆ 2024 ԹՎԱԿԱՆԻ ՊԵՏԱԿԱՆ ԲՅՈՒՋԵԻ ՄԱՍԻՆ» ՀԱՅԱՍՏԱՆԻ ՀԱՆՐԱՊԵՏՈՒԹՅԱՆ ՕՐԵՆՔԻ N 1 ՀԱՎԵԼՎԱԾԻ N 3 ԱՂՅՈՒՍԱԿՈՒՄ ԿԱՏԱՐՎՈՂ ՓՈՓՈԽՈՒԹՅՈՒՆԸ
G5: (հազ. դրամ)
A6: Ծրագրային դասիչ | C6: Բյուջետային գլխավոր կարգադրիչների, ծրագրերի, միջոցառումների և ուղղությունների անվանումները | D6: Ցուցանիշների փոփոխությունը (նվազեցումները նշված են փակագծերում)
D7: Ընդամենը, | E7: այդ թվում՝
A8: Ծրագիր | B8: Միջոցառում | E8: Կառուցման աշխատանքներ | F8: Վերակառուցման, վերանորոգման և վերականգնման աշխատանքներ | G8: Նախագծահե- տազոտական, գեոդեզիա- քարտեզագրա- կան աշխա- տանքներ | H8: Ոչ ֆինանսական այլ ակտիվների ձեռքբերում
C9: ԸՆԴԱՄԵՆԸ | D9: =SUM(E9:H9) -> -50600 | E9: =E11 -> 0 | F9: =F11 -> -50600 | G9: =G11 -> 0 | H9: =H11 -> 0
C10: այդ թվում՝
C11: ՀՀ ՏԱՐԱԾՔԱՅԻՆ ԿԱՌԱՎԱՐՄԱՆ ԵՎ ԵՆԹԱԿԱՌՈՒՑՎԱԾՔՆԵՐԻ ՆԱԽԱՐԱՐՈՒԹՅՈՒՆ | D11: =D13 -> -50600 | E11: =E13 -> 0 | F11: =F13 -> -50600 | G11: =G13 -> 0 | H11: =H13 -> 0
C12: այդ թվում`
A13: 1004 | B13: 31014 | C13: Ջրամբարների վերականգնման և վերազինման աշխատանքներ | D13: =+D15 -> -50600 | E13: =+E15 -> 0 | F13: =+F15 -> -50600 | G13: =+G15 -> 0 | H13: =+H15 -> 0
C14: այդ թվում՝
C15: ՀՀ Տավուշի մարզի Տավուշի ջրամբարի պատվարի վերականգնման աշխատանքներ | D15: =SUM(E15:H15) -> -50600 | F15: ='4'!F19 -> -50600

Sheet 3
A1: Հավելված N3
A2: ՀՀ կառավարության 2024 թվականի
A3: -ի N -Ն որոշման
A4: ՀԱՅԱՍՏԱՆԻ ՀԱՆՐԱՊԵՏՈՒԹՅԱՆ ԿԱՌԱՎԱՐՈՒԹՅԱՆ 2023 ԹՎԱԿԱՆԻ ԴԵԿՏԵՄԲԵՐԻ 28-Ի N 2323-Ն ՈՐՈՇՄԱՆ N 3 ԵՎ N 4 ՀԱՎԵԼՎԱԾՆԵՐՈՒՄ ԿԱՏԱՐՎՈՂ ՓՈՓՈԽՈՒԹՅՈՒՆՆԵՐԸ ԵՎ ԼՐԱՑՈՒՄՆԵՐԸ
H5: (հազ. դրամ)
A6: Գործառական դասիչը | D6: Ծրագրային դասիչը | F6: Բյուջետային ծախսերի գործառական դասակարգման բաժինների, խմբերի և դասերի, բյուջետային ծրագրերի միջոցառումների, բյուջետային հատկացումների գլխավոր կարգադրիչների անվանումները | G6: Ցուցանիշների փոփոխությունը (ավելացումները նշված են դրական նշանով, իսկ նվազեցումները՝ փակագծերում)
A7: Բաժին | B7: Խումբ | C7: Դաս | D7: Ծրագիր | E7: Միջոցառում | G7: Առաջին կիսամյակ | H7: Ինն ամիս | I7: Տարի
F8: ԸՆԴԱՄԵՆԸ ԾԱԽՍԵՐ | G8: =G11+G39+G58 -> 0 | H8: =H11+H39+H58 -> 0 | I8: =I11+I39+I58 -> 0
F9: այդ թվում`
F10: ՀՀ տարածքային կառավարման և ենթակառուցվածքների նախարարություն | G10: =G11+G39 -> 0 | H10: =H11+H39 -> 0 | I10: =I11+I39 -> 0
A11: 04 | F11: ՏՆՏԵՍԱԿԱՆ ՀԱՐԱԲԵՐՈՒԹՅՈՒՆՆԵՐ | G11: =G13 -> -50600 | H11: =H13 -> -50600 | I11: =I13 -> -50600
F12: այդ թվում`
B13: 02 | F13: Գյուղատնտեսություն, անտառային տնտեսություն, ձկնորսություն և որսորդություն | G13: =G15 -> -50600 | H13: =H15 -> -50600 | I13: =I15 -> -50600
F14: այդ թվում`
C15: 04 | F15: Ոռոգում | G15: =G17 -> -50600 | H15: =H17 -> -50600 | I15: =I17 -> -50600
F16: այդ թվում`
F17: ՀՀ տարածքային կառավարման և ենթակառուցվածքների նախարարություն | G17: =G19 -> -50600 | H17: =H19 -> -50600 | I17: =I19 -> -50600
F18: այդ թվում`
D19: 1004 | F19: Ոռոգման համակարգի առողջացում | G19: =G21+G30 -> -50600 | H19: =H21+H30 -> -50600 | I19: =I21+I30 -> -50600
F20: այդ թվում`
E21: 31013 | F21: Փոքր և միջին ջրամբարների կառուցում | G21: =G23 -> -50600 | H21: =H23 -> -50600 | I21: =I23 -> 0
F22: այդ թվում` ըստ կատարողների
F23: ՀՀ տարածքային կառավարման և ենթակառուցվածքների նախարարության ջրային կոմիտե | G23: =G25 -> -50600 | H23: =H25 -> -50600 | I23: =I25 -> 0
F24: այդ թվում` բյուջետային ծախսերի տնտեսագիտական դասակարգման հոդվածներ
F25: ԸՆԴԱՄԵՆԸ ԾԱԽՍԵՐ | G25: =G26 -> -50600 | H25: =H26 -> -50600 | I25: =I26 -> 0
F26: ՈՉ ՖԻՆԱՆՍԱԿԱՆ ԱԿՏԻՎՆԵՐԻ ԳԾՈՎ ԾԱԽՍԵՐ | G26: =G27 -> -50600 | H26: =H27 -> -50600 | I26: =I27 -> 0
F27: ՀԻՄՆԱԿԱՆ ՄԻՋՈՑՆԵՐ | G27: =G28 -> -50600 | H27: =H28 -> -50600 | I27: =I28 -> 0
F28: ԱՅԼ ՀԻՄՆԱԿԱՆ ՄԻՋՈՑՆԵՐ | G28: =G29 -> -50600 | H28: =H29 -> -50600 | I28: =I29 -> 0
F29: - Նախագծահետազոտական ծախսեր | G29: ='4'!D14 -> -50600 | H29: ='4'!E14 -> -50600 | I29: ='4'!F14 -> 0
E30: 31014 | F30: Ջրամբարների վերականգնման և վերազինման աշխատանքներ | G30: =G36 -> 0 | H30: =H36 -> 0 | I30: =I36 -> -50600
F31: այդ թվում` ըստ կատարողների
F32: ՀՀ տարածքային կառավարման և ենթակառուցվածքների նախարարության ջրային կոմիտե | I32: =I34 -> -50600
F33: այդ թվում` բյուջետային ծախսերի տնտեսագիտական դասակարգման հոդվածներ
F34: ԸՆԴԱՄԵՆԸ ԾԱԽՍԵՐ | I34: =I35 -> -50600
F35: ՈՉ ՖԻՆԱՆՍԱԿԱՆ ԱԿՏԻՎՆԵՐԻ ԳԾՈՎ ԾԱԽՍԵՐ | I35: =I36 -> -50600
F36: ՀԻՄՆԱԿԱՆ ՄԻՋՈՑՆԵՐ | G36: =G38 -> 0 | H36: =H38 -> 0 | I36: =I38 -> -50600
F37: ՇԵՆՔԵՐ ԵՎ ՇԻՆՈՒԹՅՈՒՆՆԵՐ | I37: =I38 -> -50600
F38: - Շենքերի և շինությունների կապիտալ վերանորոգում | G38: ='4'!D19 -> 0 | H38: ='4'!E19 -> 0 | I38: ='4'!F19 -> -50600
A39: 06 | F39: ԲՆԱԿԱՐԱՆԱՅԻՆ ՇԻՆԱՐԱՐՈՒԹՅՈՒՆ ԵՎ ԿՈՄՈՒՆԱԼ ԾԱՌԱՅՈՒԹՅՈՒՆՆԵՐ | G39: =G41 -> 50600 | H39: =H41 -> 50600 | I39: =I41 -> 50600
F40: այդ թվում`
B41: 03 | F41: Ջրամատակարարում | G41: =G43 -> 50600 | H41: =H43 -> 50600 | I41: =I43 -> 50600
F42: այդ թվում`
C43: 01 | F43: Ջրամատակարարում | G43: =G45 -> 50600 | H43: =H45 -> 50600 | I43: =I45 -> 50600
F44: այդ թվում`
F45: ՀՀ տարածքային կառավարման և ենթակառուցվածքների նախարարություն | G45: =G47 -> 50600 | H45: =H47 -> 50600 | I45: =I47 -> 50600
F46: այդ թվում`
D47: 1072 | F47: Ջրամատակարարաման և ջրահեռացման բարելավում | G47: =G49 -> 50600 | H47: =H49 -> 50600 | I47: =I49 -> 50600
F48: այդ թվում`
E49: 12002 | F49: Աջակցություն ջրամատակարարաման և ջրահեռացման համակարգի ընկերություններին | G49: =G51 -> 50600 | H49: =H51 -> 50600 | I49: =I51 -> 50600
F50: այդ թվում` ըստ կատարողների
F51: ՀՀ տարածքային կառավարման և ենթակառուցվածքների նախարարության ջրային կոմիտե | G51: =G53 -> 50600 | H51: =H53 -> 50600 | I51: =I53 -> 50600
F52: այդ թվում` բյուջետային ծախսերի տնտեսագիտական դասակարգման հոդվածներ
F53: ԸՆԴԱՄԵՆԸ ԾԱԽՍԵՐ | G53: =G54 -> 50600 | H53: =H54 -> 50600 | I53: =I54 -> 50600
F54: ԸՆԹԱՑԻԿ ԾԱԽՍԵՐ | G54: =G55 -> 50600 | H54: =H55 -> 50600 | I54: =I55 -> 50600
F55: Դրամաշնորհներ | G55: =G56 -> 50600 | H55: =H56 -> 50600 | I55: =I56 -> 50600
F56: -Այլ ընթացիկ դրամաշնորհներ | G56: 50600 | H56: 50600 | I56: 50600
F57: ՀՀ կառավարություն | G57: =G58 -> 0 | H57: =H58 -> 0 | I57: =I58 -> 0
A58: 11 | F58: ՀԻՄՆԱԿԱՆ ԲԱԺԻՆՆԵՐԻՆ ՉԴԱՍՎՈՂ ՊԱՀՈՒՍՏԱՅԻՆ ՖՈՆԴԵՐ | G58: =G60 -> 0 | H58: =H60 -> 0 | I58: =I60 -> 0
F59: այդ թվում`
B60: 01 | F60: ՀՀ կառավարության և համայնքների պահուստային ֆոնդ | G60: =G62 -> 0 | H60: =H62 -> 0 | I60: =I62 -> 0
F61: այդ թվում`
C62: 01 | F62: ՀՀ կառավարության պահուստային ֆոնդ | G62: =G64 -> 0 | H62: =H64 -> 0 | I62: =I64 -> 0
F63: այդ թվում`
F64: ՀՀ կառավարություն | G64: =G66 -> 0 | H64: =H66 -> 0 | I64: =I66 -> 0
F65: այդ թվում`
D66: 1139 | F66: ՀՀ կառավարության պահուստային ֆոնդ | G66: =G68+G76 -> 0 | H66: =H68+H76 -> 0 | I66: =I68+I76 -> 0
F67: այդ թվում`
E68: 11001 | F68: ՀՀ կառավարության պահուստային ֆոնդ | G68: =G70 -> -50600 | H68: =H70 -> -50600 | I68: =I70 -> -50600
F69: այդ թվում` ըստ կատարողների
F70: ՀՀ կառավարություն | G70: =G72 -> -50600 | H70: =H72 -> -50600 | I70: =I72 -> -50600
F71: այդ թվում` բյուջետային ծախսերի տնտեսագիտական դասակարգման հոդվածներ
F72: ԸՆԴԱՄԵՆԸ ԾԱԽՍԵՐ | G72: =G73 -> -50600 | H72: =H73 -> -50600 | I72: =I73 -> -50600
F73: ԸՆԹԱՑԻԿ ԾԱԽՍԵՐ | G73: =G74 -> -50600 | H73: =H74 -> -50600 | I73: =I74 -> -50600
F74: ԱՅԼ ԾԱԽՍԵՐ | G74: =G75 -> -50600 | H74: =H75 -> -50600 | I74: =I75 -> -50600
F75: Պահուստային միջոցներ | G75: =-G83 -> -50600 | H75: =-H83 -> -50600 | I75: =-I83 -> -50600
E76: 11001 | F76: ՀՀ կառավարության պահուստային ֆոնդ | G76: =-G68 -> 50600 | H76: =-H68 -> 50600 | I76: =-I68 -> 50600
F77: այդ թվում` ըստ կատարողների
F78: ՀՀ կառավարություն | G78: =G80 -> 50600 | H78: =H80 -> 50600 | I78: =I80 -> 50600
F79: այդ թվում` բյուջետային ծախսերի տնտեսագիտական դասակարգման հոդվածներ
F80: ԸՆԴԱՄԵՆԸ ԾԱԽՍԵՐ | G80: =G81 -> 50600 | H80: =H81 -> 50600 | I80: =I81 -> 50600
F81: ԸՆԹԱՑԻԿ ԾԱԽՍԵՐ | G81: =G82 -> 50600 | H81: =H82 -> 50600 | I81: =I82 -> 50600
F82: ԱՅԼ ԾԱԽՍԵՐ | G82: =G83 -> 50600 | H82: =H83 -> 50600 | I82: =I83 -> 50600
F83: Պահուստային միջոցներ | G83: =-G21 -> 50600 | H83: =-H21 -> 50600 | I83: =-I30 -> 50600

Sheet 4
A1: Հավելված N 4
A2: ՀՀ կառավարության 2024 թվականի
A3: -ի N -Ն որոշման
A4: ՀԱՅԱՍՏԱՆԻ ՀԱՆՐԱՊԵՏՈՒԹՅԱՆ ԿԱՌԱՎԱՐՈՒԹՅԱՆ 2023 ԹՎԱԿԱՆԻ ԴԵԿՏԵՄԲԵՐԻ 28-Ի N 2323-Ն ՈՐՈՇՄԱՆ N 5 ՀԱՎԵԼՎԱԾԻ N 2 ԱՂՅՈՒՍԱԿՈՒՄ ԿԱՏԱՐՎՈՂ ՓՈՓՈԽՈՒԹՅՈՒՆՆԵՐԸ
F5: (հազ. դրամ)
A6: Ծրագրային դասիչ | C6: Բյուջետային գլխավոր կարգադրիչների, ծրագրերի, միջոցառումների, միջոցառումները կատարող պետական մարմինների և ուղղությունների անվանումները | D6: Ցուցանիշների փոփոխությունը (նվազեցումները նշված են փակագծերում)
A7: Ծրագիր | B7: Միջոցառում | D7: Առաջին կիսամյակ | E7: Ինն ամիս | F7: Տարի
C8: ԸՆԴԱՄԵՆԸ | D8: =D10 -> -50600 | E8: =E10 -> -50600 | F8: =F10 -> -50600
C9: այդ թվում՝
C10: ՀՀ ՏԱՐԱԾՔԱՅԻՆ ԿԱՌԱՎԱՐՄԱՆ ԵՎ ԵՆԹԱԿԱՌՈՒՑՎԱԾՔՆԵՐԻ ՆԱԽԱՐԱՐՈՒԹՅՈՒՆ | D10: =D12+D17 -> -50600 | E10: =E12+E17 -> -50600 | F10: =F12+F17 -> -50600
C11: այդ թվում`
A12: 1004 | B12: 31013 | C12: Փոքր և միջին ջրամբարների կառուցում | D12: =D14 -> -50600 | E12: =E14 -> -50600 | F12: =F14 -> 0
C13: այդ թվում` ըստ կատարողների
C14: ՀՀ տարածքային կառավարման և ենթակառուցվածքների նախարարության ջրային կոմիտե | D14: -50600 | E14: -50600 | F14: 0
A15: 1004 | B15: 31014 | C15: Ջրամբարների վերականգնման և վերազինման աշխատանքներ | D15: 0 | E15: 0 | F15: =F17 -> -50600
C16: այդ թվում` ըստ կատարողների
C17: ՀՀ տարածքային կառավարման և ենթակառուցվածքների նախարարության ջրային կոմիտե | D17: 0 | E17: 0 | F17: =F19 -> -50600
C18: այդ թվում` ըստ ուղղությունների
C19: ՀՀ Տավուշի մարզի Տավուշի ջրամբարի պատվարի վերականգնման աշխատանքներ | D19: 0 | E19: 0 | F19: -50600

Sheet 5
A1: Հավելված N 5
A2: ՀՀ կառավարության 2024 թվականի
A3: -ի N -Ն որոշման
A5: ՀԱՅԱՍՏԱՆԻ ՀԱՆՐԱՊԵՏՈՒԹՅԱՆ ԿԱՌԱՎԱՐՈՒԹՅԱՆ 2023 ԹՎԱԿԱՆԻ ԴԵԿՏԵՄԲԵՐԻ 28-Ի N 2323-Ն ՈՐՈՇՄԱՆ N 5 ՀԱՎԵԼՎԱԾԻ N 7 ԱՂՅՈՒՍԱԿՈՒՄ ԿԱՏԱՐՎՈՂ ԼՐԱՑՈՒՄՆԵՐԸ
H7: (հազ. դրամ)
B8: Ծրագրային դասիչը | D8: Բյուջետային հատկացումների գլխավոր կարգադրիչների, ծրագրերի, միջոցառումների, ծախսային ուղղությունների անվանումները | G8: Միջոցառումները կատարող պետական մարմինների և դրամաշնորհ ստացող տնտեսվարող սուբյեկտների անվանումները | H8: Տարի
B9: Ծրագիր | C9: Միջոցառում | H9: Ցուցանիշների փոփոխությունը (ավելացումները նշված են դրական նշանով)
D10: ԸՆԴԱՄԵՆԸ | H10: =H11 -> 50600
B11: ՀՀ տարածքային կառավարման և ենթակառուցվածքների նախարարություն | H11: =H12 -> 50600
B12: 1072 | D12: Ոռոգման համակարգի առողջացում | H12: =H13 -> 50600
C13: 12002 | D13: Աջակցություն ջրամատակարարաման և ջրահեռացման համակարգի ընկերություններին | G13: ՀՀ տարածքային կառավարման և ենթակառուցվածքների նախարարության ջրային կոմիտե | H13: =H14 -> 50600
G14: «Վեոլիա Ջուր» ՓԲԸ | H14: 50600

Sheet 6-1
A1: Հավելված N 6
A2: ՀՀ կառավարության 2024 թվականի
A3: -ի N -Ն որոշման
A5: ՀԱՅԱՍՏԱՆԻ ՀԱՆՐԱՊԵՏՈՒԹՅԱՆ ԿԱՌԱՎԱՐՈՒԹՅԱՆ 2023 ԹՎԱԿԱՆԻ ԴԵԿՏԵՄԲԵՐԻ 28-Ի N 2323-Ն ՈՐՈՇՄԱՆ N 9 ՀԱՎԵԼՎԱԾԻ N 9.7 ԵՎ N 9.48 ԱՂՅՈՒՍԱԿՆԵՐՈՒՄ ԿԱՏԱՐՎՈՂ ՓՈՓՈԽՈՒԹՅՈՒՆՆԵՐԸ ԵՎ ԼՐԱՑՈՒՄՆԵՐԸ
A6: ՀՀ տարածքային կառավարման և ենթակառուցվածքների նախարարություն
A8: ՄԱՍ 2. ՊԵՏԱԿԱՆ ՄԱՐՄՆԻ ԳԾՈՎ ԱՐԴՅՈՒՆՔԱՅԻՆ (ԿԱՏԱՐՈՂԱԿԱՆ) ՑՈՒՑԱՆԻՇՆԵՐԸ | E8: Աղյուսակ 9.7
A10: Ծրագրի դասիչը | B10: Ծրագրի անվանումը
A11: 1004 | B11: Ոռոգման համակարգի առողջացում
A12: Ծրագրի միջոցառումները
A14: Ծրագրի դասիչը` | B14: 1004 | C14: Ցուցանիշների փոփոխությունը (նվազեցումները նշված են փակագծերում)
A16: Միջոցառման դասիչը` | B16: 31013 | C16: Առաջին կիսամյակ | D16: Ինն ամիս | E16: Տարի
A17: Միջոցառման անվանումը` | B17: Փոքր և միջին ջրամբարների կառուցում
A18: Նկարագրությունը` | B18: Փոքր և միջին ջրամբարների կառուցման աշխատանքներ
A19: Միջոցառման տեսակը` | B19: Պետական մարմինների կողմից օգտագործվող ոչ ֆինանսական ակտիվների հետ գործառնություններ
A20: Ակտիվն օգտագործող կազմակերպության(ների) անվանում(ները)՛ | B20: ՀՀ ՏԿԵՆ ջրային կոմիտե
A21: Արդյունքի չափորոշիչներ
A22: Միջոցառման վրա կատարվող ծախսը (հազար դրամ) | C22: ='1'!D18 -> -50600 | D22: ='1'!E18 -> -50600 | E22: ='1'!F18 -> 0
A24: Ծրագրի դասիչը` | B24: 1004 | C24: Ցուցանիշների փոփոխությունը (նվազեցումները նշված են փակագծերում)
A26: Միջոցառման դասիչը` | B26: 31014 | C26: Առաջին կիսամյակ | D26: Ինն ամիս | E26: Տարի
A27: Միջոցառման անվանումը` | B27: Ջրամբարների վերականգնման և վերազինման աշխատանքներ
A28: Նկարագրությունը` | B28: Ջրամբարների վերականգնման և վերազինման համար նախագծերի և աշխատանքների ձեռքբերում
A29: Միջոցառման տեսակը` | B29: Պետական մարմինների կողմից օգտագործվող ոչ ֆինանսական ակտիվների հետ գործառնություններ
A30: Ակտիվն օգտագործող կազմակերպության(ների) անվանում(ները)՛ | B30: Ոռոգման համակարգի ընկերություններ
A31: Արդյունքի չափորոշիչներ
A32: Միջոցառման վրա կատարվող ծախսը (հազար դրամ) | C32: ='1'!D24 -> 0 | D32: ='1'!E24 -> 0 | E32: ='1'!F24 -> -50600
A34: Ծրագրի դասիչը | B34: Ծրագրի անվանումը
A35: 1072 | B35: Ջրամատակարարաման և ջրահեռացման բարելավում
A36: Ծրագրի միջոցառումները
A38: Ծրագրի դասիչը` | B38: 1072 | C38: Ցուցանիշների փոփոխությունը (ավելացումները նշված են դրական նշանով)
A39: Միջոցառման դասիչը` | B39: 12002 | C39: Առաջին կիսամյակ | D39: Ինն ամիս | E39: Տարի
A40: Միջոցառման անվանումը` | B40: Աջակցություն ջրամատակարարաման և ջրահեռացման համակարգի ընկերություններին
A41: Նկարագրությունը` | B41: Աջակցություն ջրամատակարարաման և ջրահեռացման համակարգի ընկերություններին
A42: Միջոցառման տեսակը` | B42: Տրանսֆերտների տրամադրում
A43: Միջոցառումն իրականացնողի անվանումը | B43: ՀՀ ՏԿԵՆ ջրային կոմիտե
A44: Արդյունքի չափորոշիչներ
A45: Միջոցառման վրա կատարված ծախսը (հազար դրամ) | C45: ='1'!D37 -> 50600 | D45: ='1'!E37 -> 50600 | E45: ='1'!F37 -> 50600
D48: Աղյուսակ 9.48
A49: ՀՀ կառավարություն
A50: ՄԱՍ 2. ՊԵՏԱԿԱՆ ՄԱՐՄՆԻ ԳԾՈՎ ԱՐԴՅՈՒՆՔԱՅԻՆ (ԿԱՏԱՐՈՂԱԿԱՆ) ՑՈՒՑԱՆԻՇՆԵՐԸ
A52: Ծրագրի դասիչը | B52: Ծրագրի անվանումը
A53: 1139 | B53: ՀՀ կառավարության պահուստային ֆոնդ
A55: Ծրագրի միջոցառումները
A57: Ծրագրի դասիչը` | B57: 1139 | C57: Ցուցանիշների փոփոխությունը (նվազեցումները նշված են փակագծերում)
A58: Միջոցառման դասիչը` | B58: 11001 | C58: Առաջին կիսամյակ | D58: Ինն ամիս | E58: Տարի
A59: Միջոցառման անվանումը` | B59: ՀՀ կառավարության պահուստային ֆոնդ
A60: Նկարագրությունը` | B60: ՀՀ պետական բյուջեում նախատեսված ելքերի լրացուցիչ ֆինանսավորման՝ պետական բյուջեում չկանխատեսված ելքերի՝ ինչպես նաև բյուջետային երաշխիքների ապահովման ելքերի ֆինանսավորման ապահովում
A61: Միջոցառման տեսակը` | B61: Ծառայությունների մատուցում
A62: Միջոցառումն իրականացնողի անվանումը | B62: ՀՀ կառավարություն
A63: Արդյունքի չափորոշիչներ
A64: Միջոցառման վրա կատարվող ծախսը (հազար դրամ) | C64: ='1'!D51 -> -50600 | D64: ='1'!E51 -> -50600 | E64: ='1'!F51 -> -50600
A67: Ծրագրի դասիչը | B67: Ծրագրի անվանումը
A68: 1139 | B68: ՀՀ կառավարության պահուստային ֆոնդ
A70: Ծրագրի միջոցառումները
A72: Ծրագրի դասիչը` | B72: 1139 | C72: Ցուցանիշների փոփոխությունը (ավելացումները նշված են դրական նշանով)
A73: Միջոցառման դասիչը` | B73: 11001 | C73: Առաջին կիսամյակ | D73: Ինն ամիս | E73: Տարի
A74: Միջոցառման անվանումը` | B74: ՀՀ կառավարության պահուստային ֆոնդ
A75: Նկարագրությունը` | B75: ՀՀ պետական բյուջեում նախատեսված ելքերի լրացուցիչ ֆինանսավորման՝ պետական բյուջեում չկանխատեսված ելքերի՝ ինչպես նաև բյուջետային երաշխիքների ապահովման ելքերի ֆինանսավորման ապահովում
A76: Միջոցառման տեսակը` | B76: Ծառայությունների մատուցում
A77: Միջոցառումն իրականացնողի անվանումը | B77: ՀՀ կառավարություն
A78: Արդյունքի չափորոշիչներ
A79: Միջոցառման վրա կատարվող ծախսը (հազար դրամ) | C79: ='1'!D57 -> 50600 | D79: ='1'!E57 -> 50600 | E79: ='1'!F57 -> 50600

Sheet 6-2
A1: Աղյուսակ 2
A3: ՀԱՅԱՍՏԱՆԻ ՀԱՆՐԱՊԵՏՈՒԹՅԱՆ ԿԱՌԱՎԱՐՈՒԹՅԱՆ 2023 ԹՎԱԿԱՆԻ ԴԵԿՏԵՄԲԵՐԻ 28-Ի N 2323-Ն ՈՐՈՇՄԱՆ N 9.1 ՀԱՎԵԼՎԱԾԻ N 9.1.25 ԵՎ N 9.1.58 ԱՂՅՈՒՍԱԿՆԵՐՈՒՄ ԿԱՏԱՐՎՈՂ ՓՈՓՈԽՈՒԹՅՈՒՆՆԵՐԸ ԵՎ ԼՐԱՑՈՒՄՆԵՐԸ
E4: Աղյուսակ 9.1.25
A5: ՀՀ տարածքային կառավարման և ենթակառուցվածքների նախարարության ջրային կոմիտե
A6: ՄԱՍ 1. ՊԵՏԱԿԱՆ ՄԱՐՄՆԻ ԳԾՈՎ ԱՐԴՅՈՒՆՔԱՅԻՆ (ԿԱՏԱՐՈՂԱԿԱՆ) ՑՈՒՑԱՆԻՇՆԵՐԸ
A8: Ծրագրի դասիչը | B8: Ծրագրի անվանումը
A9: 1004 | B9: Ոռոգման համակարգի առողջացում
A10: Ծրագրի միջոցառումները
A12: Ծրագրի դասիչը` | B12: 1004 | C12: Ցուցանիշների փոփոխությունը (նվազեցումները նշված են փակագծերում)
A14: Միջոցառման դասիչը` | B14: 31013 | C14: Առաջին կիսամյակ | D14: Ինն ամիս | E14: Տարի
A15: Միջոցառման անվանումը` | B15: ='6-1'!B17 -> Փոքր և միջին ջրամբարների կառուցում
A16: Նկարագրությունը` | B16: ='6-1'!B18 -> Փոքր և միջին ջրամբարների կառուցման աշխատանքներ
A17: Միջոցառման տեսակը` | B17: ='6-1'!B19 -> Պետական մարմինների կողմից օգտագործվող ոչ ֆինանսական ակտիվների հետ գործառնություններ
A18: ='6-1'!A20 -> Ակտիվն օգտագործող կազմակերպության(ների) անվանում(ները)՛ | B18: ='6-1'!B20 -> ՀՀ ՏԿԵՆ ջրային կոմիտե
A19: Արդյունքի չափորոշիչներ
A20: Միջոցառման վրա կատարվող ծախսը (հազար դրամ) | C20: ='6-1'!C22 -> -50600 | D20: ='6-1'!D22 -> -50600 | E20: ='6-1'!E22 -> 0
A22: Ծրագրի դասիչը` | B22: 1004 | C22: Ցուցանիշների փոփոխությունը (նվազեցումները նշված են փակագծերում)
A24: Միջոցառման դասիչը` | B24: 31014 | C24: Առաջին կիսամյակ | D24: Ինն ամիս | E24: Տարի
A25: Միջոցառման անվանումը` | B25: ='6-1'!B27 -> Ջրամբարների վերականգնման և վերազինման աշխատանքներ
A26: Նկարագրությունը` | B26: ='6-1'!B28 -> Ջրամբարների վերականգնման և վերազինման համար նախագծերի և աշխատանքների ձեռքբերում
A27: Միջոցառման տեսակը` | B27: ='6-1'!B29 -> Պետական մարմինների կողմից օգտագործվող ոչ ֆինանսական ակտիվների հետ գործառնություններ
A28: ='6-1'!A30 -> Ակտիվն օգտագործող կազմակերպության(ների) անվանում(ները)՛ | B28: ='6-1'!B30 -> Ոռոգման համակարգի ընկերություններ
A29: Արդյունքի չափորոշիչներ
A30: ='6-1'!A32:B32 -> Միջոցառման վրա կատարվող ծախսը (հազար դրամ) | C30: ='6-1'!C32 -> 0 | D30: ='6-1'!D32 -> 0 | E30: ='6-1'!E32 -> -50600
A32: Ծրագրի դասիչը | B32: Ծրագրի անվանումը
A33: 1072 | B33: Ջրամատակարարաման և ջրահեռացման բարելավում
A34: Ծրագրի միջոցառումները
A36: Ծրագրի դասիչը` | B36: 1072 | C36: Ցուցանիշների փոփոխությունը ( ավելացումները նշված են դրական նշանով)
A37: Միջոցառման դասիչը` | B37: 12002 | C37: Առաջին կիսամյակ | D37: Ինն ամիս | E37: Տարի
A38: Միջոցառման անվանումը` | B38: Աջակցություն ջրամատակարարաման և ջրահեռացման համակարգի ընկերություններին
A39: Նկարագրությունը` | B39: Աջակցություն ջրամատակարարաման և ջրահեռացման համակարգի ընկերություններին
A40: Միջոցառման տեսակը` | B40: ='6-1'!B42 -> Տրանսֆերտների տրամադրում
A41: ='6-1'!A43 -> Միջոցառումն իրականացնողի անվանումը | B41: ='6-1'!B43 -> ՀՀ ՏԿԵՆ ջրային կոմիտե
A42: Արդյունքի չափորոշիչներ
A43: Միջոցառման վրա կատարված ծախսը (հազար դրամ) | C43: ='6-1'!C45 -> 50600 | D43: ='6-1'!D45 -> 50600 | E43: ='6-1'!E45 -> 50600
D45: Աղյուսակ 9.1.58
A47: ՀՀ կառավարություն
A48: ՄԱՍ 2. ՊԵՏԱԿԱՆ ՄԱՐՄՆԻ ԳԾՈՎ ԱՐԴՅՈՒՆՔԱՅԻՆ (ԿԱՏԱՐՈՂԱԿԱՆ) ՑՈՒՑԱՆԻՇՆԵՐԸ
A50: Ծրագրի դասիչը | B50: Ծրագրի անվանումը
A51: 1139 | B51: ՀՀ կառավարության պահուստային ֆոնդ
A53: Ծրագրի միջոցառումները
A55: Ծրագրի դասիչը` | B55: 1139 | C55: Ցուցանիշների փոփոխությունը (նվազեցումները նշված են փակագծերում)
A56: Միջոցառման դասիչը` | B56: 11001 | C56: Առաջին կիսամյակ | D56: Ինն ամիս | E56: Տարի
A57: Միջոցառման անվանումը` | B57: ՀՀ կառավարության պահուստային ֆոնդ
A58: Նկարագրությունը` | B58: ՀՀ պետական բյուջեում նախատեսված ելքերի լրացուցիչ ֆինանսավորման՝ պետական բյուջեում չկանխատեսված ելքերի՝ ինչպես նաև բյուջետային երաշխիքների ապահովման ելքերի ֆինանսավորման ապահովում
A59: Միջոցառման տեսակը` | B59: Ծառայությունների մատուցում
A60: Միջոցառումն իրականացնողի անվանումը | B60: ՀՀ կառավարություն
A61: Արդյունքի չափորոշիչներ
A62: Միջոցառման վրա կատարվող ծախսը (հազար դրամ) | C62: ='6-1'!C64 -> -50600 | D62: ='6-1'!D64 -> -50600 | E62: ='6-1'!E64 -> -50600
A65: Ծրագրի դասիչը | B65: Ծրագրի անվանումը
A66: 1139 | B66: ՀՀ կառավարության պահուստային ֆոնդ
A68: Ծրագրի միջոցառումները
A70: Ծրագրի դասիչը` | B70: 1139 | C70: Ցուցանիշների փոփոխությունը (ավելացումները նշված են դրական նշանով)
A71: Միջոցառման դասիչը` | B71: 11001 | C71: Առաջին կիսամյակ | D71: Ինն ամիս | E71: Տարի
A72: Միջոցառման անվանումը` | B72: ՀՀ կառավարության պահուստային ֆոնդ
A73: Նկարագրությունը` | B73: ՀՀ պետական բյուջեում նախատեսված ելքերի լրացուցիչ ֆինանսավորման՝ պետական բյուջեում չկանխատեսված ելքերի՝ ինչպես նաև բյուջետային երաշխիքների ապահովման ելքերի ֆինանսավորման ապահովում
A74: Միջոցառման տեսակը` | B74: Ծառայությունների մատուցում
A75: Միջոցառումն իրականացնողի անվանումը | B75: ՀՀ կառավարություն
A76: Արդյունքի չափորոշիչներ
A77: Միջոցառման վրա կատարվող ծախսը (հազար դրամ) | C77: ='6-1'!C79 -> 50600 | D77: ='6-1'!D79 -> 50600 | E77: ='6-1'!E79 -> 50600

Sheet 7
A1: Հավելված N 7
A2: ՀՀ կառավարության 2024 թվականի
A3: -ի N -Ն որոշման
A5: ՀՀ ԿԱՌԱՎԱՐՈՒԹՅԱՆ 2023 ԹՎԱԿԱՆԻ ԴԵԿՏԵՄԲԵՐԻ 28-Ի N 2323-Ն ՈՐՈՇՄԱՆ N 10 ՀԱՎԵԼՎԱԾՈՒՄ ԿԱՏԱՐՎՈՂ ՓՈՓՈԽՈՒԹՅՈՒՆՆԵՐԸ
A7: Կոդը | B7: Անվանումը | C7: Գնման ձևը | D7: Չափի միավորը | E7: Ցուցանիշների փոփոխությունը (նվազեցումները նշված են փակագծերում)
E8: Միավորի գինը | F8: քանակը | G8: գումարը (հազ. դրամ)
A9: ՀՀ տարածքային կառավարման և ենթակառուցվածքների նախարարության ջրային կոմիտե | G9: =G10 -> -50600
A10: Բաժին N 04 | B10: Խումբ N 02 | C10: Դաս N 04 | D10: Ոռոգում | G10: =G11 -> -50600
A11: 1004 31014 | B11: Ջրամբարների վերականգնման և վերազինման աշխատանքներ | G11: =G12 -> -50600
B12: ՄԱՍ II ԱՇԽԱՏԱՆՔՆԵՐ | G12: =G13 -> -50600
A13: 45611300/1 | B13: այլ շենքերի, շինությունների հիմնանորոգում | C13: ԲՄ | D13: դրամ | G13: -50600

Sheet 8
H1: Հավելված N 8
A2: ՀՀ կառավարության 2024 թվականի
A3: -ի N -Ն որոշման
A4: ՀԱՅԱՍՏԱՆԻ ՀԱՆՐԱՊԵՏՈՒԹՅԱՆ ԿԱՌԱՎԱՐՈՒԹՅԱՆ ՊԱՀՈՒՍՏԱՅԻՆ ՖՈՆԴԻՑ ԿԱՏԱՐՎՈՂ ՀԱՏԿԱՑՈՒՄԸ
H6: (հազ. դրամ)
A7: Գործառական դասիչը | D7: Ծրագրային դասիչը | F7: Բյուջետային ծախսերի գործառական դասակարգման բաժինների, խմբերի և դասերի, բյուջետային ծրագրերի միջոցառումների, բյուջետային հատկացումների գլխավոր կարգադրիչների անվանումները | G7: Ցուցանիշների փոփոխությունը (գումարների ավելացումները նշված են դրական նշանով, իսկ նվազեցումները՝ փակագծերում)
G8: Առաջին կիսամյակ | H8: Ինն ամիս | I8: Տարի
A9: Բաժին | B9: Խումբ | C9: Դաս | D9: Ծրագիր | E9: Միջոցառում
F10: ԸՆԴԱՄԵՆԸ ԾԱԽՍԵՐ | G10: =G12+G31 -> 0 | H10: =H12+H31 -> 0 | I10: =I12+I31 -> 0
F11: այդ թվում`
F12: ՀՀ կառավարություն | G12: =G13 -> -50600 | H12: =H13 -> -50600 | I12: =I13 -> -50600
A13: 11 | F13: ՀԻՄՆԱԿԱՆ ԲԱԺԻՆՆԵՐԻՆ ՉԴԱՍՎՈՂ ՊԱՀՈՒՍՏԱՅԻՆ ՖՈՆԴԵՐ | G13: =G15 -> -50600 | H13: =H15 -> -50600 | I13: =I15 -> -50600
F14: այդ թվում`
B15: 01 | F15: ՀՀ կառավարության և համայնքների պահուստային ֆոնդ | G15: =G17 -> -50600 | H15: =H17 -> -50600 | I15: =I17 -> -50600
F16: այդ թվում`
C17: 01 | F17: ՀՀ կառավարության պահուստային ֆոնդ | G17: =G19 -> -50600 | H17: =H19 -> -50600 | I17: =I19 -> -50600
F18: այդ թվում`
F19: ՀՀ կառավարություն | G19: =G21 -> -50600 | H19: =H21 -> -50600 | I19: =I21 -> -50600
F20: այդ թվում`
D21: 1139 | F21: ՀՀ կառավարության պահուստային ֆոնդ | G21: =G23 -> -50600 | H21: =H23 -> -50600 | I21: =I23 -> -50600
F22: այդ թվում`
E23: 11001 | F23: ՀՀ կառավարության պահուստային ֆոնդ | G23: =G25 -> -50600 | H23: =H25 -> -50600 | I23: =I25 -> -50600
F24: այդ թվում` ըստ կատարողների
F25: ՀՀ կառավարություն | G25: =G27 -> -50600 | H25: =H27 -> -50600 | I25: =I27 -> -50600
F26: այդ թվում` բյուջետային ծախսերի տնտեսագիտական դասակարգման հոդվածներ
F27: ԸՆԴԱՄԵՆԸ ԾԱԽՍԵՐ | G27: =G28 -> -50600 | H27: =H28 -> -50600 | I27: =I28 -> -50600
F28: ԸՆԹԱՑԻԿ ԾԱԽՍԵՐ | G28: =G29 -> -50600 | H28: =H29 -> -50600 | I28: =I29 -> -50600
F29: ԱՅԼ ԾԱԽՍԵՐ | G29: =G30 -> -50600 | H29: =H30 -> -50600 | I29: =I30 -> -50600
F30: Պահուստային միջոցներ | G30: ='3'!G75 -> -50600 | H30: ='3'!H75 -> -50600 | I30: ='3'!I75 -> -50600
F31: ՀՀ տարածքային կառավարման և ենթակառուցվածքների նախարարություն | G31: =G32 -> 50600 | H31: =H32 -> 50600 | I31: =I32 -> 50600
A32: 06 | F32: ԲՆԱԿԱՐԱՆԱՅԻՆ ՇԻՆԱՐԱՐՈՒԹՅՈՒՆ ԵՎ ԿՈՄՈՒՆԱԼ ԾԱՌԱՅՈՒԹՅՈՒՆՆԵՐ | G32: =G34 -> 50600 | H32: =H34 -> 50600 | I32: =I34 -> 50600
F33: այդ թվում`
B34: 03 | F34: Ջրամատակարարում | G34: =G36 -> 50600 | H34: =H36 -> 50600 | I34: =I36 -> 50600
F35: այդ թվում`
C36: 01 | F36: Ջրամատակարարում | G36: =G38 -> 50600 | H36: =H38 -> 50600 | I36: =I38 -> 50600
F37: այդ թվում`
F38: ՀՀ տարածքային կառավարման և ենթակառուցվածքների նախարարություն | G38: =G40 -> 50600 | H38: =H40 -> 50600 | I38: =I40 -> 50600
F39: այդ թվում`
D40: 1072 | F40: Ջրամատակարարաման և ջրահեռացման բարելավում | G40: =G42 -> 50600 | H40: =H42 -> 50600 | I40: =I42 -> 50600
F41: այդ թվում`
E42: 12002 | F42: Աջակցություն ջրամատակարարաման և ջրահեռացման համակարգի ընկերություններին | G42: =G44 -> 50600 | H42: =H44 -> 50600 | I42: =I44 -> 50600
F43: այդ թվում` ըստ կատարողների
F44: ՀՀ տարածքային կառավարման և ենթակառուցվածքների նախարարության ջրային կոմիտե | G44: =G46 -> 50600 | H44: =H46 -> 50600 | I44: =I46 -> 50600
F45: այդ թվում` բյուջետային ծախսերի տնտեսագիտական դասակարգման հոդվածներ
F46: ԸՆԴԱՄԵՆԸ ԾԱԽՍԵՐ | G46: =G47 -> 50600 | H46: =H47 -> 50600 | I46: =I47 -> 50600
F47: ԸՆԹԱՑԻԿ ԾԱԽՍԵՐ | G47: =G48 -> 50600 | H47: =H48 -> 50600 | I47: =I48 -> 50600
F48: Դրամաշնորհներ | G48: =G49 -> 50600 | H48: =H49 -> 50600 | I48: =I49 -> 50600
F49: -Այլ ընթացիկ դրամաշնորհներ | G49: ='3'!G56 -> 50600 | H49: ='3'!H56 -> 50600 | I49: ='3'!I56 -> 50600
