Workbook

Sheet 1
F1: Հավելված N 1
F2: ՀՀ կառավարության 2024 թվականի
F3: -ի N -Ն որոշման
A4: «ՀԱՅԱՍՏԱՆԻ ՀԱՆՐԱՊԵՏՈՒԹՅԱՆ 2024 ԹՎԱԿԱՆԻ ՊԵՏԱԿԱՆ ԲՅՈՒՋԵԻ ՄԱՍԻՆ» ՀԱՅԱՍՏԱՆԻ ՀԱՆՐԱՊԵՏՈՒԹՅԱՆ ՕՐԵՆՔԻ N 1 ՀԱՎԵԼՎԱԾԻ N 2 ԱՂՅՈՒՍԱԿՈՒՄ ԿԱՏԱՐՎՈՂ ՎԵՐԱԲԱՇԽՈՒՄԸ, ՓՈՓՈԽՈՒԹՅՈՒՆՆԵՐԸ ԵՎ ԼՐԱՑՈՒՄՆԵՐԸ, ՀԱՅԱՍՏԱՆԻ ՀԱՆՐԱՊԵՏՈՒԹՅԱՆ ԿԱՌԱՎԱՐՈՒԹՅԱՆ 2023 ԹՎԱԿԱՆԻ ԴԵԿՏԵՄԲԵՐԻ 28-Ի N 2323-Ն ՈՐՈՇՄԱՆ N 5 ՀԱՎԵԼՎԱԾԻ N 1 ԱՂՅՈՒՍԱԿՈՒՄ ԿԱՏԱՐՎՈՂ ՓՈՓՈԽՈՒԹՅՈՒՆՆԵՐԸ ԵՎ ԼՐԱՑՈՒՄՆԵՐԸ
F6: (հազ. դրամ)
A7: Ծրագրային դասիչը | C7: Բյուջետային գլխավոր կարգադրիչների, ծրագրերի և միջոցառումների անվանումները | D7: Ցուցանիշների փոփոխությունը (ավելացումները նշված են դրական նշանով, իսկ նվազեցումները՝ փակագծերում)
A8: Ծրագիր | B8: Միջոցառում | D8: Առաջին կիսամյակ | E8: Ինն ամիս | F8: Տարի
C9: ԸՆԴԱՄԵՆԸ | D9: =D10+D43 -> 0 | E9: =E10+E43 -> 0 | F9: =F10+F43 -> 0
C10: ՀՀ տարածքային կառավարման և ենթակառուցվածքների նախարարություն | D10: =D11+D30 -> 0 | E10: =E11+E30 -> 0 | F10: =F11+F30 -> 0
A11: 1004 | C11: Ծրագրի անվանումը` | D11: =D18+D24 -> -50600 | E11: =E18+E24 -> -50600 | F11: =F18+F24 -> -50600
C12: Ոռոգման համակարգի առողջացում
C13: Ծրագրի նպատակը`
C14: Ոռոգման ծառայությունների հասանելիության և մատչելիության ապահովում
C15: Վերջնական արդյունքի նկարագրությունը`
C16: Ոռոգման ջրի մատակարարման արդյունավետության և հասանելիության բարելավում՝ կորուստների կրճատում
A17: Ծրագրի միջոցառումներ
B18: 31013 | C18: Միջոցառման անվանումը` | D18: ='3'!G21 -> -50600 | E18: ='3'!H21 -> -50600 | F18: ='3'!I21 -> 0
C19: Փոքր և միջին ջրամբարների կառուցում
C20: Միջոցառման նկարագրությունը`
C21: Փոքր և միջին ջրամբարների կառուցման աշխատանքներ
C22: Միջոցառման տեսակը
C23: Պետական մարմինների կողմից օգտագործվող ոչ ֆինանսական ակտիվների հետ գործառնություններ
B24: 31014 | C24: Միջոցառման անվանումը` | D24: ='3'!G30 -> 0 | E24: ='3'!H30 -> 0 | F24: ='3'!I30 -> -50600
C25: Ջրամբարների վերականգնման և վերազինման աշխատանքներ
C26: Միջոցառման նկարագրությունը`
C27: Ջրամբարների վերականգնման և վերազինման համար նախագծերի և աշխատանքների ձեռքբերում
C28: Միջոցառման տեսակը
C29: Պետական մարմինների կողմից օգտագործվող ոչ ֆինանսական ակտիվների հետ գործառնություններ
A30: 1072 | C30: Ծրագրի անվանումը` | D30: =D37 -> 50600 | E30: =E37 -> 50600 | F30: =F37 -> 50600
C31: Ջրամատակարարաման և ջրահեռացման բարելավում
C32: Ծրագրի նպատակը`
C33: Ջրամատակարարման ծառայությունների հասանելիության և մատչելիության ապահովում
C34: Վերջնական արդյունքի նկարագրությունը`
C35: Խմելու ջրի մատակարարման և ջրահեռացման համակարգի բարելավում, կորուստների կրճատում
A36: Ծրագրի միջոցառումներ
B37: 12002 | C37: Միջոցառման անվանումը` | D37: ='3'!G49 -> 50600 | E37: ='3'!H49 -> 50600 | F37: ='3'!I49 -> 50600
C38: Աջակցություն ջրամատակարարաման և ջրահեռացման համակարգի ընկերություններին
C39: Միջոցառման նկարագրությունը`
C40: Աջակցություն ջրամատակարարաման և ջրահեռացման համակարգի ընկերություններին
C41: Միջոցառման տեսակը
...

Sheet 2
A1: Հավելված N 2
A2: ՀՀ կառավարության 2024 թվականի
A3: -ի N -Ն որոշման
A4: «ՀԱՅԱՍՏԱՆԻ ՀԱՆՐԱՊԵՏՈՒԹՅԱՆ 2024 ԹՎԱԿԱՆԻ ՊԵՏԱԿԱՆ ԲՅՈՒՋԵԻ ՄԱՍԻՆ» ՀԱՅԱՍՏԱՆԻ ՀԱՆՐԱՊԵՏՈՒԹՅԱՆ ՕՐԵՆՔԻ N 1 ՀԱՎԵԼՎԱԾԻ N 3 ԱՂՅՈՒՍԱԿՈՒՄ ԿԱՏԱՐՎՈՂ ՓՈՓՈԽՈՒԹՅՈՒՆԸ
G5: (հազ. դրամ)
A6: Ծրագրային դասիչ | C6: Բյուջետային գլխավոր կարգադրիչների, ծրագրերի, միջոցառումների և ուղղությունների անվանումները | D6: Ցուցանիշների փոփոխությունը (նվազեցումները նշված են փակագծերում)
D7: Ընդամենը, | E7: այդ թվում՝
A8: Ծրագիր | B8: Միջոցառում | E8: Կառուցման աշխատանքներ | F8: Վերակառուցման, վերանորոգման և վերականգնման աշխատանքներ | G8: Նախագծահե- տազոտական, գեոդեզիա- քարտեզագրա- կան աշխա- տանքներ | H8: Ոչ ֆինանսական այլ ակտիվների ձեռքբերում
C9: ԸՆԴԱՄԵՆԸ | D9: =SUM(E9:H9) -> -50600 | E9: =E11 -> 0 | F9: =F11 -> -50600 | G9: =G11 -> 0 | H9: =H11 -> 0
C10: այդ թվում՝
C11: ՀՀ ՏԱՐԱԾՔԱՅԻՆ ԿԱՌԱՎԱՐՄԱՆ ԵՎ ԵՆԹԱԿԱՌՈՒՑՎԱԾՔՆԵՐԻ ՆԱԽԱՐԱՐՈՒԹՅՈՒՆ | D11: =D13 -> -50600 | E11: =E13 -> 0 | F11: =F13 -> -50600 | G11: =G13 -> 0 | H11: =H13 -> 0
C12: այդ թվում`
A13: 1004 | B13: 31014 | C13: Ջրամբարների վերականգնման և վերազինման աշխատանքներ | D13: =+D15 -> -50600 | E13: =+E15 -> 0 | F13: =+F15 -> -50600 | G13: =+G15 -> 0 | H13: =+H15 -> 0
C14: այդ թվում՝
C15: ՀՀ Տավուշի մարզի Տավուշի ջրամբարի պատվարի վերականգնման աշխատանքներ | D15: =SUM(E15:H15) -> -50600 | F15: ='4'!F19 -> -50600

Sheet 3
A1: Հավելված N3
A2: ՀՀ կառավարության 2024 թվականի
A3: -ի N -Ն որոշման
A4: ՀԱՅԱՍՏԱՆԻ ՀԱՆՐԱՊԵՏՈՒԹՅԱՆ ԿԱՌԱՎԱՐՈՒԹՅԱՆ 2023 ԹՎԱԿԱՆԻ ԴԵԿՏԵՄԲԵՐԻ 28-Ի N 2323-Ն ՈՐՈՇՄԱՆ N 3 ԵՎ N 4 ՀԱՎԵԼՎԱԾՆԵՐՈՒՄ ԿԱՏԱՐՎՈՂ ՓՈՓՈԽՈՒԹՅՈՒՆՆԵՐԸ ԵՎ ԼՐԱՑՈՒՄՆԵՐԸ
H5: (հազ. դրամ)
A6: Գործառական դասիչը | D6: Ծրագրային դասիչը | F6: Բյուջետային ծախսերի գործառական դասակարգման բաժինների, խմբերի և դասերի, բյուջետային ծրագրերի միջոցառումների, բյուջետային հատկացումների գլխավոր կարգադրիչների անվանումները | G6: Ցուցանիշների փոփոխությունը (ավելացումները նշված են դրական նշանով, իսկ նվազեցումները՝ փակագծերում)
A7: Բաժին | B7: Խումբ | C7: Դաս | D7: Ծրագիր | E7: Միջոցառում | G7: Առաջին կիսամյակ | H7: Ինն ամիս | I7: Տարի
F8: ԸՆԴԱՄԵՆԸ ԾԱԽՍԵՐ | G8: =G11+G39+G58 -> 0 | H8: =H11+H39+H58 -> 0 | I8: =I11+I39+I58 -> 0
F9: այդ թվում`
F10: ՀՀ տարածքային կառավարման և ենթակառուցվածքների նախարարություն | G10: =G11+G39 -> 0 | H10: =H11+H39 -> 0 | I10: =I11+I39 -> 0
A11: 04 | F11: ՏՆՏԵՍԱԿԱՆ ՀԱՐԱԲԵՐՈՒԹՅՈՒՆՆԵՐ | G11: =G13 -> -50600 | H11: =H13 -> -50600 | I11: =I13 -> -50600
F12: այդ թվում`
B13: 02 | F13: Գյուղատնտեսություն, անտառային տնտեսություն, ձկնորսություն և որսորդություն | G13: =G15 -> -50600 | H13: =H15 -> -50600 | I13: =I15 -> -50600
F14: այդ թվում`
C15: 04 | F15: Ոռոգում | G15: =G17 -> -50600 | H15: =H17 -> -50600 | I15: =I17 -> -50600
F16: այդ թվում`
F17: ՀՀ տարածքային կառավարման և ենթակառուցվածքների նախարարություն | G17: =G19 -> -50600 | H17: =H19 -> -50600 | I17: =I19 -> -50600
F18: այդ թվում`
D19: 1004 | F19: Ոռոգման համակարգի առողջացում | G19: =G21+G30 -> -50600 | H19: =H21+H30 -> -50600 | I19: =I21+I30 -> -50600
F20: այդ թվում`
E21: 31013 | F21: Փոքր և միջին ջրամբարների կառուցում | G21: =G23 -> -50600 | H21: =H23 -> -50600 | I21: =I23 -> 0
F22: այդ թվում` ըստ կատարողների
F23: ՀՀ տարածքային կառավարման և ենթակառուցվածքների նախարարության ջրային կոմիտե | G23: =G25 -> -50600 | H23: =H25 -> -50600 | I23: =I25 -> 0
F24: այդ թվում` բյուջետային ծախսերի տնտեսագիտական դասակարգման հոդվածներ
F25: ԸՆԴԱՄԵՆԸ ԾԱԽՍԵՐ | G25: =G26 -> -50600 | H25: =H26 -> -50600 | I25: =I26 -> 0
F26: ՈՉ ՖԻՆԱՆՍԱԿԱՆ ԱԿՏԻՎՆԵՐԻ ԳԾՈՎ ԾԱԽՍԵՐ | G26: =G27 -> -50600 | H26: =H27 -> -50600 | I26: =I27 -> 0
F27: ՀԻՄՆԱԿԱՆ ՄԻՋՈՑՆԵՐ | G27: =G28 -> -50600 | H27: =H28 -> -50600 | I27: =I28 -> 0
F28: ԱՅԼ ՀԻՄՆԱԿԱՆ ՄԻՋՈՑՆԵՐ | G28: =G29 -> -50600 | H28: =H29 -> -50600 | I28: =I29 -> 0
F29: - Նախագծահետազոտական ծախսեր | G29: ='4'!D14 -> -50600 | H29: ='4'!E14 -> -50600 | I29: ='4'!F14 -> 0
E30: 31014 | F30: Ջրամբարների վերականգնման և վերազինման աշխատանքներ | G30: =G36 -> 0 | H30: =H36 -> 0 | I30: =I36 -> -50600
F31: այդ թվում` ըստ կատարողների
F32: ՀՀ տարածքային կառավարման և ենթակառուցվածքների նախարարության ջրային կոմիտե | I32: =I34 -> -50600
F33: այդ թվում` բյուջետային ծախսերի տնտեսագիտական դասակարգման հոդվածներ
F34: ԸՆԴԱՄԵՆԸ ԾԱԽՍԵՐ | I34: =I35 -> -50600
F35: ՈՉ ՖԻՆԱՆՍԱԿԱՆ ԱԿՏԻՎՆԵՐԻ ԳԾՈՎ ԾԱԽՍԵՐ | I35: =I36 -> -50600
F36: ՀԻՄՆԱԿԱՆ ՄԻՋՈՑՆԵՐ | G36: =G38 -> 0 | H36: =H38 -> 0 | I36: =I38 -> -50600
F37: ՇԵՆՔԵՐ ԵՎ ՇԻՆՈՒԹՅՈՒՆՆԵՐ | I37: =I38 -> -50600
F38: - Շենքերի և շինությունների կապիտալ վերանորոգում | G38: ='4'!D19 -> 0 | H38: ='4'!E19 -> 0 | I38: ='4'!F19 -> -50600
A39: 06 | F39: ԲՆԱԿԱՐԱՆԱՅԻՆ ՇԻՆԱՐԱՐՈՒԹՅՈՒՆ ԵՎ ԿՈՄՈՒՆԱԼ ԾԱՌԱՅՈՒԹՅՈՒՆՆԵՐ | G39: =G41 -> 50600 | H39: =H41 -> 50600 | I39: =I41 -> 50600
F40: այդ թվում`
...

Sheet 4
A1: Հավելված N 4
A2: ՀՀ կառավարության 2024 թվականի
A3: -ի N -Ն որոշման
A4: ՀԱՅԱՍՏԱՆԻ ՀԱՆՐԱՊԵՏՈՒԹՅԱՆ ԿԱՌԱՎԱՐՈՒԹՅԱՆ 2023 ԹՎԱԿԱՆԻ ԴԵԿՏԵՄԲԵՐԻ 28-Ի N 2323-Ն ՈՐՈՇՄԱՆ N 5 ՀԱՎԵԼՎԱԾԻ N 2 ԱՂՅՈՒՍԱԿՈՒՄ ԿԱՏԱՐՎՈՂ ՓՈՓՈԽՈՒԹՅՈՒՆՆԵՐԸ
F5: (հազ. դրամ)
A6: Ծրագրային դասիչ | C6: Բյուջետային գլխավոր կարգադրիչների, ծրագրերի, միջոցառումների, միջոցառումները կատարող պետական մարմինների և ուղղությունների անվանումները | D6: Ցուցանիշների փոփոխությունը (նվազեցումները նշված են փակագծերում)
A7: Ծրագիր | B7: Միջոցառում | D7: Առաջին կիսամյակ | E7: Ինն ամիս | F7: Տարի
C8: ԸՆԴԱՄԵՆԸ | D8: =D10 -> -50600 | E8: =E10 -> -50600 | F8: =F10 -> -50600
C9: այդ թվում՝
C10: ՀՀ ՏԱՐԱԾՔԱՅԻՆ ԿԱՌԱՎԱՐՄԱՆ ԵՎ ԵՆԹԱԿԱՌՈՒՑՎԱԾՔՆԵՐԻ ՆԱԽԱՐԱՐՈՒԹՅՈՒՆ | D10: =D12+D17 -> -50600 | E10: =E12+E17 -> -50600 | F10: =F12+F17 -> -50600
C11: այդ թվում`
A12: 1004 | B12: 31013 | C12: Փոքր և միջին ջրամբարների կառուցում | D12: =D14 -> -50600 | E12: =E14 -> -50600 | F12: =F14 -> 0
C13: այդ թվում` ըստ կատարողների
C14: ՀՀ տարածքային կառավարման և ենթակառուցվածքների նախարարության ջրային կոմիտե | D14: -50600 | E14: -50600 | F14: 0
A15: 1004 | B15: 31014 | C15: Ջրամբարների վերականգնման և վերազինման աշխատանքներ | D15: 0 | E15: 0 | F15: =F17 -> -50600
C16: այդ թվում` ըստ կատարողների
C17: ՀՀ տարածքային կառավարման և ենթակառուցվածքների նախարարության ջրային կոմիտե | D17: 0 | E17: 0 | F17: =F19 -> -50600
C18: այդ թվում` ըստ ուղղությունների
C19: ՀՀ Տավուշի մարզի Տավուշի ջրամբարի պատվարի վերականգնման աշխատանքներ | D19: 0 | E19: 0 | F19: -50600

Sheet 5
A1: Հավելված N 5
A2: ՀՀ կառավարության 2024 թվականի
A3: -ի N -Ն որոշման
A5: ՀԱՅԱՍՏԱՆԻ ՀԱՆՐԱՊԵՏՈՒԹՅԱՆ ԿԱՌԱՎԱՐՈՒԹՅԱՆ 2023 ԹՎԱԿԱՆԻ ԴԵԿՏԵՄԲԵՐԻ 28-Ի N 2323-Ն ՈՐՈՇՄԱՆ N 5 ՀԱՎԵԼՎԱԾԻ N 7 ԱՂՅՈՒՍԱԿՈՒՄ ԿԱՏԱՐՎՈՂ ԼՐԱՑՈՒՄՆԵՐԸ
H7: (հազ. դրամ)
B8: Ծրագրային դասիչը | D8: Բյուջետային հատկացումների գլխավոր կարգադրիչների, ծրագրերի, միջոցառումների, ծախսային ուղղությունների անվանումները | G8: Միջոցառումները կատարող պետական մարմինների և դրամաշնորհ ստացող տնտեսվարող սուբյեկտների անվանումները | H8: Տարի
B9: Ծրագիր | C9: Միջոցառում | H9: Ցուցանիշների փոփոխությունը (ավելացումները նշված են դրական նշանով)
D10: ԸՆԴԱՄԵՆԸ | H10: =H11 -> 50600
B11: ՀՀ տարածքային կառավարման և ենթակառուցվածքների նախարարություն | H11: =H12 -> 50600
B12: 1072 | D12: Ոռոգման համակարգի առողջացում | H12: =H13 -> 50600
C13: 12002 | D13: Աջակցություն ջրամատակարարաման և ջրահեռացման համակարգի ընկերություններին | G13: ՀՀ տարածքային կառավարման և ենթակառուցվածքների նախարարության ջրային կոմիտե | H13: =H14 -> 50600
G14: «Վեոլիա Ջուր» ՓԲԸ | H14: 50600

Sheet 6-1
A1: Հավելված N 6
A2: ՀՀ կառավարության 2024 թվականի
A3: -ի N -Ն որոշման
A5: ՀԱՅԱՍՏԱՆԻ ՀԱՆՐԱՊԵՏՈՒԹՅԱՆ ԿԱՌԱՎԱՐՈՒԹՅԱՆ 2023 ԹՎԱԿԱՆԻ ԴԵԿՏԵՄԲԵՐԻ 28-Ի N 2323-Ն ՈՐՈՇՄԱՆ N 9 ՀԱՎԵԼՎԱԾԻ N 9.7 ԵՎ N 9.48 ԱՂՅՈՒՍԱԿՆԵՐՈՒՄ ԿԱՏԱՐՎՈՂ ՓՈՓՈԽՈՒԹՅՈՒՆՆԵՐԸ ԵՎ ԼՐԱՑՈՒՄՆԵՐԸ
A6: ՀՀ տարածքային կառավարման և ենթակառուցվածքների նախարարություն
A8: ՄԱՍ 2. ՊԵՏԱԿԱՆ ՄԱՐՄՆԻ ԳԾՈՎ ԱՐԴՅՈՒՆՔԱՅԻՆ (ԿԱՏԱՐՈՂԱԿԱՆ) ՑՈՒՑԱՆԻՇՆԵՐԸ | E8: Աղյուսակ 9.7
A10: Ծրագրի դասիչը | B10: Ծրագրի անվանումը
A11: 1004 | B11: Ոռոգման համակարգի առողջացում
A12: Ծրագրի միջոցառումները
A14: Ծրագրի դասիչը` | B14: 1004 | C14: Ցուցանիշների փոփոխությունը (նվազեցումները նշված են փակագծերում)
A16: Միջոցառման դասիչը` | B16: 31013 | C16: Առաջին կիսամյակ | D16: Ինն ամիս | E16: Տարի
A17: Միջոցառման անվանումը` | B17: Փոքր և միջին ջրամբարների կառուցում
A18: Նկարագրությունը` | B18: Փոքր և միջին ջրամբարների կառուցման աշխատանքներ
A19: Միջոցառման տեսակը` | B19: Պետական մարմինների կողմից օգտագործվող ոչ ֆինանսական ակտիվների հետ գործառնություններ
A20: Ակտիվն օգտագործող կազմակերպության(ների) անվանում(ները)՛ | B20: ՀՀ ՏԿԵՆ ջրային կոմիտե
A21: Արդյունքի չափորոշիչներ
A22: Միջոցառման վրա կատարվող ծախսը (հազար դրամ) | C22: ='1'!D18 -> -50600 | D22: ='1'!E18 -> -50600 | E22: ='1'!F18 -> 0
A24: Ծրագրի դասիչը` | B24: 1004 | C24: Ցուցանիշների փոփոխությունը (նվազեցումները նշված են փակագծերում)
A26: Միջոցառման դասիչը` | B26: 31014 | C26: Առաջին կիսամյակ | D26: Ինն ամիս | E26: Տարի
A27: Միջոցառման անվանումը` | B27: Ջրամբարների վերականգնման և վերազինման աշխատանքներ
A28: Նկարագրությունը` | B28: Ջրամբարների վերականգնման և վերազինման համար նախագծերի և աշխատանքների ձեռքբերում
A29: Միջոցառման տեսակը` | B29: Պետական մարմինների կողմից օգտագործվող ոչ ֆինանսական ակտիվների հետ գործառնություններ
A30: Ակտիվն օգտագործող կազմակերպության(ների) անվանում(ները)՛ | B30: Ոռոգման համակարգի ընկերություններ
A31: Արդյունքի չափորոշիչներ
A32: Միջոցառման վրա կատարվող ծախսը (հազար դրամ) | C32: ='1'!D24 -> 0 | D32: ='1'!E24 -> 0 | E32: ='1'!F24 -> -50600
A34: Ծրագրի դասիչը | B34: Ծրագրի անվանումը
A35: 1072 | B35: Ջրամատակարարաման և ջրահեռացման բարելավում
A36: Ծրագրի միջոցառումները
A38: Ծրագրի դասիչը` | B38: 1072 | C38: Ցուցանիշների փոփոխությունը (ավելացումները նշված են դրական նշանով)
A39: Միջոցառման դասիչը` | B39: 12002 | C39: Առաջին կիսամյակ | D39: Ինն ամիս | E39: Տարի
A40: Միջոցառման անվանումը` | B40: Աջակցություն ջրամատակարարաման և ջրահեռացման համակարգի ընկերություններին
A41: Նկարագրությունը` | B41: Աջակցություն ջրամատակարարաման և ջրահեռացման համակարգի ընկերություններին
A42: Միջոցառման տեսակը` | B42: Տրանսֆերտների տրամադրում
A43: Միջոցառումն իրականացնողի անվանումը | B43: ՀՀ ՏԿԵՆ ջրային կոմիտե
A44: Արդյունքի չափորոշիչներ
A45: Միջոցառման վրա կատարված ծախսը (հազար դրամ) | C45: ='1'!D37 -> 50600 | D45: ='1'!E37 -> 50600 | E45: ='1'!F37 -> 50600
D48: Աղյուսակ 9.48
A49: ՀՀ կառավարություն
A50: ՄԱՍ 2. ՊԵՏԱԿԱՆ ՄԱՐՄՆԻ ԳԾՈՎ ԱՐԴՅՈՒՆՔԱՅԻՆ (ԿԱՏԱՐՈՂԱԿԱՆ) ՑՈՒՑԱՆԻՇՆԵՐԸ
A52: Ծրագրի դասիչը | B52: Ծրագրի անվանումը
...

Sheet 6-2
A1: Աղյուսակ 2
A3: ՀԱՅԱՍՏԱՆԻ ՀԱՆՐԱՊԵՏՈՒԹՅԱՆ ԿԱՌԱՎԱՐՈՒԹՅԱՆ 2023 ԹՎԱԿԱՆԻ ԴԵԿՏԵՄԲԵՐԻ 28-Ի N 2323-Ն ՈՐՈՇՄԱՆ N 9.1 ՀԱՎԵԼՎԱԾԻ N 9.1.25 ԵՎ N 9.1.58 ԱՂՅՈՒՍԱԿՆԵՐՈՒՄ ԿԱՏԱՐՎՈՂ ՓՈՓՈԽՈՒԹՅՈՒՆՆԵՐԸ ԵՎ ԼՐԱՑՈՒՄՆԵՐԸ
E4: Աղյուսակ 9.1.25
A5: ՀՀ տարածքային կառավարման և ենթակառուցվածքների նախարարության ջրային կոմիտե
A6: ՄԱՍ 1. ՊԵՏԱԿԱՆ ՄԱՐՄՆԻ ԳԾՈՎ ԱՐԴՅՈՒՆՔԱՅԻՆ (ԿԱՏԱՐՈՂԱԿԱՆ) ՑՈՒՑԱՆԻՇՆԵՐԸ
A8: Ծրագրի դասիչը | B8: Ծրագրի անվանումը
A9: 1004 | B9: Ոռոգման համակարգի առողջացում
A10: Ծրագրի միջոցառումները
A12: Ծրագրի դասիչը` | B12: 1004 | C12: Ցուցանիշների փոփոխությունը (նվազեցումները նշված են փակագծերում)
A14: Միջոցառման դասիչը` | B14: 31013 | C14: Առաջին կիսամյակ | D14: Ինն ամիս | E14: Տարի
A15: Միջոցառման անվանումը` | B15: ='6-1'!B17 -> Փոքր և միջին ջրամբարների կառուցում
A16: Նկարագրությունը` | B16: ='6-1'!B18 -> Փոքր և միջին ջրամբարների կառուցման աշխատանքներ
A17: Միջոցառման տեսակը` | B17: ='6-1'!B19 -> Պետական մարմինների կողմից օգտագործվող ոչ ֆինանսական ակտիվների հետ գործառնություններ
A18: ='6-1'!A20 -> Ակտիվն օգտագործող կազմակերպության(ների) անվանում(ները)՛ | B18: ='6-1'!B20 -> ՀՀ ՏԿԵՆ ջրային կոմիտե
A19: Արդյունքի չափորոշիչներ
A20: Միջոցառման վրա կատարվող ծախսը (հազար դրամ) | C20: ='6-1'!C22 -> -50600 | D20: ='6-1'!D22 -> -50600 | E20: ='6-1'!E22 -> 0
A22: Ծրագրի դասիչը` | B22: 1004 | C22: Ցուցանիշների փոփոխությունը (նվազեցումները նշված են փակագծերում)
A24: Միջոցառման դասիչը` | B24: 31014 | C24: Առաջին կիսամյակ | D24: Ինն ամիս | E24: Տարի
A25: Միջոցառման անվանումը` | B25: ='6-1'!B27 -> Ջրամբարների վերականգնման և վերազինման աշխատանքներ
A26: Նկարագրությունը` | B26: ='6-1'!B28 -> Ջրամբարների վերականգնման և վերազինման համար նախագծերի և աշխատանքների ձեռքբերում
A27: Միջոցառման տեսակը` | B27: ='6-1'!B29 -> Պետական մարմինների կողմից օգտագործվող ոչ ֆինանսական ակտիվների հետ գործառնություններ
A28: ='6-1'!A30 -> Ակտիվն օգտագործող կազմակերպության(ների) անվանում(ները)՛ | B28: ='6-1'!B30 -> Ոռոգման համակարգի ընկերություններ
A29: Արդյունքի չափորոշիչներ
A30: ='6-1'!A32:B32 -> Միջոցառման վրա կատարվող ծախսը (հազար դրամ) | C30: ='6-1'!C32 -> 0 | D30: ='6-1'!D32 -> 0 | E30: ='6-1'!E32 -> -50600
A32: Ծրագրի դասիչը | B32: Ծրագրի անվանումը
A33: 1072 | B33: Ջրամատակարարաման և ջրահեռացման բարելավում
A34: Ծրագրի միջոցառումները
A36: Ծրագրի դասիչը` | B36: 1072 | C36: Ցուցանիշների փոփոխությունը ( ավելացումները նշված են դրական նշանով)
A37: Միջոցառման դասիչը` | B37: 12002 | C37: Առաջին կիսամյակ | D37: Ինն ամիս | E37: Տարի
A38: Միջոցառման անվանումը` | B38: Աջակցություն ջրամատակարարաման և ջրահեռացման համակարգի ընկերություններին
A39: Նկարագրությունը` | B39: Աջակցություն ջրամատակարարաման և ջրահեռացման համակարգի ընկերություններին
A40: Միջոցառման տեսակը` | B40: ='6-1'!B42 -> Տրանսֆերտների տրամադրում
A41: ='6-1'!A43 -> Միջոցառումն իրականացնողի անվանումը | B41: ='6-1'!B43 -> ՀՀ ՏԿԵՆ ջրային կոմիտե
A42: Արդյունքի չափորոշիչներ
A43: Միջոցառման վրա կատարված ծախսը (հազար դրամ) | C43: ='6-1'!C45 -> 50600 | D43: ='6-1'!D45 -> 50600 | E43: ='6-1'!E45 -> 50600
D45: Աղյուսակ 9.1.58
A47: ՀՀ կառավարություն
A48: ՄԱՍ 2. ՊԵՏԱԿԱՆ ՄԱՐՄՆԻ ԳԾՈՎ ԱՐԴՅՈՒՆՔԱՅԻՆ (ԿԱՏԱՐՈՂԱԿԱՆ) ՑՈՒՑԱՆԻՇՆԵՐԸ
A50: Ծրագրի դասիչը | B50: Ծրագրի անվանումը
A51: 1139 | B51: ՀՀ կառավարության պահուստային ֆոնդ
...

Sheet 7
A1: Հավելված N 7
A2: ՀՀ կառավարության 2024 թվականի
A3: -ի N -Ն որոշման
A5: ՀՀ ԿԱՌԱՎԱՐՈՒԹՅԱՆ 2023 ԹՎԱԿԱՆԻ ԴԵԿՏԵՄԲԵՐԻ 28-Ի N 2323-Ն ՈՐՈՇՄԱՆ N 10 ՀԱՎԵԼՎԱԾՈՒՄ ԿԱՏԱՐՎՈՂ ՓՈՓՈԽՈՒԹՅՈՒՆՆԵՐԸ
A7: Կոդը | B7: Անվանումը | C7: Գնման ձևը | D7: Չափի միավորը | E7: Ցուցանիշների փոփոխությունը (նվազեցումները նշված են փակագծերում)
E8: Միավորի գինը | F8: քանակը | G8: գումարը (հազ. դրամ)
A9: ՀՀ տարածքային կառավարման և ենթակառուցվածքների նախարարության ջրային կոմիտե | G9: =G10 -> -50600
A10: Բաժին N 04 | B10: Խումբ N 02 | C10: Դաս N 04 | D10: Ոռոգում | G10: =G11 -> -50600
A11: 1004 31014 | B11: Ջրամբարների վերականգնման և վերազինման աշխատանքներ | G11: =G12 -> -50600
B12: ՄԱՍ II ԱՇԽԱՏԱՆՔՆԵՐ | G12: =G13 -> -50600
A13: 45611300/1 | B13: այլ շենքերի, շինությունների հիմնանորոգում | C13: ԲՄ | D13: դրամ | G13: -50600

Sheet 8
H1: Հավելված N 8
A2: ՀՀ կառավարության 2024 թվականի
A3: -ի N -Ն որոշման
A4: ՀԱՅԱՍՏԱՆԻ ՀԱՆՐԱՊԵՏՈՒԹՅԱՆ ԿԱՌԱՎԱՐՈՒԹՅԱՆ ՊԱՀՈՒՍՏԱՅԻՆ ՖՈՆԴԻՑ ԿԱՏԱՐՎՈՂ ՀԱՏԿԱՑՈՒՄԸ
H6: (հազ. դրամ)
A7: Գործառական դասիչը | D7: Ծրագրային դասիչը | F7: Բյուջետային ծախսերի գործառական դասակարգման բաժինների, խմբերի և դասերի, բյուջետային ծրագրերի միջոցառումների, բյուջետային հատկացումների գլխավոր կարգադրիչների անվանումները | G7: Ցուցանիշների փոփոխությունը (գումարների ավելացումները նշված են դրական նշանով, իսկ նվազեցումները՝ փակագծերում)
G8: Առաջին կիսամյակ | H8: Ինն ամիս | I8: Տարի
A9: Բաժին | B9: Խումբ | C9: Դաս | D9: Ծրագիր | E9: Միջոցառում
F10: ԸՆԴԱՄԵՆԸ ԾԱԽՍԵՐ | G10: =G12+G31 -> 0 | H10: =H12+H31 -> 0 | I10: =I12+I31 -> 0
F11: այդ թվում`
F12: ՀՀ կառավարություն | G12: =G13 -> -50600 | H12: =H13 -> -50600 | I12: =I13 -> -50600
A13: 11 | F13: ՀԻՄՆԱԿԱՆ ԲԱԺԻՆՆԵՐԻՆ ՉԴԱՍՎՈՂ ՊԱՀՈՒՍՏԱՅԻՆ ՖՈՆԴԵՐ | G13: =G15 -> -50600 | H13: =H15 -> -50600 | I13: =I15 -> -50600
F14: այդ թվում`
B15: 01 | F15: ՀՀ կառավարության և համայնքների պահուստային ֆոնդ | G15: =G17 -> -50600 | H15: =H17 -> -50600 | I15: =I17 -> -50600
F16: այդ թվում`
C17: 01 | F17: ՀՀ կառավարության պահուստային ֆոնդ | G17: =G19 -> -50600 | H17: =H19 -> -50600 | I17: =I19 -> -50600
F18: այդ թվում`
F19: ՀՀ կառավարություն | G19: =G21 -> -50600 | H19: =H21 -> -50600 | I19: =I21 -> -50600
F20: այդ թվում`
D21: 1139 | F21: ՀՀ կառավարության պահուստային ֆոնդ | G21: =G23 -> -50600 | H21: =H23 -> -50600 | I21: =I23 -> -50600
F22: այդ թվում`
E23: 11001 | F23: ՀՀ կառավարության պահուստային ֆոնդ | G23: =G25 -> -50600 | H23: =H25 -> -50600 | I23: =I25 -> -50600
F24: այդ թվում` ըստ կատարողների
F25: ՀՀ կառավարություն | G25: =G27 -> -50600 | H25: =H27 -> -50600 | I25: =I27 -> -50600
F26: այդ թվում` բյուջետային ծախսերի տնտեսագիտական դասակարգման հոդվածներ
F27: ԸՆԴԱՄԵՆԸ ԾԱԽՍԵՐ | G27: =G28 -> -50600 | H27: =H28 -> -50600 | I27: =I28 -> -50600
F28: ԸՆԹԱՑԻԿ ԾԱԽՍԵՐ | G28: =G29 -> -50600 | H28: =H29 -> -50600 | I28: =I29 -> -50600
F29: ԱՅԼ ԾԱԽՍԵՐ | G29: =G30 -> -50600 | H29: =H30 -> -50600 | I29: =I30 -> -50600
F30: Պահուստային միջոցներ | G30: ='3'!G75 -> -50600 | H30: ='3'!H75 -> -50600 | I30: ='3'!I75 -> -50600
F31: ՀՀ տարածքային կառավարման և ենթակառուցվածքների նախարարություն | G31: =G32 -> 50600 | H31: =H32 -> 50600 | I31: =I32 -> 50600
A32: 06 | F32: ԲՆԱԿԱՐԱՆԱՅԻՆ ՇԻՆԱՐԱՐՈՒԹՅՈՒՆ ԵՎ ԿՈՄՈՒՆԱԼ ԾԱՌԱՅՈՒԹՅՈՒՆՆԵՐ | G32: =G34 -> 50600 | H32: =H34 -> 50600 | I32: =I34 -> 50600
F33: այդ թվում`
B34: 03 | F34: Ջրամատակարարում | G34: =G36 -> 50600 | H34: =H36 -> 50600 | I34: =I36 -> 50600
F35: այդ թվում`
C36: 01 | F36: Ջրամատակարարում | G36: =G38 -> 50600 | H36: =H38 -> 50600 | I36: =I38 -> 50600
F37: այդ թվում`
F38: ՀՀ տարածքային կառավարման և ենթակառուցվածքների նախարարություն | G38: =G40 -> 50600 | H38: =H40 -> 50600 | I38: =I40 -> 50600
F39: այդ թվում`
D40: 1072 | F40: Ջրամատակարարաման և ջրահեռացման բարելավում | G40: =G42 -> 50600 | H40: =H42 -> 50600 | I40: =I42 -> 50600
F41: այդ թվում`
...
