Workbook
Name _tab10: #REF!
Name _tab11: #REF!
Name _tab12: #REF!
Name _tab13: #REF!
Name _tab14: #REF!
Name _tab15: #REF!
Name _tab16: #REF!
Name _tab17: #REF!
Name _tab18: #REF!
Name _tab19: #REF!
Name _tab20: #REF!
Name _tab21: #REF!
Name _tab22: #REF!
Name _tab23: #REF!
Name _tab24: #REF!
Name _tab5: #REF!
Name _tab6: #REF!
Name _tab7: #REF!
Name _tab8: #REF!
Name _tab9: #REF!
Name par_count: #REF!,#REF!,#REF!,#REF!,#REF!,#REF!,#REF!,#REF!,#REF!,#REF!,#REF!,#REF!,#REF!,#REF!,#REF!
Name par_qual: #REF!,#REF!,#REF!,#REF!,#REF!
Name par_time: #REF!,#REF!,#REF!,#REF!
Name par2.12s: #REF!
Name par2.4s: #REF!,#REF!,#REF!,#REF!,#REF!,#REF!,#REF!,#REF!,#REF!,#REF!,#REF!,#REF!,#REF!,#REF!,#REF!,#REF!
Name par2.5s: #REF!,#REF!
Name par2.6s: #REF!,#REF!,#REF!,#REF!
Name par2.7s: #REF!,#REF!
Name par2.9s: #REF!,#REF!,#REF!,#REF!,#REF!,#REF!,#REF!,#REF!,#REF!,#REF!,#REF!,#REF!,#REF!,#REF!,#REF!,#REF!
Name par4.10s: #REF!,#REF!
Name par4.11d: #REF!,#REF!,#REF!,#REF!,#REF!
Name par4.12d: #REF!
Name par4.13s: #REF!
Name par4.14: #REF!,#REF!,#REF!,#REF!,#REF!,#REF!
Name par4.15: #REF!,#REF!,#REF!
Name par4.16: #REF!,#REF!,#REF!
Name par4.17: #REF!,#REF!,#REF!,#REF!
Name par4.18d: #REF!,#REF!
Name par4.19s: #REF!
Name par4.20f: #REF!
Name par4.21f: #REF!
Name par4.22: #REF!
Name par4.4: #REF!
Name par4.5: #REF!
Name par4.6s: #REF!
Name par4.7s: #REF!
Name par4.8: #REF!,#REF!,#REF!,#REF!,#REF!
Name par4.9: #REF!,#REF!,#REF!,#REF!,#REF!,#REF!
Name par5.1: #REF!,#REF!
Name par5.3: #REF!,#REF!,#REF!,#REF!,#REF!,#REF!
Name par5.4: #REF!,#REF!,#REF!,#REF!,#REF!
Name par5.5: #REF!
Name par5.6: #REF!,#REF!
Name program: #REF!,#REF!,#REF!,#REF!,#REF!,#REF!,#REF!,#REF!,#REF!,#REF!,#REF!,#REF!,#REF!,#REF!,#REF!,#REF!,#REF!,#REF!,#REF!,#REF!

Sheet 1
F1: Հավելված № 1
F2: ՀՀ կառավարության 2024 թվականի
F3: -------------- ի № ---- -Ն որոշման
A5: «ՀԱՅԱՍՏԱՆԻ ՀԱՆՐԱՊԵՏՈՒԹՅԱՆ 2024 ԹՎԱԿԱՆԻ ՊԵՏԱԿԱՆ ԲՅՈՒՋԵԻ ՄԱՍԻՆ» ՕՐԵՆՔԻ N 1 ՀԱՎԵԼՎԱԾԻ N 7 ԱՂՅՈՒՍԱԿՈՒՄ ԵՎ ՀԱՅԱՍՏԱՆԻ ՀԱՆՐԱՊԵՏՈՒԹՅԱՆ ԿԱՌԱՎԱՐՈՒԹՅԱՆ 2023 ԹՎԱԿԱՆԻ ԴԵԿՏԵՄԲԵՐԻ 28-Ի N 2323-Ն ՈՐՈՇՄԱՆ N 5 ՀԱՎԵԼՎԱԾԻ N 6 ԱՂՅՈՒՍԱԿՈՒՄ ԿԱՏԱՐՎՈՂ ՓՈՓՈԽՈՒԹՅՈՒՆԸ ԵՎ ԼՐԱՑՈՒՄՆԵՐԸ
F6: հազար դրամ
A7: Ծրագրային դասիչը | C7: Բյուջետային հատկացումների գլխավոր կարգադրիչների, ծրագրերի, միջոցառումների և միջոցառումները կատարող պետական մարմինների անվանումները | D7: Ցուցանիշների փոփոխությունը (ավելացումները նշված են դրական նշանով, իսկ նվազեցումները` փակագծերում)
A8: Ծրագիր | B8: Միջոցառում | D8: Առաջին կիսամյակ | E8: Ինն ամիս | F8: Տարի
C9: ԸՆԴԱՄԵՆԸ | E9: =+E11 -> 0 | F9: =+F11 -> 0
C10: այդ թվում
C11: Կապիտալ սուբվենցիաներ համայնքներին | E11: =+E13 -> 0 | F11: =+F13 -> 0
C12: այդ թվում`
C13: ՀՀ տարածքային կառավարման և ենթակառուցվածքների նախարարություն | E13: =+E15 -> 0 | F13: =+F15 -> 0
C14: այդ թվում`
A15: 1212 | C15: Տարածքային զարգացում | E15: =+E17 -> 0 | F15: =+F17 -> 0
C16: այդ թվում`
B17: 12007 | C17: ՀՀ մարզերին սուբվենցիաների տրամադրում՝ ենթակառուցվածքների զարգացման նպատակով | E17: 0 | F17: 0
C18: այդ թվում` ըստ կատարողների
C19: ՀՀ կառավարություն | D19: =-(D20+D28+D48+D51+D23+D35+D45) -> -1012342.1 | E19: =-(E20+E28+E48+E51+E23+E35+E45) -> -1012342.1 | F19: =-(F20+F28+F48+F51+F23+F35+F45) -> -1012342.1
C20: ՀՀ Արարատի մարզպետի աշխատակազմ | D20: =SUM(D22:D22) -> 55702.8 | E20: =SUM(E22:E22) -> 55702.8 | F20: =SUM(F22:F22) -> 55702.8
C21: այդ թվում` ըստ ուղղությունների
C22: Արտաշատ համայնքի Բյուրավան, Վարդաշեն, Բուրաստան, Դալար, Դեղձուտ, Նշավան, Բարձրաշեն և Լանջազատ բնակավայրերի ոռոգման համակարգի կառուցում /նորոգում/ /Բյուրավան, Նշավան/ | D22: 55702.8 | E22: 55702.8 | F22: 55702.8
C23: ՀՀ Արմավիրի մարզպետի աշխատակազմ | D23: =SUM(D25:D27) -> 140290.1 | E23: =SUM(E25:E27) -> 140290.1 | F23: =SUM(F25:F27) -> 140290.1
C24: այդ թվում` ըստ ուղղությունների
C25: Արմավիր համայնքի Արմավիր քաղաքի Սահմանապահների փողոցի Հանրապետություն -Աբովյան և Երևանյան-Շահումյան հատվածների հիմնանորոգում,Թումանյան փողոցի Երևանյան-Շահումյան հատվածի հիմնանորոգում, Հ Ավետիսյան փողոցի Երևանյան- Շահումյան հատվածի հիմնանորոգում, Շահումյան փողոցի Արարատյան-Ջիվանի և Չարենց-Բաղրամյան հատվածների հիմնանորոգում, Նորավան գյուղի կենտրոնական փողոցի կառուցում, Այգեվան գյուղի կենտրոնական փողոցի հիմնանորոգում, կառուցում, Մյասնիկյան գյուղի Բաղրամյան փողոցի կառուցում, Լուկաշին գյուղի Թամանյան փողոցի հիմնանորոգում; //Արմավիր քաղաքի Սահմանապահների փողոցի Երևանյան-Շահումյան հատածի, Թումանյան փողոցի Երևանյան-Շահումյան հատածի, Հ.Ավետիսյան փողոցի Երևանյան-Շահումյան հատածի հիմնանորոգում;Արմավիր քաղաքի Սահմանապահների փողոցի Հանրապետության-Աբովյան հատվածի հիմնանորոգում;Մյասնիկյան գյուղի Բաղրամյան փողոցի կառուցում// | D25: 120596.2 | E25: 120596.2 | F25: 120596.2
C26: Արմավիր համայնքի Արմավիր քաղաքի Շահումյան փողոցի Արարատյան-Ջիվանի և Չարենց-Բաղրամյան հատվածներ, Սահմանապահների փողոցի Երևանյան-Շահումյան հատվածի, Թումանյան փողոցի Երևանյան-Շահումյան հատվածի, Հ Ավետիսյան փողոցի Երևանյան-Շահումյան հատվածի և Հացիկ գյուղի ջրամատակարարման համակարգի վերակառուցում /Սահմանապահների փողոցի Երևանյան-Շահումյան հատվածի, Թումանյան փողոցի Երևանյան-Շահումյան հատվածի, Հ. Ավետիսյան փողոցի Երևանյան-Շահումյան հատվածի ջրամատակարարման համակարգի վերակառուցում// | D26: 14670.4 | E26: 14670.4 | F26: 14670.4
C27: Արմավիր համայնքի Արմավիր քաղաքի թիվ 2 մսուր-մանկապարտեզ» ՀՈԱԿ-ի, «ՀՀ Արմավիրի մարզի Արմավիր համայնքի Արմավիր քաղաքի թիվ 11 մսուր-մանկապարտեզ» ՀՈԱԿ-ի, Արմավիր համայնքի Արմավիր քաղաքի թիվ 12 մանկապարտեզի, ՀՀ Արմավիրի մարզի Արմավիր համայնքի Արաքս գյուղի մանկապարտեզի, ՀՀ Արմավիրի մարզի Արմավիր համայնքի Խանջյան գյուղի մանկապարտեզի գույքի և սարքավորումների ձեռքբերում / Սարդարապատ գյուղի մանկապարտեզի գույքի և սարքավորումների ձեռքբերում / | D27: 5023.5 | E27: 5023.5 | F27: 5023.5
C28: ՀՀ Գեղարքունիքի մարզպետի աշխատակազմ | D28: =SUM(D29:D34) -> 205882.8 | E28: =SUM(E29:E34) -> 205882.8 | F28: =SUM(F29:F34) -> 205882.8
C29: այդ թվում` ըստ ուղղությունների
C30: Սևան համայնքի Զովաբեր, Գագարին, Գեղամավան, Չկալովկա, Նորաշեն, Ծովագյուղ, Ծաղկունք և Դդմաշեն բնակավայրերի փողոցների հիմնանորոգում, 2023 թվական 1-ին փուլ՝ Ծովագյուղ, Ծաղկունք և Դդմաշեն բնակավայրերի փողոցների հիմնանորոգում, 2024 թվական 2-րդ փուլ՝ Զովաբեր, Գագարին, Գեղամավան, Չկալովկա և Նորաշեն բնակավայրերի փողոցների հիմնանորոգում / Ծաղկունք,Դդմաշեն / | D30: 115678.9 | E30: 115678.9 | F30: 115678.9
C31: Վարդենիս համայնքի Վարդենիս քաղաքի Գայի փողոցի ասֆալտապատում, միակողմանի մայթի կառուցում, Վ. Համբարձումյան փողոցի ասֆալտապատում, 6 բազմաբնակարան շենքի բակերի ասֆալտապատում, Արփունք բնակավայր տանող ճանապարհի ասֆալտապատում, Ակունք բնակավայրի 13-րդ փողոցի ասֆալտապատում, Տորֆավան բնակավայրի կենտրոնական փողոցի ասֆալտապատում, Ծովակ բնակավայրի 1 փողոցի, 11 փակուղի հասեցի ճանապարհի ասֆալտապատում, Կարճաղբյուր բնակավայրի 11-րդ և 13-րդ փողոցների ասֆալտապատում /Տորֆավան, Ծովակ, Կարճաղբյուր/ | D31: 66291 | E31: 66291 | F31: 66291
C32: Մարտունի համայնքի «Մարտունի քաղաքում և համայնքի Արծվանիստ, Ծովինար, Վարդենիկ, Զոլաքար, Աստղաձոր, Վաղաշեն, Գեղհովիտ, Լեռնակերտ, Մադինա, Վ Գետաշեն և Ձորագյուղ բնակավայրերում ոռոգման ջրատարների կառուցում և վերանորոգում» /Գեղհովիտ, Լեռնակերտ-լրացուցիչ/ | D32: 12144.6 | E32: 12144.6 | F32: 12144.6
C33: Մարտունի համայնքի «Արծվանիստ, Ծովինար, Վարդենիկ, Զոլաքար, Աստղաձոր, Լիճք, Ծակքար, Ձորագյուղ, Վարդաձոր, Երանոս բնակավայրերում խմելու նոր ջրագծերի կառուցում և Ծովինար, Վարդաձոր, Վարդենիկ բնակավայրերում խմելու ջրի կապտաժների կառուցում» /Երանոս/ | D33: 6716.5 | E33: 6716.5 | F33: 6716.5
C34: Մարտունի համայնքի «Մարտունի համայնքի Արծվանիստ, Ծովինար, Զոլաքար, Աստղաձոր, Լիճք, Ծակքար, Ձորագյուղ, Վարդաձոր, Վարդենիկ և Երանոս բնակավայրերում խմելու նոր ջրագծերի կառուցում և Վարդաձոր, Վարդենիկ և Ծովինար բնակավայրերում խմելու ջրի կապտաժիների կառուցում» /Զոլաքար-լրացուցիչ/ | D34: 5051.8 | E34: 5051.8 | F34: 5051.8
C35: ՀՀ Լոռու մարզպետի աշխատակազմ | D35: =SUM(D37:D44) -> 322649 | E35: =SUM(E37:E44) -> 322649 | F35: =SUM(F37:F44) -> 322649
C36: այդ թվում` ըստ ուղղությունների
C37: Գյուլագարակ համայնքի Վարդաբլուր բն․ մանկապարտեզի շենքի կառուցում | D37: 110411 | E37: 110411 | F37: 110411
C38: Օձուն համայնքի Օձուն բնակավայրում մարզաառողջարանային կենտրոնի կառուցում/2-րդ փուլ | D38: 41447.8 | E38: 41447.8 | F38: 41447.8
C39: Սպիտակ համայնքի Սպիտակ բնակավայրի ԲԲՇ-ների բակային տարածքների ասֆալտապատում և Ս. Ավետիսյան փողոցի ջրահեռացման համակարգի կառուցում, Լուսաղբյուր բնակավայրի ճանապարհների ասֆալտապատում և սելավատարների գաբիոնով կառուցում, Արևաշող բնակավայրի կենտրոնական ճանապարհի հիմնանորոգում (2-րդ փուլ), Կաթնաջուր բնակավայրի հրապարակի հարակից տարածքի բարեկարգում և հենապատի կառուցում /Արևաշող/ | D39: 16643.2 | E39: 16643.2 | F39: 16643.2
C40: Թումանյան համայնքի Դսեղ բն․ խմելու ջրի արտաքին ջրագծի վերանորոգում | D40: 28682.1 | E40: 28682.1 | F40: 28682.1
C41: Թումանյան համայնքի Թումանյան և Չկալով բն․ փողոցների սալարկում տուֆով /Չկալով/ | D41: 9435.6 | E41: 9435.6 | F41: 9435.6
...

Sheet 2
I1: Հավելված № 2
I2: ՀՀ կառավարության 2024 թվականի
I3: -------------- ի № ---- -Ն որոշման
A5: ՀԱՅԱՍՏԱՆԻ ՀԱՆՐԱՊԵՏՈՒԹՅԱՆ ԿԱՌԱՎԱՐՈՒԹՅԱՆ 2023 ԹՎԱԿԱՆԻ ԴԵԿՏԵՄԲԵՐԻ 28-Ի № 2323-Ն ՈՐՈՇՄԱՆ №№ 3 և 4 ՀԱՎԵԼՎԱԾՆԵՐՈՒՄ ԿԱՏԱՐՎՈՂ ՓՈՓՈԽՈՒԹՅՈՒՆՆԵՐԸ ԵՎ ԼՐԱՑՈՒՄՆԵՐԸ
I6: հազար դրամ
A7: Գործառական դասիչը | D7: Ծրագրային դասիչը | F7: Բյուջետային հատկացումների գլխավոր կարգադրիչների, ծրագրերի, միջոցառումների և միջոցառումները կատարող պետական մարմինների անվանումները | G7: Ցուցանիշների փոփոխությունը (ավելացումները նշված են դրական նշանով, իսկ նվազեցումները` փակագծերում)
A8: բաժին | B8: խումբ | C8: դաս | D8: Ծրագիր | E8: Միջոցառում | G8: Առաջին կիսամյակ | H8: Ինն ամիս | I8: Տարի
A9: ԸՆԴԱՄԵՆԸ ԾԱԽՍԵՐ | H9: =+H11 -> 0 | I9: =+I11 -> 0
F10: ՀՀ տարածքային կառավարմնա և ենթակառուցվածքների նախարարություն
A11: 01 | F11: ԸՆԴՀԱՆՈՒՐ ԲՆՈՒՅԹԻ ՀԱՆՐԱՅԻՆ ԾԱՌԱՅՈՒԹՅՈՒՆՆԵՐ | H11: =+H13 -> 0 | I11: =+I13 -> 0
F12: այդ թվում՝
B13: 08 | F13: Կառավարության տարբեր մակարդակների միջև իրականացվող ընդհանուր բնույթի տրանսֆերտներ | H13: =+H15 -> 0 | I13: =+I15 -> 0
F14: այդ թվում՝
C15: 01 | F15: Կառավարության տարբեր մակարդակների միջև իրականացվող ընդհանուր բնույթի տրանսֆերտներ | H15: =+H17 -> 0 | I15: =+I17 -> 0
F16: այդ թվում՝
F17: ՀՀ տարածքային կառավարման և ենթակառուցվածքների նախարարություն | H17: =+H19 -> 0 | I17: =+I19 -> 0
F18: այդ թվում՝
D19: 1212 | F19: Տարածքային զարգացում | H19: =+H21 -> 0 | I19: =+I21 -> 0
F20: այդ թվում`
E21: 12007 | F21: ՀՀ մարզերին սուբվենցիաների տրամադրում՛ ենթակառուցվածքների զարգացման նպատակով_x000D_ | H21: 0 | I21: 0
F22: այդ թվում` ըստ կատարողների
F23: ՀՀ կառավարություն | G23: ='1'!D19 -> -1012342.1 | H23: ='1'!E19 -> -1012342.1 | I23: ='1'!F19 -> -1012342.1
F24: այդ թվում` բյուջետային ծախսերի տնտեսագիտական դասակարգման հոդվածներ
F25: ԸՆԴԱՄԵՆԸ ԾԱԽՍԵՐ | G25: =G26 -> -1012342.1 | H25: =H26 -> -1012342.1 | I25: =I26 -> -1012342.1
F26: ԸՆԹԱՑԻԿ ԾԱԽՍԵՐ | G26: =G27 -> -1012342.1 | H26: =H27 -> -1012342.1 | I26: =I27 -> -1012342.1
F27: ԴՐԱՄԱՇՆՈՐՀՆԵՐ | G27: =G28 -> -1012342.1 | H27: =H28 -> -1012342.1 | I27: =I28 -> -1012342.1
F28: Կապիտալ դրամաշնորհներ պետական հատվածի այլ մակարդակներին | G28: =G29 -> -1012342.1 | H28: =H29 -> -1012342.1 | I28: =I29 -> -1012342.1
F29: - Կապիտալ սուբվենցիաներ համայնքներին | G29: ='1'!D19 -> -1012342.1 | H29: ='1'!E19 -> -1012342.1 | I29: ='1'!F19 -> -1012342.1
F30: ՀՀ Արարատի մարզպետի աշխատակազմ | G30: ='1'!D20 -> 55702.8 | H30: ='1'!E20 -> 55702.8 | I30: ='1'!F20 -> 55702.8
F31: այդ թվում` բյուջետային ծախսերի տնտեսագիտական դասակարգման հոդվածներ
F32: ԸՆԴԱՄԵՆԸ ԾԱԽՍԵՐ | G32: =G30 -> 55702.8 | H32: =H30 -> 55702.8 | I32: =I30 -> 55702.8
F33: ԸՆԹԱՑԻԿ ԾԱԽՍԵՐ | G33: =G32 -> 55702.8 | H33: =H32 -> 55702.8 | I33: =I32 -> 55702.8
F34: ԴՐԱՄԱՇՆՈՐՀՆԵՐ | G34: =G33 -> 55702.8 | H34: =H33 -> 55702.8 | I34: =I33 -> 55702.8
F35: Կապիտալ դրամաշնորհներ պետական հատվածի այլ մակարդակներին | G35: =G34 -> 55702.8 | H35: =H34 -> 55702.8 | I35: =I34 -> 55702.8
F36: - Կապիտալ սուբվենցիաներ համայնքներին | G36: =G35 -> 55702.8 | H36: =H35 -> 55702.8 | I36: =I35 -> 55702.8
F37: ՀՀ Արմավիրի մարզպետի աշխատակազմ | G37: ='1'!D23 -> 140290.1 | H37: ='1'!E23 -> 140290.1 | I37: ='1'!F23 -> 140290.1
F38: այդ թվում` բյուջետային ծախսերի տնտեսագիտական դասակարգման հոդվածներ
F39: ԸՆԴԱՄԵՆԸ ԾԱԽՍԵՐ | G39: =G37 -> 140290.1 | H39: =H37 -> 140290.1 | I39: =I37 -> 140290.1
F40: ԸՆԹԱՑԻԿ ԾԱԽՍԵՐ | G40: =G39 -> 140290.1 | H40: =H39 -> 140290.1 | I40: =I39 -> 140290.1
F41: ԴՐԱՄԱՇՆՈՐՀՆԵՐ | G41: =G40 -> 140290.1 | H41: =H40 -> 140290.1 | I41: =I40 -> 140290.1
...

Sheet 3
E1: Հավելված № 3
E2: ՀՀ կառավարության 2024 թվականի
E3: -------------- ի № ---- -Ն որոշման
A4: ՀԱՅԱՍՏԱՆԻ ՀԱՆՐԱՊԵՏՈՒԹՅԱՆ ԿԱՌԱՎԱՐՈՒԹՅԱՆ 2023 ԹՎԱԿԱՆԻ ԴԵԿՏԵՄԲԵՐԻ 28-Ի № 2323-Ն ՈՐՈՇՄԱՆ № 9 ՀԱՎԵԼՎԱԾԻ № 9.7 ԱՂՅՈՒՍԱԿՈՒՄ ԿԱՏԱՐՎՈՂ ԼՐԱՑՈՒՄԸ
A6: ՀՀ տարածքային կառավարման և ենթակառուցվածքների նախարարություն
A7: ՄԱՍ 2. ՊԵՏԱԿԱՆ ՄԱՐՄՆԻ ԳԾՈՎ ԱՐԴՅՈՒՆՔԱՅԻՆ (ԿԱՏԱՐՈՂԱԿԱՆ) ՑՈՒՑԱՆԻՇՆԵՐԸ
A9: Ծրագրի դասիչը | B9: Ծրագրի անվանումը
A10: 1212 | B10: Տարածքային զարգացում
A11: Ծրագրի միջոցառումները
A12: Ծրագրի դասիչը` | B12: 1212 | C12: Ցուցանիշների փոփոխությունը (ավելացումները նշված են դրական նշանով)
A13: Միջոցառման դասիչը` | B13: 12007 | C13: Առաջին կիսամյակ | D13: Ինն ամիս | E13: Տարի
A14: Միջոցառման անվանումը` | B14: ՀՀ մարզերին սուբվենցիաների տրամադրում` ենթակառուցվածքների զարգացման նպատակով_x000D_
A15: Նկարագրությունը` | B15: ՀՀ մարզերին սուբվենցիաների տրամադրում` ենթակառուցվածքների զարգացման նպատակով
A16: Միջոցառման տեսակը` | B16: Տրանսֆերտների տրամադրում
A17: Շահառուների ընտրության չափանիշները | B17: ՀՀ կառավարության 16. 11.2006 թվականի ,ՀՀ պետական բյուջեից համայնքներին սուբվենցիաների տրամադրման կարգը հաստատելու մասինե 1708-Ն որոշում
A18: Արդյունքի չափորոշիչներ
A19: Ծրագրերի քանակ, հատ | C19: ='4'!C143+'4'!C123+'4'!C103+'4'!C84+'4'!C64+'4'!C44+'4'!C24 -> 21 | D19: 0 | E19: =C19 -> 21
A20: Միջոցառման վրա կատարվող ծախսը (հազար դրամ) | C20: 0 | D20: 0 | E20: 0

Sheet 4
E1: Հավելված № 4
E2: ՀՀ կառավարության 2024 թվականի
E3: -------------- ի № ---- -Ն որոշման
A6: ՀԱՅԱՍՏԱՆԻ ՀԱՆՐԱՊԵՏՈՒԹՅԱՆ ԿԱՌԱՎԱՐՈՒԹՅԱՆ 2023 ԹՎԱԿԱՆԻ ԴԵԿՏԵՄԲԵՐԻ 28-Ի № 2323-Ն ՈՐՈՇՄԱՆ № 9.1 ՀԱՎԵԼՎԱԾԻ № 9.1.49, 9.1.50, 9.1.51, 9.1.52, 9.1.53, 9.1.54, 9.1.55 ԵՎ 9.1.58 ԱՂՅՈՒՍԱԿՆԵՐՈՒՄ ԿԱՏԱՐՎՈՂ ՓՈՓՈԽՈՒԹՅՈՒՆԸ ԵՎ ԼՐԱՑՈՒՄՆԵՐԸ
E8: Աղյուսակ 9.1.49
A9: ՀՀ Արարատի մարզպետի աշխատակազմ
A11: ՄԱՍ 1. ՊԵՏԱԿԱՆ ՄԱՐՄՆԻ ԳԾՈՎ ԱՐԴՅՈՒՆՔԱՅԻՆ (ԿԱՏԱՐՈՂԱԿԱՆ) ՑՈՒՑԱՆԻՇՆԵՐԸ
A13: Ծրագրի դասիչը | B13: Ծրագրի անվանումը
A14: 1212 | B14: Տարածքային զարգացում
A16: Ծրագրի միջոցառումները
A17: Ծրագրի դասիչը` | B17: 1212 | C17: Ցուցանիշների փոփոխությունը (ավելացումները նշված են դրական նշանով)
A18: Միջոցառման դասիչը` | B18: 12007 | C18: Առաջին կիսամյակ | D18: Ինն ամիս | E18: Տարի
A19: Միջոցառման անվանումը` | B19: ՀՀ մարզերին սուբվենցիաների տրամադրում` ենթակառուցվածքների զարգացման նպատակով_x000D_
A20: Նկարագրությունը` | B20: ՀՀ մարզերին սուբվենցիաների տրամադրում` ենթակառուցվածքների զարգացման նպատակով
A21: Միջոցառման տեսակը` | B21: Տրանսֆերտների տրամադրում
A22: Շահառուների ընտրության չափանիշները | B22: ՀՀ կառավարության 16. 11.2006 թվականի ,ՀՀ պետական բյուջեից համայնքներին սուբվենցիաների տրամադրման կարգը հաստատելու մասինե 1708-Ն որոշում
A23: Արդյունքի չափորոշիչներ
A24: Ծրագրերի քանակ, հատ | C24: 1 | D24: - | E24: 1
A25: Միջոցառման վրա կատարվող ծախսը (հազար դրամ) | C25: ='2'!G30 -> 55702.8 | D25: ='2'!H30 -> 55702.8 | E25: ='2'!I30 -> 55702.8
E27: Աղյուսակ 9.1.50
A28: ՀՀ Արմավիրի մարզպետի աշխատակազմ
A30: ՄԱՍ 1. ՊԵՏԱԿԱՆ ՄԱՐՄՆԻ ԳԾՈՎ ԱՐԴՅՈՒՆՔԱՅԻՆ (ԿԱՏԱՐՈՂԱԿԱՆ) ՑՈՒՑԱՆԻՇՆԵՐԸ
A32: Ծրագրի դասիչը | B32: Ծրագրի անվանումը
A33: 1212 | B33: Տարածքային զարգացում
A35: Ծրագրի միջոցառումները
A37: Ծրագրի դասիչը` | B37: 1212 | C37: Ցուցանիշների փոփոխությունը (ավելացումները նշված են դրական նշանով)
A38: Միջոցառման դասիչը` | B38: 12007 | C38: Առաջին կիսամյակ | D38: Ինն ամիս | E38: Տարի
A39: Միջոցառման անվանումը` | B39: ՀՀ մարզերին սուբվենցիաների տրամադրում` ենթակառուցվածքների զարգացման նպատակով_x000D_
A40: Նկարագրությունը` | B40: ՀՀ մարզերին սուբվենցիաների տրամադրում` ենթակառուցվածքների զարգացման նպատակով
A41: Միջոցառման տեսակը` | B41: Տրանսֆերտների տրամադրում
A42: Շահառուների ընտրության չափանիշները | B42: ՀՀ կառավարության 16. 11.2006 թվականի ,ՀՀ պետական բյուջեից համայնքներին սուբվենցիաների տրամադրման կարգը հաստատելու մասինե 1708-Ն որոշում
A43: Արդյունքի չափորոշիչներ
A44: Ծրագրերի քանակ, հատ | C44: 3 | D44: - | E44: 3
A45: Միջոցառման վրա կատարվող ծախսը (հազար դրամ) | C45: ='1'!D23 -> 140290.1 | D45: ='1'!E23 -> 140290.1 | E45: ='1'!F23 -> 140290.1
E47: Աղյուսակ 9.1.51
A48: ՀՀ Գեղարքունիքի մարզպետի աշխատակազմ
A50: ՄԱՍ 1. ՊԵՏԱԿԱՆ ՄԱՐՄՆԻ ԳԾՈՎ ԱՐԴՅՈՒՆՔԱՅԻՆ (ԿԱՏԱՐՈՂԱԿԱՆ) ՑՈՒՑԱՆԻՇՆԵՐԸ
A52: Ծրագրի դասիչը | B52: Ծրագրի անվանումը
A53: 1212 | B53: Տարածքային զարգացում
A55: Ծրագրի միջոցառումները
...
