Workbook
Name _tab10: #REF!
Name _tab10: #REF!
Name _tab10: #REF!
Name _tab11: #REF!
Name _tab11: #REF!
Name _tab11: #REF!
Name _tab12: #REF!
Name _tab12: #REF!
Name _tab12: #REF!
Name _tab13: #REF!
Name _tab13: #REF!
Name _tab13: #REF!
Name _tab14: #REF!
Name _tab14: #REF!
Name _tab14: #REF!
Name _tab15: #REF!
Name _tab15: #REF!
Name _tab15: #REF!
Name _tab16: #REF!
Name _tab16: #REF!
Name _tab16: #REF!
Name _tab17: #REF!
Name _tab17: #REF!
Name _tab17: #REF!
Name _tab18: #REF!
Name _tab18: #REF!
Name _tab18: #REF!
Name _tab19: #REF!
Name _tab19: #REF!
Name _tab19: #REF!
Name _tab20: #REF!
Name _tab20: #REF!
Name _tab20: #REF!
Name _tab21: #REF!
Name _tab21: #REF!
Name _tab21: #REF!
Name _tab22: #REF!
Name _tab22: #REF!
Name _tab22: #REF!
Name _tab23: #REF!
Name _tab23: #REF!
Name _tab23: #REF!
Name _tab24: #REF!
Name _tab24: #REF!
Name _tab24: #REF!
Name _tab5: #REF!
Name _tab5: #REF!
Name _tab5: #REF!
Name _tab6: #REF!
Name _tab6: #REF!
Name _tab6: #REF!
Name _tab7: #REF!
Name _tab7: #REF!
Name _tab7: #REF!
Name _tab8: #REF!
Name _tab8: #REF!
Name _tab8: #REF!
Name _tab9: #REF!
Name _tab9: #REF!
Name _tab9: #REF!

Sheet 1.1
D1: Հավելված N 1
C2: ՀՀ կառավարության 2024 թվականի
C3: -----------------ի N -----------Ն որոշման -ի N -Ն որոշման
A5: ՀԱՅԱՍՏԱՆԻ ՀԱՆՐԱՊԵՏՈՒԹՅԱՆ ԿԱՌԱՎԱՐՈՒԹՅԱՆ 2023 ԹՎԱԿԱՆԻ ԴԵԿՏԵՄԲԵՐԻ 28-Ի N 2323-Ն ՈՐՈՇՄԱՆ N 1 ՀԱՎԵԼՎԱԾԻ N 1 ԱՂՅՈՒՍԱԿՈՒՄ ԿԱՏԱՐՎՈՂ ՓՈՓՈԽՈՒԹՅՈՒՆՆԵՐԸ
D6: հազար դրամ
A7: Պետական բյուջեի դեֆիցիտի ֆինանսավորման աղբյուրներն ու դրանց տարրերի անվանումները | B7: Ցուցանիշների փոփոխություն ( գումարների ավելացումը նշված է դրական նշանով)
B8: Առաջին կիսամյակ | C8: Ինն ամիս | D8: Տարի
A9: ԸՆԴԱՄԵՆԸ | B9: =B11 -> 0 | C9: =C11 -> 21361866 | D9: =D11 -> 0
A10: այդ թվում՝
A11: Ա.Ներքին աղբյուրներ-ընդամենը | B11: =B13 -> 0 | C11: =C13 -> 21361866 | D11: =D13 -> 0
A12: այդ թվում՝
A13: 2. Ֆինանսական զուտ ակտիվներ | B13: =B15 -> 0 | C13: =C15 -> 21361866 | D13: =D15 -> 0
A14: այդ թվում՝
A15: 2.6.Այլ | B15: =B16 -> 0 | C15: =C16 -> 21361866 | D15: =D16 -> 0
A16: ժամանակավորապես ազատ միջոցներ | B16: 0 | C16: 21361866 | D16: ='[1]2.'!E9 -> 0

Sheet 2.
F1: Հավելված N 2
C2: ՀՀ կառավարության 2024 թվականի
C3: -----------------ի N -----------Ն որոշման
A6: ՀԱՅԱՍՏԱՆԻ ՀԱՆՐԱՊԵՏՈՒԹՅԱՆ 2024 ԹՎԱԿԱՆԻ ՊԵՏԱԿԱՆ ԲՅՈՒՋԵԻ ՄԱՍԻՆ» ՕՐԵՆՔԻ N 1 ՀԱՎԵԼՎԱԾԻ N 2 ԱՂՅՈՒՍԱԿՈՒՄ ԿԱՏԱՐՎՈՂ ՎԵՐԱԲԱՇԽՈՒՄԸ ԵՎ ՀԱՅԱՍՏԱՆԻ ՀԱՆՐԱՊԵՏՈՒԹՅԱՆ ԿԱՌԱՎԱՐՈՒԹՅԱՆ 2023 ԹՎԱԿԱՆԻ ԴԵԿՏԵՄԲԵՐԻ 28-Ի N 2323-Ն ՈՐՈՇՄԱՆ N 5 ՀԱՎԵԼՎԱԾԻ N 1 ԱՂՅՈՒՍԱԿՈՒՄ ԿԱՏԱՐՎՈՂ ՓՈՓՈԽՈՒԹՅՈՒՆՆԵՐԸ ԵՎ ԼՐԱՑՈՒՄՆԵՐԸ
F7: (հազար դրամ)
A8: Ծրագրային դասիչը | C8: Բյուջետային հատկացումների գլխավոր կարգադրիչների, ծրագրերի և միջոցառումների անվանումները | D8: Ցուցանիշների փոփոխությունները ավելացումները նշված են դրական նշանով, իսկ նվազեցումները՝ փակագծերում
A9: Ծրագիր | B9: Միջոցառում | D9: Առաջին կիսամյակ | E9: Ինն ամիս | F9: Տարի
C10: ԸՆԴԱՄԵՆԸ | D10: =D11+D31 -> 0 | E10: =E11+E31 -> 21361866 | F10: =F11+F31 -> 0
C11: ՀՀ կառավարություն | D11: =D12 -> -16677000 | E11: =E12 -> -11215134 | F11: =F12 -> -48477000
A12: 1139 | C12: Ծրագրի անվանումը` | D12: =D25+D19 -> -16677000 | E12: =E25+E19 -> -11215134 | F12: =F25+F19 -> -48477000
C13: ՀՀ կառավարության պահուստային ֆոնդ
C14: Ծրագրի նպատակը`
C15: Պետական բյուջեում չկանխատեսված, ինչպես նաեւ բյուջետային երաշխիքների ապահովման ծախսերի ֆինանսավորման ապահովում
C16: Վերջնական արդյունքի նկարագրությունը`
C17: Պահուստային ֆոնդի կառավարման արդյունավետության և թափանցիկության ապահովում
A18: Ծրագրի միջոցառումներ
B19: 11001 | C19: Միջոցառման անվանումը` | D19: 0 | E19: ='1.1'!C16 -> 21361866 | F19: 0
C20: ՀՀ կառավարության պահուստային ֆոնդ
C21: Միջոցառման նկարագրությունը`
C22: ՀՀ պետական բյուջեում նախատեսված ելքերի լրացուցիչ ֆինանսավորման, պետական բյուջեում չկանխատեսված ելքերի, ինչպես նաև բյուջետային երաշխիքների ապահովման ելքերի ֆինանսավորման ապահովում
C23: Միջոցառման տեսակը
C24: Ծառայությունների մատուցում
B25: 11001 | C25: Միջոցառման անվանումը` | D25: =-D31 -> -16677000 | E25: =-E31 -> -32577000 | F25: =-F31 -> -48477000
C26: ՀՀ կառավարության պահուստային ֆոնդ
C27: Միջոցառման նկարագրությունը`
C28: ՀՀ պետական բյուջեում նախատեսված ելքերի լրացուցիչ ֆինանսավորման, պետական բյուջեում չկանխատեսված ելքերի, ինչպես նաև բյուջետային երաշխիքների ապահովման ելքերի ֆինանսավորման ապահովում
C29: Միջոցառման տեսակը
C30: Ծառայությունների մատուցում
C31: ՀՀ աշխատանքի և սոցիալական հարցերի նախարարություն | D31: =D32 -> 16677000 | E31: =E32 -> 32577000 | F31: =F32 -> 48477000
A32: 1225 | C32: Ծրագրի անվանումը` | D32: =D39 -> 16677000 | E32: =E39 -> 32577000 | F32: =F39 -> 48477000
C33: Ճգնաժամերի հակազդման և արտակարգ իրավիճակների հետևանքների նվազեցման և վերացման նպատակով՛ առանձին սոցիալական խմբերին տրվող սոցիալական աջակցություն
C34: Ծրագրի նպատակը`
C35: Օժանդակել ճգնաժամերի հակազդման և արտակարգ իրավիճակների հետևանքով ընտանիքների առջև ծառացած սոցիալական խնդիրների բացասական հետևանքների մեղմմանը
C36: Վերջնական արդյունքի նկարագրությունը`
C37: Ճգնաժամերի հակազդման և արտակարգ իրավիճակների առաջացրած սոցիալական խնդիրների բացասական հետևանքները մեղմելու նպատակով ընտանիքներին դրամական աջակցության տրամադրում
A38: Ծրագրի միջոցառումներ
B39: 12018 | C39: Միջոցառման անվանումը` | D39: =15900000+777000 -> 16677000 | E39: =D39+15900000 -> 32577000 | F39: =E39+15900000 -> 48477000
C40: Լեռնային Ղարաբաղից տեղահանվածներին կեցության և այլ ծախսերը հոգալու համար սոցիալական աջակցություն
C41: Միջոցառման նկարագրությունը`
C42: Լեռնային Ղարաբաղից տեղահանվածներին կեցության և այլ ծախսերը հոգալու համար սոցիալական աջակցություն
C43: Միջոցառման տեսակը
C44: Տրանսֆերտների տրամադրում

Sheet 3.
I1: Հավելված N 3
F2: ՀՀ կառավարության 2024 թվականի
F3: -----------------ի N -----------Ն որոշման
A5: ՀԱՅԱՍՏԱՆԻ ՀԱՆՐԱՊԵՏՈՒԹՅԱՆ ԿԱՌԱՎԱՐՈՒԹՅԱՆ 2023 ԹՎԱԿԱՆԻ ԴԵԿՏԵՄԲԵՐԻ 28-Ի N 2323-Ն ՈՐՈՇՄԱՆ N N 3 ԵՎ 4 ՀԱՎԵԼՎԱԾՆԵՐՈՒՄ ԿԱՏԱՐՎՈՂ ՓՈՓՈԽՈՒԹՅՈՒՆՆԵՐԸ ԵՎ ԼՐԱՑՈՒՄՆԵՐԸ
I6: հազար դրամ
A7: Գործառական դասիչը | D7: Ծրագրային դասիչը | F7: Բյուջետային ծախսերի գործառական դասակարգման բաժինների, խմբերի և դասերի, բյուջետային ծրագրերի միջոցառումների, բյուջետային հատկացումների գլխավոր կարգադրիչների անվանումները | G7: Ցուցանիշների փոփոխությունները ավելացումները նշված են դրական նշանով, իսկ նվազեցումները՝ փակագծերում
A8: Բաժինը | B8: Խումբը | C8: Դասը | D8: Ծրագիր | E8: Միջոցառում | G8: Առաջին կիսամյակ | H8: Ինն ամիս | I8: Տարի
F9: ԸՆԴԱՄԵՆԸ ԾԱԽՍԵՐ | G9: =G11+G37 -> 0 | H9: =H11+H37 -> 21361866 | I9: =I11+I37 -> 0
F10: այդ թվում`
A11: 11 | F11: ՀԻՄՆԱԿԱՆ ԲԱԺԻՆՆԵՐԻՆ ՉԴԱՍՎՈՂ ՊԱՀՈՒՍՏԱՅԻՆ ՖՈՆԴԵՐ | G11: =G13 -> -16677000 | H11: =H13 -> -11215134 | I11: =I13 -> -48477000
F12: այդ թվում՝
B13: 01 | F13: ՀՀ կառավարության և համայնքների պահուստային ֆոնդ | G13: =G15 -> -16677000 | H13: =H15 -> -11215134 | I13: =I15 -> -48477000
F14: այդ թվում՝
C15: 01 | F15: ՀՀ կառավարության պահուստային ֆոնդ | G15: =G17 -> -16677000 | H15: =H17 -> -11215134 | I15: =I17 -> -48477000
F16: այդ թվում՝
F17: ՀՀ կառավարություն | G17: =G19 -> -16677000 | H17: =H19 -> -11215134 | I17: =I19 -> -48477000
F18: այդ թվում՝
D19: 1139 | F19: ՀՀ կառավարության պահուստային ֆոնդ | G19: =G21+G29 -> -16677000 | H19: =H21+H29 -> -11215134 | I19: =I21+I29 -> -48477000
F20: այդ թվում՝
E21: 11001 | F21: ՀՀ կառավարության պահուստային ֆոնդ | G21: =G23 -> -16677000 | H21: =H23 -> -32577000 | I21: =I23 -> -48477000
F22: այդ թվում՝ ըստ կատարողների
F23: ՀՀ կառավարություն | G23: =G25 -> -16677000 | H23: =H25 -> -32577000 | I23: =I25 -> -48477000
F24: այդ թվում՝ բյուջետային ծախսերի տնտեսագիտական դասակարգման հոդվածներ
F25: ԸՆԴԱՄԵՆԸ ԾԱԽՍԵՐ | G25: =G26 -> -16677000 | H25: =H26 -> -32577000 | I25: =I26 -> -48477000
F26: ԸՆԹԱՑԻԿ ԾԱԽՍԵՐ | G26: =G27 -> -16677000 | H26: =H27 -> -32577000 | I26: =I27 -> -48477000
F27: ԱՅԼ ԾԱԽՍԵՐ | G27: =G28 -> -16677000 | H27: =H28 -> -32577000 | I27: =I28 -> -48477000
F28: - Պահուստային միջոցներ | G28: ='2.'!D25 -> -16677000 | H28: ='2.'!E25 -> -32577000 | I28: ='2.'!F25 -> -48477000
E29: 11001 | F29: ՀՀ կառավարության պահուստային ֆոնդ | G29: =G31 -> 0 | H29: =H31 -> 21361866 | I29: =I31 -> 0
F30: այդ թվում՝ ըստ կատարողների
F31: ՀՀ կառավարություն | G31: =G33 -> 0 | H31: =H33 -> 21361866 | I31: =I33 -> 0
F32: այդ թվում՝ բյուջետային ծախսերի տնտեսագիտական դասակարգման հոդվածներ
F33: ԸՆԴԱՄԵՆԸ ԾԱԽՍԵՐ | G33: =G34 -> 0 | H33: =H34 -> 21361866 | I33: =I34 -> 0
F34: ԸՆԹԱՑԻԿ ԾԱԽՍԵՐ | G34: =G35 -> 0 | H34: =H35 -> 21361866 | I34: =I35 -> 0
F35: ԱՅԼ ԾԱԽՍԵՐ | G35: =G36 -> 0 | H35: =H36 -> 21361866 | I35: =I36 -> 0
F36: - Պահուստային միջոցներ | G36: ='2.'!D33 -> 0 | H36: ='2.'!E19 -> 21361866 | I36: ='2.'!F33 -> 0
A37: 10 | F37: ՍՈՑԻԱԼԱԿԱՆ ՊԱՇՏՊԱՆՈՒԹՅՈՒՆ | G37: =G39+G58 -> 16677000 | H37: =H39+H58 -> 32577000 | I37: =I39+I58 -> 48477000
F38: այդ թվում`
B39: 09 | F39: Սոցիալական պաշտպանություն (այլ դասերին չպատկանող) | G39: =G41 -> 16677000 | H39: =H41 -> 32577000 | I39: =I41 -> 48477000
F40: այդ թվում՝
C41: 02 | F41: Սոցիալական պաշտպանությանը տրամադրվող օժանդակ ծառայություններ (այլ դասերին չպատկանող) | G41: =G43 -> 16677000 | H41: =H43 -> 32577000 | I41: =I43 -> 48477000
F42: այդ թվում`
F43: ՀՀ աշխատանքի և սոցիալական հարցերի նախարարություն | G43: =G45 -> 16677000 | H43: =H45 -> 32577000 | I43: =I45 -> 48477000
F44: այդ թվում`
D45: 1225 | F45: ='2.'!C33 -> Ճգնաժամերի հակազդման և արտակարգ իրավիճակների հետևանքների նվազեցման և վերացման նպատակով՛ առանձին սոցիալական խմբերին տրվող սոցիալական աջակցություն | G45: =G47 -> 16677000 | H45: =H47 -> 32577000 | I45: =I47 -> 48477000
F46: այդ թվում`
E47: ='2.'!B39 -> 12018 | F47: ='2.'!C40 -> Լեռնային Ղարաբաղից տեղահանվածներին կեցության և այլ ծախսերը հոգալու համար սոցիալական աջակցություն | G47: =G49 -> 16677000 | H47: =H49 -> 32577000 | I47: =I49 -> 48477000
F48: այդ թվում` ըստ կատարողների
F49: ՀՀ աշխատանքի և սոցիալական հարցերի նախարարության միասնական սոցիալական ծառայություն | G49: =G51 -> 16677000 | H49: =H51 -> 32577000 | I49: =I51 -> 48477000
F50: այդ թվում` բյուջետային ծախսերի տնտեսագիտական դասակարգման հոդվածներ
F51: ԸՆԴԱՄԵՆԸ ԾԱԽՍԵՐ | G51: =G52 -> 16677000 | H51: =H52 -> 32577000 | I51: =I52 -> 48477000
F52: ԸՆԹԱՑԻԿ ԾԱԽՍԵՐ | G52: =G53 -> 16677000 | H52: =H53 -> 32577000 | I52: =I53 -> 48477000
F53: ՍՈՑԻԱԼԱԿԱՆ ՆՊԱՍՏՆԵՐ ԵՎ ԿԵՆՍԱԹՈՇԱԿՆԵՐ | G53: =G54 -> 16677000 | H53: =H54 -> 32577000 | I53: =I54 -> 48477000
F54: Սոցիալական օգնության դրամական արտահայտությամբ նպաստներ (բյուջեից) | G54: =G55 -> 16677000 | H54: =H55 -> 32577000 | I54: =I55 -> 48477000
F55: - Այլ նպաստներ բյուջեից | G55: ='2.'!D39 -> 16677000 | H55: ='2.'!E39 -> 32577000 | I55: ='2.'!F39 -> 48477000

Sheet 4.
E1: Հավելված N 4
B2: ՀՀ կառավարության 2024 թվականի
B3: -----------------ի N -----------Ն որոշման
A6: ՀԱՅԱՍՏԱՆԻ ՀԱՆՐԱՊԵՏՈՒԹՅԱՆ ԿԱՌԱՎԱՐՈՒԹՅԱՆ 2023 ԹՎԱԿԱՆԻ ԴԵԿՏԵՄԲԵՐԻ 28-Ի N 2323-Ն ՈՐՈՇՄԱՆ N 9 ՀԱՎԵԼՎԱԾԻ N 9.15 ԵՎ N 9.48 ԱՂՅՈՒՍԱԿՆԵՐՈՒՄ ԿԱՏԱՐՎՈՂ ՓՈՓՈԽՈՒԹՅՈՒՆՆԵՐԸ ԵՎ ԼՐԱՑՈՒՄՆԵՐԸ
A8: ՄԱՍ 2. ՊԵՏԱԿԱՆ ՄԱՐՄՆԻ ԳԾՈՎ ԱՐԴՅՈՒՆՔԱՅԻՆ (ԿԱՏԱՐՈՂԱԿԱՆ) ՑՈՒՑԱՆԻՇՆԵՐԸ
A10: Հայաստանի Հանրապետության աշխատանքի և սոցիալական հարցերի նախարարություն
A11: Ծրագրի դասիչը | B11: Ծրագրի անվանումը
A12: 1225 | B12: ='2.'!C33 -> Ճգնաժամերի հակազդման և արտակարգ իրավիճակների հետևանքների նվազեցման և վերացման նպատակով՛ առանձին սոցիալական խմբերին տրվող սոցիալական աջակցություն
A13: Ծրագրի միջոցառումներ
A15: Ծրագրի դասիչը` | B15: 1225 | C15: Ցուցանիշների փոփոխությունները ավելացումները նշված են դրական նշանով
A16: Միջոցառման դասիչը` | B16: 12018 | C16: Առաջին կիսամյակ | D16: Ինն ամիս | E16: Տարի
A17: Միջոցառման անվանումը` | B17: ='2.'!C40 -> Լեռնային Ղարաբաղից տեղահանվածներին կեցության և այլ ծախսերը հոգալու համար սոցիալական աջակցություն
A18: Նկարագրությունը` | B18: Լեռնային Ղարաբաղից տեղահանվածներին կեցության և այլ ծախսերը հոգալու համար սոցիալական աջակցություն
A19: Միջոցառման տեսակը` | B19: Տրանսֆերտների տրամադրում
A20: Շահառուների ընտրության չափանիշները | B20: ՀՀ կառավարության 2023 թվականի հոկտեմբերի 12-ի N 1763-Լ որոշմամբ
A21: Արդյունքի չափորոշիչներ
A22: Շահառուների թվաքանակ | C22: 6000 | E22: 6000
A23: Ամսական աջակցության չափ, հազ.դրամ | C23: 50 | E23: 50
A24: ամիսների թիվ | C24: 3 | E24: 9
A25: Միջոցառման վրա կատարվող ծախսը (հազար դրամ) | C25: ='2.'!D39 -> 16677000 | D25: ='2.'!E39 -> 32577000 | E25: ='2.'!F39 -> 48477000
A27: ՀՀ Կառավարություն
A29: Ծրագրի դասիչը | B29: Ծրագրի անվանումը
A30: 1139 | B30: ՀՀ կառավարության պահուստային ֆոնդ
A31: Ծրագրի միջոցառումները
A33: Ծրագրի դասիչը` | B33: 1139 | C33: Ցուցանիշների փոփոխությունները նվազեցումները նշված են փակագծերում
A34: Միջոցառման դասիչը` | B34: 11001 | C34: Առաջին կիսամյակ | D34: Ինն ամիս | E34: Տարի
A35: Միջոցառման անվանումը` | B35: ՀՀ կառավարության պահուստային ֆոնդ
A36: Նկարագրությունը` | B36: ՀՀ պետական բյուջեում նախատեսված ելքերի լրացուցիչ ֆինանսավորման, պետական բյուջեում չկանխատեսված ելքերի, ինչպես նաև բյուջետային երաշխիքների ապահովման ելքերի ֆինանսավորման ապահովում
A37: Միջոցառման տեսակը` | B37: Ծառայությունների մատուցում
A38: Միջոցառումն իրականացնողի անվանումը | B38: ՀՀ կառավարություն
A39: Արդյունքի չափորոշիչներ
A40: Միջոցառման վրա կատարվող ծախսը (հազար դրամ) | C40: ='3.'!G13 -> -16677000 | D40: ='3.'!H13 -> -11215134 | E40: ='3.'!I13 -> -48477000

Sheet 5.
E1: Հավելված N 5
B2: ՀՀ կառավարության 2024 թվականի
B3: -----------------ի N -----------Ն որոշման
A5: ՀԱՅԱՍՏԱՆԻ ՀԱՆՐԱՊԵՏՈՒԹՅԱՆ ԿԱՌԱՎԱՐՈՒԹՅԱՆ 2023 ԹՎԱԿԱՆԻ ԴԵԿՏԵՄԲԵՐԻ 28-Ի N 2323-Ն ՈՐՈՇՄԱՆ N 9.1 ՀԱՎԵԼՎԱԾԻ N 9.1.19 ԵՎ N 9.1.58 ԱՂՅՈՒՍԱԿՆԵՐՈՒՄԿԱՏԱՐՎՈՂ ՓՈՓՈԽՈՒԹՅՈՒՆՆԵՐԸ ԵՎ ԼՐԱՑՈՒՄՆԵՐԸ
A7: ՄԱՍ 1. ՊԵՏԱԿԱՆ ՄԱՐՄՆԻ ԳԾՈՎ ԱՐԴՅՈՒՆՔԱՅԻՆ (ԿԱՏԱՐՈՂԱԿԱՆ) ՑՈՒՑԱՆԻՇՆԵՐԸ
A9: ՀՀ աշխատանքի և սոցիալական հարցերի նախարարության միասնական սոցիալական ծառայություն
A12: Ծրագրի դասիչը | B12: Ծրագրի անվանումը
A13: 1225 | B13: ='2.'!C33 -> Ճգնաժամերի հակազդման և արտակարգ իրավիճակների հետևանքների նվազեցման և վերացման նպատակով՛ առանձին սոցիալական խմբերին տրվող սոցիալական աջակցություն
A14: Ծրագրի միջոցառումներ
A16: Ծրագրի դասիչը` | B16: ='4.'!B15 -> 1225 | C16: Ցուցանիշների փոփոխությունները ավելացումները նշված են դրական նշանով
A17: Միջոցառման դասիչը` | B17: ='4.'!B16 -> 12018 | C17: Առաջին կիսամյակ | D17: Ինն ամիս | E17: Տարի
A18: Միջոցառման անվանումը` | B18: ='4.'!B17 -> Լեռնային Ղարաբաղից տեղահանվածներին կեցության և այլ ծախսերը հոգալու համար սոցիալական աջակցություն
A19: Նկարագրությունը` | B19: ='4.'!B18 -> Լեռնային Ղարաբաղից տեղահանվածներին կեցության և այլ ծախսերը հոգալու համար սոցիալական աջակցություն
A20: Միջոցառման տեսակը` | B20: ='4.'!B19 -> Տրանսֆերտների տրամադրում
A21: Շահառուների ընտրության չափանիշները | B21: ='4.'!B20 -> ՀՀ կառավարության 2023 թվականի հոկտեմբերի 12-ի N 1763-Լ որոշմամբ
A22: Արդյունքի չափորոշիչներ
A23: ='4.'!A22:B22 -> Շահառուների թվաքանակ | C23: ='4.'!C22 -> 6000 | E23: ='4.'!E22 -> 6000
A24: ='4.'!A23:B23 -> Ամսական աջակցության չափ, հազ.դրամ | C24: 50 | E24: 50
A25: ='4.'!A24:B24 -> ամիսների թիվ | C25: 3 | E25: 9
A26: Միջոցառման վրա կատարվող ծախսը (հազար դրամ) | C26: ='4.'!C25 -> 16677000 | D26: ='4.'!D25 -> 32577000 | E26: ='4.'!E25 -> 48477000
A28: ՀՀ Կառավարություն
A30: Ծրագրի դասիչը | B30: Ծրագրի անվանումը
A31: 1139 | B31: ՀՀ կառավարության պահուստային ֆոնդ
A32: Ծրագրի միջոցառումները
A34: Ծրագրի դասիչը` | B34: 1139 | C34: Ցուցանիշների փոփոխությունները նվազեցումները նշված են փակագծերում
A35: Միջոցառման դասիչը` | B35: 11001 | C35: Առաջին կիսամյակ | D35: Ինն ամիս | E35: Տարի
A36: Միջոցառման անվանումը` | B36: ՀՀ կառավարության պահուստային ֆոնդ
A37: Նկարագրությունը` | B37: ՀՀ պետական բյուջեում նախատեսված ելքերի լրացուցիչ ֆինանսավորման, պետական բյուջեում չկանխատեսված ելքերի, ինչպես նաև բյուջետային երաշխիքների ապահովման ելքերի ֆինանսավորման ապահովում
A38: Միջոցառման տեսակը` | B38: Ծառայությունների մատուցում
A39: Միջոցառումն իրականացնողի անվանումը | B39: ՀՀ կառավարություն
A40: Արդյունքի չափորոշիչներ
A41: Միջոցառման վրա կատարվող ծախսը (հազար դրամ) | C41: ='4.'!C40 -> -16677000 | D41: ='4.'!D40 -> -11215134 | E41: ='4.'!E40 -> -48477000

Sheet 6.
I1: Հավելված N 6
I2: ՀՀ կառավարության 2024 թվականի
H3: -----------------ի N -----------Ն որոշման
B5: ՀԱՅԱՍՏԱՆԻ ՀԱՆՐԱՊԵՏՈՒԹՅԱՆ 2024 ԹՎԱԿԱՆԻ ՊԵՏԱԿԱՆ ԲՅՈՒՋԵՈՎ ՆԱԽԱՏԵՍՎԱԾ՝ ՀԱՅԱՍՏԱՆԻ ՀԱՆՐԱՊԵՏՈՒԹՅԱՆ ԿԱՌԱՎԱՐՈՒԹՅԱՆ ՊԱՀՈՒՍՏԱՅԻՆ ՖՈՆԴԻՑ ՀԱՏԿԱՑՈՒՄՆԵՐ ԿԱՏԱՐԵԼՈՒ ՎԵՐԱԲԵՐՅԱԼ
H6: հազար դրամ
A7: Գործառական դասիչը | D7: Ծրագրային դասիչը | F7: Բյուջետային ծախսերի գործառական դասակարգման բաժինների, խմբերի և դասերի, բյուջետային ծրագրերի միջոցառումների, բյուջետային հատկացումների գլխավոր կարգադրիչների անվանումները | G7: Ցուցանիշների փոփոխությունը (ավելացումները նշված են դրական նշանով, իսկ նվազեցումները` փակագծերում)
A8: Բաժին | B8: Խումբ | C8: Դաս | D8: Ծրագիր | E8: Միջոցառում | G8: Առաջին կիսամյակ | H8: Ինն ամիս | I8: Տարի
F9: ԸՆԴԱՄԵՆԸ ԾԱԽՍԵՐ | G9: =G11+G29 -> 0 | H9: =H11+H29 -> 0 | I9: =I11+I29 -> 0
F10: այդ թվում`
A11: 11 | F11: ՀԻՄՆԱԿԱՆ ԲԱԺԻՆՆԵՐԻՆ ՉԴԱՍՎՈՂ ՊԱՀՈՒՍՏԱՅԻՆ ՖՈՆԴԵՐ | G11: =G13 -> -16677000 | H11: =H13 -> -32577000 | I11: =I13 -> -48477000
F12: այդ թվում՝
B13: 01 | F13: ՀՀ կառավարության և համայնքների պահուստային ֆոնդ | G13: =G15 -> -16677000 | H13: =H15 -> -32577000 | I13: =I15 -> -48477000
F14: այդ թվում՝
C15: 01 | F15: ՀՀ կառավարության պահուստային ֆոնդ | G15: =G17 -> -16677000 | H15: =H17 -> -32577000 | I15: =I17 -> -48477000
F16: այդ թվում՝
F17: ՀՀ կառավարություն | G17: =G19 -> -16677000 | H17: =H19 -> -32577000 | I17: =I19 -> -48477000
F18: այդ թվում՝
D19: 1139 | F19: ՀՀ կառավարության պահուստային ֆոնդ | G19: =G21 -> -16677000 | H19: =H21 -> -32577000 | I19: =I21 -> -48477000
F20: այդ թվում՝
E21: 11001 | F21: ՀՀ կառավարության պահուստային ֆոնդ | G21: =G23 -> -16677000 | H21: =H23 -> -32577000 | I21: =I23 -> -48477000
F22: այդ թվում՝ ըստ կատարողների
F23: ՀՀ կառավարություն | G23: =G25 -> -16677000 | H23: =H25 -> -32577000 | I23: =I25 -> -48477000
F24: այդ թվում՝ բյուջետային ծախսերի տնտեսագիտական դասակարգման հոդվածներ
F25: ԸՆԴԱՄԵՆԸ ԾԱԽՍԵՐ | G25: =G26 -> -16677000 | H25: =H26 -> -32577000 | I25: =I26 -> -48477000
F26: ԸՆԹԱՑԻԿ ԾԱԽՍԵՐ | G26: =G27 -> -16677000 | H26: =H27 -> -32577000 | I26: =I27 -> -48477000
F27: ԱՅԼ ԾԱԽՍԵՐ | G27: =G28 -> -16677000 | H27: =H28 -> -32577000 | I27: =I28 -> -48477000
F28: - Պահուստային միջոցներ | G28: ='2.'!D25 -> -16677000 | H28: ='2.'!E25 -> -32577000 | I28: ='2.'!F25 -> -48477000
A29: 10 | F29: ՍՈՑԻԱԼԱԿԱՆ ՊԱՇՏՊԱՆՈՒԹՅՈՒՆ | G29: =G31 -> 16677000 | H29: =H31 -> 32577000 | I29: =I31 -> 48477000
F30: այդ թվում`
B31: 09 | F31: Սոցիալական պաշտպանություն (այլ դասերին չպատկանող) | G31: =G33 -> 16677000 | H31: =H33 -> 32577000 | I31: =I33 -> 48477000
F32: այդ թվում՝
C33: 02 | F33: Սոցիալական պաշտպանությանը տրամադրվող օժանդակ ծառայություններ (այլ դասերին չպատկանող) | G33: =G35 -> 16677000 | H33: =H35 -> 32577000 | I33: =I35 -> 48477000
F34: այդ թվում`
F35: ՀՀ աշխատանքի և սոցիալական հարցերի նախարարություն | G35: =G37 -> 16677000 | H35: =H37 -> 32577000 | I35: =I37 -> 48477000
F36: այդ թվում`
D37: 1225 | F37: ='2.'!C33 -> Ճգնաժամերի հակազդման և արտակարգ իրավիճակների հետևանքների նվազեցման և վերացման նպատակով՛ առանձին սոցիալական խմբերին տրվող սոցիալական աջակցություն | G37: =G39 -> 16677000 | H37: =H39 -> 32577000 | I37: =I39 -> 48477000
F38: այդ թվում`
E39: 12018 | F39: ='3.'!F47 -> Լեռնային Ղարաբաղից տեղահանվածներին կեցության և այլ ծախսերը հոգալու համար սոցիալական աջակցություն | G39: =G41 -> 16677000 | H39: =H41 -> 32577000 | I39: =I41 -> 48477000
F40: այդ թվում` ըստ կատարողների
F41: ՀՀ աշխատանքի և սոցիալական հարցերի նախարարության միասնական սոցիալական ծառայություն | G41: =G43 -> 16677000 | H41: =H43 -> 32577000 | I41: =I43 -> 48477000
F42: այդ թվում` բյուջետային ծախսերի տնտեսագիտական դասակարգման հոդվածներ
F43: ԸՆԴԱՄԵՆԸ ԾԱԽՍԵՐ | G43: =G44 -> 16677000 | H43: =H44 -> 32577000 | I43: =I44 -> 48477000
F44: ԸՆԹԱՑԻԿ ԾԱԽՍԵՐ | G44: =G45 -> 16677000 | H44: =H45 -> 32577000 | I44: =I45 -> 48477000
F45: ՍՈՑԻԱԼԱԿԱՆ ՆՊԱՍՏՆԵՐ ԵՎ ԿԵՆՍԱԹՈՇԱԿՆԵՐ | G45: =G46 -> 16677000 | H45: =H46 -> 32577000 | I45: =I46 -> 48477000
F46: Սոցիալական օգնության դրամական արտահայտությամբ նպաստներ (բյուջեից) | G46: =G47 -> 16677000 | H46: =H47 -> 32577000 | I46: =I47 -> 48477000
F47: - Այլ նպաստներ բյուջեից | G47: ='2.'!D39 -> 16677000 | H47: ='2.'!E39 -> 32577000 | I47: ='2.'!F39 -> 48477000
