Workbook
Name _tab10: #REF!
Name _tab11: #REF!
Name _tab12: #REF!
Name _tab13: #REF!
Name _tab14: #REF!
Name _tab15: #REF!
Name _tab16: #REF!
Name _tab17: #REF!
Name _tab18: #REF!
Name _tab19: #REF!
Name _tab20: #REF!
Name _tab21: #REF!
Name _tab22: #REF!
Name _tab23: #REF!
Name _tab24: #REF!
Name _tab5: #REF!
Name _tab6: #REF!
Name _tab7: #REF!
Name _tab8: #REF!
Name _tab9: #REF!
Name par_count: #REF!,#REF!,#REF!,#REF!,#REF!,#REF!,#REF!,#REF!,#REF!,#REF!,#REF!,#REF!,#REF!,#REF!,#REF!
Name par_qual: #REF!,#REF!,#REF!,#REF!,#REF!
Name par_time: #REF!,#REF!,#REF!,#REF!
Name par2.12s: #REF!
Name par2.4s: #REF!,#REF!,#REF!,#REF!,#REF!,#REF!,#REF!,#REF!,#REF!,#REF!,#REF!,#REF!,#REF!,#REF!,#REF!,#REF!
Name par2.5s: #REF!,#REF!
Name par2.6s: #REF!,#REF!,#REF!,#REF!
Name par2.7s: #REF!,#REF!
Name par2.9s: #REF!,#REF!,#REF!,#REF!,#REF!,#REF!,#REF!,#REF!,#REF!,#REF!,#REF!,#REF!,#REF!,#REF!,#REF!,#REF!
Name par4.10s: #REF!,#REF!
Name par4.11d: #REF!,#REF!,#REF!,#REF!,#REF!
Name par4.12d: #REF!
Name par4.13s: #REF!
Name par4.14: #REF!,#REF!,#REF!,#REF!,#REF!,#REF!
Name par4.15: #REF!,#REF!,#REF!
Name par4.16: #REF!,#REF!,#REF!
Name par4.17: #REF!,#REF!,#REF!,#REF!
Name par4.18d: #REF!,#REF!
Name par4.19s: #REF!
Name par4.20f: #REF!
Name par4.21f: #REF!
Name par4.22: #REF!
Name par4.4: #REF!
Name par4.5: #REF!
Name par4.6s: #REF!
Name par4.7s: #REF!
Name par4.8: #REF!,#REF!,#REF!,#REF!,#REF!
Name par4.9: #REF!,#REF!,#REF!,#REF!,#REF!,#REF!
Name par5.1: #REF!,#REF!
Name par5.3: #REF!,#REF!,#REF!,#REF!,#REF!,#REF!
Name par5.4: #REF!,#REF!,#REF!,#REF!,#REF!
Name par5.5: #REF!
Name par5.6: #REF!,#REF!
Name program: #REF!,#REF!,#REF!,#REF!,#REF!,#REF!,#REF!,#REF!,#REF!,#REF!,#REF!,#REF!,#REF!,#REF!,#REF!,#REF!,#REF!,#REF!,#REF!,#REF!

Sheet Հավելված 1
A1: Հավելված N 1 ՀՀ կառավարության 2024 թվականի ––-------------------–––––––– N –––––– որոշման
A3: ՀԱՅԱUՏԱՆԻ ՀԱՆՐԱՊԵՏՈՒԹՅԱՆ ԿԱՌԱՎԱՐՈՒԹՅԱՆ 2023 ԹՎԱԿԱՆԻ ԴԵԿՏԵՄԲԵՐԻ 28-Ի N 2323-Ն ՈՐՈՇՄԱՆ N 1 ՀԱՎԵԼՎԱԾԻ N 1 ԱՂՅՈՒՍԱԿՈՒՄ ԿԱՏԱՐՎՈՂ ՓՈՓՈԽՈՒԹՅՈՒՆՆԵՐԸ
C4: հազ. դրամ
A5: Պետական բյուջեի դեֆիցիտի ֆինանսավորման աղբյուրներն ու դրանց տարրերի անվանումները | B5: Ցուցանիշների փոփոխությունը (ավելացումները նշված են դրական նշանով, իսկ նվազեցումները՝ փակագծերում)
B6: Առաջին կիսամյակ | C6: Ինն ամիս | D6: Տարի
A7: ԸՆԴԱՄԵՆԸ | B7: =+B9 -> 408529.9 | C7: =+C9 -> 311747.6 | D7: =+D9 -> 0
A8: այդ թվում՝
A9: Ա.Ներքին աղբյուրներ-ընդամենը | B9: =+B11 -> 408529.9 | C9: =+C11 -> 311747.6 | D9: =+D11 -> 0
A10: այդ թվում՝
A11: 2. Ֆինանսական զուտ ակտիվներ | B11: =+B12 -> 408529.9 | C11: =+C12 -> 311747.6 | D11: =+D12 -> 0
A12: 2.6.Այլ | B12: =+B13 -> 408529.9 | C12: =+C13 -> 311747.6 | D12: =+D13 -> 0
A13: ժամանակավորապես ազատ միջոցներ | B13: 408529.9 | C13: 311747.6 | D13: 0

Sheet Հավելված2
D1: Հավելված № 2
D2: ՀՀ կառավարության 2024 թվականի
D3: № ------------ -Ն որոշման
A5: «ՀԱՅԱՍՏԱՆԻ ՀԱՆՐԱՊԵՏՈՒԹՅԱՆ 2024 ԹՎԱԿԱՆԻ ՊԵՏԱԿԱՆ ԲՅՈՒՋԵԻ ՄԱՍԻՆ» ՕՐԵՆՔԻ N 1 ՀԱՎԵԼՎԱԾԻ N 2 ԱՂՅՈՒՍԱԿՈՒՄ ԿԱՏԱՐՎՈՂ ՎԵՐԱԲԱՇԽՈՒՄԸ ԵՎ ՀԱՅԱՍՏԱՆԻ ՀԱՆՐԱՊԵՏՈՒԹՅԱՆ ԿԱՌԱՎԱՐՈՒԹՅԱՆ 2023 ԹՎԱԿԱՆԻ ԴԵԿՏԵՄԲԵՐԻ 28-Ի N 2323-Ն ՈՐՈՇՄԱՆN 5 ՀԱՎԵԼՎԱԾԻ N 1 ԱՂՅՈՒՍԱԿՈՒՄ ԿԱՏԱՐՎՈՂ ՓՈՓՈԽՈՒԹՅՈՒՆՆԵՐԸ
F6: հազար դրամներով
A7: Ծրագրային դասիչը | C7: Բյուջետային հատկացումների գլխավոր կարգադրիչների, ծրագրերի և միջոցառումների անվանումները | D7: Ցուցանիշների փոփոխությունները (ավելացումները նշված են դրական նշանով, իսկ նվազեցումները` փակագծերում)
D8: Առաջին կիսամյակ | E8: Ինն ամիս | F8: Տարի
A9: Ծրագիր | B9: Միջոցառում
C10: ԸՆԴԱՄԵՆԸ | D10: =+D11 -> 408529.9 | E10: =+E11 -> 311747.6 | F10: =+F11 -> 0
C11: ՀՀ էկոնոմիկայի նախարարություն | D11: =+D12+D50+D63+D75 -> 408529.9 | E11: =+E12+E50+E63+E75 -> 311747.6 | F11: =+F12+F50+F63+F75+F37 -> 0
A12: 1022 | C12: Ծրագրի անվանումը` | D12: =D19+D25+D31 -> -71282 | E12: =E19+E25+E31 -> -160051.2 | F12: =F19+F25+F31 -> -565072
C13: Գյուղատնտեսության խթանման ծրագիր
C14: Ծրագրի նպատակը`
C15: Գյուղատնտեսական մթերքի և դրանց վերամշակումից ստացվող սննդամթերքի ծավալների ավելացում
C16: Վերջնական արդյունքի նկարագրությունը`
C17: Գյուղատնտեսական մթերքների ծավալների ավելացում: Օգտագործվող վարելահողերի ավելացում: Պտուղբանջարեղենի և խաղողի վերամշակումից ստացված արտադրանքի ծավալների աճ
A18: Ծրագրի միջոցառումներ
B19: 11002 | C19: Միջոցառման անվանումը` | D19: =+'Հավելված 3'!G23 -> -6282 | E19: =+'Հավելված 3'!H23 -> -10051.2 | F19: =+'Հավելված 3'!I23 -> -15072
C20: Պետական աջակցություն Հայաստանի Հանրապետության գյուղատնտեսական ծրագրերի իրականացմանը
C21: Միջոցառման նկարագրությունը`
C22: Աջակցություն Հայաստանի Հանրապետության բուսաբուծության խթանման, բույսերի պաշտպանության և անասնաբուժական ծրագրերի իրականացմանը
C23: Միջոցառման տեսակը
C24: Ծառայությունների մատուցում
B25: 11004 | C25: Միջոցառման անվանումը` | D25: -30000 | E25: -100000 | F25: -500000
C26: Հողային բարեփոխումների փորձնական ծրագրին աջակցություն
C27: Միջոցառման նկարագրությունը`
C28: Գյուղատնտեսական նշանակության հողերի ադյունավետ օգտագործման, հողերի բանկավորման, կոնսոլիդացիայի և վարձակալության խթանման միջոցառումներ
C29: Միջոցառման տեսակը
C30: Ծառայությունների մատուցում
B31: 32001 | C31: Միջոցառման անվանումը` | D31: -35000 | E31: -50000 | F31: -50000
C32: Հողային բարեփոխումների փորձնական ծրագիր
C33: Միջոցառման նկարագրությունը`
C34: Գյուղատնտեսական նշնակության հողերի ձեռքբերում, օտարում, վարձակալություն, միջնորդությունների իրականացում, փոխանակում
C35: Միջոցառման տեսակը
C36: Այլ պետական կազմակերպությունների կողմից օգտագործվող ոչ ֆինանսական ակտիվների հետ գործառնություններ
A37: 1104 | C37: Ծրագրի անվանումը` | D37: =+D44 -> 0 | E37: =+E44 -> 0 | F37: =+F44 -> 233273.2
C38: Գիտելիքահենք, նորարարական տնտեսությանը և փոքր ու միջին ձեռնարկատիրությանը աջակցություն
C39: Ծրագրի նպատակը`
C40: Արտադրողականության բարձրացման նպատակով տնտեսության թվայնացման, նորարարական էլեկտրոնային կառավարման համակարգերի ներդրման, գիտելիքահենք գործարարությանը և փոքր ու միջին ձեռնարկատիրությանը աջակցություն
C41: Վերջնական արդյունքի նկարագրությունը`
C42: Արտադրողականության աճ, նորարարական և թվայնացված տնտեսություն, ՓՄՁ սուբյեկտների թվաքանակի ավելացում
B43: Ծրագրի միջոցառումներ
B44: 11002 | C44: Միջոցառման անվանումը` | D44: 0 | E44: 0 | F44: 233273.2
C45: Բարձր որակավորում ունեցող մասնագետների ներգրավման նպատակով տնտեսավարողներին աջակցություն
C46: Միջոցառման նկարագրությունը`
C47: Հայաստանի Հանրապետության տարածքում գործող ընկերությունների արտադրողականության բարձրացման նպատակով բարձր որակավորում ունեցող մասնագետների ներգրավմանը աջակցություն
C48: Միջոցառման տեսակը
C49: Ծառայությունների մատուցում
A50: 1116 | C50: Ծրագրի անվանումը` | D50: =+D57 -> 1019811.9 | E50: =+E57 -> 1131798.8 | F50: =+F57 -> 1131798.8
C51: Անասնաբուժական ծառայություններ
C52: Ծրագրի նպատակը`
C53: Անասնահամաճարակային կայուն ֆոնի ապահովում
C54: Վերջնական արդյունքի նկարագրությունը`
C55: Գյուղատնտեսական կենդանիների վարակամերժության ապահովում
A56: Ծրագրի միջոցառումներ
B57: 11001 | C57: Միջոցառման անվանումը` | D57: =+'Հավելված 3'!G52 -> 1019811.9 | E57: =+'Հավելված 3'!H52 -> 1131798.8 | F57: =+'Հավելված 3'!I52 -> 1131798.8
C58: Գյուղատնտեսական կենդանիների պատվաստում
C59: Միջոցառման նկարագրությունը`
C60: Անասնաբուժական ծառայության հակահամաճարակային միջոցառումների, կենդանիների հիվանդությունների կանխարգելման աշխատանքների կազմակերպում և համակարգում, անհրաժեշտ նյութերի ձեռքբերում:
C61: Միջոցառման տեսակը
C62: Ծառայությունների մատուցում
A63: 1165 | C63: Ծրագրի անվանումը` | D63: =+D69 -> -240000 | E63: =+E69 -> -360000 | F63: =+F69 -> -500000
C64: Ներդրումների և արտահանման խթանման ծրագիր
C65: Ծրագրի նպատակը`
C66: Ներդրումների ներգրավման և արտահանման խթանում
C67: Վերջնական արդյունքի նկարագրությունը`
C68: Նախորդ տարվա համեմատ ներդրումների և արտահանման ծավալների աճ
B69: 11007 | C69: Միջոցառման անվանումը` | D69: -240000 | E69: -360000 | F69: -500000
C70: ՀՀ տարածքից բեռների արտահանման և/կամ ՀՀ տարածք ներմուծման նպատակով լոգիստիկ ծառայությունների ձեռք բերմանը աջակցություն
C71: Միջոցառման նկարագրությունը`
C72: ՀՀ տարածքից արտահանման և/կամ ՀՀ տարածք ներմուծման նպատակով բեռնափոխադրման ծառայություններին աջակցություն
C73: Միջոցառման տեսակը
C74: Ծառայությունների մատուցում
A75: 1187 | C75: Ծրագրի անվանումը` | D75: =+D81 -> -300000 | E75: =+E81 -> -300000 | F75: =+F81 -> -300000
C76: Գյուղատնտեսության արդիականացման ծրագիր
C77: Ծրագրի նպատակը`
C78: Գյուղատնտեսական տեխնիկական համակարգերի արդիականացում, ինտենսիվ այգիների ներդրման և տոհմաբուծության մեջ նոր ցեղատեսակների բուծման աջակցություն
C79: Վերջնական արդյունքի նկարագրությունը`
C80: Ոռոգման արդիական համակարգեր ներդրված հողատարածքների և տոհմային կենդանիների տեսակարար կշռի ավելացում
B81: 12017 | C81: Միջոցառման անվանումը` | D81: -300000 | E81: -300000 | F81: -300000
C82: Գյուղատնտեսական մշակաբույսերի մշակության խթանման նպատակով տրամադրվող նպատակային վարկերի տոկոսադրույքների սուբսիդավորում
C83: Միջոցառման նկարագրությունը`
C84: Վարկերի տոկոսադրույքների սուբսիդավորման միջոցով խթանել Հայաստանի Հանրապետությունում գյուղատնտեսական մշակաբույսերի տարածքների ավելացումը
C85: Միջոցառման տեսակը
C86: Տրանսֆերտների տրամադրում

Sheet Հավելված 3
G1: Հավելված № 3
G2: ՀՀ կառավարության 2024 թվականի
G3: № ------------ -Ն որոշման
A6: ՀԱՅԱՍՏԱՆԻ ՀԱՆՐԱՊԵՏՈՒԹՅԱՆ ԿԱՌԱՎԱՐՈՒԹՅԱՆ 2023 ԹՎԱԿԱՆԻ ԴԵԿՏԵՄԲԵՐԻ 28 Ի N 2323-Ն ՈՐՈՇՄԱՆ N 3 և N 4 ՀԱՎԵԼՎԱԾՆԵՐՈՒՄ ԿԱՏԱՐՎՈՂ ՓՈՓՈԽՈՒԹՅՈՒՆՆԵՐԸ
I7: հազար դրամներով
A8: Գործառական դասիչը | D8: Ծրագրային դասիչը | F8: Բյուջետային ծախսերի գործառական դասակարգման բաժինների, խմբերի և դասերի, բյուջետային ծրագրերի միջոցառումների, բյուջետային հատկացումների գլխավոր կարգադրիչների անվանումները | G8: Ցուցանիշների փոփոխությունները (ավելացումները նշված են դրական նշանով, իսկ նվազեցումները` փակագծերում)
G9: Առաջին կիսամյակ | H9: Ինն ամիս | I9: Տարի
A10: Բաժին | B10: Խումբ | C10: Դաս | D10: Ծրագիր | E10: Միջոցառում
F11: ԸՆԴԱՄԵՆԸ ԾԱԽՍԵՐ | G11: =+G13 -> 408529.9 | H11: =+H13 -> 311747.6 | I11: =+I13 -> 0
F12: այդ թվում`
F13: ՀՀ էկոնոմիկայի նախարարություն | G13: =+G15 -> 408529.9 | H13: =+H15 -> 311747.6 | I13: =+I15 -> 0
F14: այդ թվում`
A15: 04 | F15: ՏՆՏԵՍԱԿԱՆ ՀԱՐԱԲԵՐՈՒԹՅՈՒՆՆԵՐ | G15: =+G17+G75 -> 408529.9 | H15: =+H17+H75 -> 311747.6 | I15: =+I17+I75 -> 0
F16: այդ թվում`
B17: 02 | F17: Գյուղատնտեսություն, անտառային տնտեսություն, ձկնորսություն և որսորդություն | G17: =+G19 -> 648529.9 | H17: =+H19 -> 671747.6 | I17: =+I19 -> 266726.8
F18: այդ թվում`
C19: 01 | F19: Գյուղատնտեսություն | G19: =+G21+G50+G64 -> 648529.9 | H19: =+H21+H50+H64 -> 671747.6 | I19: =+I21+I50+I64 -> 266726.8
F20: այդ թվում`
D21: 1022 | F21: Գյուղատնտեսության խթանման ծրագիր | G21: =G23+G32+G41 -> -71282 | H21: =H23+H32+H41 -> -160051.2 | I21: =I23+I32+I41 -> -565072
F22: այդ թվում`
E23: 11002 | F23: Պետական աջակցություն Հայաստանի Հանրապետության գյուղատնտեսական ծրագրերի իրականացմանը | G23: =+G25 -> -6282 | H23: =+H25 -> -10051.2 | I23: =+I25 -> -15072
F24: այդ թվում` ըստ կատարողների
F25: ՀՀ էկոնոմիկայի նախարարություն | G25: =+G27 -> -6282 | H25: =+H27 -> -10051.2 | I25: =+I27 -> -15072
F26: այդ թվում` բյուջետային ծախսերի տնտեսագիտական դասակարգման հոդվածներ
F27: ԸՆԴԱՄԵՆԸ ԾԱԽՍԵՐ | G27: =+G28 -> -6282 | H27: =+H28 -> -10051.2 | I27: =+I28 -> -15072
F28: ԸՆԹԱՑԻԿ ԾԱԽՍԵՐ | G28: =+G29 -> -6282 | H28: =+H29 -> -10051.2 | I28: =+I29 -> -15072
F29: ԴՐԱՄԱՇՆՈՐՀՆԵՐ | G29: =+G30 -> -6282 | H29: =+H30 -> -10051.2 | I29: =+I30 -> -15072
F30: Ընթացիկ դրամաշնորհներ պետական հատվածի այլ մակարդակներին | G30: =+G31 -> -6282 | H30: =+H31 -> -10051.2 | I30: =+I31 -> -15072
F31: - Ընթացիկ դրամաշնորհներ պետական և համայնքների ոչ առևտրային կազմակերպություններին | G31: -6282 | H31: -10051.2 | I31: -15072
E32: 11004 | F32: Հողային բարեփոխումների փորձնական ծրագրին աջակցություն | G32: =+G34 -> -30000 | H32: =+H34 -> -100000 | I32: =+I34 -> -500000
F33: այդ թվում` ըստ կատարողների
F34: ՀՀ էկոնոմիկայի նախարարություն | G34: =+G36 -> -30000 | H34: =+H36 -> -100000 | I34: =+I36 -> -500000
F35: այդ թվում` բյուջետային ծախսերի տնտեսագիտական դասակարգման հոդվածներ
F36: ԸՆԴԱՄԵՆԸ ԾԱԽՍԵՐ | G36: =+G37 -> -30000 | H36: =+H37 -> -100000 | I36: =+I37 -> -500000
F37: ԸՆԹԱՑԻԿ ԾԱԽՍԵՐ | G37: =+G38 -> -30000 | H37: =+H38 -> -100000 | I37: =+I38 -> -500000
F38: ԴՐԱՄԱՇՆՈՐՀՆԵՐ | G38: =+G39 -> -30000 | H38: =+H39 -> -100000 | I38: =+I39 -> -500000
F39: Ընթացիկ դրամաշնորհներ պետական հատվածի այլ մակարդակներին | G39: =+G40 -> -30000 | H39: =+H40 -> -100000 | I39: =+I40 -> -500000
F40: - Ընթացիկ դրամաշնորհներ պետական և համայնքների ոչ առևտրային կազմակերպություններին | G40: =+Հավելված2!D25 -> -30000 | H40: =+Հավելված2!E25 -> -100000 | I40: =+Հավելված2!F25 -> -500000
E41: 32001 | F41: Հողային բարեփոխումների փորձնական ծրագիր | G41: =+G43 -> -35000 | H41: =+H43 -> -50000 | I41: =+I43 -> -50000
F42: այդ թվում` ըստ կատարողների
F43: ՀՀ էկոնոմիկայի նախարարություն | G43: =+G45 -> -35000 | H43: =+H45 -> -50000 | I43: =+I45 -> -50000
F44: այդ թվում` բյուջետային ծախսերի տնտեսագիտական դասակարգման հոդվածներ
F45: ԸՆԴԱՄԵՆԸ ԾԱԽՍԵՐ | G45: =+G46 -> -35000 | H45: =+H46 -> -50000 | I45: =+I46 -> -50000
F46: ԸՆԹԱՑԻԿ ԾԱԽՍԵՐ | G46: =+G47 -> -35000 | H46: =+H47 -> -50000 | I46: =+I47 -> -50000
F47: ԴՐԱՄԱՇՆՈՐՀՆԵՐ | G47: =+G48 -> -35000 | H47: =+H48 -> -50000 | I47: =+I48 -> -50000
F48: Կապիտալ դրամաշնորհներ պետական հատվածի այլ մակարդակներին | G48: =+G49 -> -35000 | H48: =+H49 -> -50000 | I48: =+I49 -> -50000
F49: - Կապիտալ դրամաշնորհներ պետական և համայնքային ոչ առևտրային կազմակերպություններին | G49: =+Հավելված2!D31 -> -35000 | H49: =+Հավելված2!E31 -> -50000 | I49: =+Հավելված2!F31 -> -50000
D50: 1116 | F50: Անասնաբուժական ծառայություններ | G50: =+G52 -> 1019811.9 | H50: =+H52 -> 1131798.8 | I50: =+I52 -> 1131798.8
F51: այդ թվում`
E52: 11001 | F52: Գյուղատնտեսական կենդանիների պատվաստում | G52: =+G54 -> 1019811.9 | H52: =+H54 -> 1131798.8 | I52: =+I54 -> 1131798.8
F53: այդ թվում` ըստ կատարողների
F54: ՀՀ էկոնոմիկայի նախարարություն | G54: =+G56 -> 1019811.9 | H54: =+H56 -> 1131798.8 | I54: =+I56 -> 1131798.8
F55: այդ թվում` բյուջետային ծախսերի տնտեսագիտական դասակարգման հոդվածներ
F56: ԸՆԴԱՄԵՆԸ ԾԱԽՍԵՐ | G56: =+G57 -> 1019811.9 | H56: =+H57 -> 1131798.8 | I56: =+I57 -> 1131798.8
F57: ԸՆԹԱՑԻԿ ԾԱԽՍԵՐ | G57: =+G58+G61 -> 1019811.9 | H57: =+H58+H61 -> 1131798.8 | I57: =+I58+I61 -> 1131798.8
F58: ԾԱՌԱՅՈՒԹՅՈՒՆՆԵՐԻ ԵՎ ԱՊՐԱՆՔՆԵՐԻ ՁԵՌՔԲԵՐՈՒՄ | G58: =+G59 -> 968328.9 | H58: =+H59 -> 968328.9 | I58: =+I59 -> 968328.9
F59: Նյութեր (Ապրանքներ) | G59: =+G60 -> 968328.9 | H59: =+H60 -> 968328.9 | I59: =+I60 -> 968328.9
F60: - Առողջապահական և լաբորատոր նյութեր | G60: 968328.9 | H60: 968328.9 | I60: 968328.9
F61: ԴՐԱՄԱՇՆՈՐՀՆԵՐ | G61: =+G62 -> 51483 | H61: =+H62 -> 163469.9 | I61: =+I62 -> 163469.9
F62: Ընթացիկ դրամաշնորհներ պետական հատվածի այլ մակարդակներին | G62: =+G63 -> 51483 | H62: =+H63 -> 163469.9 | I62: =+I63 -> 163469.9
F63: - Ընթացիկ դրամաշնորհներ պետական և համայնքների ոչ առևտրային կազմակերպություններին | G63: 51483 | H63: 163469.9 | I63: 163469.9
D64: 1187 | F64: Գյուղատնտեսության արդիականացման ծրագիր | G64: =+G66 -> -300000 | H64: =+H66 -> -300000 | I64: =+I66 -> -300000
F65: այդ թվում`
E66: 12017 | F66: Գյուղատնտեսական մշակաբույսերի մշակության խթանման նպատակով տրամադրվող նպատակային վարկերի տոկոսադրույքների սուբսիդավորում | G66: =+G68 -> -300000 | H66: =+H68 -> -300000 | I66: =+I68 -> -300000
F67: այդ թվում` ըստ կատարողների
F68: ՀՀ էկոնոմիկայի նախարարություն | G68: =+G70 -> -300000 | H68: =+H70 -> -300000 | I68: =+I70 -> -300000
F69: այդ թվում` բյուջետային ծախսերի տնտեսագիտական դասակարգման հոդվածներ
F70: ԸՆԴԱՄԵՆԸ ԾԱԽՍԵՐ | G70: =+G71 -> -300000 | H70: =+H71 -> -300000 | I70: =+I71 -> -300000
F71: ԸՆԹԱՑԻԿ ԾԱԽՍԵՐ | G71: =+G72 -> -300000 | H71: =+H72 -> -300000 | I71: =+I72 -> -300000
F72: ՍՈՒԲՍԻԴԻԱՆԵՐ | G72: =+G73 -> -300000 | H72: =+H73 -> -300000 | I72: =+I73 -> -300000
F73: Սուբսիդիաներ ոչ պետական կազմակերպություններին | G73: =+G74 -> -300000 | H73: =+H74 -> -300000 | I73: =+I74 -> -300000
F74: - Սուբսիդիաներ ոչ պետական ֆինանսական կազմակերպություններին | G74: =+Հավելված2!D81 -> -300000 | H74: =+Հավելված2!E81 -> -300000 | I74: =+Հավելված2!F81 -> -300000
B75: 01 | F75: Ընդհանուր բնույթի տնտեսական, առևտրային և աշխատանքի գծով հարաբերություններ | G75: =G76 -> -240000 | H75: =H76 -> -360000 | I75: =I76 -> -266726.8
F76: այդ թվում` | G76: =+G77 -> -240000 | H76: =+H77 -> -360000 | I76: =+I77 -> -266726.8
C77: ՛01 | F77: Ընդհանուր բնույթի տնտեսական և առևտրային հարաբերություններ | G77: =G90+G79 -> -240000 | H77: =H90+H79 -> -360000 | I77: =I90+I79 -> -266726.8
F78: այդ թվում`
D79: 1104 | F79: Գիտելիքահենք, նորարարական տնտեսությանը և փոքր ու միջին ձեռնարկատիրությանը աջակցություն | G79: =+G81 -> 0 | H79: =+H81 -> 0 | I79: =+I81 -> 233273.2
F80: այդ թվում`
E81: 11002 | F81: Բարձր որակավորում ունեցող մասնագետների ներգրավման նպատակով տնտեսավարողներին աջակցություն | G81: =+G83 -> 0 | H81: =+H83 -> 0 | I81: =+I83 -> 233273.2
F82: այդ թվում` ըստ կատարողների
F83: ՀՀ էկոնոմիկայի նախարարություն | G83: =+G85 -> 0 | H83: =+H85 -> 0 | I83: =+I85 -> 233273.2
F84: այդ թվում` բյուջետային ծախսերի տնտեսագիտական դասակարգման հոդվածներ
F85: ԸՆԴԱՄԵՆԸ ԾԱԽՍԵՐ | G85: =+G86 -> 0 | H85: =+H86 -> 0 | I85: =+I86 -> 233273.2
F86: ԸՆԹԱՑԻԿ ԾԱԽՍԵՐ | G86: =+G87 -> 0 | H86: =+H87 -> 0 | I86: =+I87 -> 233273.2
F87: ԴՐԱՄԱՇՆՈՐՀՆԵՐ | G87: =+G88 -> 0 | H87: =+H88 -> 0 | I87: =+I88 -> 233273.2
F88: Ընթացիկ դրամաշնորհներ պետական հատվածի այլ մակարդակներին | G88: =+G89 -> 0 | H88: =+H89 -> 0 | I88: =+I89 -> 233273.2
F89: - Ընթացիկ դրամաշնորհներ պետական և համայնքների ոչ առևտրային կազմակերպություններին | G89: =+Հավելված2!D44 -> 0 | H89: =+Հավելված2!E44 -> 0 | I89: =+Հավելված2!F44 -> 233273.2
D90: 1165 | F90: Ներդրումների և արտահանման խթանման ծրագիր | G90: =G92 -> -240000 | H90: =H92 -> -360000 | I90: =I92 -> -500000
F91: այդ թվում`
E92: 11007 | F92: ՀՀ տարածքից բեռների արտահանման և/կամ ՀՀ տարածք ներմուծման նպատակով լոգիստիկ ծառայությունների ձեռք բերմանը աջակցություն | G92: =+G94 -> -240000 | H92: =+H94 -> -360000 | I92: =+I94 -> -500000
F93: այդ թվում` ըստ կատարողների
F94: ՀՀ էկոնոմիկայի նախարարություն | G94: =+G96 -> -240000 | H94: =+H96 -> -360000 | I94: =+I96 -> -500000
F95: այդ թվում` բյուջետային ծախսերի տնտեսագիտական դասակարգման հոդվածներ
F96: ԸՆԴԱՄԵՆԸ ԾԱԽՍԵՐ | G96: =+G97 -> -240000 | H96: =+H97 -> -360000 | I96: =+I97 -> -500000
F97: ԸՆԹԱՑԻԿ ԾԱԽՍԵՐ | G97: =+G98 -> -240000 | H97: =+H98 -> -360000 | I97: =+I98 -> -500000
F98: ԴՐԱՄԱՇՆՈՐՀՆԵՐ | G98: =+G99 -> -240000 | H98: =+H99 -> -360000 | I98: =+I99 -> -500000
F99: Ընթացիկ դրամաշնորհներ պետական հատվածի այլ մակարդակներին | G99: =+G100 -> -240000 | H99: =+H100 -> -360000 | I99: =+I100 -> -500000
F100: - Այլ ընթացիկ դրամաշնորհներ | G100: -240000 | H100: -360000 | I100: -500000

Sheet Հավելված 4
G1: Հավելված № 4
F2: ՀՀ կառավարության 2024 թվականի
G3: № ------------ -Ն որոշման
B5: ՀԱՅԱՍՏԱՆԻ ՀԱՆՐԱՊԵՏՈՒԹՅԱՆ ԿԱՌԱՎԱՐՈՒԹՅԱՆ 2023 ԹՎԱԿԱՆԻ ԴԵԿՏԵՄԲԵՐԻ 28-Ի N 2323-Ն ՈՐՈՇՄԱՆ N 5 ՀԱՎԵԼՎԱԾԻ 7 ԱՂՅՈՒՍԱԿՈՒՄ ԿԱՏԱՐՎՈՂ ՓՈՓՈԽՈՒԹՅՈՒՆՆԵՐԸ
H6: հազար դրամներով
B7: Ծրագրային դասիչ | D7: Բյուջետային հատկացումների գլխավոր կարգադրիչների, ծրագրերի, միջոցառումների, ծախսային ուղղությունների անվանումները | G7: Միջոցառումները կատարող պետական մարմինների և դրամաշնորհ ստացող տնտեսվարող սուբյեկտների անվանումները | H7: Տարի
B8: Ծրագիր | C8: Միջոցառում | H8: Ցուցանիշների փոփոխությունները (ավելացումները նշված են դրական նշանով, իսկ նվազեցումները` փակագծերում)
B9: 1 | C9: 2 | D9: 3 | G9: 4 | H9: 5
B10: ԸՆԴԱՄԵՆԸ | H10: =+H11 -> -668328.9
B11: ՀՀ էկոնոմիկայի նախարարություն | H11: =+H12+H22+H25+H19 -> -668328.9
B12: 1022 | C12: Գյուղատնտեսության խթանման ծրագիր | H12: =H13+H15+H17 -> -565072
C13: 11002 | D13: Պետական աջակցություն Հայաստանի Հանրապետության գյուղատնտեսական ծրագրերի իրականացմանը | G13: ՀՀ էկոնոմիկայի նախարարություն | H13: =H14 -> -15072
G14: «Գյուղատնտեսական ծառայությունների կենտրոն» ՊՈԱԿ | H14: -15072
C15: 11004 | D15: Հողային բարեփոխումների փորձնական ծրագրին աջակցություն | E15: Հողային բարեփոխումների փորձնական ծրագրին աջակցություն | F15: Հողային բարեփոխումների փորձնական ծրագրին աջակցություն | G15: ՀՀ էկոնոմիկայի նախարարություն | H15: =H16 -> -500000
G16: «Գյուղատնտեսական ծառայությունների կենտրոն» ՊՈԱԿ | H16: =+Հավելված2!F25 -> -500000
C17: 32001 | D17: Հողային բարեփոխումների փորձնական ծրագիր | E17: Հողային բարեփոխումների փորձնական ծրագիր | F17: Հողային բարեփոխումների փորձնական ծրագիր | G17: ՀՀ էկոնոմիկայի նախարարություն | H17: =H18 -> -50000
G18: «Գյուղատնտեսական ծառայությունների կենտրոն» ՊՈԱԿ | H18: =+Հավելված2!F31 -> -50000
B19: 1104 | C19: Գիտելիքահենք, նորարարական տնտեսությանը և փոքր ու միջին ձեռնարկատիրությանը աջակցություն | H19: =SUM(H20) -> 233273.2
C20: 11002 | D20: Բարձր որակավորում ունեցող մասնագետների ներգրավման նպատակով տնտեսավարողներին աջակցություն | G20: ՀՀ էկոնոմիկայի նախարարություն | H20: =H21 -> 233273.2
G21: «Նորամուծության և ձեռներեցության ազգային կենտրոն» ՊՈԱԿ | H21: =+Հավելված2!F44 -> 233273.2
B22: 1116 | C22: Անասնաբուժական ծառայություններ | H22: =+H23 -> 163469.9
C23: 11001 | D23: Գյուղատնտեսական կենդանիների պատվաստում | G23: ՀՀ էկոնոմիկայի նախարարություն | H23: =+H24 -> 163469.9
G24: «Գյուղատնտեսական ծառայությունների կենտրոն» ՊՈԱԿ | H24: =+'Հավելված 3'!I63 -> 163469.9
B25: 1165 | C25: Ներդրումների և արտահանման խթանման ծրագիր | H25: =+H26 -> -500000
C26: 11007 | D26: ՀՀ տարածքից բեռների արտահանման և/կամ ՀՀ տարածք ներմուծման նպատակով լոգիստիկ ծառայությունների ձեռք բերմանը աջակցություն | G26: ՀՀ էկոնոմիկայի նախարարություն | H26: =+H27 -> -500000
G27: Մրցույթով ընտրված կազմակերպություններ | H27: -500000

Sheet Հավելված 5
D1: Հավելված № 5
C2: ՀՀ կառավարության 2024 թվականի
D3: № ------------ -Ն որոշման
A6: ՀԱՅԱՍՏԱՆԻ ՀԱՆՐԱՊԵՏՈՒԹՅԱՆ ԿԱՌԱՎԱՐՈՒԹՅԱՆ 2023 ԹՎԱԿԱՆԻ ԴԵԿՏԵՄԲԵՐԻ 28-Ի N 2323-Ն ՈՐՈՇՄԱՆ N 9 ՀԱՎԵԼՎԱԾԻ 9.10 ԱՂՅՈՒՍԱԿՈՒՄ ԵՎ N 9.1 ՀԱՎԵԼՎԱԾԻ 9.1.10 ԱՂՅՈՒՍԱԿՈՒՄ ԿԱՏԱՐՎՈՂ ՓՈՓՈԽՈՒԹՅՈՒՆՆԵՐԸ ԵՎ ԼՐԱՑՈՒՄՆԵՐԸ
A8: ՀՀ էկոնոմիկայի նախարարություն
A9: ՄԱՍ 1.2 ՊԵՏԱԿԱՆ ՄԱՐՄՆԻ ԳԾՈՎ ԱՐԴՅՈՒՆՔԱՅԻՆ (ԿԱՏԱՐՈՂԱԿԱՆ) ՑՈՒՑԱՆԻՇՆԵՐԸ
A11: Ծրագրի դասիչը | B11: Ծրագրի անվանումը
A12: 1022 | B12: Գյուղատնտեսության խթանման ծրագիր
A14: Ծրագրի միջոցառումները
A15: Ծրագրի դասիչը` | B15: 1022 | C15: Ցուցանիշների փոփոխությունը (նվազեցումները նշված են փակագծերում)
A16: Միջոցառման դասիչը` | B16: 11002 | C16: Առաջին կիսամյակ | D16: Ինն ամիս | E16: Տարի
A17: Միջոցառման անվանումը` | B17: Պետական աջակցություն Հայաստանի Հանրապետության գյուղատնտեսական ծրագրերի իրականացմանը
A18: Նկարագրությունը` | B18: Աջակցություն Հայաստանի Հանրապետության բուսաբուծության խթանման, բույսերի պաշտպանության և անասնաբուժական ծրագրերի իրականացմանը
A19: Միջոցառման տեսակը` | B19: Ծառայությունների մատուցում
A20: Միջոցառումն իրականացնողի անվանումը՛ | B20: Մասնագիտացված կազմակերպություններ
A21: Արդյունքի չափորոշիչներ
A23: Միջոցառման վրա կատարվող ծախսը (հազար դրամ) | C23: =+Հավելված2!D19 -> -6282 | D23: =+Հավելված2!E19 -> -10051.2 | E23: =+Հավելված2!F19 -> -15072
A25: Ծրագրի դասիչը` | B25: 1022 | C25: Ցուցանիշների փոփոխությունը (նվազեցումները նշված են փակագծերում)
A26: Միջոցառման դասիչը` | B26: 11004 | C26: Առաջին կիսամյակ | D26: Ինն ամիս | E26: Տարի
A27: Միջոցառման անվանումը` | B27: Հողային բարեփոխումների փորձնական ծրագրին աջակցություն
A28: Նկարագրությունը` | B28: Գյուղատնտեսական նշանակության հողերի ադյունավետ օգտագործման, հողերի բանկավորման, կոնսոլիդացիայի և վարձակալության խթանման միջոցառումներ
A29: Միջոցառման տեսակը` | B29: Ծառայությունների մատուցում
A30: Միջոցառումն իրականացնողի անվանումը՛ | B30: Մասնագիտացված կազմակերպություններ
A31: Արդյունքի չափորոշիչներ
A32: Բարելավված հողեր, չօգտագործվող գյուղատնտեսական նշանակության հողերի շրջանառության մեջ ներառում, հա | C32: -48 | E32: -80
A33: Գյուղատնտեսական նշանակության հողերի սեփականության իրավունքների գրանցման, առուվաճառքի, փոխանակման և վարձակալության գործարքներ, հատ | C33: -450 | E33: -1125
A34: Միջոցառման վրա կատարվող ծախսը (հազար դրամ) | C34: -30000 | D34: -100000 | E34: -500000
A36: Ծրագրի դասիչը` | B36: 1022 | C36: Ցուցանիշների փոփոխությունը (նվազեցումները նշված են փակագծերում)
A37: Միջոցառման դասիչը` | B37: 32001 | C37: Առաջին կիսամյակ | D37: Ինն ամիս | E37: Տարի
A38: Միջոցառման անվանումը` | B38: Հողային բարեփոխումների փորձնական ծրագիր
A39: Նկարագրությունը` | B39: Գյուղատնտեսական նշնակության հողերի ձեռքբերում, օտարում, վարձակալություն, միջնորդությունների իրականացում, փոխանակում
A40: Միջոցառման տեսակը` | B40: Այլ պետական կազմակերպությունների կողմից օգտագործվող ոչ ֆինանսական ակտիվների հետ գործառնություններ
A41: Միջոցառումն իրականացնողի անվանումը՛ | B41: Մասնագիտացված կազմակերպություններ
A42: Արդյունքի չափորոշիչներ
A43: Ծրագրի շրջանակներում ձեռքբերված և շրջանառության մեջ ներառված գյուղատնտեսական նշանակության հողեր, հեկտար | C43: -7 | E43: -10
A44: Միջոցառման վրա կատարվող ծախսը (հազար դրամ) | C44: =+Հավելված2!D31 -> -35000 | D44: =+Հավելված2!E31 -> -50000 | E44: =+Հավելված2!F31 -> -50000
A46: Ծրագրի դասիչը | B46: Ծրագրի անվանումը
A47: 1104 | B47: Գիտելիքահենք, նորարարական տնտեսությանը և փոքր ու միջին ձեռնարկատիրությանը աջակցություն
A49: Ծրագրի միջոցառումները
A51: Ծրագրի դասիչը` | B51: 1104 | C51: Ցուցանիշների փոփոխությունը (ավելացումները նշված են դրական նշանով)
A52: Միջոցառման դասիչը` | B52: 11002 | C52: Առաջին կիսամյակ | D52: Ինն ամիս | E52: Տարի
A53: Միջոցառման անվանումը` | B53: Բարձր որակավորում ունեցող մասնագետների ներգրավման նպատակով տնտեսավարողներին աջակցություն
A54: Նկարագրությունը` | B54: Հայաստանի Հանրապետության տարածքում գործող ընկերությունների արտադրողականության բարձրացման նպատակով բարձր որոկովորում ունեցող մասնագետների ներգրավմանը աջակցություն
A55: Միջոցառման տեսակը` | B55: Ծառայությունների մատուցում
A56: Միջոցառումն իրականացնողի անվանումը՛ | B56: Մասնագիտացված կազմակերպություն
A57: Արդյունքի չափորոշիչներ
A58: Նախորդ տարիներին տնտեսավարողների կողմից ներգրավված բարձր որակավորում ունեցող մասնագետների թիվը, մարդ | E58: 109
A59: Միջոցառման վրա կատարվող ծախսը (հազար դրամ) | C59: =+Հավելված2!D44 -> 0 | D59: =+Հավելված2!E44 -> 0 | E59: =+Հավելված2!F44 -> 233273.2
A62: Ծրագրի դասիչը | B62: Ծրագրի անվանումը
A63: 1116 | B63: Անասնաբուժական ծառայություններ
A65: Ծրագրի միջոցառումները
A66: Ծրագրի դասիչը` | B66: 1116 | C66: Ցուցանիշների փոփոխությունները (ավելացումները նշված են դրական նշանով)
A67: Միջոցառման դասիչը` | B67: 11001 | C67: Առաջին կիսամյակ | D67: Ինն ամիս | E67: Տարի
A68: Միջոցառման անվանումը` | B68: Գյուղատնտեսական կենդանիների պատվաստում
A69: Նկարագրությունը` | B69: Անասնաբուժական ծառայության հակահամաճարակային միջոցառումների, կենդանիների հիվանդությունների կանխարգելման աշխատանքների կազմակերպում և համակարգում, անհրաժեշտ նյութերի ձեռքբերում:
A70: Միջոցառման տեսակը` | B70: Ծառայությունների մատուցում
A71: Միջոցառումն իրականացնողի անվանումը՛ | B71: Համապատասխան ծառայություններ մատուցող կազմակերպություններ
A72: Արդյունքի չափորոշիչներ
A73: Կանխարգելիչ (պատվաստումներ) միջոցառումների քանակը, այդ թվում , հատ | C73: =+C74+C75 -> 172358 | E73: =+E74+E75 -> 819011
A74: դաբաղ, հատ | E74: 474295
A75: ծաղիկ, հատ | C75: 172358 | E75: 344716
A76: Նախատեսված անասնագլխաքանակի վարակամերժության աստիճանն ընդհանուր անասնագլխաքանակի մեջ ըստ հիվանդությունների, տոկոս
A77: խ.ե.կ., մ.ե.կ. դաբաղ, տոկոս | C77: 25.9 | E77: 25.9
A78: մ․ե․կ․ ծաղիկ, տոկոս | C78: 90.9 | E78: 90.9
A79: Միջոցառումների իրականացման պարբերականությունն ըստ հիվանդությունների, անգամ
A80: դաբաղ, անգամ | C80: 1
A81: ծաղիկ, անգամ | C81: 1 | E81: 1
A82: Միջոցառման վրա կատարվող ծախսը (հազար դրամ) | C82: 1019811.9 | D82: 1131798.8 | E82: 1131798.8
A84: Ծրագրի դասիչը | B84: Ծրագրի անվանումը
A85: 1165 | B85: Ներդրումների և արտահանման խթանման ծրագիր
A88: Ծրագրի միջոցառումները
A89: Ծրագրի դասիչը` | B89: 1165 | C89: Ցուցանիշների փոփոխությունը (նվազեցումները նշված են փակագծերում)
A90: Միջոցառման դասիչը` | B90: 11007 | C90: Առաջին կիսամյակ | D90: Ինն ամիս | E90: Տարի
A91: Միջոցառման անվանումը` | B91: ՀՀ տարածքից բեռների արտահանման և/կամ ՀՀ տարածք ներմուծման նպատակով լոգիստիկ ծառայությունների ձեռք բերմանը աջակցություն
A92: Նկարագրությունը` | B92: ՀՀ տարածքից արտահանման և/կամ ՀՀ տարածք ներմուծման նպատակով բեռնափոխադրման ծառայություններին աջակցություն
A93: Միջոցառման տեսակը` | B93: Ծառայությունների մատուցում
A94: Միջոցառումն իրականացնողի անվանումը՛ | B94: Մասնագիտացված կազմակերպություններ
A95: Արդյունքի չափորոշիչներ
A97: Ծրագրի շրջանակներում իրականացվող փոխադրումների քանակը, անգամ | C97: -2 | E97: -4
A99: Միջոցառման վրա կատարվող ծախսը (հազար դրամ) | C99: -240000 | D99: -360000 | E99: -500000
A101: Ծրագրի դասիչը | B101: Ծրագրի անվանումը
A102: 1187 | B102: Գյուղատնտեսության արդիականացման ծրագիր
A105: Ծրագրի միջոցառումները
A106: Ծրագրի դասիչը` | B106: 1187 | C106: Ցուցանիշների փոփոխությունը (նվազեցումները նշված են փակագծերում)
A107: Միջոցառման դասիչը` | B107: 12017 | C107: Առաջին կիսամյակ | D107: Ինն ամիս | E107: Տարի
A108: Միջոցառման անվանումը` | B108: Գյուղատնտեսական մշակաբույսերի մշակության խթանման նպատակով տրամադրվող նպատակային վարկերի տոկոսադրույքների սուբսիդավորում
A109: Նկարագրությունը` | B109: Վարկերի տոկոսադրույքների սուբսիդավորման միջոցով խթանել Հայաստանի Հանրապետությունում գյուղատնտեսական մշակաբույսերի տարածքների ավելացումը
A110: Միջոցառման տեսակը` | B110: Տրանսֆերտների տրամադրում
A111: Միջոցառումն իրականացնողի անվանումը՛ | B111: ՀՀ գյուղատնտեսական տնտեսավարողներ՛ ընտրված համաձայն՛ ՀՀ կառավարության համապատասխան որոշմամբ հաստատված ծրագրի և ֆինանսական կառույցների կողմից հաստատված համապատասխան չափանիշների
A112: Արդյունքի չափորոշիչներ
A113: կարտոֆիլ, հա | C113: -800 | E113: -1760
A114: բանջարային մշակաբույսեր, հա | C114: -1500 | E114: -3282
A115: բոստանային մշակաբույսեր, հա | C115: -300 | E115: -743.5
A116: Միջոցառման վրա կատարվող ծախսը (հազար դրամ) | C116: =+Հավելված2!D81 -> -300000 | D116: =+Հավելված2!E81 -> -300000 | E116: =+Հավելված2!F81 -> -300000

Sheet Հավելված 6
G1: Հավելված № 6
G2: ՀՀ կառավարության 2024 թվականի
G3: № ------------ -Ն որոշման
A5: ՀԱՅԱՍՏԱՆԻ ՀԱՆՐԱՊԵՏՈՒԹՅԱՆ ԿԱՌԱՎԱՐՈՒԹՅԱՆ 2023 ԹՎԱԿԱՆԻ ԴԵԿՏԵՄԲԵՐԻ 28-Ի N 2323-Ն ՈՐՈՇՄԱՆ N 10 ՀԱՎԵԼՎԱԾՈՒՄ ԿԱՏԱՐՎՈՂ ՓՈՓՈԽՈՒԹՅՈՒՆՆԵՐԸ ԵՎ ԼՐԱՑՈՒՄՆԵՐԸ
A6: ՀՀ էկոնոմիկայի նախարարություն
A9: Գնման առարկայի | E9: Գնման ձևը (ընթացակարգը) | F9: Չափի միավորը | G9: Ցուցանիշների փոփոխությունները (ավելացումները նշված են դրական նշանով, նվազեցումները՝ փակագծերում)
A10: Միջանցիկ կոդը` ըստ CPV դասակարգման | B10: անվանումը | G10: Միավորի գինը (ՀՀ դրամ) | H10: Քանակը | I10: Գումարը (հազար դրամով)
A11: 1 | B11: 2 | E11: 3 | F11: 4 | G11: 5 | H11: 6 | I11: 7
A12: ՀՀ էկոնոմիկայի նախարարություն | I12: =+I13 -> 968328.88
A13: Բաժին 04 | B13: Խումբ 02 | C13: Դաս 01 | D13: Գյուղատնտեսություն | I13: =+I14 -> 968328.88
A14: 1116 11001 | B14: Գյուղատնտեսական կենդանիների պատվաստում | I14: =+I15 -> 968328.88
B15: ՄԱՍ I. Ա Պ Ր Ա Ն Ք Ն Ե Ր | I15: =+I19+I16+I17+I18 -> 968328.88
A16: 33651257-4 | B16: անասնաբուժության մեջ կիրառվող պատվաստանյութեր | E16: ԷԱՃ | F16: մլ | G16: 111.3 | H16: =-1640528.5 -> -1640528.5 | I16: =G16*H16/1000 -> -182590.82
A17: 33651257-501 | B17: անասնաբուժության մեջ կիրառվող պատվաստանյութեր | E17: ԷԱՃ | F17: մլ | G17: 320.5 | H17: 1832200 | I17: =+G17*H17/1000 -> 587220.1
A18: 33651257 | B18: անասնաբուժության մեջ կիրառվող պատվաստանյութեր | E18: ԷԱՃ | F18: մլ | G18: 320.5 | H18: 1736100 | I18: =+G18*H18/1000 -> 556420.05
A19: 33651257 | B19: անասնաբուժության մեջ կիրառվող պատվաստանյութեր | E19: ԷԱՃ | F19: մլ | G19: 20.5 | H19: 355100 | I19: =+G19*H19/1000 -> 7279.55
