Workbook
Name _tab10: #REF!
Name _tab10: #REF!
Name _tab10: #REF!
Name _tab11: #REF!
Name _tab11: #REF!
Name _tab11: #REF!
Name _tab12: #REF!
Name _tab12: #REF!
Name _tab12: #REF!
Name _tab13: #REF!
Name _tab13: #REF!
Name _tab13: #REF!
Name _tab14: #REF!
Name _tab14: #REF!
Name _tab14: #REF!
Name _tab15: #REF!
Name _tab15: #REF!
Name _tab15: #REF!
Name _tab16: #REF!
Name _tab16: #REF!
Name _tab16: #REF!
Name _tab17: #REF!
Name _tab17: #REF!
Name _tab17: #REF!
Name _tab18: #REF!
Name _tab18: #REF!
Name _tab18: #REF!
Name _tab19: #REF!
Name _tab19: #REF!
Name _tab19: #REF!
Name _tab20: #REF!
Name _tab20: #REF!
Name _tab20: #REF!
Name _tab21: #REF!
Name _tab21: #REF!
Name _tab21: #REF!
Name _tab22: #REF!
Name _tab22: #REF!
Name _tab22: #REF!
Name _tab23: #REF!
Name _tab23: #REF!
Name _tab23: #REF!
Name _tab24: #REF!
Name _tab24: #REF!
Name _tab24: #REF!
Name _tab5: #REF!
Name _tab5: #REF!
Name _tab5: #REF!
Name _tab6: #REF!
Name _tab6: #REF!
Name _tab6: #REF!
Name _tab7: #REF!
Name _tab7: #REF!
Name _tab7: #REF!
Name _tab8: #REF!
Name _tab8: #REF!
Name _tab8: #REF!
Name _tab9: #REF!
Name _tab9: #REF!
Name _tab9: #REF!

Sheet 1
F1: Հավելված N 1
C2: ՀՀ կառավարության 2024 թվականի
C3: -----------------ի N -----------Ն որոշման
A6: ՀԱՅԱՍՏԱՆԻ ՀԱՆՐԱՊԵՏՈՒԹՅԱՆ 2024 ԹՎԱԿԱՆԻ ՊԵՏԱԿԱՆ ԲՅՈՒՋԵԻ ՄԱՍԻՆ» ՕՐԵՆՔԻ N 1 ՀԱՎԵԼՎԱԾԻ N 2 ԱՂՅՈՒՍԱԿՈՒՄ ԿԱՏԱՐՎՈՂ ՎԵՐԱԲԱՇԽՈՒՄԸ, ՀԱՅԱՍՏԱՆԻ ՀԱՆՐԱՊԵՏՈՒԹՅԱՆ ԿԱՌԱՎԱՐՈՒԹՅԱՆ 2023 ԹՎԱԿԱՆԻ ԴԵԿՏԵՄԲԵՐԻ 28-Ի N 2323-Ն ՈՐՈՇՄԱՆ N 5 ՀԱՎԵԼՎԱԾԻ N 1 ԱՂՅՈՒՍԱԿՈՒՄ ԿԱՏԱՐՎՈՂ ՓՈՓՈԽՈՒԹՅՈՒՆՆԵՐԸ ԵՎ ԼՐԱՑՈՒՄՆԵՐԸ
F7: (հազար դրամ)
A8: Ծրագրային դասիչը | C8: Բյուջետային հատկացումների գլխավոր կարգադրիչների, ծրագրերի և միջոցառումների անվանումները | D8: Ցուցանիշների փոփոխությունները ավելացումները նշված են դրական նշանով, իսկ նվազեցումները՝ փակագծերում
A9: Ծրագիր | B9: Միջոցառում | D9: Առաջին կիսամյակ | E9: Ինն ամիս | F9: Տարի
C10: ԸՆԴԱՄԵՆԸ | D10: =D11 -> 0 | E10: =E11 -> 0 | F10: =F11 -> 0
C11: ՀՀ աշխատանքի և սոցիալական հարցերի նախարարություն | D11: =D12+D25 -> 0 | E11: =E12+E25 -> 0 | F11: =F12+F25 -> 0
A12: 1117 | C12: Ծրագրի անվանումը` | D12: =D19 -> 166833.2 | E12: =E19 -> 166833.2 | F12: =F19 -> 166833.2
C13: Սոցիալական պաշտպանության բնագավառում պետական քաղաքականության մշակում, ծրագրերի համակարգում և մոնիթորինգ
C14: Ծրագրի նպատակը`
C15: Աղքատության մեղմման և անհավասարության նվազեցման, աշխատաշուկայի պահանջարկի և գործազրկության անհմպ. կրճատման, զբաղվածության աճի, ժողովրդագրական իրավիճակի բարելավման և քաղաքացիների սոց.իրավունքի իրացմանն ուղղված քաղաքականության մշակմ. և իրականացմ. ապահովում
C16: Վերջնական արդյունքի նկարագրությունը`
C17: Սոցիալական պաշտպանության ոլորտում իրականացվող ծրագրերի ազդեցության և արդյունավետության բարելավում
A18: Ծրագրի միջոցառումներ
B19: 11001 | C19: Միջոցառման անվանումը` | D19: ='2'!G29+'2'!G32 -> 166833.2 | E19: =D19 -> 166833.2 | F19: =E19 -> 166833.2
C20: Սոցիալական պաշտպանության բնագավառի պետական քաղաքականության մշակման, ծրագրերի համակարգման և մոնիթորինգի ծառայություններ
C21: Միջոցառման նկարագրությունը`
C22: Սոցիալական պաշտպանության բնագավառի պետական քաղաքականության մշակման, ծրագրերի համակարգման և մոնիտորինգի ծառայություններ
C23: Միջոցառման տեսակը
C24: Ծառայությունների մատուցում
A25: 1011 | C25: Ծրագրի անվանումը` | D25: =D32 -> -166833.2 | E25: =E32 -> -166833.2 | F25: =F32 -> -166833.2
C26: Անապահով սոցիալական խմբերին աջակցություն
C27: Ծրագրի նպատակը`
C28: Օժանդակել անապահով ընտանիքների կենսամակարդակի բարձրացմանը
C29: Վերջնական արդյունքի նկարագրությունը`
C30: Աղքատության մեղմում և ծայրահեղ աղքատության կրճատում
A31: Ծրագրի միջոցառումներ
B32: 12001 | C32: Միջոցառման անվանումը` | D32: =D19*-1 -> -166833.2 | E32: =E19*-1 -> -166833.2 | F32: =F19*-1 -> -166833.2
C33: Ընտանիքի կենսամակարդակի բարձրացմանն ուղղված նպաստներ
C34: Միջոցառման նկարագրությունը`
C35: Ընտանիքների անապահովության գնահատման համակարգում հաշվառված, անապահով ճանաչված ընտանիքներին նպաստի, սոցիալական նպաստի և հրատապ օգնության տրամադրում
C36: Միջոցառման տեսակը
C37: Տրանսֆերտների տրամադրում

Sheet 2
I1: Հավելված N 2
F2: ՀՀ կառավարության 2024 թվականի
F3: -----------------ի N -----------Ն որոշման
A5: ՀԱՅԱՍՏԱՆԻ ՀԱՆՐԱՊԵՏՈՒԹՅԱՆ ԿԱՌԱՎԱՐՈՒԹՅԱՆ 2023 ԹՎԱԿԱՆԻ ԴԵԿՏԵՄԲԵՐԻ 28-Ի N 2323-Ն ՈՐՈՇՄԱՆ N N 3 ԵՎ 4 ՀԱՎԵԼՎԱԾՆԵՐՈՒՄ ԿԱՏԱՐՎՈՂ ՓՈՓՈԽՈՒԹՅՈՒՆՆԵՐԸ ԵՎ ԼՐԱՑՈՒՄՆԵՐԸ
I6: հազար դրամ
A7: Գործառական դասիչը | D7: Ծրագրային դասիչը | F7: Բյուջետային ծախսերի գործառական դասակարգման բաժինների, խմբերի և դասերի, բյուջետային ծրագրերի միջոցառումների, բյուջետային հատկացումների գլխավոր կարգադրիչների անվանումները | G7: Ցուցանիշների փոփոխությունները ավելացումները նշված են դրական նշանով, իսկ նվազեցումները՝ փակագծերում
A8: Բաժինը | B8: Խումբը | C8: Դասը | D8: Ծրագիր | E8: Միջոցառում | G8: Առաջին կիսամյակ | H8: Ինն ամիս | I8: Տարի
F9: ԸՆԴԱՄԵՆԸ ԾԱԽՍԵՐ | G9: =G11 -> 0 | H9: =H11 -> 0 | I9: =I11 -> 0
F10: այդ թվում`
A11: 10 | F11: ՍՈՑԻԱԼԱԿԱՆ ՊԱՇՏՊԱՆՈՒԹՅՈՒՆ | G11: =G13+G33 -> 0 | H11: =H13+H33 -> 0 | I11: =I13+I33 -> 0
F12: այդ թվում`
B13: ՛09 | F13: Սոցիալական պաշտպանություն (այլ դասերին չպատկանող) | G13: =+G15 -> 166833.2 | H13: =+H15 -> 166833.2 | I13: =+I15 -> 166833.2
F14: այդ թվում`
C15: ՛01 | F15: Սոցիալական պաշտպանություն (այլ դասերին չպատկանող) | G15: =G17 -> 166833.2 | H15: =H17 -> 166833.2 | I15: =I17 -> 166833.2
F16: այդ թվում`
F17: ՀՀ աշխատանքի և սոցիալական հարցերի նախարարություն | G17: =G19 -> 166833.2 | H17: =H19 -> 166833.2 | I17: =I19 -> 166833.2
F18: այդ թվում`
D19: 1117 | F19: Սոցիալական պաշտպանության բնագավառում պետական քաղաքականության մշակում, ծրագրերի համակարգում և մոնիթորինգ | G19: =G21 -> 166833.2 | H19: =H21 -> 166833.2 | I19: =I21 -> 166833.2
F20: այդ թվում`
E21: 11001 | F21: Սոցիալական պաշտպանության բնագավառի պետական քաղաքականության մշակման, ծրագրերի համակարգման և մոնիթորինգի ծառայություններ | G21: =G23 -> 166833.2 | H21: =H23 -> 166833.2 | I21: =I23 -> 166833.2
F22: այդ թվում` ըստ կատարողների
F23: ՀՀ աշխատանքի և սոցիալական հարցերի նախարարություն | G23: =G25 -> 166833.2 | H23: =H25 -> 166833.2 | I23: =I25 -> 166833.2
F24: այդ թվում` բյուջետային ծախսերի տնտեսագիտական դասակարգման հոդվածներ
F25: ԸՆԴԱՄԵՆԸ ԾԱԽՍԵՐ | G25: =G26 -> 166833.2 | H25: =H26 -> 166833.2 | I25: =I26 -> 166833.2
F26: ԸՆԹԱՑԻԿ ԾԱԽՍԵՐ | G26: =G27+G30 -> 166833.2 | H26: =H27+H30 -> 166833.2 | I26: =I27+I30 -> 166833.2
F27: ԱՇԽԱՏԱՆՔԻ ՎԱՐՁԱՏՐՈՒԹՅՈՒՆ | G27: =G28 -> 165333.2 | H27: =H28 -> 165333.2 | I27: =I28 -> 165333.2
F28: Դրամով վճարվող աշխատավարձեր և հավելավճարներ | G28: =G29 -> 165333.2 | H28: =H29 -> 165333.2 | I28: =I29 -> 165333.2
F29: - Աշխատողների աշխատավարձեր և հավելավճարներ | G29: 165333.2 | H29: =G29 -> 165333.2 | I29: =H29 -> 165333.2
F30: ԱՅԼ ԾԱԽՍԵՐ | G30: =G31 -> 1500 | H30: =H31 -> 1500 | I30: =I31 -> 1500
F31: Հարկեր, պարտադիր վճարներ և տույժեր, որոնք կառավարման տարբեր մակարդակների կողմից կիրառվում են միմյանց նկատմամբ | G31: =G32 -> 1500 | H31: =H32 -> 1500 | I31: =I32 -> 1500
F32: - Պարտադիր վճարներ | G32: 1500 | H32: =G32 -> 1500 | I32: =H32 -> 1500
B33: 04 | F33: Ընտանիքի անդամներ և զավակներ | G33: =G35 -> -166833.2 | H33: =H35 -> -166833.2 | I33: =I35 -> -166833.2
F34: այդ թվում՝
C35: 01 | F35: Ընտանիքի անդամներ և զավակներ | G35: =G37 -> -166833.2 | H35: =H37 -> -166833.2 | I35: =I37 -> -166833.2
F36: այդ թվում՝
F37: ՀՀ աշխատանքի և սոցիալական հարցերի նախարարություն | G37: =G39 -> -166833.2 | H37: =H39 -> -166833.2 | I37: =I39 -> -166833.2
F38: այդ թվում՝
D39: 1011 | F39: ='1'!C26 -> Անապահով սոցիալական խմբերին աջակցություն | G39: =G41 -> -166833.2 | H39: =H41 -> -166833.2 | I39: =I41 -> -166833.2
F40: այդ թվում՝
E41: 12001 | F41: ='1'!C33 -> Ընտանիքի կենսամակարդակի բարձրացմանն ուղղված նպաստներ | G41: =G43 -> -166833.2 | H41: =H43 -> -166833.2 | I41: =I43 -> -166833.2
F42: այդ թվում՝ ըստ կատարողների
F43: ՀՀ աշխատանքի և սոցիալական հարցերի նախարարության միասնական սոցիալական ծառայություն | G43: =G45 -> -166833.2 | H43: =H45 -> -166833.2 | I43: =I45 -> -166833.2
F44: այդ թվում՝ բյուջետային ծախսերի տնտեսագիտական դասակարգման հոդվածներ
F45: ԸՆԴԱՄԵՆԸ ԾԱԽՍԵՐ | G45: =G46 -> -166833.2 | H45: =H46 -> -166833.2 | I45: =I46 -> -166833.2
F46: ԸՆԹԱՑԻԿ ԾԱԽՍԵՐ | G46: =G47 -> -166833.2 | H46: =H47 -> -166833.2 | I46: =I47 -> -166833.2
F47: ՍՈՑԻԱԼԱԿԱՆ ՆՊԱՍՏՆԵՐ ԵՎ ԿԵՆՍԱԹՈՇԱԿՆԵՐ | G47: =G48 -> -166833.2 | H47: =H48 -> -166833.2 | I47: =I48 -> -166833.2
F48: Սոցիալական օգնության դրամական արտահայտությամբ նպաստներ (բյուջեից) | G48: =G49 -> -166833.2 | H48: =H49 -> -166833.2 | I48: =I49 -> -166833.2
F49: - Երեխաների կամ ընտանեկան նպաստներ բյուջեից | G49: ='1'!D32 -> -166833.2 | H49: ='1'!E32 -> -166833.2 | I49: ='1'!F32 -> -166833.2

Sheet 3
E1: Հավելված N 3
B2: ՀՀ կառավարության 2024 թվականի
B3: -----------------ի N -----------Ն որոշման
A5: ՀԱՅԱՍՏԱՆԻ ՀԱՆՐԱՊԵՏՈՒԹՅԱՆ ԿԱՌԱՎԱՐՈՒԹՅԱՆ 2023 ԹՎԱԿԱՆԻ ԴԵԿՏԵՄԲԵՐԻ 28-Ի N 2323-Ն ՈՐՈՇՄԱՆ N 9 ՀԱՎԵԼՎԱԾԻ N 9.15 ԱՂՅՈՒՍԱԿՈՒՄ ԿԱՏԱՐՎՈՂ ՓՈՓՈԽՈՒԹՅՈՒՆՆԵՐԸ ԵՎ ԼՐԱՑՈՒՄՆԵՐԸ
A7: ՄԱՍ 2. ՊԵՏԱԿԱՆ ՄԱՐՄՆԻ ԳԾՈՎ ԱՐԴՅՈՒՆՔԱՅԻՆ (ԿԱՏԱՐՈՂԱԿԱՆ) ՑՈՒՑԱՆԻՇՆԵՐԸ
A9: ՀՀ աշխատանքի և սոցիալական հարցերի նախարարություն
A11: Ծրագրի դասիչը | B11: Ծրագրի անվանումը | C11: Աղյուսակ 9.15
A12: 1117 | B12: Սոցիալական պաշտպանության բնագավառում պետական քաղաքականության մշակում, ծրագրերի համակարգում և մոնիթորինգ
A13: Ծրագրի միջոցառումները
A15: Ծրագրի դասիչը` | B15: 1117 | C15: Ցուցանիշների փոփոխությունները ավելացումները նշված են դրական նշանով
A16: Միջոցառման դասիչը` | B16: 11001 | C16: Առաջին կիսամյակ | D16: Ինն ամիս | E16: Տարի
A17: Միջոցառման անվանումը` | B17: Սոցիալական պաշտպանության բնագավառի պետական քաղաքականության մշակման, ծրագրերի համակարգման և մոնիթորինգի ծառայություններ
A18: Նկարագրությունը` | B18: Սոցիալական պաշտպանության բնագավառի պետական քաղաքականության մշակման, ծրագրերի համակարգման և մոնիտորինգի ծառայություններ
A19: Միջոցառման տեսակը` | B19: Ծառայությունների մատուցում
A20: Միջոցառումն իրականացնողի անվանումը | B20: ՀՀ աշխատանքի և սոցիալական հարցերի նախարարություն
A21: Արդյունքի չափորոշիչներ
A22: Միջոցառման վրա կատարվող ծախսը (հազար դրամ) | C22: ='1'!D19 -> 166833.2 | D22: ='1'!E19 -> 166833.2 | E22: ='1'!F19 -> 166833.2
A26: Ծրագրի դասիչը | B26: Ծրագրի անվանումը
A27: ='1'!A25 -> 1011 | B27: ='1'!C26 -> Անապահով սոցիալական խմբերին աջակցություն
A28: Ծրագրի միջոցառումները
A30: Ծրագրի դասիչը` | B30: =A27 -> 1011 | C30: Ցուցանիշների փոփոխությունները նվազեցումները նշված են փակագծերում
A31: Միջոցառման դասիչը` | B31: 12001 | C31: Առաջին կիսամյակ | D31: Ինն ամիս | E31: Տարի
A32: Միջոցառման անվանումը` | B32: ='1'!C33 -> Ընտանիքի կենսամակարդակի բարձրացմանն ուղղված նպաստներ
A33: Նկարագրությունը` | B33: ='1'!C35 -> Ընտանիքների անապահովության գնահատման համակարգում հաշվառված, անապահով ճանաչված ընտանիքներին նպաստի, սոցիալական նպաստի և հրատապ օգնության տրամադրում
A34: Միջոցառման տեսակը` | B34: ='1'!C37 -> Տրանսֆերտների տրամադրում
A35: Շահառուների ընտրության չափանիշները | B35: Ընտանիքների անապահովության գնահատման համակարգում հաշվառված ընտանիք (ընտանիքի անապահովության միավորի հիման վրա)
A36: Արդյունքի չափորոշիչներ
A37: Ընտանիքի կենսամակարդակի բարձրացմանն ուղղված նպաստներ ստացող ընտանիքների թիվ, հատ, այդ թվում՛ | C37: -417 | E37: -417
A38: Ընտանիքի կենսամակարդակի բարձրացմանն ուղղված նպաստներ ստացող ՀՀ ընտանիքների թիվ, հատ
A39: Ընտանիքի կենսամակարդակի բարձրացմանն ուղղված նպաստներ ստացող ԼՂ ընտանիքների թիվ, հատ
A40: Նպաստ ստացող անդամների թիվ, այդ թվում՛ | C40: -1209 | E40: -1209
A41: Նպաստ ստացող ՀՀ անդամների թիվ
A42: Նպաստ ստացող ԼՂ անդամների թիվ
A43: Միջոցառման վրա կատարվող ծախսը (հազար դրամ) | C43: ='1'!D32 -> -166833.2 | D43: ='1'!E32 -> -166833.2 | E43: ='1'!F32 -> -166833.2

Sheet 4
E1: Հավելված N 4
B2: ՀՀ կառավարության 2024 թվականի
B3: -----------------ի N -----------Ն որոշման
A5: ՀԱՅԱՍՏԱՆԻ ՀԱՆՐԱՊԵՏՈՒԹՅԱՆ ԿԱՌԱՎԱՐՈՒԹՅԱՆ 2023ԹՎԱԿԱՆԻ ԴԵԿՏԵՄԲԵՐԻ 28-Ի N 2323-Ն ՈՐՈՇՄԱՆ N 9.1 ՀԱՎԵԼՎԱԾԻ N 9.1.15 ԵՎ N 9.1.19 ԱՂՅՈՒՍԱԿՆԵՐՈՒՄԿԱՏԱՐՎՈՂ ՓՈՓՈԽՈՒԹՅՈՒՆՆԵՐԸԵՎ ԼՐԱՑՈՒՄՆԵՐԸ
A7: ՄԱՍ 1. ՊԵՏԱԿԱՆ ՄԱՐՄՆԻ ԳԾՈՎ ԱՐԴՅՈՒՆՔԱՅԻՆ (ԿԱՏԱՐՈՂԱԿԱՆ) ՑՈՒՑԱՆԻՇՆԵՐԸ
A9: ՀՀ աշխատանքի և սոցիալական հարցերի նախարարություն
A12: Ծրագրի դասիչը | B12: Ծրագրի անվանումը | C12: Աղյուսակ 9.1.15
A13: 1117 | B13: Սոցիալական պաշտպանության բնագավառում պետական քաղաքականության մշակում, ծրագրերի համակարգում և մոնիթորինգ
A14: Ծրագրի միջոցառումները
A16: Ծրագրի դասիչը` | B16: 1117 | C16: Ցուցանիշների փոփոխությունները ավելացումները նշված են դրական նշանով
A17: Միջոցառման դասիչը` | B17: 11001 | C17: Առաջին կիսամյակ | D17: Ինն ամիս | E17: Տարի
A18: Միջոցառման անվանումը` | B18: Սոցիալական պաշտպանության բնագավառի պետական քաղաքականության մշակման, ծրագրերի համակարգման և մոնիթորինգի ծառայություններ
A19: Նկարագրությունը` | B19: Սոցիալական պաշտպանության բնագավառի պետական քաղաքականության մշակման, ծրագրերի համակարգման և մոնիտորինգի ծառայություններ
A20: Միջոցառման տեսակը` | B20: Ծառայությունների մատուցում
A21: Միջոցառումն իրականացնողի անվանումը | B21: ՀՀ աշխատանքի և սոցիալական հարցերի նախարարություն
A22: Արդյունքի չափորոշիչներ
A23: Միջոցառման վրա կատարվող ծախսը (հազար դրամ) | C23: ='3'!C22 -> 166833.2 | D23: ='3'!D22 -> 166833.2 | E23: ='3'!E22 -> 166833.2
A27: ՀՀ աշխատանքի և սոցիալական հարցերի նախարարության միասնական սոցիալական ծառայություն
A29: Ծրագրի դասիչը | B29: Ծրագրի անվանումը | C29: Աղյուսակ 9.1.19
A30: 1011 | B30: ='3'!B27 -> Անապահով սոցիալական խմբերին աջակցություն
A31: Ծրագրի միջոցառումները
A33: Ծրագրի դասիչը` | B33: ='3'!B30 -> 1011 | C33: Ցուցանիշների փոփոխությունները նվազեցումները նշված են փակագծերում
A34: Միջոցառման դասիչը` | B34: ='3'!B31 -> 12001 | C34: Առաջին կիսամյակ | D34: Ինն ամիս | E34: Տարի
A35: Միջոցառման անվանումը` | B35: Ընտանիքի կենսամակարդակի բարձրացմանն ուղղված նպաստներ
A36: Նկարագրությունը` | B36: Ընտանիքների անապահովության գնահատման համակարգում հաշվառված, անապահով ճանաչված ընտանիքներին նպաստի, սոցիալական նպաստի և հրատապ օգնության տրամադրում
A37: Միջոցառման տեսակը` | B37: Տրանսֆերտների տրամադրում
A38: Շահառուների ընտրության չափանիշները | B38: Ընտանիքների անապահովության գնահատման համակարգում հաշվառված ընտանիք (ընտանիքի անապահովության միավորի հիման վրա)
A39: Արդյունքի չափորոշիչներ
A40: Ընտանիքի կենսամակարդակի բարձրացմանն ուղղված նպաստներ ստացող ընտանիքների թիվ, հատ, այդ թվում՛ | C40: -417 | E40: -417
A41: Ընտանիքի կենսամակարդակի բարձրացմանն ուղղված նպաստներ ստացող ՀՀ ընտանիքների թիվ, հատ
A42: Ընտանիքի կենսամակարդակի բարձրացմանն ուղղված նպաստներ ստացող ԼՂ ընտանիքների թիվ, հատ
A43: Նպաստ ստացող անդամների թիվ, այդ թվում՛ | C43: -1209 | E43: -1209
A44: Նպաստ ստացող ՀՀ անդամների թիվ
A45: Նպաստ ստացող ԼՂ անդամների թիվ
A46: Միջոցառման վրա կատարվող ծախսը (հազար դրամ) | C46: ='3'!C43 -> -166833.2 | D46: ='3'!D43 -> -166833.2 | E46: ='3'!E43 -> -166833.2
