Workbook

Sheet Հավելված 1
F1: Հավելված 1
F2: ՀՀ կառավարության 2024 թվականի
F3: ___________ ___-ի N _______ -Ն որոշման
A4: «ՀԱՅԱUՏԱՆԻ ՀԱՆՐԱՊԵՏՈՒԹՅԱՆ 2024 ԹՎԱԿԱՆԻ ՊԵՏԱԿԱՆ ԲՅՈՒՋԵԻ ՄԱUԻՆ» OՐԵՆՔԻ N 1 ՀԱՎԵԼՎԱԾԻ N 2 ԱՂՅՈՒՍԱԿՈՒՄ ԿԱՏԱՐՎՈՂ ՎԵՐԱԲԱՇԽՈՒՄԸ ԵՎ ՀԱՅԱՍՏԱՆԻ ՀԱՆՐԱՊԵՏՈՒԹՅԱՆ ԿԱՌԱՎԱՐՈՒԹՅԱՆ 2023 ԹՎԱԿԱՆԻ ԴԵԿՏԵՄԲԵՐԻ 28-Ի N 2323-Ն ՈՐՈՇՄԱՆ N 5 ՀԱՎԵԼՎԱԾԻ N 1 ԱՂՅՈՒՍԱԿՈՒՄ ԿԱՏԱՐՎՈՂ ՓՈՓՈԽՈՒԹՅՈՒՆՆԵՐԸ
F6: հազար դրամներով
A7: Ծրագրային դասիչը | C7: Բյուջետային գլխավոր կարգադրիչների, ծրագրերի և միջոցառումների անվանումները | D7: Ցուցանիշների փոփոխությունը (ավելացումները նշված են դրական նշանով, իսկ նվազեցումները փակագծերում)
A8: Ծրագիր | B8: Միջոցառում | D8: Առաջին կիսամյակ | E8: Ինն ամիս | F8: Տարի
C10: ԸՆԴԱՄԵՆԸ | D10: =D11 -> 0 | E10: =E11 -> 0 | F10: =F11 -> 0
C11: ՀՀ ազգային անվտանգության ծառայություն | D11: =+D12 -> 0 | E11: =+E12 -> 0 | F11: =+F12 -> 0
A12: 1138 | C12: Ծրագրի անվանումը` | D12: =+D25+D19 -> 0 | E12: =+E25+E19 -> 0 | F12: =+F25+F19 -> 0
C13: Ազգային անվտանգություն
C14: Ծրագրի նպատակը`
C15: Ներքին և արտաքին սպառնալիքներից անձի՝ հասարակության ու պետության անվտանգության ապահովում
C16: Վերջնական արդյունքի նկարագրությունը`
C17: Այլ պետությունների կողմից հետախուզական գործունեության կասեցում՝պետական սահմանի անձեռնամխելիության ապահովում՝ կոռուպցիոն ռիսկերի շեշտակի նվազեցում
C18: Ծրագրի միջոցառումներ
B19: 11001 | C19: Միջոցառման անվանումը` | D19: -159342 | E19: -159342 | F19: -159342
C20: Հետախուզական, հակահետախուզական, ռազմական հակահետախուզության, հանցագործությունների դեմ պայքարի և պետական սահմանի պահպանության գործունեության կազմակերպում
C21: Միջոցառման նկարագրությունը`
C22: ՀՀ անվտանգությանը սպառնացող վտանգի մասին տեղեկատվության ստացում, վերլուծում, վտանգի կանխատեսում, վտանգի կանխման ու չեզոքացման վերաբերյալ առաջարկությունների մշակում
C23: Միջոցառման տեսակը
C24: Ծառայությունների մատուցում
B25: 31001 | C25: Միջոցառման անվանումը` | D25: 159342 | E25: 159342 | F25: 159342
C26: Ազգային անվտանգության համակարգի տեխնիկական հագեցվածության բարելավում
C27: Միջոցառման նկարագրությունը`
C28: Ազգային անվտանգության համակարգի ստորաբաժանումների համար վարչական սարքավորումների ձեռքբերում
C29: Միջոցառման տեսակը
C30: Պետական մարմինների կողմից օգտագործվող ոչ ֆինանսական ակտիվների հետ գործառնություններ

Sheet Հավելված 2
H1: Հավելված 2
F2: ՀՀ կառավարության 2024 թվականի
F3: ___________ ___-ի N _______ -Ն որոշման
A5: «ՀԱՅԱՍՏԱՆԻ ՀԱՆՐԱՊԵՏՈՒԹՅԱՆ 2024 ԹՎԱԿԱՆԻ ՊԵՏԱԿԱՆ ԲՅՈՒՋԵԻ ՄԱՍԻՆ» ՀԱՅԱՍՏԱՆԻ ՀԱՆՐԱՊԵՏՈՒԹՅԱՆ ՕՐԵՆՔԻ N 1 ՀԱՎԵԼՎԱԾԻ N 3 ԱՂՅՈՒՍԱԿՈՒՄ ԿԱՏԱՐՎՈՂ ՓՈՓՈԽՈՒԹՅՈՒՆՆԵՐԸ
G6: հազար դրամներով
A7: Ծրագրային դասիչ | C7: Բյուջետային գլխավոր կարգադրիչների, ծրագրերի, միջոցառումների և ուղղությունների անվանումները | D7: Ընդամենը | E7: Ցուցանիշների փոփոխությունը (ավելացումները նշված են դրական նշանով)
E8: այդ թվում՝
A9: Ծրագիր | B9: Միջոցառում | E9: Կառուցման աշխատանքներ | F9: Վերակառուցման, վերանորոգման և վերականգնման աշխատանքներ | G9: Նախագծահե- տազոտական, գեոդեզիա- քարտեզագրա- կան աշխա- տանքներ | H9: Ոչ ֆինանսական այլ ակտիվների ձեռքբերում
C10: ԸՆԴԱՄԵՆԸ | D10: =D12 -> 159342 | E10: =E12 -> 0 | F10: =F12 -> 0 | G10: =G12 -> 0 | H10: =H12 -> 159342
C11: այդ թվում՝
C12: ՀՀ ԱԶԳԱՅԻՆ ԱՆՎՏԱՆԳՈՒԹՅԱՆ ԾԱՌԱՅՈՒԹՅՈՒՆ | D12: =+D14 -> 159342 | E12: =E14 -> 0 | F12: =F14 -> 0 | G12: =G14 -> 0 | H12: =H14 -> 159342
C13: այդ թվում`
A14: 1138 | B14: 31001 | C14: Ազգային անվտանգության համակարգի տեխնիկական հագեցվածության բարելավում | D14: =E14+F14+G14+H14 -> 159342 | E14: 0 | F14: 0 | G14: 0 | H14: ='Հավելված 1'!D25 -> 159342

Sheet Հավելված 3
I1: Հավելված 3
G2: ՀՀ կառավարության 2024 թվականի
G3: ___________ ___-ի N _______ -Ն որոշման
A5: ՀԱՅԱՍՏԱՆԻ ՀԱՆՐԱՊԵՏՈՒԹՅԱՆ ԿԱՌԱՎԱՐՈՒԹՅԱՆ 2023 ԹՎԱԿԱՆԻ ԴԵԿՏԵՄԲԵՐԻ 28-Ի N 2323-Ն ՈՐՈՇՄԱՆ N 3 ԵՎ N 4 ՀԱՎԵԼՎԱԾՆԵՐՈՒՄ ԿԱՏԱՐՎՈՂ ՓՈՓՈԽՈՒԹՅՈՒՆՆԵՐԸ
H7: հազար դրամներով
A8: Գործառական դասիչը | D8: Ծրագրային դասիչը | F8: Բյուջետային հատկացումների գլխավոր կարգադրիչների, ծրագրերի, միջոցառումների և միջոցառումները կատարող պետական մարմինների անվանումները | G8: Ցուցանիշների փոփոխությունը (ավելացումները նշված են դրական նշանով, իսկ նվազեցումները՝ փակագծերում)
A9: Բաժին | B9: Խումբ | C9: Դաս | D9: Ծրագիր | E9: Միջոցառում | G9: Առաջին կիսամյակ | H9: Ինն ամիս | I9: Տարի
F11: ԸՆԴԱՄԵՆԸ ԾԱԽՍԵՐ | G11: =+G13 -> 0 | H11: =+H13 -> 0 | I11: =+I13 -> 0
F12: այդ թվում`
A13: 03 | F13: ՀԱՍԱՐԱԿԱԿԱՆ ԿԱՐԳ, ԱՆՎՏԱՆԳՈՒԹՅՈՒՆ ԵՎ ԴԱՏԱԿԱՆ ԳՈՐԾՈՒՆԵՈՒԹՅՈՒՆ | G13: =+G15 -> 0 | H13: =+H15 -> 0 | I13: =+I15 -> 0
F14: այդ թվում`
B15: 01 | F15: Հասարակական կարգ և անվտանգություն | G15: =+G17 -> 0 | H15: =+H17 -> 0 | I15: =+I17 -> 0
F16: այդ թվում`
C17: 02 | F17: Ազգային անվտանգություն | G17: =+G19 -> 0 | H17: =+H19 -> 0 | I17: =+I19 -> 0
F18: այդ թվում`
D19: 1138 | F19: Ազգային անվտանգություն | G19: =G21 -> 0 | H19: =H21 -> 0 | I19: =I21 -> 0
F20: այդ թվում`
F21: ՀՀ ազգային անվտանգության ծառայություն | G21: =G30+G22 -> 0 | H21: =H30+H22 -> 0 | I21: =I30+I22 -> 0
E22: 11001 | F22: Հետախուզական, հակահետախուզական, ռազմական հակահետախուզության, հանցագործությունների դեմ պայքարի և պետական սահմանի պահպանության գործունեության կազմակերպում | G22: =G24 -> -159342 | H22: =H24 -> -159342 | I22: =I24 -> -159342
F23: այդ թվում` ըստ կատարողների
F24: ՀՀ ազգային անվտանգության ծառայություն | G24: =G26 -> -159342 | H24: =H26 -> -159342 | I24: =I26 -> -159342
F25: այդ թվում` բյուջետային ծախսերի տնտեսագիտական դասակարգման հոդվածներ
F26: ԸՆԴԱՄԵՆԸ ԾԱԽՍԵՐ | G26: =G27 -> -159342 | H26: =H27 -> -159342 | I26: =I27 -> -159342
F27: ԸՆԹԱՑԻԿ ԾԱԽՍԵՐ | G27: =G28 -> -159342 | H27: =H28 -> -159342 | I27: =I28 -> -159342
F28: ԱՅԼ ԾԱԽՍԵՐ | G28: =G29 -> -159342 | H28: =H29 -> -159342 | I28: =I29 -> -159342
F29: Այլ ծախսեր | G29: =-G30 -> -159342 | H29: =-H30 -> -159342 | I29: =-I30 -> -159342
E30: 31001 | F30: Ազգային անվտանգության համակարգի տեխնիկական հագեցվածության բարելավում | G30: =G32 -> 159342 | H30: =H32 -> 159342 | I30: =I32 -> 159342
F31: այդ թվում` ըստ կատարողների
F32: ՀՀ ազգային անվտանգության ծառայություն | G32: =G34 -> 159342 | H32: =H34 -> 159342 | I32: =I34 -> 159342
F33: այդ թվում` բյուջետային ծախսերի տնտեսագիտական դասակարգման հոդվածներ
F34: ԸՆԴԱՄԵՆԸ ԾԱԽՍԵՐ | G34: =G35 -> 159342 | H34: =H35 -> 159342 | I34: =I35 -> 159342
F35: ՈՉ ՖԻՆԱՆՍԱԿԱՆ ԱԿՏԻՎՆԵՐԻ ԳԾՈՎ ԾԱԽՍԵՐ | G35: =G36 -> 159342 | H35: =H36 -> 159342 | I35: =I36 -> 159342
F36: ՀԻՄՆԱԿԱՆ ՄԻՋՈՑՆԵՐ | G36: =G37 -> 159342 | H36: =H37 -> 159342 | I36: =I37 -> 159342
F37: ՄԵՔԵՆԱՆԵՐ ԵՎ ՍԱՐՔԱՎՈՐՈՒՄՆԵՐ | G37: =G38 -> 159342 | H37: =H38 -> 159342 | I37: =I38 -> 159342
F38: - Վարչական սարքավորումներ | G38: 159342 | H38: 159342 | I38: 159342

Sheet Հավելված 4
F2: Հավելված 4
E3: ՀՀ կառավարության 2024 թվականի
E4: ___________ ___-ի N _______ -Ն որոշման
A6: ՀԱՅԱՍՏԱՆԻ ՀԱՆՐԱՊԵՏՈՒԹՅԱՆ ԿԱՌԱՎԱՐՈՒԹՅԱՆ 2023 ԹՎԱԿԱՆԻ ԴԵԿՏԵՄԲԵՐԻ 28-Ի N 2323-Ն ՈՐՈՇՄԱՆ N 5 ՀԱՎԵԼՎԱԾԻ N 2 ԱՂՅՈՒՍԱԿՈՒՄ ԿԱՏԱՐՎՈՂ ՓՈՓՈԽՈՒԹՅՈՒՆՆԵՐԸ
E7: հազար դրամներով
A8: Ծրագրային դասիչ | C8: Բյուջետային գլխավոր կարգադրիչների, ծրագրերի, միջոցառումների, միջոցառումները կատարող պետական մարմինների և ուղղությունների անվանումները | D8: Ցուցանիշների փոփոխությունը (ավելացումները նշված են դրական նշանով)
D9: Առաջին կիսամյակ | E9: Ինն ամիս | F9: Տարի
A10: Ծրագիր | B10: Միջոցառում
C11: ԸՆԴԱՄԵՆԸ | D11: =D13 -> 159342 | E11: =E13 -> 159342 | F11: =F13 -> 159342
C12: այդ թվում`
C13: ՀՀ ԱԶԳԱՅԻՆ ԱՆՎՏԱՆԳՈՒԹՅԱՆ ԾԱՌԱՅՈՒԹՅՈՒՆ | D13: =D15 -> 159342 | E13: =E15 -> 159342 | F13: =F15 -> 159342
C14: այդ թվում`
A15: 1138 | B15: 31001 | C15: Ազգային անվտանգության համակարգի տեխնիկական հագեցվածության բարելավում | D15: =D17 -> 159342 | E15: =E17 -> 159342 | F15: =F17 -> 159342
C16: այդ թվում` ըստ կատարողների
C17: ՀՀ ազգային անվտանգության ծառայություն | D17: ='Հավելված 1'!D25 -> 159342 | E17: ='Հավելված 1'!E25 -> 159342 | F17: ='Հավելված 1'!F25 -> 159342

Sheet Հավելված 5
E2: Հավելված 5
C3: ՀՀ կառավարության 2024 թվականի
C4: ___________ ___-ի N _______ -Ն որոշման
A6: ՀԱՅԱՍՏԱՆԻ ՀԱՆՐԱՊԵՏՈՒԹՅԱՆ ԿԱՌԱՎԱՐՈՒԹՅԱՆ 2023 ԹՎԱԿԱՆԻ ԴԵԿՏԵՄԲԵՐԻ 28-Ի ԹԻՎ 2323-Ն ՈՐՈՇՄԱՆ N 9 ՀԱՎԵԼՎԱԾԻ N9.26 ԱՂՅՈՒՍԱԿՈՒՄ ԿԱՏԱՐՎՈՂ ՓՈՓՈԽՈՒԹՅՈՒՆՆԵՐԸ
A8: ՀՀ ազգային անվտանգության ծառայություն
A9: ՄԱՍ 2. ՊԵՏԱԿԱՆ ՄԱՐՄՆԻ ԳԾՈՎ ԱՐԴՅՈՒՆՔԱՅԻՆ (ԿԱՏԱՐՈՂԱԿԱՆ) ՑՈՒՑԱՆԻՇՆԵՐԸ
A11: Ծրագրի դասիչը | B11: Ծրագրի անվանումը
A12: 1138 | B12: Ազգային անվտանգություն
A14: Ծրագրի միջոցառումները
A15: Ծրագրի դասիչը` | B15: 1138 | C15: Ցուցանիշների փոփոխությունը (նվազեցումները նշված են փակագծերում)
A16: Միջոցառման դասիչը` | B16: 11001 | C16: Առաջին կիսամյակ | D16: Ինն ամիս | E16: Տարի
A17: Միջոցառման անվանումը` | B17: Հետախուզական, հակահետախուզական, ռազմական հակահետախուզության, հանցագործությունների դեմ պայքարի և պետական սահմանի պահպանության գործունեության կազմակերպում
A18: Նկարագրությունը` | B18: ՀՀ անվտանգությանը սպառնացող վտանգի մասին տեղեկատվության ստացում, վերլուծում, վտանգի կանխատեսում, վտանգի կանխման ու չեզոքացման վերաբերյալ առաջարկությունների մշակում
A19: Միջոցառման տեսակը` | B19: Ծառայությունների մատուցում
A20: Ծառայությունը մատուցող կազմակերպության(ների) անվանում(ներ)ը | B20: ՀՀ ազգային անվտանգության ծառայություն
A21: Արդյունքի չափորոշիչներ
A22: Միջոցառման վրա կատարվող ծախսը (հազար դրամ) | C22: ='Հավելված 1'!D19 -> -159342 | D22: ='Հավելված 1'!E19 -> -159342 | E22: ='Հավելված 1'!F19 -> -159342
A24: Ծրագրի դասիչը` | B24: 1138 | C24: Ցուցանիշների փոփոխությունը (ավելացումները նշված են դրական նշանով)
A25: Միջոցառման դասիչը` | B25: 31001 | C25: Առաջին կիսամյակ | D25: Ինն ամիս | E25: Տարի
A26: Միջոցառման անվանումը` | B26: Ազգային անվտանգության համակարգի տեխնիկական հագեցվածության բարելավում
A27: Նկարագրությունը` | B27: Ազգային անվտանգության համակարգի ստորաբաժանումների համար վարչական սարքավորումների ձեռքբերում
A28: Միջոցառման տեսակը` | B28: Պետական մարմինների կողմից օգտագործվող ոչ ֆինանսական ակտիվների հետ գործառնություններ
A29: Ակտիվն օգտագործող կազմակերպության(ների) անվանում(ներ)ը | B29: ՀՀ ազգային անվտանգության ծառայություն
A30: Արդյունքի չափորոշիչներ
A31: Համակարգչային և տեխնիկական սարքավորումների քանակ, հատ | C31: 66 | E31: 66
A32: Միջոցառման վրա կատարվող ծախսը (հազար դրամ) | C32: =-C22 -> 159342 | D32: =-D22 -> 159342 | E32: =-E22 -> 159342

Sheet Հավելված 6
E2: Հավելված 6
C3: ՀՀ կառավարության 2024 թվականի
C4: ___________ ___-ի N _______ -Ն որոշման
A6: ՀԱՅԱՍՏԱՆԻ ՀԱՆՐԱՊԵՏՈՒԹՅԱՆ ԿԱՌԱՎԱՐՈՒԹՅԱՆ 2023 ԹՎԱԿԱՆԻ ԴԵԿՏԵՄԲԵՐԻ 28-Ի ԹԻՎ 2323-Ն N 9.1 ՀԱՎԵԼՎԱԾԻ N9.1.31 ԱՂՅՈՒՍԱԿՈՒՄ ԿԱՏԱՐՎՈՂ ՓՈՓՈԽՈՒԹՅՈՒՆՆԵՐԸ
A8: ՀՀ ազգային անվտանգության ծառայություն
A9: ՄԱՍ 1. ՊԵՏԱԿԱՆ ՄԱՐՄՆԻ ԳԾՈՎ ԱՐԴՅՈՒՆՔԱՅԻՆ (ԿԱՏԱՐՈՂԱԿԱՆ) ՑՈՒՑԱՆԻՇՆԵՐԸ
A11: Ծրագրի դասիչը | B11: Ծրագրի անվանումը
A12: 1138 | B12: Ազգային անվտանգություն
A14: Ծրագրի միջոցառումները
A15: Ծրագրի դասիչը` | B15: 1138 | C15: Ցուցանիշների փոփոխությունը (նվազեցումները նշված են փակագծերում)
A16: Միջոցառման դասիչը` | B16: 11001 | C16: Առաջին կիսամյակ | D16: Ինն ամիս | E16: Տարի
A17: Միջոցառման անվանումը` | B17: Հետախուզական, հակահետախուզական, ռազմական հակահետախուզության, հանցագործությունների դեմ պայքարի և պետական սահմանի պահպանության գործունեության կազմակերպում
A18: Նկարագրությունը` | B18: ՀՀ անվտանգությանը սպառնացող վտանգի մասին տեղեկատվության ստացում, վերլուծում, վտանգի կանխատեսում, վտանգի կանխման ու չեզոքացման վերաբերյալ առաջարկությունների մշակում
A19: Միջոցառման տեսակը` | B19: Ծառայությունների մատուցում
A20: Ծառայությունը մատուցող կազմակերպության(ների) անվանում(ներ)ը | B20: ՀՀ ազգային անվտանգության ծառայություն
A21: Արդյունքի չափորոշիչներ
A22: Միջոցառման վրա կատարվող ծախսը (հազար դրամ) | C22: ='Հավելված 1'!D19 -> -159342 | D22: ='Հավելված 1'!E19 -> -159342 | E22: ='Հավելված 1'!F19 -> -159342
A24: Ծրագրի դասիչը` | B24: 1138 | C24: Ցուցանիշների փոփոխությունը (ավելացումները նշված են դրական նշանով)
A25: Միջոցառման դասիչը` | B25: 31001 | C25: Առաջին կիսամյակ | D25: Ինն ամիս | E25: Տարի
A26: Միջոցառման անվանումը` | B26: Ազգային անվտանգության համակարգի տեխնիկական հագեցվածության բարելավում
A27: Նկարագրությունը` | B27: Ազգային անվտանգության համակարգի ստորաբաժանումների համար վարչական սարքավորումների ձեռքբերում
A28: Միջոցառման տեսակը` | B28: Պետական մարմինների կողմից օգտագործվող ոչ ֆինանսական ակտիվների հետ գործառնություններ
A29: Ակտիվն օգտագործող կազմակերպության(ների) անվանում(ներ)ը | B29: ՀՀ ազգային անվտանգության ծառայություն
A30: Արդյունքի չափորոշիչներ
A31: Համակարգչային և տեխնիկական սարքավորումների քանակ, հատ | C31: 66 | E31: 66
A32: Միջոցառման վրա կատարվող ծախսը (հազար դրամ) | C32: =-C22 -> 159342 | D32: =-D22 -> 159342 | E32: =-E22 -> 159342
