Workbook

Sheet հ1
J1: Հավելված N 1
F2: ՀՀ կառավարության 2024 թվականի
F3: ______________ ի ___Ն որոշման
A4: ՀԱՅԱՍՏԱՆԻ ՀԱՆՐԱՊԵՏՈՒԹՅԱՆ ԿԱՌԱՎԱՐՈՒԹՅԱՆ 2023 ԹՎԱԿԱՆԻ ԴԵԿՏԵՄԲԵՐԻ 28-Ի N 2323-Ն ՈՐՈՇՄԱՆ N 3 ԵՎ N 4 ՀԱՎԵԼՎԱԾՆԵՐՈՒՄ ԿԱՏԱՐՎՈՂ ՓՈՓՈԽՈՒԹՅՈՒՆՆԵՐԸ ԵՎ ԼՐԱՑՈՒՄՆԵՐԸ
J6: /հազար դրամ/
A7: Գործառական դասիչը | D7: Ծրագրային դասիչը | F7: Բյուջետային ծախսերի գործառական դասակարգման բաժինների, խմբերի և դասերի, բյուջետային ծրագրերի, միջոցառումների բյուջետային հատկացումնեյի գլխավոր կարգադրիչների անվանումները | G7: Ցուցանիշների փոփոխությունը (ավելացումները նշված են դրական նշանով, իսկ նվազեցումները` փակագծերում)
A8: Բաժին | B8: Խումբ | C8: Դաս | D8: Ծրագիր | E8: Միջոցառում | G8: Առաջին եռամսյակ | H8: Առաջին կիսամյակ | I8: Ինն ամիս | J8: Տարի
F9: ԸՆԴԱՄԵՆԸ | G9: =G10 -> 0 | H9: =H10 -> 0 | I9: =I10 -> 0 | J9: =J10 -> 0
F10: ՀՀ տարածքային կառավարման և ենթակառուցվածքների նախարարություն | G10: =G11 -> 0 | H10: =H11 -> 0 | I10: =I11 -> 0 | J10: =J11 -> 0
A11: 01 | F11: ԸՆԴՀԱՆՈՒՐ ԲՆՈՒՅԹԻ ՀԱՆՐԱՅԻՆ ԾԱՌԱՅՈՒԹՅՈՒՆՆԵՐ | G11: =G13 -> 0 | H11: =H13 -> 0 | I11: =I13 -> 0 | J11: =J13 -> 0
F12: այդ թվում`
B13: 08 | F13: Կառավարության տարբեր մակարդակների միջև իրականացվող ընդհանուր բնույթի տրանսֆերտներ | G13: =G15 -> 0 | H13: =H15 -> 0 | I13: =I15 -> 0 | J13: =J15 -> 0
F14: այդ թվում`
C15: 01 | F15: Կառավարության տարբեր մակարդակների միջև իրականացվող ընդհանուր բնույթի տրանսֆերտներ | G15: =G17 -> 0 | H15: =H17 -> 0 | I15: =I17 -> 0 | J15: =J17 -> 0
F16: այդ թվում`
F17: ՀՀ տարածքային կառավարման և ենթակառուցվածքների նախարարություն | G17: =G19 -> 0 | H17: =H19 -> 0 | I17: =I19 -> 0 | J17: =J19 -> 0
F18: այդ թվում`
D19: 1212 | F19: Տարածքային զարգացում | G19: =G21 -> 0 | H19: =H21 -> 0 | I19: =I21 -> 0 | J19: =J21 -> 0
F20: այդ թվում`
E21: 12026 | F21: Ազդակիր բնակավայրերի և համայնքների բյուջեներին հատկացվող համայնքային մասհանումներ | G21: =G30+G23 -> 0 | H21: =H30+H23 -> 0 | I21: =I30+I23 -> 0 | J21: =J30+J23 -> 0
F22: այդ թվում` ըստ կատարողների
F23: ՀՀ կառավարություն | G23: =G25 -> -210243 | H23: =H25 -> -630728 | I23: =I25 -> -1051213.5 | J23: =J25 -> -1051213.5
F24: այդ թվում` բյուջետային ծախսերի տնտեսագիտական դասակարգման հոդվածներ
F25: ԸՆԴԱՄԵՆԸ ԾԱԽՍԵՐ | G25: =G26 -> -210243 | H25: =H26 -> -630728 | I25: -1051213.5 | J25: -1051213.5
F26: ԸՆԹԱՑԻԿ ԾԱԽՍԵՐ | G26: =G27 -> -210243 | H26: =H27 -> -630728 | I26: -1051213.5 | J26: -1051213.5
F27: ԴՐԱՄԱՇՆՈՐՀՆԵՐ | G27: =G28 -> -210243 | H27: -630728 | I27: -1051213.5 | J27: -1051213.5
F28: Կապիտալ դրամաշնորհներ պետական հատվածի այլ մակարդակներին | G28: =G29 -> -210243 | H28: =H29 -> -630728 | I28: =I29 -> -1051213.5 | J28: =J29 -> -1051213.5
F29: - Կապիտալ սուբվենցիաներ համայնքներին | G29: -210243 | H29: -630728 | I29: -1051213.5 | J29: -1051213.5
F30: ՀՀ տարածքային կառավարման և ենթակառուցվածքների նախարարություն | G30: =G32 -> 210243 | H30: =H32 -> 630728 | I30: =J30 -> 1051213.5 | J30: =J32 -> 1051213.5
F31: այդ թվում` բյուջետային ծախսերի տնտեսագիտական դասակարգման հոդվածներ
F32: ԸՆԴԱՄԵՆԸ ԾԱԽՍԵՐ | G32: =G33 -> 210243 | H32: =H33 -> 630728 | I32: =J32 -> 1051213.5 | J32: =J33 -> 1051213.5
F33: ԸՆԹԱՑԻԿ ԾԱԽՍԵՐ | G33: =G34 -> 210243 | H33: =H34 -> 630728 | I33: =J33 -> 1051213.5 | J33: =J34 -> 1051213.5
F34: ԴՐԱՄԱՇՆՈՐՀՆԵՐ | G34: =G35 -> 210243 | H34: =H35 -> 630728 | I34: =J34 -> 1051213.5 | J34: =J35 -> 1051213.5
F35: Կապիտալ դրամաշնորհներ պետական հատվածի այլ մակարդակներին | G35: 210243 | H35: 630728 | I35: 1051213.5 | J35: 1051213.5

Sheet հ2
H1: Հավելված N 2
H2: ՀՀ կառավարության 2024 թվականի
H3: ______________ ի ___Ն որոշման
B5: «ՀԱՅԱՍՏԱՆԻ ՀԱՆՐԱՊԵՏՈՒԹՅԱՆ 2024 ԹՎԱԿԱՆԻ ՊԵՏԱԿԱՆ ԲՅՈՒՋԵԻ ՄԱՍԻՆ» ՕՐԵՆՔԻ N 1 ՀԱՎԵԼՎԱԾԻ N 7 ԱՂՅՈՒՍԱԿՈՒՄ, ՀԱՅԱՍՏԱՆԻ ՀԱՆՐԱՊԵՏՈՒԹՅԱՆ ԿԱՌԱՎԱՐՈՒԹՅԱՆ 2023 ԹՎԱԿԱՆԻ ԴԵԿՏԵՄԲԵՐԻ 28-Ի N 2323-Ն ՈՐՈՇՄԱՆ N 5 ՀԱՎԵԼՎԱԾԻ N 6 ԱՂՅՈՒՍԱԿՈՒՄ ԿԱՏԱՐՎՈՂ ՓՈՓՈԽՈՒԹՅՈՒՆՆԵՐԸ ԵՎ ԼՐԱՑՈՒՄՆԵՐԸ
H7: /հազար դրամ/
B8: Ծրագրային դասիչը | D8: Հատկացումների տրամադրման նպատակները և բյուջետային գլխավոր կարգադրիչների, ծրագրերի, միջոցառումների և կատարող պետական մարմնի անվանումները | E8: =[1]հ1!D7 -> Ցուցանիշների փոփոխությունը (ավելացումները նշված են դրական նշանով, իսկ նվազեցումները` փակագծերում)
B9: Ծրագիր | C9: Միջոցառում | E9: Առաջին եռամսյակ | F9: Առաջին կիսամյակ | G9: Ինն ամիս | H9: Տարի
D10: Ընդամենը | E10: =E14+E28+E42 -> 0 | F10: =F14+F28+F42 -> 0 | G10: =G14+G28+G42 -> 0 | H10: =H14+H28+H42 -> 0
B11: այդ թվում`
B12: Կապիտալ սուբվենցիաներ համայնքներին | E12: =+E14 -> 0 | F12: =+F14 -> 0 | G12: =+G14 -> 0 | H12: =+H14 -> 0
B13: այդ թվում`
B14: ՀՀ տարածքային կառավարման և ենթակառուցվածքների նախարարություն | E14: =E16 -> 0 | F14: =F16 -> 0 | G14: =G16 -> 0 | H14: =H16 -> 0
B15: այդ թվում`
B16: 1212 | C16: Տարածքային զարգացում | E16: =E17 -> 0 | F16: =F17 -> 0 | G16: =G17 -> 0 | H16: =H17 -> 0
C17: 12026 | D17: Ազդակիր բնակավայրերի և համայնքների բյուջեներին հատկացվող համայնքային մասհանումներ | E17: =E19+E20 -> 0 | F17: =F19+F20 -> 0 | G17: =G19+G20 -> 0 | H17: =H19+H20 -> 0
D18: այդ թվում` ըստ կատարողների
D19: ՀՀ կառավարություն | E19: =հ1!G23 -> -210243 | F19: =հ1!H23 -> -630728 | G19: =հ1!I23 -> -1051213.5 | H19: =հ1!J23 -> -1051213.5
D20: ՀՀ տարածքային կառավարման և ենթակառուցվածքների նախարարություն | E20: =E22+E23+E24+E25+E26+E27 -> 210243 | F20: =F22+F23+F24+F25+F26+F27 -> 630728 | G20: =G22+G23+G24+G25+G26+G27 -> 1051213.5 | H20: =H22+H23+H24+H25+H26+H27 -> 1051213.5
D21: այդ թվում` ըստ ուղղությունների
D22: ՀՀ Գեղարքունիքի մարզի Վարդենիս համայնք ՀՀ կառավարության 01.09.2022թ. «Համայնքային մասհանումների ծախսման ծրագրով նախատեսված միջոցառումների ուղղությունները, դրանց առաջնահերթությունները հաստատելու մասին» N 1370-Ն որոշմամբ սահմանված ուղղություններ | E22: 37028.8 | F22: 111086.5 | G22: 185144.2 | H22: 185144.2
D23: ՀՀ Լոռու մարզի Ալավերդի համայնք ՀՀ կառավարության 01.09.2022թ. «Համայնքային մասհանումների ծախսման ծրագրով նախատեսված միջոցառումների ուղղությունները, դրանց առաջնահերթությունները հաստատելու մասին» N 1370-Ն որոշմամբ սահմանված ուղղություններ | E23: 49219 | F23: 147656.8 | G23: 246094.9 | H23: 246094.9
D24: ՀՀ Կոտայքի մարզի Ծաղկաձոր համայնք ՀՀ կառավարության 01.09.2022թ. «Համայնքային մասհանումների ծախսման ծրագրով նախատեսված միջոցառումների ուղղությունները, դրանց առաջնահերթությունները հաստատելու մասին» N 1370-Ն որոշմամբ սահմանված ուղղություններ | E24: 17033 | F24: 51099.1 | G24: 85165.1 | H24: 85165.1
D25: ՀՀ Սյունիքի մարզի Քաջարան համայնք ՀՀ կառավարության 01.09.2022թ. «Համայնքային մասհանումների ծախսման ծրագրով նախատեսված միջոցառումների ուղղությունները, դրանց առաջնահերթությունները հաստատելու մասին» N 1370-Ն որոշմամբ սահմանված ուղղություններ | E25: 38013 | F25: 114038.2 | G25: 190063.6 | H25: 190063.6
D26: ՀՀ Սյունիքի մարզի Կապան համայնք ՀՀ կառավարության 01.09.2022թ. «Համայնքային մասհանումների ծախսման ծրագրով նախատեսված միջոցառումների ուղղությունները, դրանց առաջնահերթությունները հաստատելու մասին» N 1370-Ն որոշմամբ սահմանված ուղղություններ | E26: 50218.6 | F26: 150655.7 | G26: 251092.8 | H26: 251092.8
D27: ՀՀ Սյունիքի մարզի Մեղրի համայնք ՀՀ կառավարության 01.09.2022թ. «Համայնքային մասհանումների ծախսման ծրագրով նախատեսված միջոցառումների ուղղությունները, դրանց առաջնահերթությունները հաստատելու մասին» N 1370-Ն որոշմամբ սահմանված ուղղություններ | E27: 18730.6 | F27: 56191.7 | G27: 93652.9 | H27: 93652.9

Sheet հ3
G1: Հավելված N 3
G2: ՀՀ կառավարության 2024 թվականի
G3: ______________ ի ___Ն որոշման
A5: ՀԱՅԱՍՏԱՆԻ ՀԱՆՐԱՊԵՏՈՒԹՅԱՆ ԿԱՌԱՎԱՐՈՒԹՅԱՆ 2023 ԹՎԱԿԱՆԻ ԴԵԿՏԵՄԲԵՐԻ 28-Ի ԹԻՎ 2323-Ն ՈՐՈՇՄԱՆ N 9.1 ՀԱՎԵԼՎԱԾԻ NN 9.1.7 ԵՎ 9.1.58 ԱՂՅՈՒՍԱԿՆԵՐՈՒՄ ԿԱՏԱՐՎՈՂ ՓՈՓՈԽՈՒԹՅՈՒՆՆԵՐԸ ԵՎ ԼՐԱՑՈՒՄՆԵՐԸ
E6: Աղյուսակ 9.1.7
B7: ՀՀ տարածքային կառավարման և ենթակառուցվածքների նախարարություն
B8: ՄԱՍ 1. ՊԵՏԱԿԱՆ ՄԱՐՄՆԻ ԳԾՈՎ ԱՐԴՅՈՒՆՔԱՅԻՆ (ԿԱՏԱՐՈՂԱԿԱՆ) ՑՈՒՑԱՆԻՇՆԵՐԸ
B10: Ծրագրի դասիչը | C10: Ծրագրի անվանումը
B11: 1212 | C11: Տարածքային զարգացում
B12: Ծրագրի միջոցառումները
B13: Ծրագրի դասիչը` | C13: 1212 | D13: Ցուցանիշների փոփոխությունը (ավելացումները նշված են դրական նշանով)
B14: Միջոցառման դասիչը` | C14: 12026 | D14: Առաջին եռամսյակ | E14: Առաջին կիսամյակ | F14: Ինն ամիս | G14: Տարի
B15: Միջոցառման անվանումը` | C15: Ազդակիր բնակավայրերի և համայնքների բյուջեներին հատկացվող համայնքային մասհանումներ
B16: Նկարագրությունը` | C16: Օրենսդրությամբ նախատեսված` հաշվետու տարում ռոյալթի վճարողի կողմից օրենքով սահմանված չափով և կարգով պետական բյուջե վճարված ռոյալթիի չափի երկու տոկոսից փոխհատուցումներ տեղական ինքնակառավարման մարմիններին
B17: Միջոցառման տեսակը | C17: Տրանսֆերտների տրամադրում
B18: Շահառուների ընտրության չափանիշները` | C18: ՀՀ բյուջետային համակարգի մասին օրենք
C19: Արդյունքի չափորոշիչներ
B20: Ազդակիր համայնքների քանակ, հատ | E20: 6 | G20: 6
B21: Միջոցառման վրա կատարվող ծախսը (հազար դրամ) | D21: =հ1!G30 -> 210243 | E21: =հ1!H30 -> 630728 | F21: =հ1!I30 -> 1051213.5 | G21: =հ1!J30 -> 1051213.5
G23: Աղյուսակ 9.1.58
A24: ՀՀ կառավարություն
A25: ՄԱՍ 1. ՊԵՏԱԿԱՆ ՄԱՐՄՆԻ ԳԾՈՎ ԱՐԴՅՈՒՆՔԱՅԻՆ (ԿԱՏԱՐՈՂԱԿԱՆ) ՑՈՒՑԱՆԻՇՆԵՐԸ
B27: Ծրագրի դասիչը | C27: Ծրագրի անվանումը
B28: 1212 | C28: Տարածքային զարգացում
B29: Ծրագրի միջոցառումները
B30: Ծրագրի դասիչը` | C30: 1212 | D30: Ցուցանիշների փոփոխությունը (նվազեցումները նշված են փակագծերում)
B31: Միջոցառման դասիչը` | C31: 12026 | D31: Առաջին եռամսյակ | E31: Առաջին կիսամյակ | F31: Ինն ամիս | G31: Տարի
B32: Միջոցառման անվանումը` | C32: Ազդակիր բնակավայրերի և համայնքների բյուջեներին հատկացվող համայնքային մասհանումներ
B33: Նկարագրությունը` | C33: Օրենսդրությամբ նախատեսված՛ հաշվետու տարում ռոյալթի վճարողի կողմից օրենքով սահմանված չափով և կարգով պետական բյուջե վճարված ռոյալթիի չափի երկու տոկոսից փոխհատուցումներ տեղական ինքնակառավարման մարմիններին
B34: Միջոցառման տեսակը | C34: Տրանսֆերտների տրամադրում
B35: Շահառուների ընտրության չափանիշները` | C35: ՀՀ բյուջետային համակարգի մասին օրենք
C36: Արդյունքի չափորոշիչներ
B37: Ազդակիր համայնքների քանակ, հատ | E37: -6 | G37: -6
B38: Միջոցառման վրա կատարվող ծախսը (հազար դրամ) | D38: =հ1!G23 -> -210243 | E38: =հ1!H23 -> -630728 | F38: =հ1!I23 -> -1051213.5 | G38: =հ1!J23 -> -1051213.5
A41: ՀԱՅԱՍՏԱՆԻ ՀԱՆՐԱՊԵՏՈՒԹՅԱՆ
A42: ՎԱՐՉԱՊԵՏԻ ԱՇԽԱՏԱԿԱԶՄԻ
B43: ՂԵԿԱՎԱՐ՝ Ա.ՀԱՐՈՒԹՅՈՒՆՅԱՆ
