Workbook
Name _tab10: #REF!
Name _tab11: #REF!
Name _tab12: #REF!
Name _tab13: #REF!
Name _tab14: #REF!
Name _tab15: #REF!
Name _tab16: #REF!
Name _tab17: #REF!
Name _tab18: #REF!
Name _tab19: #REF!
Name _tab20: #REF!
Name _tab21: #REF!
Name _tab22: #REF!
Name _tab23: #REF!
Name _tab24: #REF!
Name _tab5: #REF!
Name _tab6: #REF!
Name _tab7: #REF!
Name _tab8: #REF!
Name _tab9: #REF!
Name par_count: #REF!,#REF!,#REF!,#REF!,#REF!,#REF!,#REF!,#REF!,#REF!,#REF!,#REF!,#REF!,#REF!,#REF!,#REF!
Name par_qual: #REF!,#REF!,#REF!,#REF!,#REF!
Name par_time: #REF!,#REF!,#REF!,#REF!
Name par2.12s: #REF!
Name par2.4s: #REF!,#REF!,#REF!,#REF!,#REF!,#REF!,#REF!,#REF!,#REF!,#REF!,#REF!,#REF!,#REF!,#REF!,#REF!,#REF!
Name par2.5s: #REF!,#REF!
Name par2.6s: #REF!,#REF!,#REF!,#REF!
Name par2.7s: #REF!,#REF!
Name par2.9s: #REF!,#REF!,#REF!,#REF!,#REF!,#REF!,#REF!,#REF!,#REF!,#REF!,#REF!,#REF!,#REF!,#REF!,#REF!,#REF!
Name par4.10s: #REF!,#REF!
Name par4.11d: #REF!,#REF!,#REF!,#REF!,#REF!
Name par4.12d: #REF!
Name par4.13s: #REF!
Name par4.14: #REF!,#REF!,#REF!,#REF!,#REF!,#REF!
Name par4.15: #REF!,#REF!,#REF!
Name par4.16: #REF!,#REF!,#REF!
Name par4.17: #REF!,#REF!,#REF!,#REF!
Name par4.18d: #REF!,#REF!
Name par4.19s: #REF!
Name par4.20f: #REF!
Name par4.21f: #REF!
Name par4.22: #REF!
Name par4.4: #REF!
Name par4.5: #REF!
Name par4.6s: #REF!
Name par4.7s: #REF!
Name par4.8: #REF!,#REF!,#REF!,#REF!,#REF!
Name par4.9: #REF!,#REF!,#REF!,#REF!,#REF!,#REF!
Name par5.1: #REF!,#REF!
Name par5.3: #REF!,#REF!,#REF!,#REF!,#REF!,#REF!
Name par5.4: #REF!,#REF!,#REF!,#REF!,#REF!
Name par5.5: #REF!
Name par5.6: #REF!,#REF!
Name program: #REF!,#REF!,#REF!,#REF!,#REF!,#REF!,#REF!,#REF!,#REF!,#REF!,#REF!,#REF!,#REF!,#REF!,#REF!,#REF!,#REF!,#REF!,#REF!,#REF!

Sheet 1
G1: Հավելված № 1
G2: ՀՀ կառավարության 2024 թվականի
G3: -------------- ի № ---- -Ն որոշման
A5: «ՀԱՅԱՍՏԱՆԻ ՀԱՆՐԱՊԵՏՈՒԹՅԱՆ 2024 ԹՎԱԿԱՆԻ ՊԵՏԱԿԱՆ ԲՅՈՒՋԵԻ ՄԱՍԻՆ» ՕՐԵՆՔԻ N 1 ՀԱՎԵԼՎԱԾԻ N 7 ԱՂՅՈՒՍԱԿՈՒՄ ԵՎ ՀԱՅԱՍՏԱՆԻ ՀԱՆՐԱՊԵՏՈՒԹՅԱՆ ԿԱՌԱՎԱՐՈՒԹՅԱՆ 2023 ԹՎԱԿԱՆԻ ԴԵԿՏԵՄԲԵՐԻ 28-Ի N 2323-Ն ՈՐՈՇՄԱՆ N 5 ՀԱՎԵԼՎԱԾԻ N 6 ԱՂՅՈՒՍԱԿՈՒՄ ԿԱՏԱՐՎՈՂ ՓՈՓՈԽՈՒԹՅՈՒՆԸ ԵՎ ԼՐԱՑՈՒՄՆԵՐԸ
G6: հազար դրամ
A7: Ծրագրային դասիչը | C7: Բյուջետային հատկացումների գլխավոր կարգադրիչների, ծրագրերի, միջոցառումների և միջոցառումները կատարող պետական մարմինների անվանումները | D7: Ցուցանիշների փոփոխությունը (ավելացումները նշված են դրական նշանով, իսկ նվազեցումները` փակագծերում)
A8: Ծրագիր | B8: Միջոցառում | D8: Առաջին եռամսյակ | E8: Առաջին կիսամյակ | F8: Ինն ամիս | G8: Տարի
C9: ԸՆԴԱՄԵՆԸ | F9: =+F11 -> 0 | G9: =+G11 -> 0
C10: այդ թվում
C11: Կապիտալ սուբվենցիաներ համայնքներին | F11: =+F13 -> 0 | G11: =+G13 -> 0
C12: այդ թվում`
C13: ՀՀ տարածքային կառավարման և ենթակառուցվածքների նախարարություն | F13: =+F15 -> 0 | G13: =+G15 -> 0
C14: այդ թվում`
A15: 1212 | C15: Տարածքային զարգացում | F15: =+F17 -> 0 | G15: =+G17 -> 0
C16: այդ թվում`
B17: 12007 | C17: ՀՀ մարզերին սուբվենցիաների տրամադրում՝ ենթակառուցվածքների զարգացման նպատակով | F17: 0 | G17: 0
C18: այդ թվում` ըստ կատարողների
C19: ՀՀ կառավարություն | D19: =-(D20+D22+D32+D44+D52+D27+D34+D57) -> 0 | E19: =-(E20+E22+E32+E44+E52+E27+E34+E57) -> -1805919.8 | F19: =-(F20+F22+F32+F44+F52+F27+F34+F57) -> -1805919.8 | G19: =-(G20+G22+G32+G44+G52+G27+G34+G57) -> -1805919.8
C20: ՀՀ Արագածոտնի մարզպետի աշխատակազմ | D20: =SUM(D21) -> 0 | E20: =SUM(E21) -> 230918.6 | F20: =SUM(F21) -> 230918.6 | G20: =SUM(G21) -> 230918.6
C21: Ապարան համայնքի Ապարան, Արագած, Արայի, Ափնագյուղ, Եղիպատրուշ, Ծաղկաշեն, Լուսագյուղ, Կայք, Չքնաղ, Թթուջուր, Ձորագլուխ, Վարդենիս, Վարդենուտ, Մելիքգյուղ, Քուչակ, Հարթավան, Շենավան,Սարալանջ և Նիգավան բն․ ներհամայնքային ճանապարհների ասֆալտապատում /գյուղական բնակավայրեր/ | D21: =SUM(D22) -> 0 | E21: 230918.6 | F21: =E21 -> 230918.6 | G21: =F21 -> 230918.6
C22: ՀՀ Արարատի մարզպետի աշխատակազմ | D22: =SUM(D23) -> 0 | E22: =SUM(E24:E26) -> 170491.1 | F22: =SUM(F24:F26) -> 170491.1 | G22: =SUM(G24:G26) -> 170491.1
C23: այդ թվում` ըստ ուղղությունների
C24: Արտաշատ համայնքի Արտաշատ քաղաքի Երևանյան փողոց 5, Երևանյան փողոց 11, Երևանյան փողոց 13, Շահումյան փողոց 16, Շահումյան փողոց 36/ա, Իսակով փողոց 109/1, Արազի փողոց 3, Արազի փողոց 73, Դուրյան փողոց 10, Դուրյան փողոց 12, Մարքսի փողոց 6, Մարքսի փողոց 3 բազմաբնակարան շենքերի ընդհանուր բաժնային սեփականության գույքի նորոգում, այդ թվում էներգախնայող միջոցառումների կիրառում | D24: =SUM(D25) -> 0 | E24: 111522 | F24: 111522 | G24: 111522
C25: Արարատ համայնքի Նոյակերտ, Պարույր Սևակ, Արմաշ և Ավշար/1-ին փուլ բնակավայրերի ջրամատակարարում /Արմաշ/ | D25: =SUM(D26) -> 0 | E25: 12936.7 | F25: 12936.7 | G25: 12936.7
C26: Արարատ համայնքի Արարատ քաղաքի ՈԿՖ բանավանի և Պարույր Սևակ բնակավայրի ջրահեռացման համակարգի կառուցում / ՈԿՖ բանավան /2-րդ փուլ/ | D26: =SUM(D27) -> 0 | E26: 46032.4 | F26: 46032.4 | G26: 46032.4
C27: ՀՀ Արմավիրի մարզպետի աշխատակազմ | D27: =SUM(D28) -> 0 | E27: =SUM(E29:E31) -> 185204.6 | F27: =SUM(F29:F31) -> 185204.6 | G27: =SUM(G29:G31) -> 185204.6
C28: այդ թվում` ըստ ուղղությունների
C29: Մեծամոր համայնքի Ալաշկերտ, Ամասիա, Արգավանդ, Արևիկ, Բամբակաշատ, Գետաշեն, Հայկավան, Նալբանդյան, Նոր Արմավիր, Նոր Արտագերս, Նոր Կեսարիա, Շենավան, Ջանֆիդա, Ջրաշեն, Վարդանաշեն, Փշատավան, Տարոնիկ և Մրգաշատ բնակավայրերի խմելու ջրամատակարարման ցանցերի կառուցում/Նոր Կեսարիա բնակավայրի խմելու ջրամատակարարման ցանցի կառուցում/ | D29: =SUM(D30) -> 0 | E29: 3196.1 | F29: 3196.1 | G29: 3196.1
C30: Արմավիր համայնքի Արմավիր քաղաքի Շահումյան փողոցի Արարատյան-Ջիվանի և Չարենց-Բաղրամյան հատվածների ջրամատակարարման համակարգերի վերակառուցում, Հացիկ գյուղի ջրամատակարարման համակարգի վերակառուցում/Հացիկ գյուղի ջրամատակարարման համակարգի վերակառուցում/ , | D30: =SUM(D31) -> 0 | E30: 136510.3 | F30: 136510.3 | G30: 136510.3
C31: Բաղրամյան համայնքի Արգինա բնակավայրի Տիգրան Մեծ փողոցի և Աբովյան փողոցի ասֆալտապատում, Արտամետ բնակավայրի Գարեգին Նժդեհ փողոցի և Գարեգին Նժդեհ փողոցը Արաբոյի փողոցին կապող հատվածի և Արաբոյի փողոցի ասֆալտապատում, Բագարան բնակավայրի Գևորգ Մարզպետունի փողոցի ասֆալտապատում, Բաղրամյան բնակավայրի Սարի Թաղ փողոցի սկզբնամասի և Սարի Թաղ փողոցի վերջնամասի ասֆալտապատում, Դալարիկ բնակավայրի Մյասնիկյան փողոցի և դպրոցի բակի և Օրջոնիկիձե փողոցի ասֆալտապատում, Երվանդաշատ բնակավայրի Բերդակի փողոցի և Խաչին Տակ փողոցի ասֆալտապատում, Լեռնագոգ բնակավայրի 1-ին փողոցի և 12-րդ փողոցի ասֆալտապատում, Հուշակերտ բնակավայրի 2-րդ փողոցի և 5-րդ փողոցի ասֆալտապատում, Շենիկ բնակավայրի Մ.Մելքոնյան փողոցի վերևի հատվածի և Մ.Մելքոնյան փողոցի ներքևի հատվածի ասֆալտապատում, Վանանդ բնակավայրի Պ.Սևակ փողոցի, Պ. Սևակ փողոցի մի հատվածի և Հ.Քոչար փողոցի և Զ.Սահակյան փողոցի ասֆալտապատում, Տալվորիկ բնակավայրի Գևորգ Չավուշի փողոցի ասֆալտապատում,Քարակերտ բնակավայրի Երկաթուղայինների փողոցի, Բաբաջանյան փողոցի, գերեզմանատան ճանապարհի և Սարյան փողոցի ասֆալտապատում/Վանանդ բնակավայրի Պ․ Սևակ փողոցի մի հատվածի և Հ․ Քոչար փողոցի ասֆալտապատում , Արգինա բնակավայրի Աբովյան փողոցի ասֆալտապատում,Քարակերտ բնակավայրի Երկաթուղայինների փողոցի ասֆալտապատում | D31: =SUM(D32) -> 0 | E31: 45498.2 | F31: 45498.2 | G31: 45498.2
C32: ՀՀ Գեղարքունիքի մարզպետի աշխատակազմ | D32: =SUM(D33) -> 0 | E32: =SUM(E33:E33) -> 26783.3 | F32: =SUM(F33:F33) -> 26783.3 | G32: =SUM(G33:G33) -> 26783.3
C33: Ճամբարակ համայնքի «Թթուջուր բնակավայրի համայնքային կենտրոնի վերանորոգման, Անտառամեջ բնակավայրի համայնքային կենտրոնի վերանորոգման ու տարածքի բարեկարգման և Կալավան բնակավայրի վարչական շենքի վերանորոգման»/Թթուջուր/ | D33: 0 | E33: 26783.3 | F33: 26783.3 | G33: 26783.3
C34: ՀՀ Լոռու մարզպետի աշխատակազմ | D34: =SUM(D35) -> 0 | E34: =SUM(E36:E43) -> 441778.1 | F34: =SUM(F36:F43) -> 441778.1 | G34: =SUM(G36:G43) -> 441778.1
C35: այդ թվում` ըստ ուղղությունների | D35: =SUM(D36) -> 0
C36: Վանաձոր համայնքի Կ.Դեմիրճյան փ. թիվ 6, թիվ 8, թիվ 11, թիվ 19, Մոսկովյան փ. թիվ 14, Նժդեհի փ. թիվ 6, Տիգրան Մեծի պ. թիվ 77, Թումանյան փ. թիվ 6, Վարդանանց փ. թիվ 23, թիվ 49 շենքերի տանիքների ջերմամեկուսացման և հիմնանորոգման աշխատանքներ | D36: =SUM(D37) -> 0 | E36: 65665.4 | F36: 65665.4 | G36: 65665.4
C37: Վանաձոր համայնքի Գարեգին Նժդեհ փողոցի հիմնանորոգում | D37: =SUM(D38) -> 0 | E37: 133119.5 | F37: 133119.5 | G37: 133119.5
C38: Վանաձոր համայնքի Շահումյան բն․ 1,2,4,5,6,9 փողոցների հիմնանորոգում | D38: =SUM(D39) -> 0 | E38: 76276.3 | F38: 76276.3 | G38: 76276.3
C39: Վանաձոր համայնքի Հենրիկ Զաքարյան փողոցի հիմնանորոգում | D39: =SUM(D40) -> 0 | E39: 107012.5 | F39: 107012.5 | G39: 107012.5
C40: Վանաձոր համայնքի Վ․ Համբարձումյանի անվան հրապարակի հիմնանորոգում | D40: =SUM(D41) -> 0 | E40: 25598.6 | F40: 25598.6 | G40: 25598.6
C41: Սարչապետ համայնքի Սարչապետ բն․ հանդիսությունների սրահի տարածքի և Պրիվոլնոյե բն․ մանկապարտեզի տարածքի կառուցում, բարեկարգում /Պրիվոլնոյե/ | D41: =SUM(D42) -> 0 | E41: 5975.6 | F41: 5975.6 | G41: 5975.6
...

Sheet 2
J1: Հավելված № 2
J2: ՀՀ կառավարության 2024 թվականի
J3: -------------- ի № ---- -Ն որոշման
A5: ՀԱՅԱՍՏԱՆԻ ՀԱՆՐԱՊԵՏՈՒԹՅԱՆ ԿԱՌԱՎԱՐՈՒԹՅԱՆ 2023 ԹՎԱԿԱՆԻ ԴԵԿՏԵՄԲԵՐԻ 28-Ի № 2323-Ն ՈՐՈՇՄԱՆ №№ 3 և 4 ՀԱՎԵԼՎԱԾՆԵՐՈՒՄ ԿԱՏԱՐՎՈՂ ՓՈՓՈԽՈՒԹՅՈՒՆՆԵՐԸ ԵՎ ԼՐԱՑՈՒՄՆԵՐԸ
J6: հազար դրամ
A7: Գործառական դասիչը | D7: Ծրագրային դասիչը | F7: Բյուջետային հատկացումների գլխավոր կարգադրիչների, ծրագրերի, միջոցառումների և միջոցառումները կատարող պետական մարմինների անվանումները | G7: Ցուցանիշների փոփոխությունը (ավելացումները նշված են դրական նշանով, իսկ նվազեցումները` փակագծերում)
A8: բաժին | B8: խումբ | C8: դաս | D8: Ծրագիր | E8: Միջոցառում | G8: Առաջին եռամսյակ | H8: Առաջին կիսամյակ | I8: Ինն ամիս | J8: Տարի
A9: ԸՆԴԱՄԵՆԸ ԾԱԽՍԵՐ | I9: =+I10 -> 0 | J9: =+J10 -> 0
A10: 01 | F10: ԸՆԴՀԱՆՈՒՐ ԲՆՈՒՅԹԻ ՀԱՆՐԱՅԻՆ ԾԱՌԱՅՈՒԹՅՈՒՆՆԵՐ | I10: =+I12 -> 0 | J10: =+J12 -> 0
F11: այդ թվում՝
B12: 08 | F12: Կառավարության տարբեր մակարդակների միջև իրականացվող ընդհանուր բնույթի տրանսֆերտներ | I12: =+I14 -> 0 | J12: =+J14 -> 0
F13: այդ թվում՝
C14: 01 | F14: Կառավարության տարբեր մակարդակների միջև իրականացվող ընդհանուր բնույթի տրանսֆերտներ | I14: =+I16 -> 0 | J14: =+J16 -> 0
F15: այդ թվում՝
F16: ՀՀ տարածքային կառավարման և ենթակառուցվածքների նախարարություն | I16: =+I18 -> 0 | J16: =+J18 -> 0
F17: այդ թվում՝
D18: 1212 | F18: Տարածքային զարգացում | I18: =+I20 -> 0 | J18: =+J20 -> 0
F19: այդ թվում`
E20: 12007 | F20: ՀՀ մարզերին սուբվենցիաների տրամադրում՛ ենթակառուցվածքների զարգացման նպատակով_x000D_ | I20: 0 | J20: 0
F21: այդ թվում` ըստ կատարողների
F22: ՀՀ կառավարություն | G22: =+G24 -> 0 | H22: ='1'!E19 -> -1805919.8 | I22: ='1'!F19 -> -1805919.8 | J22: ='1'!G19 -> -1805919.8
F23: այդ թվում` բյուջետային ծախսերի տնտեսագիտական դասակարգման հոդվածներ
F24: ԸՆԴԱՄԵՆԸ ԾԱԽՍԵՐ | G24: =+G26 -> 0 | H24: =H25 -> -1805919.8 | I24: =I25 -> -1805919.8 | J24: =J25 -> -1805919.8
F25: ԸՆԹԱՑԻԿ ԾԱԽՍԵՐ | G25: =+G27 -> 0 | H25: =H26 -> -1805919.8 | I25: =I26 -> -1805919.8 | J25: =J26 -> -1805919.8
F26: ԴՐԱՄԱՇՆՈՐՀՆԵՐ | G26: =+G28 -> 0 | H26: =H27 -> -1805919.8 | I26: =I27 -> -1805919.8 | J26: =J27 -> -1805919.8
F27: Կապիտալ դրամաշնորհներ պետական հատվածի այլ մակարդակներին | G27: =+G29 -> 0 | H27: =H28 -> -1805919.8 | I27: =I28 -> -1805919.8 | J27: =J28 -> -1805919.8
F28: - Կապիտալ սուբվենցիաներ համայնքներին | G28: =+G30 -> 0 | H28: ='1'!E19 -> -1805919.8 | I28: ='1'!F19 -> -1805919.8 | J28: ='1'!G19 -> -1805919.8
F29: ՀՀ Արագածոտնի մարզպետի աշխատակազմ | G29: =+G31 -> 0 | H29: ='1'!E20 -> 230918.6 | I29: ='1'!F20 -> 230918.6 | J29: ='1'!G20 -> 230918.6
F30: այդ թվում` բյուջետային ծախսերի տնտեսագիտական դասակարգման հոդվածներ
F31: ԸՆԴԱՄԵՆԸ ԾԱԽՍԵՐ | G31: =+G33 -> 0 | H31: =H29 -> 230918.6 | I31: =I29 -> 230918.6 | J31: =J29 -> 230918.6
F32: ԸՆԹԱՑԻԿ ԾԱԽՍԵՐ | G32: =+G34 -> 0 | H32: =H31 -> 230918.6 | I32: =I31 -> 230918.6 | J32: =J31 -> 230918.6
F33: ԴՐԱՄԱՇՆՈՐՀՆԵՐ | G33: =+G35 -> 0 | H33: =H32 -> 230918.6 | I33: =I32 -> 230918.6 | J33: =J32 -> 230918.6
F34: Կապիտալ դրամաշնորհներ պետական հատվածի այլ մակարդակներին | G34: =+G36 -> 0 | H34: =H33 -> 230918.6 | I34: =I33 -> 230918.6 | J34: =J33 -> 230918.6
F35: - Կապիտալ սուբվենցիաներ համայնքներին | G35: =+G37 -> 0 | H35: =H34 -> 230918.6 | I35: =I34 -> 230918.6 | J35: =J34 -> 230918.6
F36: ՀՀ Արարատի մարզպետի աշխատակազմ | G36: =+G38 -> 0 | H36: ='1'!E22 -> 170491.1 | I36: ='1'!F22 -> 170491.1 | J36: ='1'!G22 -> 170491.1
F37: այդ թվում` բյուջետային ծախսերի տնտեսագիտական դասակարգման հոդվածներ
F38: ԸՆԴԱՄԵՆԸ ԾԱԽՍԵՐ | G38: =+G40 -> 0 | H38: =H36 -> 170491.1 | I38: =I36 -> 170491.1 | J38: =J36 -> 170491.1
F39: ԸՆԹԱՑԻԿ ԾԱԽՍԵՐ | G39: =+G41 -> 0 | H39: =H38 -> 170491.1 | I39: =I38 -> 170491.1 | J39: =J38 -> 170491.1
F40: ԴՐԱՄԱՇՆՈՐՀՆԵՐ | G40: =+G42 -> 0 | H40: =H39 -> 170491.1 | I40: =I39 -> 170491.1 | J40: =J39 -> 170491.1
F41: Կապիտալ դրամաշնորհներ պետական հատվածի այլ մակարդակներին | G41: =+G43 -> 0 | H41: =H40 -> 170491.1 | I41: =I40 -> 170491.1 | J41: =J40 -> 170491.1
...

Sheet 3
F1: Հավելված № 3
F2: ՀՀ կառավարության 2024 թվականի
F3: -------------- ի № ---- -Ն որոշման
A4: ՀԱՅԱՍՏԱՆԻ ՀԱՆՐԱՊԵՏՈՒԹՅԱՆ ԿԱՌԱՎԱՐՈՒԹՅԱՆ 2023 ԹՎԱԿԱՆԻ ԴԵԿՏԵՄԲԵՐԻ 28-Ի № 2323-Ն ՈՐՈՇՄԱՆ № 9 ՀԱՎԵԼՎԱԾԻ № 9.7 ԱՂՅՈՒՍԱԿՈՒՄ ԿԱՏԱՐՎՈՂ ԼՐԱՑՈՒՄԸ
A6: ՀՀ տարածքային կառավարման և ենթակառուցվածքների նախարարություն
A7: ՄԱՍ 2. ՊԵՏԱԿԱՆ ՄԱՐՄՆԻ ԳԾՈՎ ԱՐԴՅՈՒՆՔԱՅԻՆ (ԿԱՏԱՐՈՂԱԿԱՆ) ՑՈՒՑԱՆԻՇՆԵՐԸ
A9: Ծրագրի դասիչը | B9: Ծրագրի անվանումը
A10: 1212 | B10: Տարածքային զարգացում
A11: Ծրագրի միջոցառումները
A12: Ծրագրի դասիչը` | B12: 1212 | C12: Ցուցանիշների փոփոխությունը (ավելացումները նշված են դրական նշանով)
A13: Միջոցառման դասիչը` | B13: 12007 | C13: Առաջին եռամսյակ | D13: Առաջին կիսամյակ | E13: Ինն ամիս | F13: Տարի
A14: Միջոցառման անվանումը` | B14: ՀՀ մարզերին սուբվենցիաների տրամադրում` ենթակառուցվածքների զարգացման նպատակով_x000D_
A15: Նկարագրությունը` | B15: ՀՀ մարզերին սուբվենցիաների տրամադրում` ենթակառուցվածքների զարգացման նպատակով
A16: Միջոցառման տեսակը` | B16: Տրանսֆերտների տրամադրում
A17: Շահառուների ընտրության չափանիշները | B17: ՀՀ կառավարության 16. 11.2006 թվականի ,ՀՀ պետական բյուջեից համայնքներին սուբվենցիաների տրամադրման կարգը հաստատելու մասինե 1708-Ն որոշում
A18: Արդյունքի չափորոշիչներ
A19: ՀՀ համայնքների թիվ, հատ | C19: 0 | D19: ='4'!D169+'4'!D148+'4'!D106+'4'!D85+'4'!D64+'4'!D43+'4'!D23 -> 10 | E19: 0 | F19: ='4'!F169+'4'!F148+'4'!F106+'4'!F85+'4'!F64+'4'!F43+'4'!F23 -> 10
A20: Ծրագրերի քանակ, հատ | C20: 0 | D20: ='4'!D24+'4'!D44+'4'!D65+'4'!D86+'4'!D107+'4'!D128+'4'!D149+'4'!D170 -> 27 | E20: 0 | F20: ='4'!F24+'4'!F44+'4'!F65+'4'!F86+'4'!F107+'4'!F128+'4'!F149+'4'!F170 -> 27
A21: Միջոցառման վրա կատարվող ծախսը (հազար դրամ) | C21: 0 | D21: 0 | E21: 0 | F21: 0

Sheet 4
F1: Հավելված № 4
F2: ՀՀ կառավարության 2024 թվականի
F3: -------------- ի № ---- -Ն որոշման
A6: ՀԱՅԱՍՏԱՆԻ ՀԱՆՐԱՊԵՏՈՒԹՅԱՆ ԿԱՌԱՎԱՐՈՒԹՅԱՆ 2024 ԹՎԱԿԱՆԻ ԴԵԿՏԵՄԲԵՐԻ 28-Ի № 2323-Ն ՈՐՈՇՄԱՆ № 9.1 ՀԱՎԵԼՎԱԾԻ № 9.1.48, 9.1.49, 9.1.50, 9.1.51, 9.1.52, 9.1.54, 9.1.56, 9.1.57 ԵՎ 9.1.58 ԱՂՅՈՒՍԱԿՆԵՐՈՒՄ ԿԱՏԱՐՎՈՂ ՓՈՓՈԽՈՒԹՅՈՒՆԸ ԵՎ ԼՐԱՑՈՒՄՆԵՐԸ
F7: Աղյուսակ 9.1.48
A8: ՀՀ Արագածոտնի մարզպետի աշխատակազմ
A9: ՄԱՍ 1. ՊԵՏԱԿԱՆ ՄԱՐՄՆԻ ԳԾՈՎ ԱՐԴՅՈՒՆՔԱՅԻՆ (ԿԱՏԱՐՈՂԱԿԱՆ) ՑՈՒՑԱՆԻՇՆԵՐԸ
A11: Ծրագրի դասիչը | B11: Ծրագրի անվանումը
A12: 1212 | B12: Տարածքային զարգացում
A14: Ծրագրի միջոցառումները
A16: Ծրագրի դասիչը` | B16: 1212 | C16: Ցուցանիշների փոփոխությունը (ավելացումները նշված են դրական նշանով)
A17: Միջոցառման դասիչը` | B17: 12007 | C17: Առաջին եռամսյակ | D17: Առաջին կիսամյակ | E17: Ինն ամիս | F17: Տարի
A18: Միջոցառման անվանումը` | B18: ՀՀ մարզերին սուբվենցիաների տրամադրում` ենթակառուցվածքների զարգացման նպատակով_x000D_
A19: Նկարագրությունը` | B19: ՀՀ մարզերին սուբվենցիաների տրամադրում` ենթակառուցվածքների զարգացման նպատակով
A20: Միջոցառման տեսակը` | B20: Տրանսֆերտների տրամադրում
A21: Շահառուների ընտրության չափանիշները | B21: ՀՀ կառավարության 16. 11.2006 թվականի ,ՀՀ պետական բյուջեից համայնքներին սուբվենցիաների տրամադրման կարգը հաստատելու մասինե 1708-Ն որոշում
A22: Արդյունքի չափորոշիչներ
A23: ՀՀ համայնքների թիվ, հատ | C23: - | D23: 1 | E23: - | F23: 1
A24: Ծրագրերի քանակ, հատ | C24: - | D24: 1 | E24: - | F24: 1
A25: Միջոցառման վրա կատարվող ծախսը (հազար դրամ) | C25: - | D25: ='2'!H29 -> 230918.6 | E25: ='2'!I29 -> 230918.6 | F25: ='2'!J29 -> 230918.6
F27: Աղյուսակ 9.1.49
A28: ՀՀ Արարատի մարզպետի աշխատակազմ
A30: ՄԱՍ 1. ՊԵՏԱԿԱՆ ՄԱՐՄՆԻ ԳԾՈՎ ԱՐԴՅՈՒՆՔԱՅԻՆ (ԿԱՏԱՐՈՂԱԿԱՆ) ՑՈՒՑԱՆԻՇՆԵՐԸ
A32: Ծրագրի դասիչը | B32: Ծրագրի անվանումը
A33: 1212 | B33: Տարածքային զարգացում
A35: Ծրագրի միջոցառումները
A36: Ծրագրի դասիչը` | B36: 1212 | C36: Ցուցանիշների փոփոխությունը (ավելացումները նշված են դրական նշանով)
A37: Միջոցառման դասիչը` | B37: 12007 | C37: Առաջին եռամսյակ | D37: Առաջին կիսամյակ | E37: Ինն ամիս | F37: Տարի
A38: Միջոցառման անվանումը` | B38: ՀՀ մարզերին սուբվենցիաների տրամադրում` ենթակառուցվածքների զարգացման նպատակով_x000D_
A39: Նկարագրությունը` | B39: ՀՀ մարզերին սուբվենցիաների տրամադրում` ենթակառուցվածքների զարգացման նպատակով
A40: Միջոցառման տեսակը` | B40: Տրանսֆերտների տրամադրում
A41: Շահառուների ընտրության չափանիշները | B41: ՀՀ կառավարության 16. 11.2006 թվականի ,ՀՀ պետական բյուջեից համայնքներին սուբվենցիաների տրամադրման կարգը հաստատելու մասինե 1708-Ն որոշում
A42: Արդյունքի չափորոշիչներ
A43: ՀՀ համայնքների թիվ, հատ | C43: - | D43: 1 | E43: - | F43: 1
A44: Ծրագրերի քանակ, հատ | C44: - | D44: 3 | E44: - | F44: 3
A45: Միջոցառման վրա կատարվող ծախսը (հազար դրամ) | C45: - | D45: ='2'!H36 -> 170491.1 | E45: ='2'!I36 -> 170491.1 | F45: ='2'!J36 -> 170491.1
F47: Աղյուսակ 9.1.50
A48: ՀՀ Արմավիրի մարզպետի աշխատակազմ
A50: ՄԱՍ 1. ՊԵՏԱԿԱՆ ՄԱՐՄՆԻ ԳԾՈՎ ԱՐԴՅՈՒՆՔԱՅԻՆ (ԿԱՏԱՐՈՂԱԿԱՆ) ՑՈՒՑԱՆԻՇՆԵՐԸ
A52: Ծրագրի դասիչը | B52: Ծրագրի անվանումը
...
