Workbook
Name _tab10: #REF!
Name _tab10: #REF!
Name _tab10: #REF!
Name _tab11: #REF!
Name _tab11: #REF!
Name _tab11: #REF!
Name _tab12: #REF!
Name _tab12: #REF!
Name _tab12: #REF!
Name _tab13: #REF!
Name _tab13: #REF!
Name _tab13: #REF!
Name _tab14: #REF!
Name _tab14: #REF!
Name _tab14: #REF!
Name _tab15: #REF!
Name _tab15: #REF!
Name _tab15: #REF!
Name _tab16: #REF!
Name _tab16: #REF!
Name _tab16: #REF!
Name _tab17: #REF!
Name _tab17: #REF!
Name _tab17: #REF!
Name _tab18: #REF!
Name _tab18: #REF!
Name _tab18: #REF!
Name _tab19: #REF!
Name _tab19: #REF!
Name _tab19: #REF!
Name _tab20: #REF!
Name _tab20: #REF!
Name _tab20: #REF!
Name _tab21: #REF!
Name _tab21: #REF!
Name _tab21: #REF!
Name _tab22: #REF!
Name _tab22: #REF!
Name _tab22: #REF!
Name _tab23: #REF!
Name _tab23: #REF!
Name _tab23: #REF!
Name _tab24: #REF!
Name _tab24: #REF!
Name _tab24: #REF!
Name _tab5: #REF!
Name _tab5: #REF!
Name _tab5: #REF!
Name _tab6: #REF!
Name _tab6: #REF!
Name _tab6: #REF!
Name _tab7: #REF!
Name _tab7: #REF!
Name _tab7: #REF!
Name _tab8: #REF!
Name _tab8: #REF!
Name _tab8: #REF!
Name _tab9: #REF!
Name _tab9: #REF!
Name _tab9: #REF!

Sheet 1
G1: Հավելված N 1
C2: ՀՀ կառավարության 2024 թվականի
C3: -----------------ի N -----------Ն որոշման
A6: ՀԱՅԱՍՏԱՆԻ ՀԱՆՐԱՊԵՏՈՒԹՅԱՆ 2024 ԹՎԱԿԱՆԻ ՊԵՏԱԿԱՆ ԲՅՈՒՋԵԻ ՄԱՍԻՆ» ՕՐԵՆՔԻ N 1 ՀԱՎԵԼՎԱԾԻ N 2 ԱՂՅՈՒՍԱԿՈՒՄ ԿԱՏԱՐՎՈՂ ՎԵՐԱԲԱՇԽՈՒՄԸ ԵՎ ՀԱՅԱՍՏԱՆԻ ՀԱՆՐԱՊԵՏՈՒԹՅԱՆ ԿԱՌԱՎԱՐՈՒԹՅԱՆ 2023 ԹՎԱԿԱՆԻ ԴԵԿՏԵՄԲԵՐԻ 28-Ի N 2323-Ն ՈՐՈՇՄԱՆ N 5 ՀԱՎԵԼՎԱԾԻ N 1 ԱՂՅՈՒՍԱԿՈՒՄ ԿԱՏԱՐՎՈՂ ՓՈՓՈԽՈՒԹՅՈՒՆՆԵՐԸ ԵՎ ԼՐԱՑՈՒՄՆԵՐԸ
G7: (հազար դրամ)
A8: Ծրագրային դասիչը | C8: Բյուջետային հատկացումների գլխավոր կարգադրիչների, ծրագրերի և միջոցառումների անվանումները | D8: Ցուցանիշների փոփոխությունները ավելացումները նշված են դրական նշանով, իսկ նվազեցումները՝ փակագծերում
A9: Ծրագիր | B9: Միջոցառում | D9: Առաջին եռամսյակ | E9: Առաջին կիսամյակ | F9: Ինն ամիս | G9: Տարի
C10: ԸՆԴԱՄԵՆԸ | D10: =D11+D25 -> 0 | E10: =E11+E25 -> 0 | F10: =F11+F25 -> 0 | G10: =G11+G25 -> 0
C11: ՀՀ կառավարություն | D11: =D12 -> -120000 | E11: =E12 -> -120000 | F11: =F12 -> -120000 | G11: =G12 -> -120000
A12: 1139 | C12: Ծրագրի անվանումը` | D12: =D19 -> -120000 | E12: =E19 -> -120000 | F12: =F19 -> -120000 | G12: =G19 -> -120000
C13: ՀՀ կառավարության պահուստային ֆոնդ
C14: Ծրագրի նպատակը`
C15: Պետական բյուջեում չկանխատեսված, ինչպես նաեւ բյուջետային երաշխիքների ապահովման ծախսերի ֆինանսավորման ապահովում
C16: Վերջնական արդյունքի նկարագրությունը`
C17: Պահուստային ֆոնդի կառավարման արդյունավետության և թափանցիկության ապահովում
A18: Ծրագրի միջոցառումներ
B19: 11001 | C19: Միջոցառման անվանումը` | D19: =-120000 -> -120000 | E19: =-120000 -> -120000 | F19: =-120000 -> -120000 | G19: =-120000 -> -120000
C20: ՀՀ կառավարության պահուստային ֆոնդ
C21: Միջոցառման նկարագրությունը`
C22: ՀՀ պետական բյուջեում նախատեսված ելքերի լրացուցիչ ֆինանսավորման, պետական բյուջեում չկանխատեսված ելքերի, ինչպես նաև բյուջետային երաշխիքների ապահովման ելքերի ֆինանսավորման ապահովում
C23: Միջոցառման տեսակը
C24: Ծառայությունների մատուցում
C25: ՀՀ աշխատանքի և սոցիալական հարցերի նախարարություն | D25: =D26 -> 120000 | E25: =E26 -> 120000 | F25: =F26 -> 120000 | G25: =G26 -> 120000
A26: 1225 | C26: Ծրագրի անվանումը` | D26: =D33 -> 120000 | E26: =E33 -> 120000 | F26: =F33 -> 120000 | G26: =G33 -> 120000
C27: Ճգնաժամերի հակազդման և արտակարգ իրավիճակների հետևանքների նվազեցման և վերացման նպատակով՛ առանձին սոցիալական խմբերին տրվող սոցիալական աջակցություն
C28: Ծրագրի նպատակը`
C29: Օժանդակել ճգնաժամերի հակազդման և արտակարգ իրավիճակների հետևանքով ընտանիքների առջև ծառացած սոցիալական խնդիրների բացասական հետևանքների մեղմմանը
C30: Վերջնական արդյունքի նկարագրությունը`
C31: Ճգնաժամերի հակազդման և արտակարգ իրավիճակների առաջացրած սոցիալական խնդիրների բացասական հետևանքները մեղմելու նպատակով ընտանիքներին դրամական աջակցության տրամադրում
A32: Ծրագրի միջոցառումներ
B33: 12017 | C33: Միջոցառման անվանումը` | D33: =1200*100 -> 120000 | E33: 120000 | F33: 120000 | G33: 120000
C34: Լեռնային Ղարաբաղից բռնի տեղահանվածներին միանվագ դրամական աջակցության տրամադրում
C35: Միջոցառման նկարագրությունը`
C36: 2023 թվականի սեպտեմբերի 19-ից Ադրբեջանի կողմից Լեռնային Ղարաբաղի դեմ սանձազերծված ռազմական գործողությունների հետևանքով բռնի տեղահանվածներին միանվագ դրամական սոցիալական աջակցության միջոցառման շրջանակներում շահառուներին սոցիալական աջակցության տրամադրում
C37: Միջոցառման տեսակը
C38: Տրանսֆերտների տրամադրում

Sheet 2
J1: Հավելված N 2
F2: ՀՀ կառավարության 2024 թվականի
F3: -----------------ի N -----------Ն որոշման
A5: ՀԱՅԱՍՏԱՆԻ ՀԱՆՐԱՊԵՏՈՒԹՅԱՆ ԿԱՌԱՎԱՐՈՒԹՅԱՆ 2023 ԹՎԱԿԱՆԻ ԴԵԿՏԵՄԲԵՐԻ 28-Ի N 2323-Ն ՈՐՈՇՄԱՆ N N 3 ԵՎ 4 ՀԱՎԵԼՎԱԾՆԵՐՈՒՄ ԿԱՏԱՐՎՈՂ ՓՈՓՈԽՈՒԹՅՈՒՆՆԵՐԸ ԵՎ ԼՐԱՑՈՒՄՆԵՐԸ
J6: հազար դրամ
A7: Գործառական դասիչը | D7: Ծրագրային դասիչը | F7: Բյուջետային ծախսերի գործառական դասակարգման բաժինների, խմբերի և դասերի, բյուջետային ծրագրերի միջոցառումների, բյուջետային հատկացումների գլխավոր կարգադրիչների անվանումները | G7: ='1'!D8 -> Ցուցանիշների փոփոխությունները ավելացումները նշված են դրական նշանով, իսկ նվազեցումները՝ փակագծերում
A8: Բաժինը | B8: Խումբը | C8: Դասը | D8: Ծրագիր | E8: Միջոցառում | G8: Առաջին եռամսյակ | H8: Առաջին կիսամյակ | I8: Ինն ամիս | J8: Տարի
F9: ԸՆԴԱՄԵՆԸ ԾԱԽՍԵՐ | G9: =G11+G29 -> 0 | H9: =H11+H29 -> 0 | I9: =I11+I29 -> 0 | J9: =J11+J29 -> 0
F10: այդ թվում`
A11: 11 | F11: ՀԻՄՆԱԿԱՆ ԲԱԺԻՆՆԵՐԻՆ ՉԴԱՍՎՈՂ ՊԱՀՈՒՍՏԱՅԻՆ ՖՈՆԴԵՐ | G11: =G13 -> -120000 | H11: =H13 -> -120000 | I11: =I13 -> -120000 | J11: =J13 -> -120000
F12: այդ թվում՝
B13: 01 | F13: ՀՀ կառավարության և համայնքների պահուստային ֆոնդ | G13: =G15 -> -120000 | H13: =H15 -> -120000 | I13: =I15 -> -120000 | J13: =J15 -> -120000
F14: այդ թվում՝
C15: 01 | F15: ՀՀ կառավարության պահուստային ֆոնդ | G15: =G17 -> -120000 | H15: =H17 -> -120000 | I15: =I17 -> -120000 | J15: =J17 -> -120000
F16: այդ թվում՝
F17: ՀՀ կառավարություն | G17: =G19 -> -120000 | H17: =H19 -> -120000 | I17: =I19 -> -120000 | J17: =J19 -> -120000
F18: այդ թվում՝
D19: 1139 | F19: ՀՀ կառավարության պահուստային ֆոնդ | G19: =G21 -> -120000 | H19: =H21 -> -120000 | I19: =I21 -> -120000 | J19: =J21 -> -120000
F20: այդ թվում՝
E21: 11001 | F21: ՀՀ կառավարության պահուստային ֆոնդ | G21: =G23 -> -120000 | H21: =H23 -> -120000 | I21: =I23 -> -120000 | J21: =J23 -> -120000
F22: այդ թվում՝ ըստ կատարողների
F23: ՀՀ կառավարություն | G23: =G25 -> -120000 | H23: =H25 -> -120000 | I23: =I25 -> -120000 | J23: =J25 -> -120000
F24: այդ թվում՝ բյուջետային ծախսերի տնտեսագիտական դասակարգման հոդվածներ
F25: ԸՆԴԱՄԵՆԸ ԾԱԽՍԵՐ | G25: =G26 -> -120000 | H25: =H26 -> -120000 | I25: =I26 -> -120000 | J25: =J26 -> -120000
F26: ԸՆԹԱՑԻԿ ԾԱԽՍԵՐ | G26: =G27 -> -120000 | H26: =H27 -> -120000 | I26: =I27 -> -120000 | J26: =J27 -> -120000
F27: ԱՅԼ ԾԱԽՍԵՐ | G27: =G28 -> -120000 | H27: =H28 -> -120000 | I27: =I28 -> -120000 | J27: =J28 -> -120000
F28: - Պահուստային միջոցներ | G28: ='1'!D19 -> -120000 | H28: ='1'!E19 -> -120000 | I28: ='1'!F19 -> -120000 | J28: ='1'!G19 -> -120000
A29: 10 | F29: ՍՈՑԻԱԼԱԿԱՆ ՊԱՇՏՊԱՆՈՒԹՅՈՒՆ | G29: =G31+G50 -> 120000 | H29: =H31+H50 -> 120000 | I29: =I31+I50 -> 120000 | J29: =J31+J50 -> 120000
F30: այդ թվում`
B31: 09 | F31: Սոցիալական պաշտպանություն (այլ դասերին չպատկանող) | G31: =G33 -> 120000 | H31: =H33 -> 120000 | I31: =I33 -> 120000 | J31: =J33 -> 120000
F32: այդ թվում՝
C33: 02 | F33: Սոցիալական պաշտպանությանը տրամադրվող օժանդակ ծառայություններ (այլ դասերին չպատկանող) | G33: =G35 -> 120000 | H33: =H35 -> 120000 | I33: =I35 -> 120000 | J33: =J35 -> 120000
F34: այդ թվում`
F35: ՀՀ աշխատանքի և սոցիալական հարցերի նախարարություն | G35: =G37 -> 120000 | H35: =H37 -> 120000 | I35: =I37 -> 120000 | J35: =J37 -> 120000
F36: այդ թվում`
D37: 1225 | F37: ='1'!C27 -> Ճգնաժամերի հակազդման և արտակարգ իրավիճակների հետևանքների նվազեցման և վերացման նպատակով՛ առանձին սոցիալական խմբերին տրվող սոցիալական աջակցություն | G37: =G39 -> 120000 | H37: =H39 -> 120000 | I37: =I39 -> 120000 | J37: =J39 -> 120000
F38: այդ թվում`
E39: ='[1]1'!B19 -> 12017 | F39: ='[1]1'!C20 -> Լեռնային Ղարաբաղից բռնի տեղահանվածներին միանվագ դրամական աջակցության տրամադրում | G39: =G41 -> 120000 | H39: =H41 -> 120000 | I39: =I41 -> 120000 | J39: =J41 -> 120000
F40: այդ թվում` ըստ կատարողների
F41: ՀՀ աշխատանքի և սոցիալական հարցերի նախարարության միասնական սոցիալական ծառայություն | G41: =G43 -> 120000 | H41: =H43 -> 120000 | I41: =I43 -> 120000 | J41: =J43 -> 120000
F42: այդ թվում` բյուջետային ծախսերի տնտեսագիտական դասակարգման հոդվածներ
F43: ԸՆԴԱՄԵՆԸ ԾԱԽՍԵՐ | G43: =G44 -> 120000 | H43: =H44 -> 120000 | I43: =I44 -> 120000 | J43: =J44 -> 120000
F44: ԸՆԹԱՑԻԿ ԾԱԽՍԵՐ | G44: =G45 -> 120000 | H44: =H45 -> 120000 | I44: =I45 -> 120000 | J44: =J45 -> 120000
F45: ՍՈՑԻԱԼԱԿԱՆ ՆՊԱՍՏՆԵՐ ԵՎ ԿԵՆՍԱԹՈՇԱԿՆԵՐ | G45: =G46 -> 120000 | H45: =H46 -> 120000 | I45: =I46 -> 120000 | J45: =J46 -> 120000
F46: Սոցիալական օգնության դրամական արտահայտությամբ նպաստներ (բյուջեից) | G46: =G47 -> 120000 | H46: =H47 -> 120000 | I46: =I47 -> 120000 | J46: =J47 -> 120000
F47: - Այլ նպաստներ բյուջեից | G47: ='1'!D33 -> 120000 | H47: ='1'!E33 -> 120000 | I47: ='1'!F33 -> 120000 | J47: ='1'!G33 -> 120000

Sheet 3
F1: Հավելված N 3
B2: ՀՀ կառավարության 2024 թվականի
B3: -----------------ի N -----------Ն որոշման
A6: ՀԱՅԱՍՏԱՆԻ ՀԱՆՐԱՊԵՏՈՒԹՅԱՆ ԿԱՌԱՎԱՐՈՒԹՅԱՆ 2023 ԹՎԱԿԱՆԻ ԴԵԿՏԵՄԲԵՐԻ 28-Ի N 2323-Ն ՈՐՈՇՄԱՆ N 9 ՀԱՎԵԼՎԱԾԻ N 9.15 ԵՎ N 9.48 ԱՂՅՈՒՍԱԿՆԵՐՈՒՄ ԿԱՏԱՐՎՈՂ ՓՈՓՈԽՈՒԹՅՈՒՆՆԵՐԸ ԵՎ ԼՐԱՑՈՒՄՆԵՐԸ
A8: ՄԱՍ 2. ՊԵՏԱԿԱՆ ՄԱՐՄՆԻ ԳԾՈՎ ԱՐԴՅՈՒՆՔԱՅԻՆ (ԿԱՏԱՐՈՂԱԿԱՆ) ՑՈՒՑԱՆԻՇՆԵՐԸ
A10: Հայաստանի Հանրապետության աշխատանքի և սոցիալական հարցերի նախարարություն
A11: Ծրագրի դասիչը | B11: Ծրագրի անվանումը
A12: 1225 | B12: ='1'!C27 -> Ճգնաժամերի հակազդման և արտակարգ իրավիճակների հետևանքների նվազեցման և վերացման նպատակով՛ առանձին սոցիալական խմբերին տրվող սոցիալական աջակցություն
A13: Ծրագրի միջոցառումներ
A15: Ծրագրի դասիչը` | B15: ='1'!A26 -> 1225 | C15: Ցուցանիշների փոփոխությունները ավելացումները նշված են դրական նշանով
A16: Միջոցառման դասիչը` | B16: ='1'!B33 -> 12017 | C16: Առաջին եռամսյակ | D16: Առաջին կիսամյակ | E16: Ինն ամիս | F16: Տարի
A17: Միջոցառման անվանումը` | B17: ='1'!C34 -> Լեռնային Ղարաբաղից բռնի տեղահանվածներին միանվագ դրամական աջակցության տրամադրում
A18: Նկարագրությունը` | B18: ='1'!C36 -> 2023 թվականի սեպտեմբերի 19-ից Ադրբեջանի կողմից Լեռնային Ղարաբաղի դեմ սանձազերծված ռազմական գործողությունների հետևանքով բռնի տեղահանվածներին միանվագ դրամական սոցիալական աջակցության միջոցառման շրջանակներում շահառուներին սոցիալական աջակցության տրամադրում
A19: Միջոցառման տեսակը` | B19: Տրանսֆերտների տրամադրում
A20: Շահառուների ընտրության չափանիշները | B20: ՀՀ կառավարության 2023 թ․ հոկտեմբերի 3-ի N 1675-Լ որոշման պահանջներին համապատասխան
A21: Արդյունքի չափորոշիչներ
A22: Շահառուների թիվը (անձ) | D22: 1200 | F22: 1200
A23: Միջոցառման վրա կատարվող ծախսը (հազար դրամ) | C23: ='1'!D33 -> 120000 | D23: ='1'!E33 -> 120000 | E23: ='1'!F33 -> 120000 | F23: ='1'!G33 -> 120000
A25: ՀՀ Կառավարություն
A27: Ծրագրի դասիչը | B27: Ծրագրի անվանումը
A28: 1139 | B28: ՀՀ կառավարության պահուստային ֆոնդ
A29: Ծրագրի միջոցառումները
A31: Ծրագրի դասիչը` | B31: 1139 | C31: Ցուցանիշների փոփոխությունները նվազեցումները նշված են փակագծերում
A32: Միջոցառման դասիչը` | B32: 11001 | C32: Առաջին եռամսյակ | D32: Առաջին կիսամյակ | E32: Ինն ամիս | F32: Տարի
A33: Միջոցառման անվանումը` | B33: ՀՀ կառավարության պահուստային ֆոնդ
A34: Նկարագրությունը` | B34: ՀՀ պետական բյուջեում նախատեսված ելքերի լրացուցիչ ֆինանսավորման, պետական բյուջեում չկանխատեսված ելքերի, ինչպես նաև բյուջետային երաշխիքների ապահովման ելքերի ֆինանսավորման ապահովում
A35: Միջոցառման տեսակը` | B35: Ծառայությունների մատուցում
A36: Միջոցառումն իրականացնողի անվանումը | B36: ՀՀ կառավարություն
A37: Արդյունքի չափորոշիչներ
A38: Միջոցառման վրա կատարվող ծախսը (հազար դրամ) | C38: ='1'!D19 -> -120000 | D38: ='1'!E19 -> -120000 | E38: ='1'!F19 -> -120000 | F38: ='1'!G19 -> -120000

Sheet 4
F1: Հավելված N 4
B2: ՀՀ կառավարության 2024 թվականի
B3: -----------------ի N -----------Ն որոշման
A5: ՀԱՅԱՍՏԱՆԻ ՀԱՆՐԱՊԵՏՈՒԹՅԱՆ ԿԱՌԱՎԱՐՈՒԹՅԱՆ 2023 ԹՎԱԿԱՆԻ ԴԵԿՏԵՄԲԵՐԻ 28-Ի N 2323-Ն ՈՐՈՇՄԱՆ N 9.1 ՀԱՎԵԼՎԱԾԻ N 9.1.19 ԵՎ N 9.1.58 ԱՂՅՈՒՍԱԿՆԵՐՈՒՄԿԱՏԱՐՎՈՂ ՓՈՓՈԽՈՒԹՅՈՒՆՆԵՐԸ ԵՎ ԼՐԱՑՈՒՄՆԵՐԸ
A7: ՄԱՍ 1. ՊԵՏԱԿԱՆ ՄԱՐՄՆԻ ԳԾՈՎ ԱՐԴՅՈՒՆՔԱՅԻՆ (ԿԱՏԱՐՈՂԱԿԱՆ) ՑՈՒՑԱՆԻՇՆԵՐԸ
A9: ՀՀ աշխատանքի և սոցիալական հարցերի նախարարության միասնական սոցիալական ծառայություն
A12: Ծրագրի դասիչը | B12: Ծրագրի անվանումը
A13: 1225 | B13: ='1'!C27 -> Ճգնաժամերի հակազդման և արտակարգ իրավիճակների հետևանքների նվազեցման և վերացման նպատակով՛ առանձին սոցիալական խմբերին տրվող սոցիալական աջակցություն
A14: Ծրագրի միջոցառումներ
A16: Ծրագրի դասիչը` | B16: ='3'!B15 -> 1225 | C16: Ցուցանիշների փոփոխությունները ավելացումները նշված են դրական նշանով
A17: Միջոցառման դասիչը` | B17: ='3'!B16 -> 12017 | C17: Առաջին եռամսյակ | D17: Առաջին կիսամյակ | E17: Ինն ամիս | F17: Տարի
A18: Միջոցառման անվանումը` | B18: ='3'!B17 -> Լեռնային Ղարաբաղից բռնի տեղահանվածներին միանվագ դրամական աջակցության տրամադրում
A19: Նկարագրությունը` | B19: ='3'!B18 -> 2023 թվականի սեպտեմբերի 19-ից Ադրբեջանի կողմից Լեռնային Ղարաբաղի դեմ սանձազերծված ռազմական գործողությունների հետևանքով բռնի տեղահանվածներին միանվագ դրամական սոցիալական աջակցության միջոցառման շրջանակներում շահառուներին սոցիալական աջակցության տրամադրում
A20: Միջոցառման տեսակը` | B20: ='3'!B19 -> Տրանսֆերտների տրամադրում
A21: Շահառուների ընտրության չափանիշները | B21: ='3'!B20 -> ՀՀ կառավարության 2023 թ․ հոկտեմբերի 3-ի N 1675-Լ որոշման պահանջներին համապատասխան
A22: Արդյունքի չափորոշիչներ
A23: ='3'!A22:B22 -> Շահառուների թիվը (անձ) | D23: ='3'!D22 -> 1200 | F23: ='3'!F22 -> 1200
A24: Միջոցառման վրա կատարվող ծախսը (հազար դրամ) | C24: ='3'!C23 -> 120000 | D24: ='3'!D23 -> 120000 | E24: ='3'!E23 -> 120000 | F24: ='3'!F23 -> 120000
A26: ՀՀ Կառավարություն
A28: Ծրագրի դասիչը | B28: Ծրագրի անվանումը
A29: 1139 | B29: ՀՀ կառավարության պահուստային ֆոնդ
A30: Ծրագրի միջոցառումները
A32: Ծրագրի դասիչը` | B32: 1139 | C32: Ցուցանիշների փոփոխությունները նվազեցումները նշված են փակագծերում
A33: Միջոցառման դասիչը` | B33: 11001 | C33: Առաջին եռամսյակ | D33: Առաջին կիսամյակ | E33: Ինն ամիս | F33: Տարի
A34: Միջոցառման անվանումը` | B34: ՀՀ կառավարության պահուստային ֆոնդ
A35: Նկարագրությունը` | B35: ՀՀ պետական բյուջեում նախատեսված ելքերի լրացուցիչ ֆինանսավորման, պետական բյուջեում չկանխատեսված ելքերի, ինչպես նաև բյուջետային երաշխիքների ապահովման ելքերի ֆինանսավորման ապահովում
A36: Միջոցառման տեսակը` | B36: Ծառայությունների մատուցում
A37: Միջոցառումն իրականացնողի անվանումը | B37: ՀՀ կառավարություն
A38: Արդյունքի չափորոշիչներ
A39: Միջոցառման վրա կատարվող ծախսը (հազար դրամ) | C39: ='3'!C38 -> -120000 | D39: ='3'!D38 -> -120000 | E39: ='3'!E38 -> -120000 | F39: ='3'!F38 -> -120000

Sheet 5
J1: Հավելված N 5
J2: ՀՀ կառավարության 2024 թվականի
I3: -----------------ի N -----------Ն որոշման
B5: ՀԱՅԱՍՏԱՆԻ ՀԱՆՐԱՊԵՏՈՒԹՅԱՆ 2024 ԹՎԱԿԱՆԻ ՊԵՏԱԿԱՆ ԲՅՈՒՋԵՈՎ ՆԱԽԱՏԵՍՎԱԾ՝ ՀԱՅԱՍՏԱՆԻ ՀԱՆՐԱՊԵՏՈՒԹՅԱՆ ԿԱՌԱՎԱՐՈՒԹՅԱՆ ՊԱՀՈՒՍՏԱՅԻՆ ՖՈՆԴԻՑ ՀԱՏԿԱՑՈՒՄՆԵՐ ԿԱՏԱՐԵԼՈՒ ՎԵՐԱԲԵՐՅԱԼ
I6: հազար դրամ
A7: Գործառական դասիչը | D7: Ծրագրային դասիչը | F7: Բյուջետային ծախսերի գործառական դասակարգման բաժինների, խմբերի և դասերի, բյուջետային ծրագրերի միջոցառումների, բյուջետային հատկացումների գլխավոր կարգադրիչների անվանումները | G7: Ցուցանիշների փոփոխությունը (ավելացումները նշված են դրական նշանով, իսկ նվազեցումները` փակագծերում)
A8: Բաժին | B8: Խումբ | C8: Դաս | D8: Ծրագիր | E8: Միջոցառում | G8: Առաջին եռամսյակ | H8: Առաջին կիսամյակ | I8: Ինն ամիս | J8: Տարի
F9: ԸՆԴԱՄԵՆԸ ԾԱԽՍԵՐ | G9: =G11+G29 -> 0 | H9: =H11+H29 -> 0 | I9: =I11+I29 -> 0 | J9: =J11+J29 -> 0
F10: այդ թվում`
A11: 11 | F11: ՀԻՄՆԱԿԱՆ ԲԱԺԻՆՆԵՐԻՆ ՉԴԱՍՎՈՂ ՊԱՀՈՒՍՏԱՅԻՆ ՖՈՆԴԵՐ | G11: =G13 -> -120000 | H11: =H13 -> -120000 | I11: =I13 -> -120000 | J11: =J13 -> -120000
F12: այդ թվում՝
B13: 01 | F13: ՀՀ կառավարության և համայնքների պահուստային ֆոնդ | G13: =G15 -> -120000 | H13: =H15 -> -120000 | I13: =I15 -> -120000 | J13: =J15 -> -120000
F14: այդ թվում՝
C15: 01 | F15: ՀՀ կառավարության պահուստային ֆոնդ | G15: =G17 -> -120000 | H15: =H17 -> -120000 | I15: =I17 -> -120000 | J15: =J17 -> -120000
F16: այդ թվում՝
F17: ՀՀ կառավարություն | G17: =G19 -> -120000 | H17: =H19 -> -120000 | I17: =I19 -> -120000 | J17: =J19 -> -120000
F18: այդ թվում՝
D19: 1139 | F19: ՀՀ կառավարության պահուստային ֆոնդ | G19: =G21 -> -120000 | H19: =H21 -> -120000 | I19: =I21 -> -120000 | J19: =J21 -> -120000
F20: այդ թվում՝
E21: 11001 | F21: ՀՀ կառավարության պահուստային ֆոնդ | G21: =G23 -> -120000 | H21: =H23 -> -120000 | I21: =I23 -> -120000 | J21: =J23 -> -120000
F22: այդ թվում՝ ըստ կատարողների
F23: ՀՀ կառավարություն | G23: =G25 -> -120000 | H23: =H25 -> -120000 | I23: =I25 -> -120000 | J23: =J25 -> -120000
F24: այդ թվում՝ բյուջետային ծախսերի տնտեսագիտական դասակարգման հոդվածներ
F25: ԸՆԴԱՄԵՆԸ ԾԱԽՍԵՐ | G25: =G26 -> -120000 | H25: =H26 -> -120000 | I25: =I26 -> -120000 | J25: =J26 -> -120000
F26: ԸՆԹԱՑԻԿ ԾԱԽՍԵՐ | G26: =G27 -> -120000 | H26: =H27 -> -120000 | I26: =I27 -> -120000 | J26: =J27 -> -120000
F27: ԱՅԼ ԾԱԽՍԵՐ | G27: =G28 -> -120000 | H27: =H28 -> -120000 | I27: =I28 -> -120000 | J27: =J28 -> -120000
F28: - Պահուստային միջոցներ | G28: ='1'!D19 -> -120000 | H28: ='1'!E19 -> -120000 | I28: ='1'!F19 -> -120000 | J28: ='1'!G19 -> -120000
A29: 10 | F29: ՍՈՑԻԱԼԱԿԱՆ ՊԱՇՏՊԱՆՈՒԹՅՈՒՆ | G29: =G31 -> 120000 | H29: =H31 -> 120000 | I29: =I31 -> 120000 | J29: =J31 -> 120000
F30: այդ թվում`
B31: 09 | F31: Սոցիալական պաշտպանություն (այլ դասերին չպատկանող) | G31: =G33 -> 120000 | H31: =H33 -> 120000 | I31: =I33 -> 120000 | J31: =J33 -> 120000
F32: այդ թվում՝
C33: 02 | F33: Սոցիալական պաշտպանությանը տրամադրվող օժանդակ ծառայություններ (այլ դասերին չպատկանող) | G33: =G35 -> 120000 | H33: =H35 -> 120000 | I33: =I35 -> 120000 | J33: =J35 -> 120000
F34: այդ թվում`
F35: ՀՀ աշխատանքի և սոցիալական հարցերի նախարարություն | G35: =G37 -> 120000 | H35: =H37 -> 120000 | I35: =I37 -> 120000 | J35: =J37 -> 120000
F36: այդ թվում`
D37: 1225 | F37: ='1'!C27 -> Ճգնաժամերի հակազդման և արտակարգ իրավիճակների հետևանքների նվազեցման և վերացման նպատակով՛ առանձին սոցիալական խմբերին տրվող սոցիալական աջակցություն | G37: =G39 -> 120000 | H37: =H39 -> 120000 | I37: =I39 -> 120000 | J37: =J39 -> 120000
F38: այդ թվում`
E39: ='[1]1'!B19 -> 12017 | F39: ='[1]1'!C20 -> Լեռնային Ղարաբաղից բռնի տեղահանվածներին միանվագ դրամական աջակցության տրամադրում | G39: =G41 -> 120000 | H39: =H41 -> 120000 | I39: =I41 -> 120000 | J39: =J41 -> 120000
F40: այդ թվում` ըստ կատարողների
F41: ՀՀ աշխատանքի և սոցիալական հարցերի նախարարության միասնական սոցիալական ծառայություն | G41: =G43 -> 120000 | H41: =H43 -> 120000 | I41: =I43 -> 120000 | J41: =J43 -> 120000
F42: այդ թվում` բյուջետային ծախսերի տնտեսագիտական դասակարգման հոդվածներ
F43: ԸՆԴԱՄԵՆԸ ԾԱԽՍԵՐ | G43: =G44 -> 120000 | H43: =H44 -> 120000 | I43: =I44 -> 120000 | J43: =J44 -> 120000
F44: ԸՆԹԱՑԻԿ ԾԱԽՍԵՐ | G44: =G45 -> 120000 | H44: =H45 -> 120000 | I44: =I45 -> 120000 | J44: =J45 -> 120000
F45: ՍՈՑԻԱԼԱԿԱՆ ՆՊԱՍՏՆԵՐ ԵՎ ԿԵՆՍԱԹՈՇԱԿՆԵՐ | G45: =G46 -> 120000 | H45: =H46 -> 120000 | I45: =I46 -> 120000 | J45: =J46 -> 120000
F46: Սոցիալական օգնության դրամական արտահայտությամբ նպաստներ (բյուջեից) | G46: =G47 -> 120000 | H46: =H47 -> 120000 | I46: =I47 -> 120000 | J46: =J47 -> 120000
F47: - Այլ նպաստներ բյուջեից | G47: ='1'!D33 -> 120000 | H47: ='1'!E33 -> 120000 | I47: ='1'!F33 -> 120000 | J47: ='1'!G33 -> 120000
