Workbook
Name _tab10: #REF!
Name _tab10: #REF!
Name _tab10: #REF!
Name _tab10: #REF!
Name _tab10: #REF!
Name _tab10: #REF!
Name _tab11: #REF!
Name _tab11: #REF!
Name _tab11: #REF!
Name _tab11: #REF!
Name _tab11: #REF!
Name _tab11: #REF!
Name _tab12: #REF!
Name _tab12: #REF!
Name _tab12: #REF!
Name _tab12: #REF!
Name _tab12: #REF!
Name _tab12: #REF!
Name _tab13: #REF!
Name _tab13: #REF!
Name _tab13: #REF!
Name _tab13: #REF!
Name _tab13: #REF!
Name _tab13: #REF!
Name _tab14: #REF!
Name _tab14: #REF!
Name _tab14: #REF!
Name _tab14: #REF!
Name _tab14: #REF!
Name _tab14: #REF!
Name _tab15: #REF!
Name _tab15: #REF!
Name _tab15: #REF!
Name _tab15: #REF!
Name _tab15: #REF!
Name _tab15: #REF!
Name _tab16: #REF!
Name _tab16: #REF!
Name _tab16: #REF!
Name _tab16: #REF!
Name _tab16: #REF!
Name _tab16: #REF!
Name _tab17: #REF!
Name _tab17: #REF!
Name _tab17: #REF!
Name _tab17: #REF!
Name _tab17: #REF!
Name _tab17: #REF!
Name _tab18: #REF!
Name _tab18: #REF!
Name _tab18: #REF!
Name _tab18: #REF!
Name _tab18: #REF!
Name _tab18: #REF!
Name _tab19: #REF!
Name _tab19: #REF!
Name _tab19: #REF!
Name _tab19: #REF!
Name _tab19: #REF!
Name _tab19: #REF!

Sheet 1
A1: Հավելված N 1
A2: ՀՀ կառավարության 2024 թվականի ______________ ի N ___ -Ն որոշման
A4: ՀԱՅԱՍՏԱՆԻ ՀԱՆՐԱՊԵՏՈՒԹՅԱՆ ԿԱՌԱՎԱՐՈՒԹՅԱՆ 2023 ԹՎԱԿԱՆԻ ԴԵԿՏԵՄԲԵՐԻ 28-Ի N 2323-Ն ՈՐՈՇՄԱՆ N 1 ՀԱՎԵԼՎԱԾԻ N 1 ԱՂՅՈՒՍԱԿՈՒՄ ԿԱՏԱՐՎՈՂ ՓՈՓՈԽՈՒԹՅՈՒՆՆԵՐԸ
E5: հազար դրամներով
A6: Պետական բյուջեի դեֆիցիտի ֆինանսավորման աղբյուրներն ու դրանց տարրերի անվանումները | B6: Ցուցանիշների փոփոխությունները (ավելացումները նշված են դրական նշանով)
B7: Առաջին եռամսյակ | C7: Առաջին կիսամյակ | D7: Ինն ամիս | E7: Տարի
A8: ԸՆԴԱՄԵՆԸ | B8: =+B10 -> 500000 | C8: =+C10 -> 0 | D8: =+D10 -> 0 | E8: =+E10 -> 0
A9: այդ թվում՝
A10: Ա. Ներքին աղբյուրներ-ընդամենը | B10: =+B12 -> 500000 | C10: =+C12 -> 0 | D10: =+D12 -> 0 | E10: =+E12 -> 0
A11: այդ թվում՝
A12: 2. Ֆինանսական զուտ ակտիվներ | B12: =+B14 -> 500000 | C12: =+C14 -> 0 | D12: =+D14 -> 0 | E12: =+E14 -> 0
A13: այդ թվում՝
A14: 2.6. Այլ | B14: =+B15 -> 500000 | C14: =+C15 -> 0 | D14: =+D15 -> 0 | E14: =+E15 -> 0
A15: ժամանակավորապես ազատ միջոցներ | B15: =+'2'!G28 -> 500000 | C15: =+'2'!H28 -> 0 | D15: =+'2'!I28 -> 0 | E15: =+'2'!J28 -> 0

Sheet 2
A1: Հավելված N 2
A2: ՀՀ կառավարության 2024 թվականի ______________ ի N ___ -Ն որոշման
A4: ՀԱՅԱՍՏԱՆԻ ՀԱՆՐԱՊԵՏՈՒԹՅԱՆ ԿԱՌԱՎԱՐՈՒԹՅԱՆ 2023 ԹՎԱԿԱՆԻ ԴԵԿՏԵՄԲԵՐԻ 28-Ի N 2323-Ն ՈՐՈՇՄԱՆ N 3 և N 4 ՀԱՎԵԼՎԱԾՆԵՐՈՒՄ ԿԱՏԱՐՎՈՂ ՓՈՓՈԽՈՒԹՅՈՒՆՆԵՐԸ
J5: հազար դրամներով
A6: Գործառական դասիչը | D6: Ծրագրային դասիչը | F6: Բյուջետային ծախսերի գործառական դասակարգման բաժինների, խմբերի և դասերի, բյուջետային ծրագրերի միջոցառումների, բյուջետային հատկացումների գլխավոր կարգադրիչների անվանումները | G6: Ցուցանիշների փոփոխությունը (ավելացումները նշված են դրական նշանով)
A7: Բաժին | B7: Խումբ | C7: Դաս | D7: Ծրագիր | E7: Միջոցառում | G7: Առաջին եռամսյակ | H7: Առաջին կիսամյակ | I7: Ինն ամիս | J7: Տարի
F8: ԸՆԴԱՄԵՆԸ ԾԱԽՍԵՐ | G8: =+G10 -> 500000 | H8: =+H10 -> 0 | I8: =+I10 -> 0 | J8: =+J10 -> 0
F9: այդ թվում՝
A10: 03 | F10: ՀԱՍԱՐԱԿԱԿԱՆ ԿԱՐԳ, ԱՆՎՏԱՆԳՈՒԹՅՈՒՆ ԵՎ ԴԱՏԱԿԱՆ ԳՈՐԾՈՒՆԵՈՒԹՅՈՒՆ | G10: =+G12 -> 500000 | H10: =+H12 -> 0 | I10: =+I12 -> 0 | J10: =+J12 -> 0
F11: այդ թվում`
B12: 01 | F12: Հասարակական կարգ և անվտանգություն | G12: =+G14 -> 500000 | H12: =+H14 -> 0 | I12: =+I14 -> 0 | J12: =+J14 -> 0
F13: այդ թվում`
C14: 02 | F14: Ազգային անվտանգություն | G14: =+G16 -> 500000 | H14: =+H16 -> 0 | I14: =+I16 -> 0 | J14: =+J16 -> 0
F15: այդ թվում`
F16: ՀՀ արտաքին հետախուզության ծառայություն | G16: =+G18 -> 500000 | H16: =+H18 -> 0 | I16: =+I18 -> 0 | J16: =+J18 -> 0
F17: այդ թվում`
D18: 1237 | F18: Արտաքին հետախուզություն | G18: =+G20 -> 500000 | H18: =+H20 -> 0 | I18: =+I20 -> 0 | J18: =+J20 -> 0
F19: այդ թվում`
E20: 31001 | F20: Արտաքին հետախուզության ծառայության շենքային պայմանների ապահովում | G20: =+G22 -> 500000 | H20: =+H22 -> 0 | I20: =+I22 -> 0 | J20: =+J22 -> 0
F21: այդ թվում` ըստ կատարողների
F22: ՀՀ արտաքին հետախուզության ծառայություն | G22: =+G24 -> 500000 | H22: =+H24 -> 0 | I22: =+I24 -> 0 | J22: =+J24 -> 0
F23: այդ թվում` բյուջետային ծախսերի տնտեսագիտական դասակարգման հոդվածներ
F24: ԸՆԴԱՄԵՆԸ ԾԱԽՍԵՐ | G24: =+G25 -> 500000 | H24: =+H25 -> 0 | I24: =+I25 -> 0 | J24: =+J25 -> 0
F25: ՈՉ ՖԻՆԱՆՍԱԿԱՆ ԱԿՏԻՎՆԵՐԻ ԳԾՈՎ ԾԱԽՍԵՐ | G25: =+G26 -> 500000 | H25: =+H26 -> 0 | I25: =+I26 -> 0 | J25: =+J26 -> 0
F26: ՀԻՄՆԱԿԱՆ ՄԻՋՈՑՆԵՐ | G26: =+G27 -> 500000 | H26: =+H27 -> 0 | I26: =+I27 -> 0 | J26: =+J27 -> 0
F27: ՇԵՆՔԵՐ ԵՎ ՇԻՆՈՒԹՅՈՒՆՆԵՐ | G27: =+G28 -> 500000 | H27: =+H28 -> 0 | I27: =+I28 -> 0 | J27: =+J28 -> 0
F28: - Շենքերի և շինությունների ձեռքբերում | G28: 500000 | H28: 0 | I28: 0 | J28: 0

Sheet 3
A1: Հավելված N 3
A2: ՀՀ կառավարության 2024 թվականի ______________ ի N ___ -Ն որոշման
A4: ՀԱՅԱՍՏԱՆԻ ՀԱՆՐԱՊԵՏՈՒԹՅԱՆ ԿԱՌԱՎԱՐՈՒԹՅԱՆ 2023 ԹՎԱԿԱՆԻ ԴԵԿՏԵՄԲԵՐԻ 28-Ի N 2323-Ն ՈՐՈՇՄԱՆ N 5 ՀԱՎԵԼՎԱԾԻ N 1 ԱՂՅՈՒՍԱԿՈՒՄ ԿԱՏԱՐՎՈՂ ՓՈՓՈԽՈՒԹՅՈՒՆՆԵՐԸ
G6: հազար դրամներով
A7: Ծրագրային դասիչը | C7: Բյուջետային հատկացումների գլխավոր կարգադրիչների, ծրագրերի և միջոցառումների անվանումները | D7: Ցուցանիշների փոփոխությունը (ավելացումները նշված են դրական նշանով)
A8: Ծրագիր | B8: Միջոցառում | D8: Առաջին եռամսյակ | E8: Առաջին կիսամյակ | F8: Ինն ամիս | G8: Տարի
C9: ԸՆԴԱՄԵՆԸ | D9: =+D10 -> 500000 | E9: =+E10 -> 0 | F9: =+F10 -> 0 | G9: =+G10 -> 0
C10: ՀՀ արտաքին հետախուզության ծառայություն | D10: =+D11 -> 500000 | E10: =+E11 -> 0 | F10: =+F11 -> 0 | G10: =+G11 -> 0
A11: 1237 | C11: Ծրագրի անվանումը՝ | D11: =+D18 -> 500000 | E11: =+E18 -> 0 | F11: =+F18 -> 0 | G11: =+G18 -> 0
C12: Արտաքին հետախուզություն
C13: Ծրագրի նպատակը՝
C14: Արտաքին սպառնալիքներից անձի, հասարակության և պետության պաշտպանությանը, ՀՀ կենսական շահերին առչնվող տեղեկատվության ստացում և մշակում
C15: Վերջնական արդյունքի նկարագրությունը՝
C16: ՀՀ արտաքին քաղաքականության, ռազմաքաղաքական, տնտեսական, գիտատեխնիկական, շրջակա միջավայի պահպանության ու կենսական այլ ոլորտներում պետական քաղաքականության իրականացման աջակցություն
A17: Ծրագրի միջոցառումներ
B18: 31001 | C18: Միջոցառման անվանումը՝ | D18: =+'2'!G28 -> 500000 | E18: =+'2'!H28 -> 0 | F18: =+'2'!I28 -> 0 | G18: =+'2'!J28 -> 0
C19: Արտաքին հետախուզության ծառայության շենքային պայմանների ապահովում
C20: Միջոցառման նկարագրությունը՝
C21: Արտաքին հետախուզության ծառայության համար շենքի ձեռքբերում, կապիտալ վերանորոգում
C22: Միջոցառման տեսակը
C23: Պետական մարմինների կողմից օգտագործվող ոչ ֆինանսական ակտիվների հետ գործառնություններ

Sheet 4
A1: Հավելված N 4
A2: ՀՀ կառավարության 2024 թվականի ______________ ի N ___ -Ն որոշման
A4: ՀԱՅԱՍՏԱՆԻ ՀԱՆՐԱՊԵՏՈՒԹՅԱՆ ԿԱՌԱՎԱՐՈՒԹՅԱՆ 2023 ԹՎԱԿԱՆԻ ԴԵԿՏԵՄԲԵՐԻ 28-Ի N 2323-Ն ՈՐՈՇՄԱՆ N 5 ՀԱՎԵԼՎԱԾԻ N 2 ԱՂՅՈՒՍԱԿՈՒՄ ԿԱՏԱՐՎՈՂ ՓՈՓՈԽՈՒԹՅՈՒՆՆԵՐԸ
G6: հազար դրամներով
A7: Ծրագրային դասիչ | C7: Բյուջետային գլխավոր կարգադրիչների, ծրագրերի, միջոցառումների և ուղղությունների անվանումները | D7: Ցուցանիշների փոփոխությունը (ավելացումները նշված են դրական նշանով)
A8: Ծրագիր | B8: Միջոցառում | D8: Առաջին եռամսյակ | E8: Առաջին կիսամյակ | F8: Ինն ամիս | G8: Տարի
C9: ԸՆԴԱՄԵՆԸ | D9: =+D11 -> 500000 | E9: =+E11 -> 0 | F9: =+F11 -> 0 | G9: =+G11 -> 0
C10: այդ թվում՝
C11: ՀՀ արտաքին հետախուզության ծառայություն | D11: =+D13 -> 500000 | E11: =+E13 -> 0 | F11: =+F13 -> 0 | G11: =+G13 -> 0
C12: այդ թվում`
A13: 1237 | B13: 31001 | C13: Արտաքին հետախուզության ծառայության շենքային պայմանների ապահովում | D13: =+D15 -> 500000 | E13: =+E15 -> 0 | F13: =+F15 -> 0 | G13: =+G15 -> 0
C14: այդ թվում` ըստ կատարողների
C15: ՀՀ արտաքին հետախուզության ծառայություն | D15: =+'2'!G28 -> 500000 | E15: =+'2'!H28 -> 0 | F15: =+'2'!I28 -> 0 | G15: =+'2'!J28 -> 0

Sheet 5
A1: Հավելված N 5
A2: ՀՀ կառավարության 2024 թվականի ______________ ի N ___ -Ն որոշման
A4: ՀԱՅԱՍՏԱՆԻ ՀԱՆՐԱՊԵՏՈՒԹՅԱՆ ԿԱՌԱՎԱՐՈՒԹՅԱՆ 2023 ԹՎԱԿԱՆԻ ԴԵԿՏԵՄԲԵՐԻ 28-Ի N 2323-Ն ՈՐՈՇՄԱՆ N 9 ՀԱՎԵԼՎԱԾԻ N 9.37 ԱՂՅՈՒՍԱԿՈՒՄ ԿԱՏԱՐՎՈՂ ՓՈՓՈԽՈՒԹՅՈՒՆՆԵՐԸ
A6: ՀՀ արտաքին հետախուզության ծառայություն
A7: ՄԱՍ 2. ՊԵՏԱԿԱՆ ՄԱՐՄՆԻ ԳԾՈՎ ԱՐԴՅՈՒՆՔԱՅԻՆ (ԿԱՏԱՐՈՂԱԿԱՆ) ՑՈՒՑԱՆԻՇՆԵՐԸ
A9: Ծրագրի դասիչը | B9: Ծրագրի անվանումը
A10: 1237 | B10: Արտաքին հետախուզություն
A12: Ծրագրի միջոցառումները
A14: Ծրագրի դասիչը` | B14: 1237 | C14: Ցուցանիշների փոփոխությունը (ավելացումները նշված են դրական նշանով)
A15: Միջոցառման դասիչը` | B15: 31001 | C15: Առաջին եռամսյակ | D15: Առաջին կիսամյակ | E15: Ինն ամիս | F15: Տարի
A16: Միջոցառման անվանումը` | B16: Արտաքին հետախուզության ծառայության շենքային պայմանների ապահովում
A17: Նկարագրությունը` | B17: Արտաքին հետախուզության ծառայության համար շենքի ձեռքբերում, կապիտալ վերանորոգում
A18: Միջոցառման տեսակը` | B18: Պետական մարմինների կողմից օգտագործվող ոչ ֆինանսական ակտիվների հետ գործառնություններ
A19: Ակտիվն օգտագործող կազմակերպության(ների) անվանում(ներ)ը՝ | B19: ՀՀ արտաքին հետախուզության ծառայություն
A20: Արդյունքի չափորոշիչներ
A21: Վարչական շենքի ձեռքբերում, հատ | D21: 1
A22: Միջոցառման վրա կատարվող ծախսը (հազար դրամ) | C22: =+'2'!G28 -> 500000 | D22: =+'2'!H28 -> 0 | E22: =+'2'!I28 -> 0 | F22: =+'2'!J28 -> 0

Sheet 6
A1: Հավելված N 6
A2: ՀՀ կառավարության 2024 թվականի ______________ ի N ___ -Ն որոշման
A4: ՀԱՅԱՍՏԱՆԻ ՀԱՆՐԱՊԵՏՈՒԹՅԱՆ ԿԱՌԱՎԱՐՈՒԹՅԱՆ 2023 ԹՎԱԿԱՆԻ ԴԵԿՏԵՄԲԵՐԻ 28-Ի N 2323-Ն ՈՐՈՇՄԱՆ N 9.1 ՀԱՎԵԼՎԱԾԻ N 9.1.47 ԱՂՅՈՒՍԱԿՈՒՄ ԿԱՏԱՐՎՈՂ ՓՈՓՈԽՈՒԹՅՈՒՆՆԵՐԸ
A6: ՀՀ արտաքին հետախուզության ծառայություն
A7: ՄԱՍ 1. ՊԵՏԱԿԱՆ ՄԱՐՄՆԻ ԳԾՈՎ ԱՐԴՅՈՒՆՔԱՅԻՆ (ԿԱՏԱՐՈՂԱԿԱՆ) ՑՈՒՑԱՆԻՇՆԵՐԸ
A9: Ծրագրի դասիչը | B9: Ծրագրի անվանումը
A10: 1237 | B10: Արտաքին հետախուզություն
A12: Ծրագրի միջոցառումները
A14: Ծրագրի դասիչը` | B14: 1237 | C14: Ցուցանիշների փոփոխությունը (ավելացումները նշված են դրական նշանով)
A15: Միջոցառման դասիչը` | B15: 31001 | C15: Առաջին եռամսյակ | D15: Առաջին կիսամյակ | E15: Ինն ամիս | F15: Տարի
A16: Միջոցառման անվանումը` | B16: Արտաքին հետախուզության ծառայության շենքային պայմանների ապահովում
A17: Նկարագրությունը` | B17: Արտաքին հետախուզության ծառայության համար շենքի ձեռքբերում, կապիտալ վերանորոգում
A18: Միջոցառման տեսակը` | B18: Պետական մարմինների կողմից օգտագործվող ոչ ֆինանսական ակտիվների հետ գործառնություններ
A19: Ակտիվն օգտագործող կազմակերպության(ների) անվանում(ներ)ը՝ | B19: ՀՀ արտաքին հետախուզության ծառայություն
A20: Արդյունքի չափորոշիչներ
A21: Վարչական շենքի ձեռքբերում, հատ | D21: 1
A22: Միջոցառման վրա կատարվող ծախսը (հազար դրամ) | C22: =+'2'!G28 -> 500000 | D22: =+'2'!H28 -> 0 | E22: =+'2'!I28 -> 0 | F22: =+'2'!J28 -> 0

Sheet Sheet1
A1: 4239 | B1: 20939.6
A2: 4252 | B2: 4001.2
A3: 4261 | B3: 24221.5
A4: 4264 | B4: 658398.2
A5: 4267 | B5: 51113.2
A6: 4269 | B6: 58135.2
A7: 5121 | B7: 34800
A8: 5122 | B8: 30780.6
A9: 5129 | B9: 165718.2
A10: 5132 | B10: 33.2
