Workbook
Name AgencyCode: #REF!
Name AgencyCode: #REF!
Name AgencyName: #REF!
Name AgencyName: #REF!
Name åû: #REF!
Name davit: #REF!
Name Functional1: #REF!
Name Functional1: #REF!
Name ggg: #REF!
Name mas: #REF!
Name mass: #REF!
Name PANature: #REF!
Name PANature: #REF!
Name PAType: #REF!
Name PAType: #REF!
Name Performance2: #REF!
Name Performance2: #REF!
Name PerformanceType: #REF!
Name PerformanceType: #REF!
Name x: #REF!
Name Հավելված: #REF!
Name Մաս: #REF!
Name շախմատիստ: #REF!

Sheet H1
A1: Հավելված N 1
A2: ՀՀ կառավարության 2024 թվականի
A3: ______________ ի ___Ն որոշման
A5: «ՀԱՅԱUՏԱՆԻ ՀԱՆՐԱՊԵՏՈՒԹՅԱՆ 2024 ԹՎԱԿԱՆԻ ՊԵՏԱԿԱՆ ԲՅՈՒՋԵԻ ՄԱUԻՆ» OՐԵՆՔԻ N 1 ՀԱՎԵԼՎԱԾԻ N 2 ԱՂՅՈՒՍԱԿՈՒՄ ԿԱՏԱՐՎՈՂ ՎԵՐԱԲԱՇԽՈՒՄԸ ԵՎ ՀԱՅԱՍՏԱՆԻ ՀԱՆՐԱՊԵՏՈՒԹՅԱՆ ԿԱՌԱՎԱՐՈՒԹՅԱՆ 2023 ԹՎԱԿԱՆԻ ԴԵԿՏԵՄԲԵՐԻ 28-Ի ԹԻՎ 2323-Ն ՈՐՈՇՄԱՆ N 5 ՀԱՎԵԼՎԱԾԻ N 1 ԱՂՅՈՒՍԱԿՈՒՄ ԿԱՏԱՐՎՈՂ ՓՈՓՈԽՈՒԹՅՈՒՆՆԵՐԸ ԵՎ ԼՐԱՑՈՒՄՆԵՐԸ
G7: հազար դրամով
A8: Ծրագրային դասիչը | C8: Բյուջետային հատկացումների գլխավոր կարգադրիչների, ծրագրերի և միջոցառումների անվանումները | D8: Ցուցանիշների փոփոխությունը (ավելացումները նշված են դրական նշանով, իսկ նվազեցումները` փակագծերում)
A9: Ծրագիր | B9: Միջոցառում | D9: Առաջին եռամսյակ | E9: Առաջին կիսամյակ | F9: Ինն ամիս | G9: Տարի
A10: 1192 | C10: ԸՆԴԱՄԵՆԸ | D10: =D12 -> 0 | E10: =E12 -> 0 | F10: =F12 -> 0 | G10: =G12 -> 0
C11: այդ թվում
C12: ՀՀ տարածքային կառավարման և ենթակառուցվածքների նախարարություն | D12: =E12 -> 0 | E12: =F12 -> 0 | F12: =G12 -> 0 | G12: =G13 -> 0
A13: 1079 | C13: Ծրագրի անվանումը` | D13: =D20+D27 -> 0 | E13: =E20+E27 -> 0 | F13: =F20+F27 -> 0 | G13: =G20+G27 -> 0
C14: Պետական գույքի կառավարում
C15: Ծրագրի նպատակը`
C16: Պետական գույքի համալիր և արդյունավետ կառավարման ապահովում
C17: Վերջնական արդյունքի նկարագրությունը`
C18: Պետական գույքի կառավարման արդյունավետության բարձրացում
C19: Ծրագրի միջոցառումներ
B20: 11003 | C20: Միջոցառման անվանումը` | D20: ='H2'!G38 -> 20300 | E20: ='H2'!H38 -> 63600 | F20: ='H2'!I38 -> 70316.6 | G20: ='H2'!J38 -> 0
C21: Պետական գույքի հաշվառման, գույքագրման, գնահատման, անշարժ գույքի պահառության, սպասարկման աշխատանքների և աճուրդների իրականացման ծառայություններ
C22: Միջոցառման նկարագրությունը`
C23: Պետական գույքի հաշվառում, գույքագրում, գնահատում, անշարժ գույքի պահառություն, աճուրդների իրականացում և Կառավարական N 2 և N 3, ք. Երևան Վ.Սարգսյան 3/3 և Նալբանդյան 28 շենքերի սպասարկում
C24: Միջոցառման տեսակը
C25: Ծառայությունների մատուցում
B26: 31005 | C26: Միջոցառման անվանումը`
C27: Հանրային իշխանության մարմիններին տրանսպորտային միջոցներով ապահովվածության բարելավում | D27: -20300 | E27: -63600 | F27: -70316.6 | G27: 0
C28: Միջոցառման նկարագրությունը`
C29: Հանրային իշխանության մարմինների գործունեությունն ապահովելու համար տրանսպորտային միջոցների ձեռքբերում
C30: Միջոցառման տեսակը
C31: Պետական մարմինների կողմից օգտագործվող ոչ ֆինանսական ակտիվների հետ գործառնություններ
C47: ՀԱՅԱՍՏԱՆԻ ՀԱՆՐԱՊԵՏՈՒԹՅԱՆ ՎԱՐՉԱՊԵՏԻ ԱՇԽԱՏԱԿԱԶՄԻ ՂԵԿԱՎԱՐ՝ | G47: Ա.ՀԱՐՈՒԹՅՈՒՆՅԱՆ

Sheet H2
A1: Հավելված N 2
A2: ՀՀ կառավարության 2024 թվականի
A3: ______________ ի ___Ն որոշման
A5: ՀԱՅԱՍՏԱՆԻ ՀԱՆՐԱՊԵՏՈՒԹՅԱՆ ԿԱՌԱՎԱՐՈՒԹՅԱՆ 2023 ԹՎԱԿԱՆԻ ԴԵԿՏԵՄԲԵՐԻ 28-Ի ԹԻՎ 2323-Ն ՈՐՈՇՄԱՆ N 3 ԵՎ N 4 ՀԱՎԵԼՎԱԾՆԵՐՈՒՄ ԿԱՏԱՐՎՈՂ ՓՈՓՈԽՈՒԹՅՈՒՆՆԵՐԸ ԵՎ ԼՐԱՑՈՒՄՆԵՐԸ
J7: հազար դրամով
A8: Գործառական դասիչը | D8: Ծրագրային դասիչը | F8: Բյուջետային հատկացումների գլխավոր կարգադրիչների, ծրագրերի, միջոցառումների և միջոցառումները կատարող պետական մարմինների անվանումները | G8: Ցուցանիշների փոփոխությունը (ավելացումները նշված են դրական նշանով, իսկ նվազեցումները` փակագծերում)
A9: Բաժին | B9: Խումբ | C9: Դաս | D9: Ծրագիր | E9: Միջոցառում | G9: Առաջին եռամսյակ | H9: Առաջին կիսամյակ | I9: Ինն ամիս | J9: Տարի
F10: ԸՆԴԱՄԵՆԸ | G10: =G12 -> 0 | H10: =H12 -> 0 | I10: =I12 -> 0 | J10: =J12 -> 0
F11: այդ թվում
F12: ՀՀ տարածքային կառավարման և ենթակառուցվածքների նախարարություն | G12: =+G13 -> 0 | H12: =+H13 -> 0 | I12: =+I13 -> 0 | J12: =+J13 -> 0
A13: 01 | F13: ԸՆԴՀԱՆՈՒՐ ԲՆՈՒՅԹԻ ՀԱՆՐԱՅԻՆ ԾԱՌԱՅՈՒԹՅՈՒՆՆԵՐ | G13: =G15+G32 -> 0 | H13: =H15+H32 -> 0 | I13: =I15+I32 -> 0 | J13: =J15+J32 -> 0
F14: այդ թվում`
B15: 03 | F15: Ընդհանուր բնույթի ծառայություններ | G15: =G17 -> -20300 | H15: =H17 -> -63600 | I15: =I17 -> -70316.6 | J15: =J17 -> 0
F16: այդ թվում`
C17: 03 | F17: Ընդհանուր բնույթի այլ ծառայություններ | G17: =G19 -> -20300 | H17: =H19 -> -63600 | I17: =I19 -> -70316.6 | J17: =+J19 -> 0
F18: այդ թվում`
F19: ՀՀ տարածքային կառավարման և ենթակառուցվածքների նախարարություն | G19: =G21 -> -20300 | H19: =H21 -> -63600 | I19: =I21 -> -70316.6 | J19: =+J21 -> 0
F20: այդ թվում`
D21: 1079 | F21: Պետական գույքի կառավարում | G21: =G23 -> -20300 | H21: =H23 -> -63600 | I21: =I23 -> -70316.6 | J21: =J23 -> 0
F22: այդ թվում`
E23: 31005 | F23: Հանրային իշխանության մարմիններին տրանսպորտային միջոցներով ապահովվածության բարելավում | G23: =G25 -> -20300 | H23: =H25 -> -63600 | I23: =I25 -> -70316.6 | J23: =J25 -> 0
F24: այդ թվում` ըստ կատարողների
F25: ՀՀ կառավարություն | G25: =G27 -> -20300 | H25: =H27 -> -63600 | I25: =I27 -> -70316.6 | J25: =J27 -> 0
F26: այդ թվում` բյուջետային ծախսերի տնտեսագիտական դասակարգման հոդվածներ
F27: ԸՆԴԱՄԵՆԸ ԾԱԽՍԵՐ | G27: =G28 -> -20300 | H27: =H28 -> -63600 | I27: =I28 -> -70316.6 | J27: =J28 -> 0
F28: ՈՉ ՖԻՆԱՆՍԱԿԱՆ ԱԿՏԻՎՆԵՐԻ ԳԾՈՎ ԾԱԽՍԵՐ | G28: =G29 -> -20300 | H28: =H29 -> -63600 | I28: =I29 -> -70316.6 | J28: =J29 -> 0
F29: ՀԻՄՆԱԿԱՆ ՄԻՋՈՑՆԵՐ | G29: =G30 -> -20300 | H29: =H30 -> -63600 | I29: =I30 -> -70316.6 | J29: =J30 -> 0
F30: ՄԵՔԵՆԱՆԵՐ ԵՎ ՍԱՐՔԱՎՈՐՈՒՄՆԵՐ | G30: =G31 -> -20300 | H30: =H31 -> -63600 | I30: =I31 -> -70316.6 | J30: =J31 -> 0
F31: - Տրանսպորտային սարքավորումներ | G31: ='H1'!D27 -> -20300 | H31: ='H1'!E27 -> -63600 | I31: ='H1'!F27 -> -70316.6 | J31: ='H1'!G27 -> 0
B32: 06 | F32: Ընդհանուր բնույթի հանրային ծառայություններ (այլ դասերին չպատկանող) | G32: =G34 -> 20300 | H32: =H34 -> 63600 | I32: =I34 -> 70316.6 | J32: =J34 -> 0
F33: այդ թվում`
C34: 01 | F34: Ընդհանուր բնույթի հանրային ծառայություններ (այլ դասերին չպատկանող) | G34: =G36 -> 20300 | H34: =H36 -> 63600 | I34: =I36 -> 70316.6 | J34: =J36 -> 0
F35: այդ թվում`
D36: 1079 | F36: Պետական գույքի կառավարում | G36: =G38 -> 20300 | H36: =H38 -> 63600 | I36: =I38 -> 70316.6 | J36: =J38 -> 0
F37: այդ թվում`
E38: 11003 | F38: Պետական գույքի հաշվառման, գույքագրման, գնահատման, անշարժ գույքի պահառության, սպասարկման աշխատանքների և աճուրդների իրականացման ծառայություններ | G38: =G40 -> 20300 | H38: =H40 -> 63600 | I38: =I40 -> 70316.6 | J38: =J40 -> 0
F39: այդ թվում` ըստ կատարողների
F40: ՀՀ տարածքային կառավարման և ենթակառուցվածքների նախարարության պետական գույքի կառավարման կոմիտե | G40: =G42 -> 20300 | H40: =H42 -> 63600 | I40: =I42 -> 70316.6 | J40: =J42 -> 0
F41: այդ թվում` բյուջետային ծախսերի տնտեսագիտական դասակարգման հոդվածներ
F42: ԸՆԴԱՄԵՆԸ ԾԱԽՍԵՐ | G42: =G43 -> 20300 | H42: =H43 -> 63600 | I42: =I43 -> 70316.6 | J42: =J43 -> 0
F43: ԸՆԹԱՑԻԿ ԾԱԽՍԵՐ | G43: =G44 -> 20300 | H43: =H44 -> 63600 | I43: =I44 -> 70316.6 | J43: =J44 -> 0
F44: ԴՐԱՄԱՇՆՈՐՀՆԵՐ | G44: =G45 -> 20300 | H44: =H45 -> 63600 | I44: =I45 -> 70316.6 | J44: =J45 -> 0
F45: Ընթացիկ դրամաշնորհներ պետական հատվածի այլ մակարդակներին | G45: =G46 -> 20300 | H45: =H46 -> 63600 | I45: =I46 -> 70316.6 | J45: =J46 -> 0
F46: - Ընթացիկ դրամաշնորհներ պետական և համայնքների ոչ առևտրային կազմակերպություններին | G46: 20300 | H46: 63600 | I46: 70316.6 | J46: 0
J49: Ա. ՀԱՐՈՒԹՅՈՒՆՅԱՆ

Sheet H3
G1: Հավելված N 3
C2: ՀՀ կառավարության 2024թվականի
C3: ______________ ի ___Ն որոշման
A5: ՀԱՅԱUՏԱՆԻ ՀԱՆՐԱՊԵՏՈՒԹՅԱՆ ԿԱՌԱՎԱՐՈՒԹՅԱՆ 2023 ԹՎԱԿԱՆԻ ԴԵԿՏԵՄԲԵՐԻ 28-Ի N 2323-Ն ՈՐՈՇՄԱՆ N 5 ՀԱՎԵԼՎԱԾԻ N 2 ԱՂՅՈՒՍԱԿՈՒՄ ԿԱՏԱՐՎՈՂ ՓՈՓՈԽՈՒԹՅՈՒՆԸ
G6: հազ. դրամ
A7: Ծրագրային դասիչը | C7: Բյուջետային գլխավոր կարգադրիչների, ծրագրերի, միջոցառումների և ուղղությունների անվանումները | D7: Ցուցանիշների փոփոխությունը(նվազեցումները նշված են փակագծերում)
A8: Ծրագիր | B8: Միջոց_x000D_առում | D8: Առաջին եռամսյակ | E8: Առաջին կիսամյակ | F8: Ինն ամիս | G8: Տարի
C9: ԸՆԴԱՄԵՆԸ | D9: =D11 -> -20300 | E9: =E11 -> -63600 | F9: =F11 -> -70316.6 | G9: =G11 -> 0
C10: այդ թվում`
C11: ՀՀ տարածքային կառավարման և ենթակառուցվածքների նախարարություն | D11: =D13 -> -20300 | E11: =E13 -> -63600 | F11: =F13 -> -70316.6 | G11: =G13 -> 0
C12: այդ թվում`
A13: 1079 | B13: 31005 | C13: ='H1'!C21 -> Պետական գույքի հաշվառման, գույքագրման, գնահատման, անշարժ գույքի պահառության, սպասարկման աշխատանքների և աճուրդների իրականացման ծառայություններ | D13: =D15 -> -20300 | E13: =E15 -> -63600 | F13: =F15 -> -70316.6 | G13: =G15 -> 0
C14: Այդ թվում՝ ըստ կատարողների
C15: ՀՀ կառավարություն | D15: ='H2'!G23 -> -20300 | E15: ='H2'!H23 -> -63600 | F15: ='H2'!I23 -> -70316.6 | G15: ='H2'!J23 -> 0
D20: ='H2'!J49 -> Ա. ՀԱՐՈՒԹՅՈՒՆՅԱՆ

Sheet H4
F1: Հավելված N 4
F2: ՀՀ կառավարության 2024 թվականի
F3: ______________ ի ___Ն որոշման
A5: ՀԱՅԱՍՏԱՆԻ ՀԱՆՐԱՊԵՏՈՒԹՅԱՆ ԿԱՌԱՎԱՐՈՒԹՅԱՆ 2023 ԹՎԱԿԱՆԻ ԴԵԿՏԵՄԲԵՐԻ 28-Ի N 2323-Ն ՈՐՈՇՄԱՆ NN 9 ՀԱՎԵԼՎԱԾԻ N 9․7 ԱՂՅՈՒՍԱԿՈՒՄ ԿԱՏԱՐՎՈՂ ՓՈՓՈԽՈՒԹՅՈՒՆՆԵՐԸ ԵՎ ԼՐԱՑՈՒՄՆԵՐԸ
A7: ՀՀ տարածքային կառավարման և ենթակառուցվածքների նախարարություն
A8: ՄԱՍ 2. ՊԵՏԱԿԱՆ ՄԱՐՄՆԻ ԳԾՈՎ ԱՐԴՅՈՒՆՔԱՅԻՆ (ԿԱՏԱՐՈՂԱԿԱՆ) ՑՈՒՑԱՆԻՇՆԵՐԸ
A11: Ծրագրի դասիչը | B11: Ծրագրի անվանումը
A12: 1079 | B12: ='H1'!C14 -> Պետական գույքի կառավարում
A14: Ծրագրի միջոցառումները
A15: Ծրագրի դասիչը` | B15: 1079 | C15: Ցուցանիշների փոփոխությունը (ավելացումները նշված են դրական նշանով)
A16: Միջոցառման դասիչը` | B16: 11003 | C16: Առաջին եռամսյակ | D16: Առաջին կիսամյակ | E16: Ինն ամիս | F16: Տարի
A17: Միջոցառման անվանումը` | B17: Պետական գույքի հաշվառման, գույքագրման, գնահատման, անշարժ գույքի պահառության, սպասարկման աշխատանքների և աճուրդների իրականացման ծառայություններ
A18: Նկարագրությունը` | B18: Պետական գույքի հաշվառում, գույքագրում, գնահատում, անշարժ գույքի պահառություն, աճուրդների իրականացում և Կառավարական N 2 և N 3, ք. Երևան Վ.Սարգսյան 3/3 և Նալբանդյան 28 շենքերի սպասարկում
A19: Միջոցառման տեսակը` | B19: Ծառայությունների մատուցում
A20: Ծառայությունը մատուցող կազմակերպության(ների) անվանում(ներ)ը | B20: Մասնագիտացված կազմակերպություններ
A21: Արդյունքի չափորոշիչներ
A22: Միջոցառման վրա կատարվող ծախսը (հազար դրամ) | C22: ='H2'!G38 -> 20300 | D22: ='H2'!H38 -> 63600 | E22: ='H2'!I38 -> 70316.6 | F22: ='H2'!J38 -> 0
A25: Ծրագրի դասիչը` | B25: 1079 | C25: Ցուցանիշների փոփոխությունը (նվազեցումները նշված են փակագծերում)
A26: Միջոցառման դասիչը` | B26: 31005 | C26: Առաջին եռամսյակ | D26: Առաջին կիսամյակ | E26: Ինն ամիս | F26: Տարի
A27: Միջոցառման անվանումը` | B27: Հանրային իշխանության մարմիններին տրանսպորտային միջոցներով ապահովվածության բարելավում
A28: Նկարագրությունը` | B28: Հանրային իշխանության մարմինների գործունեությունն ապահովելու համար տրանսպորտային միջոցների ձեռքբերում
A29: Միջոցառման տեսակը` | B29: Պետական մարմինների կողմից օգտագործվող ոչ ֆինանսական ակտիվների հետ գործառնություններ
A30: Ակտիվն օգտագործող կազմակերպության անվանումը` | B30: Հանրային իշխանության մարմիններ
B31: Արդյունքի չափորոշիչներ
A32: Միջոցառման վրա կատարվող ծախսը (հազար դրամ) | C32: ='H2'!G23 -> -20300 | D32: ='H2'!H23 -> -63600 | E32: ='H2'!I23 -> -70316.6 | F32: ='H2'!J23 -> 0
F37: ='H3'!D20 -> Ա. ՀԱՐՈՒԹՅՈՒՆՅԱՆ

Sheet H5
F1: Հավելված N 5
F2: ՀՀ կառավարության 2024 թվականի
F3: ______________ ի ___Ն որոշման
A5: ՀԱՅԱՍՏԱՆԻ ՀԱՆՐԱՊԵՏՈՒԹՅԱՆ ԿԱՌԱՎԱՐՈՒԹՅԱՆ 2023 ԹՎԱԿԱՆԻ ԴԵԿՏԵՄԲԵՐԻ 28-Ի N 2323-Ն ՈՐՈՇՄԱՆ N 9.1 ՀԱՎԵԼՎԱԾԻ NN 9.1․32 ԵՎ 9.1.58 ԱՂՅՈՒՍԱԿՆԵՐՈՒՄ ԿԱՏԱՐՎՈՂ ՓՈՓՈԽՈՒԹՅՈՒՆՆԵՐԸ ԵՎ ԼՐԱՑՈՒՄՆԵՐԸ
F6: Աղյուսակ 9.1.32
A8: ՀՀ տարածքային կառավարման և ենթակառուցվածքների նախարարության պետական գույքի կառավարման կոմիտե
A9: ՄԱՍ 1. ՊԵՏԱԿԱՆ ՄԱՐՄՆԻ ԳԾՈՎ ԱՐԴՅՈՒՆՔԱՅԻՆ (ԿԱՏԱՐՈՂԱԿԱՆ) ՑՈՒՑԱՆԻՇՆԵՐԸ
A12: Ծրագրի դասիչը | B12: Ծրագրի անվանումը
A13: 1079 | B13: ='H1'!C14 -> Պետական գույքի կառավարում
A15: Ծրագրի միջոցառումները
A16: Ծրագրի դասիչը` | B16: 1079 | C16: Ցուցանիշների փոփոխությունը (ավելացումները նշված են դրական նշանով)
A17: Միջոցառման դասիչը` | B17: 11003 | C17: Առաջին եռամսյակ | D17: Առաջին կիսամյակ | E17: Ինն ամիս | F17: Տարի
A18: Միջոցառման անվանումը` | B18: Պետական գույքի հաշվառման, գույքագրման, գնահատման, անշարժ գույքի պահառության, սպասարկման աշխատանքների և աճուրդների իրականացման ծառայություններ
A19: Նկարագրությունը` | B19: Պետական գույքի հաշվառում, գույքագրում, գնահատում, անշարժ գույքի պահառություն, աճուրդների իրականացում և Կառավարական N 2 և N 3, ք. Երևան Վ.Սարգսյան 3/3 և Նալբանդյան 28 շենքերի սպասարկում
A20: Միջոցառման տեսակը` | B20: Ծառայությունների մատուցում
A21: Ծառայությունը մատուցող կազմակերպության(ների) անվանում(ներ)ը | B21: Մասնագիտացված կազմակերպություններ
A22: Արդյունքի չափորոշիչներ
A23: Միջոցառման վրա կատարվող ծախսը (հազար դրամ) | C23: ='H2'!G38 -> 20300 | D23: ='H2'!H38 -> 63600 | E23: ='H2'!I38 -> 70316.6 | F23: ='H2'!J38 -> 0
F26: Աղյուսակ 9.1.58
B27: ՀՀ կառավարություն
A28: ՄԱՍ 1. ՊԵՏԱԿԱՆ ՄԱՐՄՆԻ ԳԾՈՎ ԱՐԴՅՈՒՆՔԱՅԻՆ (ԿԱՏԱՐՈՂԱԿԱՆ) ՑՈՒՑԱՆԻՇՆԵՐԸ
A30: Ծրագրի դասիչը | B30: Ծրագրի անվանումը
A31: 1079 | B31: =B13 -> Պետական գույքի կառավարում
A33: Ծրագրի միջոցառումները
A34: Ծրագրի դասիչը` | B34: 1079 | C34: Ցուցանիշների փոփոխությունը (նվազեցումները նշված են փակագծերում)
A35: Միջոցառման դասիչը` | B35: 31005 | C35: Առաջին եռամսյակ | D35: Առաջին կիսամյակ | E35: Ինն ամիս | F35: Տարի
A36: Միջոցառման անվանումը` | B36: Հանրային իշխանության մարմիններին տրանսպորտային միջոցներով ապահովվածության բարելավում
A37: Նկարագրությունը` | B37: Հանրային իշխանության մարմինների գործունեությունն ապահովելու համար տրանսպորտային միջոցների ձեռքբերում
A38: Միջոցառման տեսակը` | B38: Պետական մարմինների կողմից օգտագործվող ոչ ֆինանսական ակտիվների հետ գործառնություններ
A39: Ակտիվն օգտագործող կազմակերպության անվանումը` | B39: Հանրային իշխանության մարմիններ
B40: Արդյունքի չափորոշիչներ
A41: Միջոցառման վրա կատարվող ծախսը (հազար դրամ) | C41: ='H2'!G23 -> -20300 | D41: ='H2'!H23 -> -63600 | E41: ='H2'!I23 -> -70316.6 | F41: ='H2'!J23 -> 0
F46: ='H3'!D20 -> Ա. ՀԱՐՈՒԹՅՈՒՆՅԱՆ
