Workbook
Name a: #REF!
Name a: #REF!
Name a: #REF!
Name a: #REF!
Name a: #REF!
Name AgencyCode: #REF!
Name AgencyCode: #REF!
Name AgencyCode: #REF!
Name AgencyCode: #REF!
Name AgencyCode: #REF!
Name AgencyCode: #REF!
Name AgencyName: #REF!
Name AgencyName: #REF!
Name AgencyName: #REF!
Name AgencyName: #REF!
Name davit: #REF!
Name davit: #REF!
Name davit: #REF!
Name Functional1: #REF!
Name Functional1: #REF!
Name Functional1: #REF!
Name Functional1: #REF!
Name ggg: #REF!
Name ggg: #REF!
Name ggg: #REF!
Name PANature: #REF!
Name PANature: #REF!
Name PANature: #REF!
Name PANature: #REF!
Name PAType: #REF!
Name PAType: #REF!
Name PAType: #REF!
Name PAType: #REF!
Name Performance2: #REF!
Name Performance2: #REF!
Name Performance2: #REF!
Name Performance2: #REF!
Name PerformanceType: #REF!
Name PerformanceType: #REF!
Name PerformanceType: #REF!
Name PerformanceType: #REF!
Name Հավելված: #REF!
Name Հավելված: #REF!
Name Հավելված: #REF!
Name Հավելված10: #REF!
Name Հավելված11: #REF!
Name Հավելված20: #REF!
Name Հավելված9: #REF!
Name Մաս: #REF!
Name Մաս: #REF!
Name Մաս: #REF!
Name շախմատիստ: #REF!
Name շախմատիստ: #REF!
Name շախմատիստ: #REF!

Sheet Հավելված N 1 
E1: Հավելված N 1
E2: ՀՀ կառավարության 2024 թվականի
E3: ______________ ի ___Ն որոշման
A5: «ՀԱՅԱՍՏԱՆԻ ՀԱՆՐԱՊԵՏՈՒԹՅԱՆ 2024 ԹՎԱԿԱՆԻ ՊԵՏԱԿԱՆ ԲՅՈՒՋԵԻ ՄԱՍԻՆ» ՕՐԵՆՔԻ 3-ՐԴ ՀՈԴՎԱԾԻ, N 3 ՀԱՎԵԼՎԱԾԻ N 1 ԱՂՅՈՒՍԱԿՈՒՄ ԵՎ ՀԱՅԱՍՏԱՆԻ ՀԱՆՐԱՊԵՏՈՒԹՅԱՆ ԿԱՌԱՎԱՐՈՒԹՅԱՆ 2023 ԹՎԱԿԱՆԻ ԴԵԿՏԵՄԲԵՐԻ 28-Ի N 2323-Ն ՈՐՈՇՄԱՆ N 1 ՀԱՎԵԼՎԱԾԻ N 1 ԱՂՅՈՒՍԱԿՈՒՄ ԿԱՏԱՐՎՈՂ ՓՈՓՈԽՈՒԹՅՈՒՆՆԵՐԸ
E7: հազ. դրամ
A8: Պետական բյուջեի դեֆիցիտի ֆինանսավորման աղբյուրներն ու դրանց տարրերի անվանումները | B8: Ցուցանիշների փոփոխությունը (ավելացումները նշված են դրական նշանով)
B9: Առաջին եռամսյակ | C9: Առաջին կիսամյակ | D9: Ինն ամիս | E9: Տարի
A10: ԸՆԴԱՄԵՆԸ | B10: =+B12 -> 716300.5 | C10: =+C12 -> 40945.5 | D10: =+D12 -> 0 | E10: =+E12 -> 0
A11: այդ թվում՝
A12: Ա.Ներքին աղբյուրներ-ընդամենը | B12: =+B14 -> 716300.5 | C12: =+C14 -> 40945.5 | D12: =+D14 -> 0 | E12: =+E14 -> 0
A13: այդ թվում՝
A14: 2. Ֆինանսական զուտ ակտիվներ | B14: =+B16 -> 716300.5 | C14: =+C16 -> 40945.5 | D14: =+D16 -> 0 | E14: =+E16 -> 0
A15: այդ թվում՝
A16: 2.6.Այլ | B16: =+B18 -> 716300.5 | C16: =+C18 -> 40945.5 | D16: =+D18 -> 0 | E16: =+E18 -> 0
A17: որից՝
A18: Ժամանակավորապես ազատ միջոցներ | B18: =+'Հավելված N 2'!D12 -> 716300.5 | C18: =+'Հավելված N 2'!E12 -> 40945.5 | D18: =+'Հավելված N 2'!F12 -> 0 | E18: =+'Հավելված N 2'!G12 -> 0

Sheet Հավելված N 2
C1: Հավելված N 2
C2: ՀՀ կառավարության 2024 թվականի
C3: ______________ ի ___Ն որոշման
A6: «ՀԱՅԱUՏԱՆԻ ՀԱՆՐԱՊԵՏՈՒԹՅԱՆ 2024 ԹՎԱԿԱՆԻ ՊԵՏԱԿԱՆ ԲՅՈՒՋԵԻ ՄԱUԻՆ» ՀԱՅԱUՏԱՆԻ ՀԱՆՐԱՊԵՏՈՒԹՅԱՆ OՐԵՆՔԻ N 1 ՀԱՎԵԼՎԱԾԻ N 2 ԱՂՅՈՒՍԱԿՈՒՄ ԿԱՏԱՐՎՈՂ ՎԵՐԱԲԱՇԽՈՒՄԸ ԵՎ ՀԱՅԱՍՏԱՆԻ ՀԱՆՐԱՊԵՏՈՒԹՅԱՆ ԿԱՌԱՎԱՐՈՒԹՅԱՆ 2023 ԹՎԱԿԱՆԻ ԴԵԿՏԵՄԲԵՐԻ 28-Ի N 2323-Ն ՈՐՈՇՄԱՆ N 5 ՀԱՎԵԼՎԱԾԻ N 1 ԱՂՅՈՒՍԱԿՈՒՄ ԿԱՏԱՐՎՈՂ ՓՈՓՈԽՈՒԹՅՈՒՆՆԵՐԸ ԵՎ ԼՐԱՑՈՒՄՆԵՐԸ
G9: հազ. դրամներով
A10: Ծրագրային դասիչը | C10: Բյուջետային հատկացումների գլխավոր կարգադրիչների, ծրագրերի և միջոցառումների անվանումները | D10: Ցուցանիշների փոփոխությունը (ավելացումները նշված են դրական նշանով, իսկ նվազեցումները փակագծերում)
A11: Ծրագիր | B11: Միջոցառում | D11: Առաջին եռամսյակ | E11: Առաջին կիսամյակ | F11: Ինն ամիս | G11: Տարի
A12: 1192 | C12: ԸՆԴԱՄԵՆԸ | D12: =+D14 -> 716300.5 | E12: =+E14 -> 40945.5 | F12: =+F14 -> 0 | G12: =+G14 -> 0
C13: այդ թվում
C14: ՀՀ ԿՐԹՈՒԹՅԱՆ, ԳԻՏՈՒԹՅԱՆ, ՄՇԱԿՈՒՅԹԻ ԵՎ ՍՊՈՐՏԻ ՆԱԽԱՐԱՐՈՒԹՅՈՒՆ | D14: =+D16+D29 -> 716300.5 | E14: =+E16+E29 -> 40945.5 | F14: =+F16+F29 -> 0 | G14: =+G16+G29 -> 0
A15: 1189 | C15: Ծրագրի անվանումը`
C16: Դպրոցների սեյսմիկ անվտանգության մակարդակի բարձրացման ծրագիր | D16: =+D23 -> 716300.5 | E16: =+E23 -> 2040945.5 | F16: =+F23 -> 2000000 | G16: =+G23 -> 2000000
C17: Ծրագրի նպատակը`
C18: Նպաստել երկրի սեյսմակայունության ապահովմանը, անհատական և հասարակական անվտանգության մակարդակի բարձրացմանը
C19: Վերջնական արդյունքի նկարագրությունը`
C20: Դպրոցական շենքերի սեյսմակայունության մակարդակի բարձրացում
C21: Ծրագրի միջոցառումներ
B22: 12003 | C22: Միջոցառման անվանումը`
C23: Ասիական զարգացման բանկի աջակցությամբ իրականացվող դպրոցների սեյսմիկ պաշտպանության ծրագրի լրացուցիչ ֆինանսավորման շրջանակներում ՀՀ դպրոցների սեյսմիկ անվտանգության բարելավմանն ուղղված միջոցառումներ | D23: =+'Հավելված N 3'!G76 -> 716300.5 | E23: =+'Հավելված N 3'!H76 -> 2040945.5 | F23: =+'Հավելված N 3'!I76 -> 2000000 | G23: =+'Հավելված N 3'!J76 -> 2000000
C24: Միջոցառման նկարագրությունը`
C25: Դպրոցների սեյսմիկ պաշտպանության լրացուցիչ ֆինանսավորման ծրագիր, դպրոցների շենքերի կառուցման, ամրացման շինարարական աշխատանքներ, շինարարական ստանդարտների արդիականացում, արտակարգ իրավիճակներին արձագանքման ծրագրի մշակում
C26: Միջոցառման տեսակը
C27: Տրանսֆերտների տրամադրում
A28: 1236 | C28: Ծրագրի անվանումը`
C29: Հանրակրթական և նախադպրոցական հաստատությունների հիմնում, կառուցում, բարելավում | D29: =+D36+D42+D48 -> 0 | E29: =+E36+E42+E48 -> -2000000 | F29: =+F36+F42+F48 -> -2000000 | G29: =+G36+G42+G48 -> -2000000
C30: Ծրագրի նպատակը`
C31: Առնվազն 300 դպրոցի և 500 մանկապարտեզի կառուցման, վերակառուցման, հիմնանորոգման ծրագրերի իրականացում ՀՀ պետական բյուջեի միջոցների շրջանակներում
C32: Վերջնական արդյունքի նկարագրությունը`
C33: Կրթական միջավայրի բարելավում
C34: Ծրագրի միջոցառումներ
B35: 32002 | C35: Միջոցառման անվանումը`
C36: Մանկապարտեզների շենքերի վերակառուցում, հիմնանորոգում | D36: =+'Հավելված N 3'!G26 -> 0 | E36: =+'Հավելված N 3'!H26 -> -258000 | F36: =+'Հավելված N 3'!I26 -> 0 | G36: =+'Հավելված N 3'!J26 -> 0
C37: Միջոցառման նկարագրությունը`
C38: Նախադպրոցական կրթության հասանելիության ապահովման նպատակով՛ մանկապարտեզների շենքերի (մասնաշենքերի), վերակառուցում, հիմնանորոգում և նախագծում
C39: Միջոցառման տեսակը
C40: Այլ պետական կազմակերպությունների կողմից օգտագործվող ոչ ֆինանսական ակտիվների հետ գործառնություններ
B41: 32003 | C41: Միջոցառման անվանումը`
C42: Հանրակրթական դպրոցների նոր շենքերի կառուցում | D42: =+'Հավելված N 3'!G43 -> 0 | E42: =+'Հավելված N 3'!H43 -> -1364000 | F42: =+'Հավելված N 3'!I43 -> -2000000 | G42: =+'Հավելված N 3'!J43 -> -2000000
C43: Միջոցառման նկարագրությունը`
C44: ՀՀ մարզերում կրթական որակյալ ծառայությունների հասանելիության ապահովման ծրագրի շրջանակներում հանրակրթական և նախադպրոցական կրթության հասանելիության ապահովման նպատակով կրթական կենտրոնների կառուցում
...

Sheet Հավելված N 3
F1: Հավելված N 3
F2: ՀՀ կառավարության 2024 թվականի
F3: ______________ ի ___Ն որոշման
A7: ՀԱՅԱՍՏԱՆԻ ՀԱՆՐԱՊԵՏՈՒԹՅԱՆ ԿԱՌԱՎԱՐՈՒԹՅԱՆ 2023 ԹՎԱԿԱՆԻ ԴԵԿՏԵՄԲԵՐԻ 28-Ի N 2323-Ն ՈՐՈՇՄԱՆ N 3 ԵՎ N 4 ՀԱՎԵԼՎԱԾՆԵՐՈՒՄ ԿԱՏԱՐՎՈՂ ՓՈՓՈԽՈՒԹՅՈՒՆՆԵՐԸ ԵՎ ԼՐԱՑՈՒՄՆԵՐԸ
J10: հազ. դրամներով
A11: Գործառական դասիչը | D11: Ծրագրային դասիչը | F11: Բյուջետային հատկացումների գլխավոր կարգադրիչների, ծրագրերի, միջոցառումների և միջոցառումները կատարող պետական մարմինների անվանումները | G11: Ցուցանիշների փոփոխությունը (ավելացումները նշված են դրական նշանով, իսկ նվազեցումները փակագծերում)
A12: Բաժին | B12: Խումբ | C12: Դաս | D12: Ծրագիր | E12: Միջոցառում | G12: Առաջին եռամսյակ | H12: Առաջին կիսամյակ | I12: Ինն ամիս | J12: Տարի
F13: ԸՆԴԱՄԵՆԸ | G13: =+G15 -> 716300.5 | H13: =+H15 -> 40945.5 | I13: =+I15 -> 0 | J13: =+J15 -> 0
F14: այդ թվում՝
F15: ՀՀ ԿՐԹՈՒԹՅԱՆ, ԳԻՏՈՒԹՅԱՆ, ՄՇԱԿՈՒՅԹԻ ԵՎ ՍՊՈՐՏԻ ՆԱԽԱՐԱՐՈՒԹՅՈՒՆ | G15: =+G16 -> 716300.5 | H15: =+H16 -> 40945.5 | I15: =+I16 -> 0 | J15: =+J16 -> 0
A16: 09 | F16: ԿՐԹՈՒԹՅՈՒՆ | G16: =+G18+G35+G68 -> 716300.5 | H16: =+H18+H35+H68 -> 40945.5 | I16: =+I18+I35+I68 -> 0 | J16: =+J18+J35+J68 -> 0
F17: այդ թվում`
B18: 01 | F18: Նախադպրոցական և տարրական ընդհանուր կրթություն | G18: =+G20 -> 0 | H18: =+H20 -> -258000 | I18: =+I20 -> 0 | J18: =+J20 -> 0
F19: այդ թվում`
C20: 01 | F20: Նախադպրոցական կրթություն | G20: =+G22 -> 0 | H20: =+H22 -> -258000 | I20: =+I22 -> 0 | J20: =+J22 -> 0
F21: այդ թվում`
F22: ՀՀ կրթության, գիտության, մշակույթի և սպորտի նախարարություն | G22: =+G24 -> 0 | H22: =+H24 -> -258000 | I22: =+I24 -> 0 | J22: =+J24 -> 0
F23: այդ թվում`
D24: 1236 | E24: Հանրակրթական և նախադպրոցական հաստատությունների հիմնում, կառուցում, բարելավում | G24: =+G26 -> 0 | H24: =+H26 -> -258000 | I24: =+I26 -> 0 | J24: =+J26 -> 0
F25: այդ թվում`
E26: 32002 | F26: Մանկապարտեզների շենքերի վերակառուցում, հիմնանորոգում | G26: =+G28 -> 0 | H26: =+H28 -> -258000 | I26: =+I28 -> 0 | J26: =+J28 -> 0
F27: այդ թվում` ըստ կատարողների
F28: ՀՀ տարածքային կառավարման և ենթակառուցվածքների նախարարություն | G28: =+G30 -> 0 | H28: =+H30 -> -258000 | I28: =+I30 -> 0 | J28: =+J30 -> 0
F29: այդ թվում՝ բյուջետային ծախսերի տնտեսագիտական դասակարգման հոդվածներ
F30: ԸՆԴԱՄԵՆԸ ԾԱԽՍԵՐ | G30: =G31 -> 0 | H30: =H31 -> -258000 | I30: =I31 -> 0 | J30: =J31 -> 0
F31: ՈՉ ՖԻՆԱՆՍԱԿԱՆ ԱԿՏԻՎՆԵՐԻ ԳԾՈՎ ԾԱԽՍԵՐ | G31: =+G32 -> 0 | H31: =+H32 -> -258000 | I31: =+I32 -> 0 | J31: =+J32 -> 0
F32: ՀԻՄՆԱԿԱՆ ՄԻՋՈՑՆԵՐ | G32: =+G33 -> 0 | H32: =+H33 -> -258000 | I32: =+I33 -> 0 | J32: =+J33 -> 0
F33: ՇԵՆՔԵՐ ԵՎ ՇԻՆՈՒԹՅՈՒՆՆԵՐ | G33: =+G34 -> 0 | H33: =+H34 -> -258000 | I33: =+I34 -> 0 | J33: =+J34 -> 0
F34: - Շենքերի և շինությունների կապիտալ վերանորոգում | G34: =+'Հավելված N 5'!E15 -> 0 | H34: =+'Հավելված N 5'!F15 -> -258000 | I34: =+'Հավելված N 5'!G15 -> 0 | J34: =+'Հավելված N 5'!H15 -> 0
B35: 02 | F35: Միջնակարգ ընդհանուր կրթություն | G35: =+G37 -> 0 | H35: =+H37 -> -1742000 | I35: =+I37 -> -2000000 | J35: =+J37 -> -2000000
F36: այդ թվում`
F37: Հիմնական ընդհանուր կրթություն | G37: =+G39 -> 0 | H37: =+H39 -> -1742000 | I37: =+I39 -> -2000000 | J37: =+J39 -> -2000000
C38: 01 | F38: այդ թվում`
F39: ՀՀ կրթության, գիտության, մշակույթի և սպորտի նախարարություն | G39: =+G41 -> 0 | H39: =+H41 -> -1742000 | I39: =+I41 -> -2000000 | J39: =+J41 -> -2000000
F40: այդ թվում`
D41: 1236 | E41: Հանրակրթական և նախադպրոցական հաստատությունների հիմնում, կառուցում, բարելավում | G41: =+G43+G59 -> 0 | H41: =+H43+H59 -> -1742000 | I41: =+I43+I59 -> -2000000 | J41: =+J43+J59 -> -2000000
F42: այդ թվում`
E43: 32003 | F43: Հանրակրթական դպրոցների նոր շենքերի կառուցում | G43: =+G45+G52 -> 0 | H43: =+H45+H52 -> -1364000 | I43: =+I45+I52 -> -2000000 | J43: =+J45+J52 -> -2000000
F44: այդ թվում` ըստ կատարողների
F45: ՀՀ կրթության, գիտության, մշակույթի և սպորտի նախարարություն | G45: =+G47 -> 0 | H45: =+H47 -> -1364000 | I45: =+I47 -> -1010000 | J45: =+J47 -> -1005000
...

Sheet Հավելված N 4
F1: Հավելված N 4
F2: ՀՀ կառավարության 2024 թվականի
F3: ______________ ի ___Ն որոշման
A5: «ՀԱՅԱUՏԱՆԻ ՀԱՆՐԱՊԵՏՈՒԹՅԱՆ 2024 ԹՎԱԿԱՆԻ ՊԵՏԱԿԱՆ ԲՅՈՒՋԵԻ ՄԱUԻՆ» ՀԱՅԱUՏԱՆԻ ՀԱՆՐԱՊԵՏՈՒԹՅԱՆ OՐԵՆՔԻ N 1 ՀԱՎԵԼՎԱԾԻ N 3 ԱՂՅՈՒՍԱԿՈՒՄ ԿԱՏԱՐՎՈՂ ՓՈՓՈԽՈՒԹՅՈՒՆՆԵՐԸ
G8: հազ. դրամներով
A9: Ծրագրային դասիչ | C9: Բյուջետային գլխավոր կարգադրիչների, ծրագրերի, միջոցառումների, միջոցառումները կատարող պետական մարմինների և ուղղությունների անվանումները | D9: Ընդամենը | E9: Ցուցանիշների փոփոխությունը (նվազեցումները նշված են փակագծերում)
A10: Ծրագիր | B10: Միջոցառում | E10: Կառուցման աշխատանքներ | F10: Վերակառուցման, վերանորոգման և վերականգնման աշխատանքներ | G10: Նախագծահե- տազոտական, գեոդեզիա- քարտեզագրա- կան աշխա- տանքներ | H10: Ոչ ֆինանսական այլ ակտիվների ձեռքբերում
C11: ԸՆԴԱՄԵՆԸ | D11: =SUM(E11:H11) -> -2000000 | E11: =+E13 -> -2000000 | F11: =+F13 -> 0 | G11: =+G13 -> 0 | H11: =+H13 -> 0
C12: այդ թվում՝
C13: ՀՀ ԿՐԹՈՒԹՅԱՆ, ԳԻՏՈՒԹՅԱՆ, ՄՇԱԿՈՒՅԹԻ ԵՎ ՍՊՈՐՏԻ ՆԱԽԱՐԱՐՈՒԹՅՈՒՆ | D13: =SUM(E13:H13) -> -2000000 | E13: =+E15 -> -2000000 | F13: =+F15 -> 0 | G13: =+G15 -> 0 | H13: =+H15 -> 0
C14: այդ թվում`
A15: 1236 | B15: 32003 | C15: Հանրակրթական դպրոցների նոր շենքերի կառուցում | D15: =SUM(E15:H15) -> -2000000 | E15: =+E17+E18+E20+E22 -> -2000000 | F15: =+F17+F18 -> 0 | G15: =+G17+G18 -> 0 | H15: =+H17+H18 -> 0
C16: այդ թվում`
C17: Հանրակրթական դպրոցների նոր շենքերի կառուցում | D17: =SUM(E17:H17) -> -995000 | E17: -995000 | G17: 0 | H17: 0
C18: ՀՀ Արմավիրի մարզ | D18: =SUM(E18:H18) -> -300000 | E18: =+E19 -> -300000 | F18: =+F19 -> 0 | G18: =+G19 -> 0 | H18: =+H19 -> 0
C19: ք. Վաղարշապատի Վ.Ռշտունու անվ. թիվ 11 հիմնական դպրոց | D19: =+E19+F19+G19+H19 -> -300000 | E19: -300000
C20: ՀՀ Գեղարքունիքի մարզ | D20: =SUM(E20:H20) -> -300000 | E20: =+E21 -> -300000 | F20: =+F21 -> 0 | G20: =+G21 -> 0 | H20: =+H21 -> 0
C21: ք. Գավառի թիվ 5 հիմնական դպրոց | D21: =+E21+F21+G21+H21 -> -300000 | E21: -300000
C22: ՀՀ Կոտայքի մարզ | D22: =SUM(E22:H22) -> -405000 | E22: =+E23 -> -405000 | F22: =+F23 -> 0 | G22: =+G23 -> 0 | H22: =+H23 -> 0
C23: Արամուս բնակավայրի միջնակարգ դպրոց | D23: =+E23+F23+G23+H23 -> -405000 | E23: -405000

Sheet Հավելված N 5
G1: Հավելված N 5
E2: ՀՀ կառավարության 2024 թվականի
G3: ______________ ի ___Ն որոշման
B6: ՀԱՅԱՍՏԱՆԻ ՀԱՆՐԱՊԵՏՈՒԹՅԱՆ ԿԱՌԱՎԱՐՈՒԹՅԱՆ 2023 ԹՎԱԿԱՆԻ ԴԵԿՏԵՄԲԵՐԻ 28-Ի N 2323-Ն ՈՐՈՇՄԱՆ N 5 ՀԱՎԵԼՎԱԾԻ N 2 ԱՂՅՈՒՍԱԿՈՒՄ ԿԱՏԱՐՎՈՂ ՓՈՓՈԽՈՒԹՅՈՒՆՆԵՐԸ
H8: հազ. դրամներով
B9: Ծրագրային դասիչ | D9: Բյուջետային գլխավոր կարգադրիչների, ծրագրերի, միջոցառումների, միջոցառումները կատարող պետական մարմինների և ուղղությունների անվանումները | E9: Ցուցանիշների փոփոխությունը (նվազեցումները նշված են փակագծերում)
B10: Ծրագիր | C10: Միջոցառում | E10: Առաջին եռամսյակ | F10: Առաջին կիսամյակ | G10: Ինն ամիս | H10: Տարի
D11: ՀՀ ԿՐԹՈՒԹՅԱՆ, ԳԻՏՈՒԹՅԱՆ, ՄՇԱԿՈՒՅԹԻ ԵՎ ՍՊՈՐՏԻ ՆԱԽԱՐԱՐՈՒԹՅՈՒՆ | E11: =+E13+E16+E49 -> 0 | F11: =+F13+F16+F49 -> -2000000 | G11: =+G13+G16+G49 -> -2000000 | H11: =+H13+H16+H49 -> -2000000
D12: այդ թվում՝
B13: 1236 | C13: 32002 | D13: Մանկապարտեզների շենքերի վերակառուցում, հիմնանորոգում | E13: =+E15 -> 0 | F13: =+F15 -> -258000 | G13: =+G15 -> 0 | H13: =+H15 -> 0
D14: այդ թվում` ըստ կատարողների
D15: ՀՀ տարածքային կառավարման և ենթակառուցվածքների նախարարություն | E15: 0 | F15: =-2000000-F16-F49 -> -258000 | G15: 0 | H15: 0
B16: 1236 | C16: 32003 | D16: Հանրակրթական դպրոցների նոր շենքերի կառուցում | E16: =+E18+E48 -> 0 | F16: =+F18+F48 -> -1364000 | G16: =+G18+G48 -> -2000000 | H16: =+H18+H48 -> -2000000
D17: այդ թվում` ըստ կատարողների
D18: ՀՀ կրթության, գիտության, մշակույթի և սպորտի նախարարություն | E18: =+E20+E26+E28+E30+E35+E39+E44 -> 0 | F18: =+F20+F26+F28+F30+F35+F39+F44 -> -1364000 | G18: =+G20+G26+G28+G30+G35+G39+G44 -> -1010000 | H18: =+H20+H26+H28+H30+H35+H39+H44 -> -1005000
D19: այդ թվում՝ ըստ ուղղությունների
D20: Երևան քաղաք | E20: =+E21+E22+E23+E24+E25 -> 0 | F20: =+F21+F22+F23+F24+F25 -> -332000 | G20: =+G21+G22+G23+G24+G25 -> -88000 | H20: =+H21+H22+H23+H24+H25 -> 0
D21: Երևան Երևանի թիվ 124 հիմնական դպրոց (նախկին «Երևանի թիվ 201 հիմնական դպրոց» ՊՈԱԿ–ի տեղակայման վայրում) | E21: 0 | F21: -80000
D22: Երևանի թիվ 64 հիմնական դպրոց | E22: 0 | F22: -75000
D23: Երևանի Ս. Շահմուրադյանի անվան թիվ 85 հիմնական դպրոց | E23: 0 | F23: -44000 | G23: -88000
D24: Երևանի թիվ 187 միջնակարգ դպրոց | E24: 0 | F24: -64000
D25: Երևանի թիվ 107 հիմնական դպրոց | E25: 0 | F25: -69000
D26: ՀՀ Արագածոտնի մարզ | E26: =+E27 -> 0 | F26: =+F27 -> -64000 | G26: =+G27 -> 0 | H26: =+H27 -> 0
D27: գ. Օշականի Մ.Մաշտոցի անվ. միջնակարգ դպրոց | E27: 0 | F27: -64000
D28: ՀՀ Արմավիրի մարզ | E28: =+E29 -> 0 | F28: =+F29 -> -60000 | G28: =+G29 -> -120000 | H28: =+H29 -> -300000
D29: ք. Վաղարշապատի Վ.Ռշտունու անվ. թիվ 11 հիմնական դպրոց | E29: 0 | F29: -60000 | G29: -120000 | H29: =+'Հավելված N 4'!D19 -> -300000
D30: ՀՀ Գեղարքունիքի մարզ | E30: =+E31 -> 0 | F30: =+F31+F32+F33+F34 -> -290000 | G30: =+G31+G32+G33+G34 -> -282000 | H30: =+H31+H32+H33+H34 -> -300000
D31: գ. Ծովինարի Արծրուն Խաչատրյանի անվ. միջնակարգ դպրոց | E31: 0 | F31: -81000 | G31: -162000
D32: ք. Սևանի Վ.Կարապետյանի անվ. թիվ 3 հիմնական դպրոց | E32: 0 | F32: -80000
D33: ք. Գավառի Գեորգի Մնացականյանի թիվ 7 միջնակարգ դպրոց | E33: 0 | F33: -69000
D34: ք. Գավառի թիվ 5 հիմնական դպրոց | E34: 0 | F34: -60000 | G34: -120000 | H34: =+'Հավելված N 4'!D21 -> -300000
D35: ՀՀ Լոռու մարզ | E35: =SUM(E36:E38) -> 0 | F35: =+F36+F37+F38 -> -132000 | G35: =+G36+G37+G38 -> -88000 | H35: =+H36+H37+H38 -> 0
D36: գ. Աքորու միջնակարգ դպրոց | E36: 0 | F36: -44000 | G36: -88000
D37: գ. Մեծավանի թիվ 2 միջնակարգ դպրոց | E37: 0 | F37: -44000
D38: գ. Դսեղի Հ.Թումանյանի անվան միջնակարգ դպրոց | E38: 0 | F38: -44000
D39: ՀՀ Կոտայքի մարզ | E39: =+E40 -> 0 | F39: =+F40+F41+F42+F43 -> -279000 | G39: =+G40+G41+G42+G43 -> -294000 | H39: =+H40+H41+H42+H43 -> -405000
D40: Կապուտան բնակավայրի միջնակարգ դպրոց | E40: 0 | F40: -66000 | G40: -132000
D41: Գեղադիր բնակավայրի միջնակարգ դպրոց | E41: 0 | F41: -66000
D42: Արագյուղ բնակավայրի միջնակարգ դպրոց | E42: 0 | F42: -66000
D43: Արամուս բնակավայրի միջնակարգ դպրոց | E43: 0 | F43: -81000 | G43: -162000 | H43: =+'Հավելված N 4'!D23 -> -405000
...

Sheet Հավելված N 6
N1: Հավելված N 6
L2: ՀՀ կառավարության 2024 թվականի
N3: ______________ ի ___Ն որոշման
A6: «ՀԱՅԱՍՏԱՆԻ ՀԱՆՐԱՊԵՏՈՒԹՅԱՆ 2024 ԹՎԱԿԱՆԻ ՊԵՏԱԿԱՆ ԲՅՈՒՋԵԻ ՄԱՍԻՆ» ՕՐԵՆՔԻ N 1 ՀԱՎԵԼՎԱԾԻ N 4 ԱՂՅՈՒՍԱԿՈՒՄ ԵՎ ՀԱՅԱՍՏԱՆԻ ՀԱՆՐԱՊԵՏՈՒԹՅԱՆ ԿԱՌԱՎԱՐՈՒԹՅԱՆ 2023 ԹՎԱԿԱՆԻ ԴԵԿՏԵՄԲԵՐԻ 28-Ի N 2323-Ն ՈՐՈՇՄԱՆ N 5 ՀԱՎԵԼՎԱԾԻ N 3 ԱՂՅՈՒՍԱԿՈՒՄ ԿԱՏԱՐՎՈՂ ԼՐԱՑՈՒՄՆԵՐԸ
O8: հազ. դրամներով
A9: Ծրագրային դասիչը | C9: Բյուջետային հատկացումների գլխավոր կարգադրիչների, ծրագրերի, միջոցառումների և միջոցառումները կատարող պետական մարմինների անվանումները | D9: Ցուցանիշների փոփոխությունը (ավելացումները նշված են դրական նշանով, իսկ նվազեցումները՝ փակագծերում)
D10: Առաջին եռամսյակ | G10: Կիսամյակ | J10: Ինն ամիս | M10: Տարի
D11: Ընդամենը | E11: այդ թվում` | G11: Ընդամենը | H11: այդ թվում` | J11: Ընդամենը | K11: այդ թվում` | M11: Ընդամենը | N11: այդ թվում`
A12: Ծրագիր | B12: Միջոցառում | E12: Վարկային միջոցներ | F12: Համաֆինան սավորում | H12: Վարկային միջոցներ | I12: Համաֆինան սավորում | K12: Վարկային միջոցներ | L12: Համաֆինան սավորում | N12: Վարկային միջոցներ | O12: Համաֆինան սավորում
C13: ԸՆԴԱՄԵՆԸ | D13: =+E13+F13 -> 716300.5 | E13: =+E15 -> 0 | F13: =+F15 -> 716300.5 | G13: =+H13+I13 -> 2040945.5 | H13: =+H15 -> 0 | I13: =+I15 -> 2040945.5 | J13: =+K13+L13 -> 2000000 | K13: =+K15 -> 0 | L13: =+L15 -> 2000000 | M13: =+N13+O13 -> 2000000 | N13: =+N15 -> 0 | O13: =+O15 -> 2000000
C14: այդ թվում`
C15: ՈՉ ՖԻՆԱՆՍԱԿԱՆ ԱԿՏԻՎՆԵՐԻ ԳԾՈՎ ԾԱԽՍԵՐ | D15: =+E15+F15 -> 716300.5 | E15: =+E16 -> 0 | F15: =+F16 -> 716300.5 | G15: =+H15+I15 -> 2040945.5 | H15: =+H16 -> 0 | I15: =+I16 -> 2040945.5 | J15: =+K15+L15 -> 2000000 | K15: =+K16 -> 0 | L15: =+L16 -> 2000000 | M15: =+N15+O15 -> 2000000 | N15: =+N16 -> 0 | O15: =+O16 -> 2000000
C16: ՀՀ կրթության, գիտության, մշակույթի և սպորտի նախարարություն | D16: =+E16+F16 -> 716300.5 | E16: =+E18 -> 0 | F16: =+F18 -> 716300.5 | G16: =+H16+I16 -> 2040945.5 | H16: =+H18 -> 0 | I16: =+I18 -> 2040945.5 | J16: =+K16+L16 -> 2000000 | K16: =+K18 -> 0 | L16: =+L18 -> 2000000 | M16: =+N16+O16 -> 2000000 | N16: =+N18 -> 0 | O16: =+O18 -> 2000000
C17: այդ թվում`
A18: 1189 | C18: Դպրոցների սեյսմիկ անվտանգության մակարդակի բարձրացման ծրագիր | D18: =+E18+F18 -> 716300.5 | E18: =+E20 -> 0 | F18: =+F20 -> 716300.5 | G18: =+H18+I18 -> 2040945.5 | H18: =+H20 -> 0 | I18: =+I20 -> 2040945.5 | J18: =+K18+L18 -> 2000000 | K18: =+K20 -> 0 | L18: =+L20 -> 2000000 | M18: =+N18+O18 -> 2000000 | N18: =+N20 -> 0 | O18: =+O20 -> 2000000
C19: այդ թվում`
B20: 12003 | C20: Ասիական զարգացման բանկի աջակցությամբ իրականացվող դպրոցների սեյսմիկ պաշտպանության ծրագրի լրացուցիչ ֆինանսավորման շրջանակներում ՀՀ դպրոցների սեյսմիկ անվտանգության բարելավմանն ուղղված միջոցառումներ | D20: =+E20+F20 -> 716300.5 | E20: =+E22 -> 0 | F20: =+F22 -> 716300.5 | G20: =+H20+I20 -> 2040945.5 | H20: =+H22 -> 0 | I20: =+I22 -> 2040945.5 | J20: =+K20+L20 -> 2000000 | K20: =+K22 -> 0 | L20: =+L22 -> 2000000 | M20: =+N20+O20 -> 2000000 | N20: =+N22 -> 0 | O20: =+O22 -> 2000000
C21: այդ թվում` ըստ կատարողների
C22: ՀՀ տարածքային կառավարման և ենթակառուցվածքների նախարարություն | D22: =+E22+F22 -> 716300.5 | E22: =+E24 -> 0 | F22: =+F24 -> 716300.5 | G22: =+H22+I22 -> 2040945.5 | H22: =+H24 -> 0 | I22: =+I24 -> 2040945.5 | J22: =+K22+L22 -> 2000000 | K22: =+K24 -> 0 | L22: =+L24 -> 2000000 | M22: =+N22+O22 -> 2000000 | N22: =+N24 -> 0 | O22: =+O24 -> 2000000
C23: այդ թվում` բյուջետային ծախսերի տնտեսագիտական դասակարգման հոդվածներ
C24: ԸՆԴԱՄԵՆԸ ԾԱԽՍԵՐ | D24: =+E24+F24 -> 716300.5 | E24: =+E25 -> 0 | F24: =+F25 -> 716300.5 | G24: =+H24+I24 -> 2040945.5 | H24: =+H25 -> 0 | I24: =+I25 -> 2040945.5 | J24: =+K24+L24 -> 2000000 | K24: =+K25 -> 0 | L24: =+L25 -> 2000000 | M24: =+N24+O24 -> 2000000 | N24: =+N25 -> 0 | O24: =+O25 -> 2000000
C25: ՈՉ ՖԻՆԱՆՍԱԿԱՆ ԱԿՏԻՎՆԵՐԻ ԳԾՈՎ ԾԱԽՍԵՐ | D25: =+E25+F25 -> 716300.5 | E25: =+E26 -> 0 | F25: =+F26 -> 716300.5 | G25: =+H25+I25 -> 2040945.5 | H25: =+H26 -> 0 | I25: =+I26 -> 2040945.5 | J25: =+K25+L25 -> 2000000 | K25: =+K26 -> 0 | L25: =+L26 -> 2000000 | M25: =+N25+O25 -> 2000000 | N25: =+N26 -> 0 | O25: =+O26 -> 2000000
C26: ՀԻՄՆԱԿԱՆ ՄԻՋՈՑՆԵՐ | D26: =+E26+F26 -> 716300.5 | E26: =+E27 -> 0 | F26: =+F27 -> 716300.5 | G26: =+H26+I26 -> 2040945.5 | H26: =+H27 -> 0 | I26: =+I27 -> 2040945.5 | J26: =+K26+L26 -> 2000000 | K26: =+K27 -> 0 | L26: =+L27 -> 2000000 | M26: =+N26+O26 -> 2000000 | N26: =+N27 -> 0 | O26: =+O27 -> 2000000
C27: ՇԵՆՔԵՐ ԵՎ ՇԻՆՈՒԹՅՈՒՆՆԵՐ | D27: =+E27+F27 -> 716300.5 | E27: =+E28 -> 0 | F27: =+F28 -> 716300.5 | G27: =+H27+I27 -> 2040945.5 | H27: =+H28 -> 0 | I27: =+I28 -> 2040945.5 | J27: =+K27+L27 -> 2000000 | K27: =+K28 -> 0 | L27: =+L28 -> 2000000 | M27: =+N27+O27 -> 2000000 | N27: =+N28 -> 0 | O27: =+O28 -> 2000000
C28: - Շենքերի և շինությունների շինարարություն | D28: =+E28+F28 -> 716300.5 | E28: 0 | F28: 716300.5 | G28: =+H28+I28 -> 2040945.5 | I28: =40945.5+2000000 -> 2040945.5 | J28: =+K28+L28 -> 2000000 | L28: 2000000 | M28: =+N28+O28 -> 2000000 | O28: 2000000

Sheet Հավելված N 7
C1: Հավելված N 7
C2: ՀՀ կառավարության 2024 թվականի
C3: ______________ ի ___Ն որոշման
B6: ՀԱՅԱՍՏԱՆԻ ՀԱՆՐԱՊԵՏՈՒԹՅԱՆ ԿԱՌԱՎԱՐՈՒԹՅԱՆ 2023 ԹՎԱԿԱՆԻ ԴԵԿՏԵՄԲԵՐԻ 28-Ի N 2323-Ն ՈՐՈՇՄԱՆ N 9 ՀԱՎԵԼՎԱԾԻ NN 9.13 ԱՂՅՈՒՍԱԿՈՒՄ ԿԱՏԱՐՎՈՂ ՓՈՓՈԽՈՒԹՅՈՒՆՆԵՐԸ ԵՎ ԼՐԱՑՈՒՄՆԵՐԸ
A8: Աղյուսակ 9․13
C9: ՀՀ կրթության, գիտության, մշակույթի և սպորտի նախարարություն
B10: ՄԱՍ 2. ՊԵՏԱԿԱՆ ՄԱՐՄՆԻ ԳԾՈՎ ԱՐԴՅՈՒՆՔԱՅԻՆ (ԿԱՏԱՐՈՂԱԿԱՆ) ՑՈՒՑԱՆԻՇՆԵՐԸ
B13: Ծրագրի դասիչը | C13: Ծրագրի անվանումը
B14: 1189 | C14: Դպրոցների սեյսմիկ անվտանգության մակարդակի բարձրացման ծրագիր
B16: Ծրագրի միջոցառումները
B17: Ծրագրի դասիչը՝ | C17: 1189 | D17: Ցուցանիշների փոփոխությունը (ավելացումները նշված են դրական նշանով)
B18: Միջոցառման դասիչը՝ | C18: 12003 | D18: Առաջին եռամսյակ | E18: Առաջին կիսամյակ | F18: Ինն ամիս | G18: Տարի
B19: Միջոցառման անվանումը` | C19: Ասիական զարգացման բանկի աջակցությամբ իրականացվող դպրոցների սեյսմիկ պաշտպանության ծրագրի լրացուցիչ ֆինանսավորման շրջանակներում ՀՀ դպրոցների սեյսմիկ անվտանգության բարելավմանն ուղղված միջոցառումներ
B20: Նկարագրությունը` | C20: Դպրոցների սեյսմիկ պաշտպանության լրացուցիչ ֆինանսավորման ծրագիր, դպրոցների շենքերի կառուցման, ամրացման շինարարական աշխատանքներ, շինարարական ստանդարտների արդիականացում, արտակարգ իրավիճակներին արձագանքման ծրագրի մշակում
B21: Միջոցառման տեսակը` | C21: Տրանսֆերտների տրամադրում
B22: Միջոցառումն իրականացնողի անվանումը՛ | C22: Մասնագիտացված միավոր
B23: Արդյունքի չափորոշիչներ
B24: Միջոցառման վրա կատարվող ծախսը (հազար դրամ) | D24: =+'Հավելված N 2'!D23 -> 716300.5 | E24: =+'Հավելված N 2'!E23 -> 2040945.5 | F24: =+'Հավելված N 2'!F23 -> 2000000 | G24: =+'Հավելված N 2'!G23 -> 2000000
B26: Ծրագրի դասիչը | C26: Ծրագրի անվանումը
B27: 1236 | C27: Հանրակրթական և նախադպրոցական հաստատությունների հիմնում, կառուցում, բարելավում
B29: Ծրագրի միջոցառումները
B30: Ծրագրի դասիչը՝ | C30: 1236 | D30: Ցուցանիշների փոփոխությունը (նվազեցումները՝ նշված են փակագծերում)
B31: Միջոցառման դասիչը՝ | C31: 32002 | D31: Առաջին եռամսյակ | E31: Առաջին կիսամյակ | F31: Ինն ամիս | G31: Տարի
B32: Միջոցառման անվանումը` | C32: Մանկապարտեզների շենքերի վերակառուցում, հիմնանորոգում
B33: Նկարագրությունը` | C33: Նախադպրոցական կրթության հասանելիության ապահովման նպատակով՛ մանկապարտեզների շենքերի (մասնաշենքերի), վերակառուցում, հիմնանորոգում և նախագծում
B34: Միջոցառման տեսակը` | C34: Այլ պետական կազմակերպությունների կողմից օգտագործվող ոչ ֆինանսական ակտիվների հետ գործառնություններ
B35: Ակտիվն օգտագործող կազմակերպությունների անվանումները | C35: Նախադպրոցական կրթությույն իրականացնող ուսումնական հաստատություններ
B36: Արդյունքի չափորոշիչներ
B37: Միջոցառման վրա կատարվող ծախսը (հազար դրամ) | D37: =+'Հավելված N 2'!D36 -> 0 | E37: =+'Հավելված N 2'!E36 -> -258000 | F37: =+'Հավելված N 2'!F36 -> 0 | G37: =+'Հավելված N 2'!G36 -> 0
B39: Ծրագրի միջոցառումները
B40: Ծրագրի դասիչը՝ | C40: 1236 | D40: Ցուցանիշների փոփոխությունը (նվազեցումները՝ նշված են փակագծերում)
B41: Միջոցառման դասիչը՝ | C41: 32003 | D41: Առաջին եռամսյակ | E41: Առաջին կիսամյակ | F41: Ինն ամիս | G41: Տարի
B42: Միջոցառման անվանումը` | C42: Հանրակրթական դպրոցների նոր շենքերի կառուցում
B43: Նկարագրությունը` | C43: ՀՀ մարզերում կրթական որակյալ ծառայությունների հասանելիության ապահովման ծրագրի շրջանակներում հանրակրթական և նախադպրոցական կրթության հասանելիության ապահովման նպատակով կրթական կենտրոնների կառուցում
B44: Միջոցառման տեսակը` | C44: Այլ պետական կազմակերպությունների կողմից օգտագործվող ոչ ֆինանսական ակտիվների հետ գործառնություններ
B45: Ակտիվն օգտագործող կազմակերպությունների անվանումները | C45: Հանրակրթական դպրոցներ
B46: Արդյունքի չափորոշիչներ
B47: Արագածոտնի մարզում կրթական որակյալ ծառայությունների հասանելիության ապահովման ծրագրի շրջանակներում կառուցվող՛ կլաստերների կենտրոն-դպրոցների թիվը, հատ | E47: -1
B48: Գեղարքունիքի մարզում կրթական որակյալ ծառայությունների հասանելիության ապահովման ծրագրի շրջանակներում կառուցվող՛ կլաստերների կենտրոն-դպրոցների թիվը, հատ | E48: -1
B49: Լոռու մարզում կրթական որակյալ ծառայությունների հասանելիության ապահովման ծրագրի շրջանակներում կառուցվող՛ կլաստերների կենտրոն-դպրոցների թիվը, հատ | E49: -3
...

Sheet Հավելված N 8
C1: Հավելված N 8
C2: ՀՀ կառավարության 2024 թվականի
C3: ______________ ի ___Ն որոշման
B6: ՀԱՅԱՍՏԱՆԻ ՀԱՆՐԱՊԵՏՈՒԹՅԱՆ ԿԱՌԱՎԱՐՈՒԹՅԱՆ 2023 ԹՎԱԿԱՆԻ ԴԵԿՏԵՄԲԵՐԻ 28-Ի N 2323-Ն ՈՐՈՇՄԱՆ N 9.1 ՀԱՎԵԼՎԱԾԻ NN 9.1.7, 9.1.13 ԵՎ 9.1.58 ԱՂՅՈՒՍԱԿՆԵՐՈՒՄ ԿԱՏԱՐՎՈՂ ՓՈՓՈԽՈՒԹՅՈՒՆՆԵՐԸ ԵՎ ԼՐԱՑՈՒՄՆԵՐԸ
A9: Աղյուսակ 9․1.7
C10: ՀՀ տարածքային կառավարման և ենթակառուցվածքների նախարարություն
B11: ՄԱՍ 1. ՊԵՏԱԿԱՆ ՄԱՐՄՆԻ ԳԾՈՎ ԱՐԴՅՈՒՆՔԱՅԻՆ (ԿԱՏԱՐՈՂԱԿԱՆ) ՑՈՒՑԱՆԻՇՆԵՐԸ
B14: Ծրագրի դասիչը | C14: Ծրագրի անվանումը
B15: 1189 | C15: Դպրոցների սեյսմիկ անվտանգության մակարդակի բարձրացման ծրագիր
B17: Ծրագրի միջոցառումները
B18: Ծրագրի դասիչը՝ | C18: 1189 | D18: Ցուցանիշների փոփոխությունը (ավելացումները նշված են դրական նշանով)
B19: Միջոցառման դասիչը՝ | C19: 12003 | D19: Առաջին եռամսյակ | E19: Առաջին կիսամյակ | F19: Ինն ամիս | G19: Տարի
B20: Միջոցառման անվանումը` | C20: Ասիական զարգացման բանկի աջակցությամբ իրականացվող դպրոցների սեյսմիկ պաշտպանության ծրագրի լրացուցիչ ֆինանսավորման շրջանակներում ՀՀ դպրոցների սեյսմիկ անվտանգության բարելավմանն ուղղված միջոցառումներ
B21: Նկարագրությունը` | C21: Դպրոցների սեյսմիկ պաշտպանության լրացուցիչ ֆինանսավորման ծրագիր, դպրոցների շենքերի կառուցման, ամրացման շինարարական աշխատանքներ, շինարարական ստանդարտների արդիականացում, արտակարգ իրավիճակներին արձագանքման ծրագրի մշակում
B22: Միջոցառման տեսակը` | C22: Տրանսֆերտների տրամադրում
B23: Միջոցառումն իրականացնողի անվանումը՛ | C23: Մասնագիտացված միավոր
B24: Արդյունքի չափորոշիչներ
B25: Միջոցառման վրա կատարվող ծախսը (հազար դրամ) | D25: =+'Հավելված N 3'!G76 -> 716300.5 | E25: =+'Հավելված N 3'!H76 -> 2040945.5 | F25: =+'Հավելված N 3'!I76 -> 2000000 | G25: =+'Հավելված N 3'!J76 -> 2000000
B27: Ծրագրի դասիչը | C27: Ծրագրի անվանումը
B28: 1236 | C28: Հանրակրթական և նախադպրոցական հաստատությունների հիմնում, կառուցում, բարելավում
B30: Ծրագրի միջոցառումները
B31: Ծրագրի դասիչը՝ | C31: 1236 | D31: Ցուցանիշների փոփոխությունը (նվազեցումները նշված են փակագծերում)
B32: Միջոցառման դասիչը՝ | C32: 32002 | D32: Առաջին եռամսյակ | E32: Առաջին կիսամյակ | F32: Ինն ամիս | G32: Տարի
B33: Միջոցառման անվանումը` | C33: Մանկապարտեզների շենքերի վերակառուցում, հիմնանորոգում
B34: Նկարագրությունը` | C34: Նախադպրոցական կրթության հասանելիության ապահովման նպատակով՛ մանկապարտեզների շենքերի (մասնաշենքերի), վերակառուցում, հիմնանորոգում և նախագծում
B35: Միջոցառման տեսակը` | C35: Այլ պետական կազմակերպությունների կողմից օգտագործվող ոչ ֆինանսական ակտիվների հետ գործառնություններ
B36: Ակտիվն օգտագործող կազմակերպությունների անվանումները | C36: Նախադպրոցական կրթությույն իրականացնող ուսումնական հաստատություններ
B37: Արդյունքի չափորոշիչներ
B38: Միջոցառման վրա կատարվող ծախսը (հազար դրամ) | D38: =+'Հավելված N 3'!G28 -> 0 | E38: =+'Հավելված N 3'!H28 -> -258000 | F38: =+'Հավելված N 3'!I28 -> 0 | G38: =+'Հավելված N 3'!J28 -> 0
A44: Աղյուսակ 9․1.13
C45: ՀՀ կրթության, գիտության, մշակույթի և սպորտի նախարարություն
B46: ՄԱՍ 1. ՊԵՏԱԿԱՆ ՄԱՐՄՆԻ ԳԾՈՎ ԱՐԴՅՈՒՆՔԱՅԻՆ (ԿԱՏԱՐՈՂԱԿԱՆ) ՑՈՒՑԱՆԻՇՆԵՐԸ
B49: Ծրագրի դասիչը | C49: Ծրագրի անվանումը
B50: 1236 | C50: Հանրակրթական և նախադպրոցական հաստատությունների հիմնում, կառուցում, բարելավում
B52: Ծրագրի միջոցառումները
B53: Ծրագրի դասիչը՝ | C53: 1236 | D53: Ցուցանիշների փոփոխությունը (նվազեցումները նշված են փակագծերում)
B54: Միջոցառման դասիչը՝ | C54: 32003 | D54: Առաջին եռամսյակ | E54: Առաջին կիսամյակ | F54: Ինն ամիս | G54: Տարի
B55: Միջոցառման անվանումը` | C55: Հանրակրթական դպրոցների նոր շենքերի կառուցում
B56: Նկարագրությունը` | C56: ՀՀ մարզերում կրթական որակյալ ծառայությունների հասանելիության ապահովման ծրագրի շրջանակներում հանրակրթական և նախադպրոցական կրթության հասանելիության ապահովման նպատակով կրթական կենտրոնների կառուցում
B57: Միջոցառման տեսակը` | C57: Այլ պետական կազմակերպությունների կողմից օգտագործվող ոչ ֆինանսական ակտիվների հետ գործառնություններ
...
