Workbook
Name AgencyCode: #REF!
Name AgencyCode: #REF!
Name AgencyCode: #REF!
Name AgencyCode: #REF!
Name AgencyCode: #REF!
Name AgencyCode: #REF!
Name AgencyName: #REF!
Name AgencyName: #REF!
Name AgencyName: #REF!
Name AgencyName: #REF!
Name AgencyName: #REF!
Name åû: #REF!
Name åû: #REF!
Name åû: #REF!
Name davit: #REF!
Name davit: #REF!
Name davit: #REF!
Name Functional1: #REF!
Name Functional1: #REF!
Name Functional1: #REF!
Name Functional1: #REF!
Name Functional1: #REF!
Name ggg: #REF!
Name ggg: #REF!
Name ggg: #REF!
Name mas: #REF!
Name mas: #REF!
Name mas: #REF!
Name mass: #REF!
Name mass: #REF!
Name mass: #REF!
Name PANature: #REF!
Name PANature: #REF!
Name PANature: #REF!
Name PANature: #REF!
Name PANature: #REF!
Name PAType: #REF!
Name PAType: #REF!
Name PAType: #REF!
Name PAType: #REF!
Name PAType: #REF!
Name Performance2: #REF!
Name Performance2: #REF!
Name Performance2: #REF!
Name Performance2: #REF!
Name Performance2: #REF!
Name PerformanceType: #REF!
Name PerformanceType: #REF!
Name PerformanceType: #REF!
Name PerformanceType: #REF!
Name PerformanceType: #REF!
Name x: #REF!
Name x: #REF!
Name x: #REF!
Name Հավելված: #REF!
Name Հավելված: #REF!
Name Հավելված: #REF!
Name Հավելված: #REF!
Name Մաս: #REF!
Name Մաս: #REF!

Sheet Հ1
H1: Հավելված N 1
H2: ՀՀ կառավարության 2024 թվականի
H3: ______________ ի ___Ն որոշման
A5: «ՀԱՅԱՍՏԱՆԻ ՀԱՆՐԱՊԵՏՈՒԹՅԱՆ 2024 ԹՎԱԿԱՆԻ ՊԵՏԱԿԱՆ ԲՅՈՒՋԵԻ ՄԱՍԻՆ» ՕՐԵՆՔԻ N 1 ՀԱՎԵԼՎԱԾԻ N 3 ԱՂՅՈՒՍԱԿՈՒՄ ԿԱՏԱՐՎՈՂ ՓՈՓՈԽՈՒԹՅՈՒՆՆԵՐԸ ԵՎ ԼՐԱՑՈՒՄՆԵՐԸ
G6: հազ. դրամ
A7: Ծրագրային դասիչ | C7: Բյուջետային գլխավոր կարգադրիչների, ծրագրերի, միջոցառումների և ուղղությունների անվանումները | D7: Ցուցանիշների փոփոխությունը (Ավելացումները նշված են դրական նշանով, իսկ նվազեցումները` փակագծերում)
D8: Ընդամենը, | E8: այդ թվում՝
A9: Ծրագիր | B9: Միջոցառում | E9: Կառուցման աշխատանքներ | F9: Վերակառուցման, վերանորոգման և վերականգնման աշխատանքներ | G9: Նախագծահե- տազոտական, գեոդեզիա- քարտեզագրա- կան աշխա- տանքներ | H9: Ոչ ֆինանսական այլ ակտիվների ձեռքբերում
C10: ԸՆԴԱՄԵՆԸ | D10: 0 | E10: =+E12 -> 0 | F10: =+F12 -> 0 | G10: =+G12 -> 0 | H10: =+H12 -> 0
C11: այդ թվում՝
C12: ՀՀ ՏԱՐԱԾՔԱՅԻՆ ԿԱՌԱՎԱՐՄԱՆ ԵՎ ԵՆԹԱԿԱՌՈՒՑՎԱԾՔՆԵՐԻ ՆԱԽԱՐԱՐՈՒԹՅՈՒՆ | D12: 0 | E12: =+E14+E15 -> 0 | F12: =+F14+F15 -> 0 | G12: =+G14+G15 -> 0 | H12: =+H14+H15 -> 0
C13: այդ թվում`
A14: 1049 | B14: 21001 | C14: Պետական նշանակության ավտոճանապարհների հիմնանորոգում | D14: =+E14+F14+G14+H14 -> -5983307.2 | E14: =-E15 -> 0 | F14: =-F15 -> -5895456 | G14: =-G15 -> -87851.2 | H14: =-H15 -> 0
A15: 1049 | B15: 21001 | C15: Պետական նշանակության ավտոճանապարհների հիմնանորոգում | D15: =+E15+F15+G15+H15 -> 5983307.2 | E15: =E17+E29+E44 -> 0 | F15: =F17+F29+F44 -> 5895456 | G15: =G17+G29+G44 -> 87851.2 | H15: =H17+H29+H44 -> 0
C16: այդ թվում`
B17: 1 | C17: Միջպետական նշանակության ավտոճանապարհներ, այդ թվում | D17: =+E17+F17+G17+H17 -> 4885272.9 | E17: =SUM(E18:E28) -> 0 | F17: =SUM(F18:F28) -> 4879093.5 | G17: =SUM(G18:G28) -> 6179.4 | H17: =SUM(H18:H28) -> 0
C18: Մ-1, Երևան-Գյումրի-ՀՀ սահման միջպետական նշանակության ավտոճանապարհի կմ 141+500-կմ143+300 հատվածի հիմնանորոգում | D18: =+E18+F18+G18+H18 -> 21468.1 | F18: 21468.1 | H18: 0
C19: Մ-2 ,Երևան-Երասխ-Գորիս-Մեղրի-ՀՀ սահման միջպետական նշանակության ավտոճանապարհի կմ47+475-կմ53+150 հատվածի հիմնանորոգում | D19: =+E19+F19+G19+H19 -> 3159.4 | G19: 3159.4 | H19: 0
C20: Մ-2, Երևան-Երասխ-Գորիս-Մեղրի-ՀՀ սահման միջպետական նշանակության ավտոճանապարհի կմ77+350 - կմ82+000 հատվածի հիմնանորոգում | D20: =+E20+F20+G20+H20 -> 1780 | F20: 1780 | H20: =SUM(H21:H21) -> 0
C21: Մ-2, (Սյունիք) /Մ-2/ - Աղվանի- Տաթև - /Մ-2/ միջպետական նշանակության ավտոճանապարհի Վերին Խոտանանը շրջանցող ճանապարհահատվածի կառուցում (I փուլ) | D21: =+E21+F21+G21+H21 -> 157685.5 | F21: 157685.5 | H21: 0
C22: Մ-2, (Սյունիք) /Մ-2/ - Աղվանի- Տաթև - /Մ-2/ միջպետական նշանակության ավտոճանապարհի Վերին Խոտանանը շրջանցող ճանապարհահատվածի կառուցում (II փուլ) | D22: =+E22+F22+G22+H22 -> 1807544.6 | F22: 1807544.6 | H22: =SUM(H23:H30) -> 0
C23: Մ-2, Երևան-Երասխ-Գորիս-Մեղրի-ՀՀ սահման միջպետական նշանակության ավտոճանապարհի կմ297+800-կմ311+250 հատվածի հիմնանորոգման աշխատանքների (1-ին տեղամաս՝ կմ297+800-կմ301+820 հատված) | D23: =+E23+F23+G23+H23 -> 1380870.5 | F23: 1380870.5 | H23: 0
C24: Մ-2, Երևան-Երասխ-Գորիս-Մեղրի-ՀՀ սահման միջպետական նշանակության ավտոճանապարհի կմ297+800-կմ311+250 հատվածի հիմնանորոգման աշխատանքների (2-րդ տեղամաս՝ կմ301+820 - կմ311+250 հատված) | D24: =+E24+F24+G24+H24 -> 8040 | F24: 8040 | H24: 0
C25: Մ-4, Երևան-Սևան-Իջևան-ՀՀ սահման միջպետական նշանակության ավտոճանապարհի Դիլիջան-Իջևան հատվածում անվտանգության տարրերի բարելավում և սև կետերի շտկում | D25: =+E25+F25+G25+H25 -> 912 | G25: 912 | H25: 0
C26: Մ-5, Երևան - Արմավիր - ՀՀ սահման միջպետական նշանակության ավտոճանապարհի կմ17+530-կմ18+200, կմ25+593 - կմ29+385 և կմ32+675 - կմ33+833 աջակողմյան և ձախակողմյան հատվածների հիմնանորոգում և Մ-5 Երևան-Արմավիր-ՀՀ սահման ա/ճ-ի կմ 35+457 - կմ 37+054 հատվածի ջրահեռացման համակարգի վերականգնում | D26: =+E26+F26+G26+H26 -> 1501704.8 | F26: 1501704.8 | H26: 0
C27: Մ-8, Վանաձոր (Մ-6 հատման կետ) - Դիլիջան միջպետական նշանակության ավտոճանապարհի կմ0+236 - կմ6+236 հատվածի (Վանաձոր քաղաքի հատված) հիմնանորոգում | D27: =+E27+F27+G27+H27 -> 1948 | G27: 1948 | H27: 0
C28: Մ-10, Սևան-Մարտունի-Գետափ միջպետական նշանակության ավտոճանապարհի կմ79+060-կմ80+590 հատվածի վերակառուցում | D28: =+E28+F28+G28+H28 -> 160 | G28: 160 | H28: 0
B29: 2 | C29: Հանրապետական նշանակության ավտոճանապարհներ, այդ թվում | D29: =+E29+F29+G29+H29 -> 732738.8 | E29: =SUM(E30:E43) -> 0 | F29: =SUM(F30:F43) -> 710693.7 | G29: =SUM(G30:G43) -> 22045.1 | H29: =SUM(H30:H43) -> 0
C30: Հ-3, Երևան (Ջրաշխարհ, Մ-4-ի հետ հատման տեղ)-Գառնի –Գեղարդի վանք հանրապետական նշանակության ավտոճանապարհի կմ10+770-կմ27+500 հատվածի (բացառությամբ սողանքային տեղամասերի) հիմնանորոգում | D30: =+E30+F30+G30+H30 -> 1514 | G30: 1514 | H30: 0
C31: Հ-3, Երևան (Ջրաշխարհ, Մ-4-ի հետ հատման տեղ) - Գառնի -Գեղարդի վանք հանրապետական նշանակության ավտոճանապարհի կմ27+500-կմ33+500 հատվածի հիմնանորոգում | D31: =+E31+F31+G31+H31 -> 52512.1 | F31: 52512.1 | H31: 0
C32: Հ-4, Երևան - Եղվարդ - Արագյուղ - Հարթավան - /Մ-3/ հանրապետական նշանակության ավտոճանապարհի կմ0+000-կմ15+600 հատվածի հիմնանորոգում | D32: =+E32+F32+G32+H32 -> 1600 | F32: 1600 | H32: 0
C33: Հ-7, /Հ-5/ - Կարենիս - Չարենցավան /Հ-1/ (Ֆանտան)հանրապետական նշանակության ավտոճանապարհի կմ7+580 - կմ10+200 հատվածի հիմնանորոգում | D33: =+E33+F33+G33+H33 -> 649879.2 | F33: 649879.2 | H33: 0
C34: Հ-10. /Հ-8/ (Ոսկետափ) - Վեդի - Լանջառ - /Մ-2/ հանրապետական նշանակության ավտոճանապարհի կմ5+450 - կմ9+250 հատվածի հիմնանորոգում | D34: =+E34+F34+G34+H34 -> 720 | G34: 720 | H34: 0
C35: Հ-15, /Մ-5/(Նորապատ) -Արգավանդ –/Մ-3/ (Վարդանաշեն) հանրապետական նշանակության ավտոճանապարհի կմ3+000 - կմ13+000 հատվածի հիմնանորոգում | D35: =+E35+F35+G35+H35 -> 1082.9 | G35: 1082.9 | H35: 0
C36: Հ-15, /Մ-5/(Նորապատ) -Արգավանդ –/Մ-3/ (Վարդանաշեն) հանրապետական նշանակության ավտոճանապարհի կմ13+000 - կմ20+000 հատվածի հիմնանորոգում | D36: =+E36+F36+G36+H36 -> 809.2 | G36: 809.2 | H36: 0
C37: Հ-16, /Մ-5/ - Մեծամոր – ՀԱԷԿ - /Մ-5/ հանրապետական նշանակության ավտոճանապարհի կմ0+000 - կմ10+700 հատվածի հիմնանորոգում | D37: =+E37+F37+G37+H37 -> 2430 | G37: 2430 | H37: 0
C38: Հ-24, /Մ-3/ - Գյուլագարակ – Կուրթան - /Մ-6/ հանրապետական նշանակության ավտոճանապարհի Կուրթան - Ձորագյուղ - /Մ-6/ 15.2 կմ հատվածի հիմնանորոգում | D38: =+E38+F38+G38+H38 -> 8799 | G38: 8799 | H38: 0
C39: Հ-26,/Մ-4 /-Ենոքավան–Կարմիր գյուղ (գյուղատեղի)-/Մ-16/ հանրապետական նշանակության ավտոճանապարհի կմ6+300-կմ71+800 հատվածի հիմնանորոգում | D39: =+E39+F39+G39+H39 -> 798 | G39: 798 | H39: 0
C40: Հ-28,/Հ-55/ - Ջրառատ – Մեղրաձոր - Հանքավան հանրապետական նշանակության ավտոճանապարհի կմ 17+000-կմ 19+000 հատվածի հիմնանորոգում | D40: =+E40+F40+G40+H40 -> 4705 | F40: 4705 | H40: 0
C41: Հ-29,Սևան - Ծաղկունք – Զովաբեր հանրապետական նշանակության ավտոճանապարհի կմ 0+000-կմ 18+200 հատվածի հիմնորոգում (բացառությամբ կմ 11+000-կմ 12+000 հատվածի) | D41: =+E41+F41+G41+H41 -> 3738 | G41: 3738 | H41: 0
...

Sheet Հ2
J1: Հավելված N 2
J2: ՀՀ կառավարության 2024 թվականի
J3: ______________ ի ___Ն որոշման
A5: ՀԱՅԱՍՏԱՆԻ ՀԱՆՐԱՊԵՏՈՒԹՅԱՆ ԿԱՌԱՎԱՐՈՒԹՅԱՆ 2023 ԹՎԱԿԱՆԻ ԴԵԿՏԵՄԲԵՐԻ 28-Ի N 2323-Ն ՈՐՈՇՄԱՆ N 3 ԵՎ N 4 ՀԱՎԵԼՎԱԾՆԵՐՈՒՄ ԿԱՏԱՐՎՈՂ ՓՈՓՈԽՈՒԹՅՈՒՆՆԵՐԸ ԵՎ ԼՐԱՑՈՒՄՆԵՐԸ
J7: հազար դրամներով
A8: Գործառական դասիչը | D8: Ծրագրային դասիչը | F8: Բյուջետային հատկացումների գլխավոր կարգադրիչների, ծրագրերի, միջոցառումների և միջոցառումները կատարող պետական մարմինների անվանումները | G8: Ցուցանիշների փոփոխությունը (ավելացումները նշված են դրական նշանով, իսկ նվազեցումները` փակագծերում)
A9: Բաժին | B9: Խումբ | C9: Դաս | D9: Ծրագիր | E9: Միջոցառում | G9: Առաջին եռամսյակ | H9: Առաջին կիսամյակ | I9: Ինն ամիս | J9: Տարի
F10: ԸՆԴԱՄԵՆԸ | G10: =+G12 -> 0 | H10: =+H12 -> 0 | I10: =+I12 -> 0 | J10: =+J12 -> 0
F11: այդ թվում
F12: ՀՀ տարածքային կառավարման և ենթակառուցվածքների նախարարություն | G12: =+G13 -> 0 | H12: =+H13 -> 0 | I12: =+I13 -> 0 | J12: =+J13 -> 0
A13: 04 | F13: ՏՆՏԵՍԱԿԱՆ ՀԱՐԱԲԵՐՈՒԹՅՈՒՆՆԵՐ | G13: =G15 -> 0 | H13: =H15 -> 0 | I13: =I15 -> 0 | J13: =J15 -> 0
F14: այդ թվում`
B15: 05 | F15: Տրանսպորտ | G15: =G17 -> 0 | H15: =H17 -> 0 | I15: =I17 -> 0 | J15: =J17 -> 0
F16: այդ թվում`
C17: 01 | F17: Ճանապարհային տրանսպորտ | G17: =+G19 -> 0 | H17: =+H19 -> 0 | I17: =+I19 -> 0 | J17: =+J19 -> 0
F18: այդ թվում`
F19: ՀՀ տարածքային կառավարման և ենթակառուցվածքների նախարարություն | G19: =+G21 -> 0 | H19: =+H21 -> 0 | I19: =+I21 -> 0 | J19: =+J21 -> 0
F20: այդ թվում`
D21: 1049 | F21: Ճանապարհային ցանցի բարելավում | G21: =+G23 -> 0 | H21: =+H23 -> 0 | I21: =+I23 -> 0 | J21: =+J23 -> 0
F22: այդ թվում`
E23: 21001 | F23: Պետական նշանակության ավտոճանապարհների հիմնանորոգում | G23: =G32+G25 -> 0 | H23: =H32+H25 -> 0 | I23: =I32+I25 -> 0 | J23: =J32+J25 -> 0
F24: այդ թվում` ըստ կատարողների
F25: ՀՀ կառավարություն | G25: =G27 -> -39711.8 | H25: =H27 -> -2178205.3 | I25: =I27 -> -4911287.5 | J25: =J27 -> -5983307.2
F26: այդ թվում` բյուջետային ծախսերի տնտեսագիտական դասակարգման հոդվածներ
F27: ԸՆԴԱՄԵՆԸ ԾԱԽՍԵՐ | G27: =+G28 -> -39711.8 | H27: =+H28 -> -2178205.3 | I27: =+I28 -> -4911287.5 | J27: =+J28 -> -5983307.2
F28: ՈՉ ՖԻՆԱՆՍԱԿԱՆ ԱԿՏԻՎՆԵՐԻ ԳԾՈՎ ԾԱԽՍԵՐ | G28: =G29 -> -39711.8 | H28: =H29 -> -2178205.3 | I28: =I29 -> -4911287.5 | J28: =J29 -> -5983307.2
F29: ՀԻՄՆԱԿԱՆ ՄԻՋՈՑՆԵՐ | G29: =G30 -> -39711.8 | H29: =H30 -> -2178205.3 | I29: =I30 -> -4911287.5 | J29: =J30 -> -5983307.2
F30: ՇԵՆՔԵՐ ԵՎ ՇԻՆՈՒԹՅՈՒՆՆԵՐ | G30: =G31 -> -39711.8 | H30: =H31 -> -2178205.3 | I30: =I31 -> -4911287.5 | J30: =J31 -> -5983307.2
F31: - Շենքերի և շինությունների կապիտալ վերանորոգում | G31: =-G32 -> -39711.8 | H31: =-H32 -> -2178205.3 | I31: =-I32 -> -4911287.5 | J31: =-J32 -> -5983307.2
F32: ՀՀ տարածքային կառավարման և ենթակառուցվածքների նախարարություն | G32: =G34 -> 39711.8 | H32: =H34 -> 2178205.3 | I32: =I34 -> 4911287.5 | J32: =J34 -> 5983307.2
F33: այդ թվում`բյուջետային ծախսերի տնտեսագիտական դասակարգման հոդվածներ
F34: ԸՆԴԱՄԵՆԸ ԾԱԽՍԵՐ | G34: =+G35 -> 39711.8 | H34: =+H35 -> 2178205.3 | I34: =+I35 -> 4911287.5 | J34: =+J35 -> 5983307.2
F35: ՈՉ ՖԻՆԱՆՍԱԿԱՆ ԱԿՏԻՎՆԵՐԻ ԳԾՈՎ ԾԱԽՍԵՐ | G35: =G36 -> 39711.8 | H35: =H36 -> 2178205.3 | I35: =I36 -> 4911287.5 | J35: =J36 -> 5983307.2
F36: ՀԻՄՆԱԿԱՆ ՄԻՋՈՑՆԵՐ | G36: =G37+G39 -> 39711.8 | H36: =H37+H39 -> 2178205.3 | I36: =I37+I39 -> 4911287.5 | J36: =J37+J39 -> 5983307.2
F37: ՇԵՆՔԵՐ ԵՎ ՇԻՆՈՒԹՅՈՒՆՆԵՐ | G37: =+G38 -> 33111.8 | H37: =+H38 -> 2117273.3 | I37: =+I38 -> 4823436.3 | J37: =+J38 -> 5895456
F38: - Շենքերի և շինությունների կապիտալ վերանորոգում | G38: =Հ3!E20+Հ3!E22+Հ3!E23+Հ3!E24+Հ3!E25+Հ3!E26+Հ3!E28+Հ3!E33+Հ3!E34+Հ3!E35+Հ3!E42+Հ3!E45+Հ3!E54+Հ3!E56+Հ3!E59+Հ3!E62+Հ3!E65+Հ3!E67 -> 33111.8 | H38: =Հ3!F20+Հ3!F22+Հ3!F23+Հ3!F24+Հ3!F25+Հ3!F26+Հ3!F28+Հ3!F33+Հ3!F34+Հ3!F35+Հ3!F42+Հ3!F45+Հ3!F54+Հ3!F56+Հ3!F59+Հ3!F62+Հ3!F65+Հ3!F67 -> 2117273.3 | I38: =Հ3!G20+Հ3!G22+Հ3!G23+Հ3!G24+Հ3!G25+Հ3!G26+Հ3!G28+Հ3!G33+Հ3!G34+Հ3!G35+Հ3!G42+Հ3!G45+Հ3!G54+Հ3!G56+Հ3!G59+Հ3!G62+Հ3!G65+Հ3!G67 -> 4823436.3 | J38: =Հ3!H20+Հ3!H22+Հ3!H23+Հ3!H24+Հ3!H25+Հ3!H26+Հ3!H28+Հ3!H33+Հ3!H34+Հ3!H35+Հ3!H42+Հ3!H45+Հ3!H54+Հ3!H56+Հ3!H59+Հ3!H62+Հ3!H65+Հ3!H67 -> 5895456
F39: ԱՅԼ ՀԻՄՆԱԿԱՆ ՄԻՋՈՑՆԵՐ | G39: =+G40 -> 6600 | H39: =+H40 -> 60932 | I39: =+I40 -> 87851.2 | J39: =+J40 -> 87851.2
F40: - Նախագծահետազոտական ծախսեր | G40: =Հ3!E21+Հ3!E27+Հ3!E29+Հ3!E30+Հ3!E32+Հ3!E36+Հ3!E37+Հ3!E38+Հ3!E39+Հ3!E40+Հ3!E41+Հ3!E43+Հ3!E44+Հ3!E47+Հ3!E48+Հ3!E49+Հ3!E50+Հ3!E51+Հ3!E52+Հ3!E53+Հ3!E55+Հ3!E57+Հ3!E58+Հ3!E60+Հ3!E61+Հ3!E63+Հ3!E64+Հ3!E66+Հ3!E68+Հ3!E69+Հ3!E70+Հ3!E71+Հ3!E72+Հ3!E73 -> 6600 | H40: =Հ3!F21+Հ3!F27+Հ3!F29+Հ3!F30+Հ3!F32+Հ3!F36+Հ3!F37+Հ3!F38+Հ3!F39+Հ3!F40+Հ3!F41+Հ3!F43+Հ3!F44+Հ3!F47+Հ3!F48+Հ3!F49+Հ3!F50+Հ3!F51+Հ3!F52+Հ3!F53+Հ3!F55+Հ3!F57+Հ3!F58+Հ3!F60+Հ3!F61+Հ3!F63+Հ3!F64+Հ3!F66+Հ3!F68+Հ3!F69+Հ3!F70+Հ3!F71+Հ3!F72+Հ3!F73 -> 60932 | I40: =Հ3!G21+Հ3!G27+Հ3!G29+Հ3!G30+Հ3!G32+Հ3!G36+Հ3!G37+Հ3!G38+Հ3!G39+Հ3!G40+Հ3!G41+Հ3!G43+Հ3!G44+Հ3!G47+Հ3!G48+Հ3!G49+Հ3!G50+Հ3!G51+Հ3!G52+Հ3!G53+Հ3!G55+Հ3!G57+Հ3!G58+Հ3!G60+Հ3!G61+Հ3!G63+Հ3!G64+Հ3!G66+Հ3!G68+Հ3!G69+Հ3!G70+Հ3!G71+Հ3!G72+Հ3!G73 -> 87851.2 | J40: =Հ3!H21+Հ3!H27+Հ3!H29+Հ3!H30+Հ3!H32+Հ3!H36+Հ3!H37+Հ3!H38+Հ3!H39+Հ3!H40+Հ3!H41+Հ3!H43+Հ3!H44+Հ3!H47+Հ3!H48+Հ3!H49+Հ3!H50+Հ3!H51+Հ3!H52+Հ3!H53+Հ3!H55+Հ3!H57+Հ3!H58+Հ3!H60+Հ3!H61+Հ3!H63+Հ3!H64+Հ3!H66+Հ3!H68+Հ3!H69+Հ3!H70+Հ3!H71+Հ3!H72+Հ3!H73 -> 87851.2
E41: 21002 | F41: Տրանսպորտային օբյեկտների հիմնանորոգում | G41: =G50+G43 -> 0 | H41: =H50+H43 -> 0 | I41: =I50+I43 -> 0 | J41: =J50+J43 -> 0
F42: այդ թվում` ըստ կատարողների
...

Sheet Հ3
H1: Հավելված 3
H2: ՀՀ կառավարության 2024 թվականի
H3: ______________ ի ___Ն որոշման
A5: ՀԱՅԱՍՏԱՆԻ ՀԱՆՐԱՊԵՏՈՒԹՅԱՆ ԿԱՌԱՎԱՐՈՒԹՅԱՆ 2023 ԹՎԱԿԱՆԻ ԴԵԿՏԵՄԲԵՐԻ 28-Ի N 2323-Ն ՈՐՈՇՄԱՆ N 5 ՀԱՎԵԼՎԱԾԻ N 2 ԱՂՅՈՒՍԱԿՈՒՄ ԿԱՏԱՐՎՈՂ ՓՈՓՈԽՈՒԹՅՈՒՆՆԵՐԸ ԵՎ ԼՐԱՑՈՒՄՆԵՐԸ
H7: հազար դրամներով
B8: Ծրագրային դասիչը | D8: Հատկացումների տրամադրման նպատակները և բյուջետային գլխավոր կարգադրիչների, ծրագրերի, միջոցառումների և կատարող պետական մարմնի անվանումները | E8: Ցուցանիշների փոփոխությունը (Ավելացումները նշված են դրական նշանով, իսկ նվազեցումները` փակագծերում)
B9: Ծրագիր | C9: Միջոցառում | E9: Առաջին եռամսյակ | F9: Առաջին կիսամյակ | G9: Ինն ամիս | H9: Տարի
D10: ԸՆԴԱՄԵՆԸ | E10: =+E12 -> 0 | F10: =+F12 -> 0 | G10: =+G12 -> 0 | H10: =+H12 -> 0
D11: այդ թվում՝
D12: ՀՀ ՏԱՐԱԾՔԱՅԻՆ ԿԱՌԱՎԱՐՄԱՆ ԵՎ ԵՆԹԱԿԱՌՈՒՑՎԱԾՔՆԵՐԻ ՆԱԽԱՐԱՐՈՒԹՅՈՒՆ | E12: =+E14+E74 -> 0 | F12: =+F14+F74 -> 0 | G12: =+G14+G74 -> 0 | H12: =+H14+H74 -> 0
D13: այդ թվում`
B14: 1049 | C14: 21001 | D14: Պետական նշանակության ավտոճանապարհների հիմնանորոգում | E14: =+E16+E17 -> 0 | F14: =+F16+F17 -> 0 | G14: =+G16+G17 -> 0 | H14: =+H16+H17 -> 0
D15: այդ թվում` ըստ կատարողների
D16: ՀՀ կառավարություն | E16: =-E17 -> -39711.8 | F16: =-F17 -> -2178205.3 | G16: =-G17 -> -4911287.5 | H16: =-H17 -> -5983307.2
D17: ՀՀ տարածքային կառավարման և ենթակառուցվածքների նախարարություն | E17: =+E19+E31+E46 -> 39711.8 | F17: =+F19+F31+F46 -> 2178205.3 | G17: =+G19+G31+G46 -> 4911287.5 | H17: =+H19+H31+H46 -> 5983307.2
D18: այդ թվում՝ ըստ ուղղությունների
C19: 1 | D19: Միջպետական նշանակության ավտոճանապարհներ, այդ թվում | E19: =SUM(E20:E30) -> 1940 | F19: =SUM(F20:F30) -> 1570294.1 | G19: =SUM(G20:G30) -> 3943229 | H19: =SUM(H20:H30) -> 4885272.9
D20: =Հ1!C18 -> Մ-1, Երևան-Գյումրի-ՀՀ սահման միջպետական նշանակության ավտոճանապարհի կմ 141+500-կմ143+300 հատվածի հիմնանորոգում | E20: 0 | F20: 21468.1 | G20: 21468.1 | H20: =Հ1!D18 -> 21468.1
D21: =Հ1!C19 -> Մ-2 ,Երևան-Երասխ-Գորիս-Մեղրի-ՀՀ սահման միջպետական նշանակության ավտոճանապարհի կմ47+475-կմ53+150 հատվածի հիմնանորոգում | E21: 0 | F21: 3159.4 | G21: 3159.4 | H21: =Հ1!D19 -> 3159.4
D22: =Հ1!C20 -> Մ-2, Երևան-Երասխ-Գորիս-Մեղրի-ՀՀ սահման միջպետական նշանակության ավտոճանապարհի կմ77+350 - կմ82+000 հատվածի հիմնանորոգում | E22: 1780 | F22: 1780 | G22: 1780 | H22: =Հ1!D20 -> 1780
D23: =Հ1!C21 -> Մ-2, (Սյունիք) /Մ-2/ - Աղվանի- Տաթև - /Մ-2/ միջպետական նշանակության ավտոճանապարհի Վերին Խոտանանը շրջանցող ճանապարհահատվածի կառուցում (I փուլ) | E23: 0 | F23: 50000 | G23: 157685.5 | H23: =Հ1!D21 -> 157685.5
D24: =Հ1!C22 -> Մ-2, (Սյունիք) /Մ-2/ - Աղվանի- Տաթև - /Մ-2/ միջպետական նշանակության ավտոճանապարհի Վերին Խոտանանը շրջանցող ճանապարհահատվածի կառուցում (II փուլ) | E24: 0 | F24: 400000 | G24: 1446035.7 | H24: =Հ1!D22 -> 1807544.6
D25: =Հ1!C23 -> Մ-2, Երևան-Երասխ-Գորիս-Մեղրի-ՀՀ սահման միջպետական նշանակության ավտոճանապարհի կմ297+800-կմ311+250 հատվածի հիմնանորոգման աշխատանքների (1-ին տեղամաս՝ կմ297+800-կմ301+820 հատված) | E25: 0 | F25: =690435.3-51176.7 -> 639258.6 | G25: 1104696.4 | H25: =Հ1!D23 -> 1380870.5
D26: =Հ1!C24 -> Մ-2, Երևան-Երասխ-Գորիս-Մեղրի-ՀՀ սահման միջպետական նշանակության ավտոճանապարհի կմ297+800-կմ311+250 հատվածի հիմնանորոգման աշխատանքների (2-րդ տեղամաս՝ կմ301+820 - կմ311+250 հատված) | E26: 0 | F26: 1608 | G26: 4020 | H26: =Հ1!D24 -> 8040
D27: =Հ1!C25 -> Մ-4, Երևան-Սևան-Իջևան-ՀՀ սահման միջպետական նշանակության ավտոճանապարհի Դիլիջան-Իջևան հատվածում անվտանգության տարրերի բարելավում և սև կետերի շտկում | F27: 912 | G27: 912 | H27: =Հ1!D25 -> 912
D28: =Հ1!C26 -> Մ-5, Երևան - Արմավիր - ՀՀ սահման միջպետական նշանակության ավտոճանապարհի կմ17+530-կմ18+200, կմ25+593 - կմ29+385 և կմ32+675 - կմ33+833 աջակողմյան և ձախակողմյան հատվածների հիմնանորոգում և Մ-5 Երևան-Արմավիր-ՀՀ սահման ա/ճ-ի կմ 35+457 - կմ 37+054 հատվածի ջրահեռացման համակարգի վերականգնում | E28: 0 | F28: 450000 | G28: 1201363.9 | H28: =Հ1!D26 -> 1501704.8
D29: =Հ1!C27 -> Մ-8, Վանաձոր (Մ-6 հատման կետ) - Դիլիջան միջպետական նշանակության ավտոճանապարհի կմ0+236 - կմ6+236 հատվածի (Վանաձոր քաղաքի հատված) հիմնանորոգում | E29: 0 | F29: 1948 | G29: 1948 | H29: =Հ1!D27 -> 1948
D30: =Հ1!C28 -> Մ-10, Սևան-Մարտունի-Գետափ միջպետական նշանակության ավտոճանապարհի կմ79+060-կմ80+590 հատվածի վերակառուցում | E30: 160 | F30: 160 | G30: 160 | H30: =Հ1!D28 -> 160
C31: 2 | D31: Հանրապետական նշանակության ավտոճանապարհներ, այդ թվում | E31: =SUM(E32:E45) -> 4680 | F31: =SUM(F32:F45) -> 331285.2 | G31: =SUM(G32:G45) -> 602763 | H31: =SUM(H32:H45) -> 732738.8
D32: =Հ1!C30 -> Հ-3, Երևան (Ջրաշխարհ, Մ-4-ի հետ հատման տեղ)-Գառնի –Գեղարդի վանք հանրապետական նշանակության ավտոճանապարհի կմ10+770-կմ27+500 հատվածի (բացառությամբ սողանքային տեղամասերի) հիմնանորոգում | E32: 650 | F32: 1514 | G32: 1514 | H32: =Հ1!D30 -> 1514
D33: =Հ1!C31 -> Հ-3, Երևան (Ջրաշխարհ, Մ-4-ի հետ հատման տեղ) - Գառնի -Գեղարդի վանք հանրապետական նշանակության ավտոճանապարհի կմ27+500-կմ33+500 հատվածի հիմնանորոգում | E33: 0 | F33: 52512.1 | G33: 52512.1 | H33: =Հ1!D31 -> 52512.1
D34: =Հ1!C32 -> Հ-4, Երևան - Եղվարդ - Արագյուղ - Հարթավան - /Մ-3/ հանրապետական նշանակության ավտոճանապարհի կմ0+000-կմ15+600 հատվածի հիմնանորոգում | E34: 1600 | F34: 1600 | G34: 1600 | H34: =Հ1!D32 -> 1600
D35: =Հ1!C33 -> Հ-7, /Հ-5/ - Կարենիս - Չարենցավան /Հ-1/ (Ֆանտան)հանրապետական նշանակության ավտոճանապարհի կմ7+580 - կմ10+200 հատվածի հիմնանորոգում | E35: 0 | F35: 250000 | G35: 519903.4 | H35: =Հ1!D33 -> 649879.2
D36: =Հ1!C34 -> Հ-10. /Հ-8/ (Ոսկետափ) - Վեդի - Լանջառ - /Մ-2/ հանրապետական նշանակության ավտոճանապարհի կմ5+450 - կմ9+250 հատվածի հիմնանորոգում | E36: 0 | F36: 720 | G36: 720 | H36: =Հ1!D34 -> 720
D37: =Հ1!C35 -> Հ-15, /Մ-5/(Նորապատ) -Արգավանդ –/Մ-3/ (Վարդանաշեն) հանրապետական նշանակության ավտոճանապարհի կմ3+000 - կմ13+000 հատվածի հիմնանորոգում | E37: 0 | F37: 1082.9 | G37: 1082.9 | H37: =Հ1!D35 -> 1082.9
D38: =Հ1!C36 -> Հ-15, /Մ-5/(Նորապատ) -Արգավանդ –/Մ-3/ (Վարդանաշեն) հանրապետական նշանակության ավտոճանապարհի կմ13+000 - կմ20+000 հատվածի հիմնանորոգում | E38: 0 | F38: 809.2 | G38: 809.2 | H38: =Հ1!D36 -> 809.2
D39: =Հ1!C37 -> Հ-16, /Մ-5/ - Մեծամոր – ՀԱԷԿ - /Մ-5/ հանրապետական նշանակության ավտոճանապարհի կմ0+000 - կմ10+700 հատվածի հիմնանորոգում | E39: 2430 | F39: 2430 | G39: 2430 | H39: =Հ1!D37 -> 2430
D40: =Հ1!C38 -> Հ-24, /Մ-3/ - Գյուլագարակ – Կուրթան - /Մ-6/ հանրապետական նշանակության ավտոճանապարհի Կուրթան - Ձորագյուղ - /Մ-6/ 15.2 կմ հատվածի հիմնանորոգում | E40: 0 | F40: 8799 | G40: 8799 | H40: =Հ1!D38 -> 8799
D41: =Հ1!C39 -> Հ-26,/Մ-4 /-Ենոքավան–Կարմիր գյուղ (գյուղատեղի)-/Մ-16/ հանրապետական նշանակության ավտոճանապարհի կմ6+300-կմ71+800 հատվածի հիմնանորոգում | G41: 798 | H41: =Հ1!D39 -> 798
D42: =Հ1!C40 -> Հ-28,/Հ-55/ - Ջրառատ – Մեղրաձոր - Հանքավան հանրապետական նշանակության ավտոճանապարհի կմ 17+000-կմ 19+000 հատվածի հիմնանորոգում | E42: 0 | F42: 4705 | G42: 4705 | H42: =Հ1!D40 -> 4705
...

Sheet Հ4 
G1: Հավելված N 4
G2: ՀՀ կառավարության 2024 թվականի
G3: ______________ ի ___Ն որոշման
B5: ՀԱՅԱՍՏԱՆԻ ՀԱՆՐԱՊԵՏՈՒԹՅԱՆ ԿԱՌԱՎԱՐՈՒԹՅԱՆ 2023 ԹՎԱԿԱՆԻ ԴԵԿՏԵՄԲԵՐԻ 28-Ի N 2323-Ն ՈՐՈՇՄԱՆ N 9 ՀԱՎԵԼՎԱԾԻ NN 9.7 ԱՂՅՈՒՍԱԿՈՒՄ ԿԱՏԱՐՎՈՂ ՓՈՓՈԽՈՒԹՅՈՒՆՆԵՐԸ ԵՎ ԼՐԱՑՈՒՄՆԵՐԸ
G7: Աղյուսակ 9.7
B8: ՀՀ տարածքային կառավարման և ենթակառուցվածքների նախարարություն
B9: ՄԱՍ 1. ՊԵՏԱԿԱՆ ՄԱՐՄՆԻ ԳԾՈՎ ԱՐԴՅՈՒՆՔԱՅԻՆ (ԿԱՏԱՐՈՂԱԿԱՆ) ՑՈՒՑԱՆԻՇՆԵՐԸ
B11: Ծրագրի դասիչը | C11: Ծրագրի անվանումը
B12: 1049 | C12: Ճանապարհային ցանցի բարելավում
B14: Ծրագրի միջոցառումները
B15: Ծրագրի դասիչը` | C15: 1049 | D15: Ցուցանիշների փոփոխությունը (ավելացումները նշված են դրական նշանով)
B16: Միջոցառման դասիչը` | C16: 21001 | D16: Առաջին եռամսյակ | E16: Առաջին կիսամյակ | F16: Ինն ամիս | G16: Տարի
B17: Միջոցառման անվանումը` | C17: Պետական նշանակության ավտոճանապարհների հիմնանորոգում
B18: Նկարագրությունը` | C18: Միջպետական, հանրապետական և մարզային նշանակության ավտոճոնապարհների քայքայված ծածկի վերանորոգում, մաշված ծածկի փոխարինում
B19: Միջոցառման տեսակը` | C19: Հանրության կողմից անմիջականորեն օգտագործվող ակտիվների հետ կապված միջոցառումներ
B20: Միջոցառումն իրականացնողի անվանումը | C20: Մասնագիտացված միավոր
B21: Արդյունքի չափորոշիչներ
B22: Միջպետական նշանակության ավտոճանապարհներ | D22: 0 | E22: 0 | F22: 0 | G22: 19.4
B23: Հանրապետական նշանակության ավտոճանապարհներ | D23: 0 | E23: 0 | F23: 0 | G23: 1.3
B24: Մարզային նշանակության ավտոճանապարհներ | D24: 0 | E24: 0 | F24: 0 | G24: 0.4
B25: Միջոցառման վրա կատարվող ծախսը (հազար դրամ) | D25: 0 | E25: 0 | F25: 0 | G25: 0
B27: Ծրագրի դասիչը` | C27: 1049 | D27: Ցուցանիշների փոփոխությունը (ավելացումները նշված են դրական նշանով)
B28: Միջոցառման դասիչը` | C28: 21002 | D28: Առաջին եռամսյակ | E28: Առաջին կիսամյակ | F28: Ինն ամիս | G28: Տարի
B29: Միջոցառման անվանումը` | C29: Տրանսպորտային օբյեկտների հիմնանորոգում
B30: Նկարագրությունը` | C30: Ավտոմոբիլային ճանապարհների վրա գտնվող կամուրջների հիմնանորոգում
B31: Միջոցառման տեսակը` | C31: Հանրության կողմից անմիջականորեն օգտագործվող ակտիվների հետ կապված միջոցառումներ
B32: Միջոցառումն իրականացնողի անվանումը | C32: Մասնագիտացված միավոր
B33: Արդյունքի չափորոշիչներ
B34: Հիմնանորոգվող տրանսպորտային օբյեկտների թիվը, այդ թվում՜ | D34: =D35+D37 -> 0 | E34: =E35+E37 -> 0 | F34: =F35+F37 -> 0 | G34: =G35+G37 -> 9
B35: Կամուրջներ, այդ թվում աշխատանքներ և ծառայություններ՝ | D35: 0 | E35: 0 | F35: 0 | G35: =G36 -> 3
B36: Նախագծվող օբյեկտ, հատ | D36: 0 | E36: 0 | F36: 0 | G36: 3
B37: Տրանսպորտային հանգույցներ (ուղեանցեր, հենապատեր և այլն), այդ թվում աշխատանքներ և ծառայություններ | D37: =D38+D39 -> 0 | E37: =E38+E39 -> 0 | F37: =F38+F39 -> 0 | G37: =G38+G39 -> 6
B38: Նախագծվող օբյեկտ, հատ | D38: 0 | E38: 0 | F38: 0 | G38: 5
B39: Շինարարություն, հատ | D39: 0 | E39: 0 | F39: 0 | G39: 1
B40: Միջոցառման վրա կատարվող ծախսը (հազար դրամ) | D40: 0 | E40: 0 | F40: 0 | G40: 0

Sheet Հ5
G1: Հավելված N 5
G2: ՀՀ կառավարության 2024 թվականի
G3: ______________ ի ___Ն որոշման
B5: ՀԱՅԱՍՏԱՆԻ ՀԱՆՐԱՊԵՏՈՒԹՅԱՆ ԿԱՌԱՎԱՐՈՒԹՅԱՆ 2023 ԹՎԱԿԱՆԻ ԴԵԿՏԵՄԲԵՐԻ 28-Ի N 2323-Ն ՈՐՈՇՄԱՆ N 9.1 ՀԱՎԵԼՎԱԾԻ NN 9.1.7 ԵՎ 9.1.58 ԱՂՅՈՒՍԱԿՆԵՐՈՒՄ ԿԱՏԱՐՎՈՂ ՓՈՓՈԽՈՒԹՅՈՒՆՆԵՐԸ ԵՎ ԼՐԱՑՈՒՄՆԵՐԸ
G7: Աղյուսակ 9.1.7
B8: ՀՀ տարածքային կառավարման և ենթակառուցվածքների նախարարություն
B9: ՄԱՍ 1. ՊԵՏԱԿԱՆ ՄԱՐՄՆԻ ԳԾՈՎ ԱՐԴՅՈՒՆՔԱՅԻՆ (ԿԱՏԱՐՈՂԱԿԱՆ) ՑՈՒՑԱՆԻՇՆԵՐԸ
B11: Ծրագրի դասիչը | C11: Ծրագրի անվանումը
B12: 1049 | C12: Ճանապարհային ցանցի բարելավում
B14: Ծրագրի միջոցառումները
B15: Ծրագրի դասիչը` | C15: 1049 | D15: Ցուցանիշների փոփոխությունը (ավելացումները նշված են դրական նշանով)
B16: Միջոցառման դասիչը` | C16: 21001 | D16: Առաջին եռամսյակ | E16: Առաջին կիսամյակ | F16: Ինն ամիս | G16: Տարի
B17: Միջոցառման անվանումը` | C17: Պետական նշանակության ավտոճանապարհների հիմնանորոգում
B18: Նկարագրությունը` | C18: Միջպետական, հանրապետական և մարզային նշանակության ավտոճոնապարհների քայքայված ծածկի վերանորոգում, մաշված ծածկի փոխարինում
B19: Միջոցառման տեսակը` | C19: Հանրության կողմից անմիջականորեն օգտագործվող ակտիվների հետ կապված միջոցառումներ
B20: Միջոցառումն իրականացնողի անվանումը | C20: Մասնագիտացված միավոր
B21: Արդյունքի չափորոշիչներ
B22: Միջպետական նշանակության ավտոճանապարհներ | D22: 0 | E22: 0 | F22: 0 | G22: 19.4
B23: Հանրապետական նշանակության ավտոճանապարհներ | D23: 0 | E23: 0 | F23: 0 | G23: 1.3
B24: Մարզային նշանակության ավտոճանապարհներ | D24: 0 | E24: 0 | F24: 0 | G24: 0.4
B25: Միջոցառման վրա կատարվող ծախսը (հազար դրամ) | D25: =Հ2!G32 -> 39711.8 | E25: =Հ2!H32 -> 2178205.3 | F25: =Հ2!I32 -> 4911287.5 | G25: =Հ2!J32 -> 5983307.2
B27: Ծրագրի դասիչը` | C27: 1049 | D27: Ցուցանիշների փոփոխությունը (ավելացումները նշված են դրական նշանով)
B28: Միջոցառման դասիչը` | C28: 21002 | D28: Առաջին եռամսյակ | E28: Առաջին կիսամյակ | F28: Ինն ամիս | G28: Տարի
B29: Միջոցառման անվանումը` | C29: Տրանսպորտային օբյեկտների հիմնանորոգում
B30: Նկարագրությունը` | C30: Ավտոմոբիլային ճանապարհների վրա գտնվող կամուրջների հիմնանորոգում
B31: Միջոցառման տեսակը` | C31: Հանրության կողմից անմիջականորեն օգտագործվող ակտիվների հետ կապված միջոցառումներ
B32: Միջոցառումն իրականացնողի անվանումը | C32: Մասնագիտացված միավոր
B33: Արդյունքի չափորոշիչներ
B34: Հիմնանորոգվող տրանսպորտային օբյեկտների թիվը, այդ թվում՜ | D34: 0 | E34: 0 | F34: 0 | G34: =G35+G37 -> 9
B35: Կամուրջներ, այդ թվում աշխատանքներ և ծառայություններ՝ | G35: =G36 -> 3
B36: Նախագծվող օբյեկտ, հատ | G36: 3
B37: Տրանսպորտային հանգույցներ (ուղեանցեր, հենապատեր և այլն), այդ թվում աշխատանքներ և ծառայություններ | G37: =G38+G39 -> 6
B38: Նախագծվող օբյեկտ, հատ | G38: 5
B39: Շինարարություն, հատ | G39: 1
B40: Միջոցառման վրա կատարվող ծախսը (հազար դրամ) | D40: =Հ2!G50 -> 0 | E40: =Հ2!H50 -> 60956.3 | F40: =Հ2!I50 -> 78049 | G40: =Հ2!J50 -> 78049
G43: Աղյուսակ 9.1.58
C44: ՀՀ կառավարություն
B45: ՄԱՍ 1. ՊԵՏԱԿԱՆ ՄԱՐՄՆԻ ԳԾՈՎ ԱՐԴՅՈՒՆՔԱՅԻՆ (ԿԱՏԱՐՈՂԱԿԱՆ) ՑՈՒՑԱՆԻՇՆԵՐԸ
B47: Ծրագրի դասիչը | C47: Ծրագրի անվանումը
B48: 1049 | C48: Ճանապարհային ցանցի բարելավում
...

Sheet Հ6
H1: Հավելված N 6
H2: ՀՀ կառավարության 2024 թվականի
H3: ______________ ի ___Ն որոշման
B5: ՀԱՅԱՍՏԱՆԻ ՀԱՆՐԱՊԵՏՈՒԹՅԱՆ ԿԱՌԱՎԱՐՈՒԹՅԱՆ 2023 ԹՎԱԿԱՆԻ ԴԵԿՏԵՄԲԵՐԻ 28-Ի N 2323-Ն ՈՐՈՇՄԱՆ N 10 ՀԱՎԵԼՎԱԾՈՒՄ ԿԱՏԱՐՎՈՂ ԼՐԱՑՈՒՄՆԵՐԸ
B6: Կոդը | C6: Անվանումը | D6: Գնման ձևը | E6: Չափման միավորը | F6: Միավորի գինը | G6: Ցուցանիշների փոփոխությունը (ավելացումները նշված են դրական նշանով)
G7: Քանակը | H7: Գումարը (հազար դրամով)
B8: ՀՀ տարածքային կառավարման և ենթակառուցվածքների նախարարություն | H8: =+H9 -> 5835398.1
B9: Բաժին N 04 | C9: Խումբ N 05 | D9: Դաս N 01 | E9: Ճանապարհային տրանսպորտ | H9: =+H10+H81 -> 5835398.1
B10: 1049 21001 | C10: Պետական նշանակության ավտոճանապարհների հիմնանորոգում | H10: =+H11+H21 -> 5781616.6
B11: ՄԱՍ II. ԱՇԽԱՏԱՆՔՆԵՐ | H11: =SUM(H12:H20) -> 5635495.6
B12: 45231177 | C12: ճանապարհների վերանորոգման աշխատանքներ | D12: ՀՄԱ | E12: դրամ | F12: 154027013 | G12: 1 | H12: =+G12*F12/1000 -> 154027.01
B13: 45231177 | C13: ճանապարհների վերանորոգման աշխատանքներ | D13: ՀԲՄ | E13: դրամ | F13: 1783336923 | G13: 1 | H13: =+G13*F13/1000 -> 1783336.9
B14: 45231177 | C14: ճանապարհների վերանորոգման աշխատանքներ | D14: ՀԲՄ | E14: դրամ | F14: =1365779373-51176700 -> 1314602673 | G14: 1 | H14: =+G14*F14/1000 -> 1314602.7
B15: 45231177 | C15: ճանապարհների վերանորոգման աշխատանքներ | D15: ՀԲՄ | E15: դրամ | F15: 1481140064 | G15: 1 | H15: =+G15*F15/1000 -> 1481140.1
B16: 45231177 | C16: ճանապարհների վերանորոգման աշխատանքներ | D16: ԲՄ | E16: դրամ | F16: 639427836 | G16: 1 | H16: =+G16*F16/1000 -> 639427.84
B17: 45231177 | C17: ճանապարհների վերանորոգման աշխատանքներ | D17: ԲՄ | E17: դրամ | F17: 4514947 | G17: 1 | H17: =+G17*F17/1000 -> 4514.947
B18: 45231177 | C18: ճանապարհների վերանորոգման աշխատանքներ | D18: ՀԲՄ | E18: դրամ | F18: 104239324 | G18: 1 | H18: =+G18*F18/1000 -> 104239.32
B19: 45231177 | C19: ճանապարհների վերանորոգման աշխատանքներ | D19: ՀԲՄ | E19: դրամ | F19: 103030272 | G19: 1 | H19: =+G19*F19/1000 -> 103030.27
B20: 45231177 | C20: ճանապարհների վերանորոգման աշխատանքներ | D20: ԲՄ | E20: դրամ | F20: 51176525 | G20: 1 | H20: =+G20*F20/1000 -> 51176.525
B21: ՄԱՍ III. ԾԱՌԱՅՈՒԹՅՈՒՆՆԵՐ | H21: =SUM(H22:H80) -> 146121.01
B22: 71351540/ | C22: տեխնիկական հսկողության ծառայություններ | D22: ՀԲՄ | E22: դրամ | F22: 1780000 | G22: 1 | H22: =+G22*F22/1000 -> 1780
B23: 71351540/ | C23: տեխնիկական հսկողության ծառայություններ | D23: ՀՄԱ | E23: դրամ | F23: 1658000 | G23: 1 | H23: =+G23*F23/1000 -> 1658
B24: 71351540/ | C24: տեխնիկական հսկողության ծառայություններ | D24: ԳՀ | E24: դրամ | F24: 14060000 | G24: 1 | H24: =+G24*F24/1000 -> 14060
B25: 71351540/ | C25: տեխնիկական հսկողության ծառայություններ | D25: ՀԲՄ | E25: դրամ | F25: 6900000 | G25: 1 | H25: =+G25*F25/1000 -> 6900
B26: 71351540/ | C26: տեխնիկական հսկողության ծառայություններ | D26: ՀԲՄ | E26: դրամ | F26: 8040000 | G26: 1 | H26: =+G26*F26/1000 -> 8040
B27: 71351540/ | C27: տեխնիկական հսկողության ծառայություններ | D27: ՀԲՄ | E27: դրամ | F27: 10034608 | G27: 1 | H27: =+G27*F27/1000 -> 10034.608
B28: 71351540/ | C28: տեխնիկական հսկողության ծառայություններ | D28: ՀԲՄ | E28: դրամ | F28: 1600000 | G28: 1 | H28: =+G28*F28/1000 -> 1600
B29: 71351540/ | C29: տեխնիկական հսկողության ծառայություններ | D29: ԲՄ | E29: դրամ | F29: 6031624 | G29: 1 | H29: =+G29*F29/1000 -> 6031.624
B30: 71351540/ | C30: տեխնիկական հսկողության ծառայություններ | D30: ԲՄ | E30: դրամ | F30: 90000 | G30: 1 | H30: =+G30*F30/1000 -> 90
B31: 71351540/ | C31: տեխնիկական հսկողության ծառայություններ | D31: ՀԲՄ | E31: դրամ | F31: 1313724 | G31: 1 | H31: =+G31*F31/1000 -> 1313.724
B32: 71351540/ | C32: տեխնիկական հսկողության ծառայություններ | D32: ՀԲՄ | E32: դրամ | F32: 908250 | G32: 1 | H32: =+G32*F32/1000 -> 908.25
B33: 71351540/ | C33: տեխնիկական հսկողության ծառայություններ | D33: ՀԲՄ | E33: դրամ | F33: 225000 | G33: 1 | H33: =+G33*F33/1000 -> 225
... B53: 71241200/567 | C53: նախագծերի պատրաստում, ծախսերի գնահատում | D53: ԲՄ | E53: դրամ | F53: 1200000 | G53: 1 | H53: =+G53*F53/1000 -> 1200
B54: 71241200 | C54: նախագծերի պատրաստում, ծախսերի գնահատում | D54: ՀԲՄ | E54: դրամ | F54: 18000000 | G54: 1 | H54: =+G54*F54/1000 -> 18000
B55: 71241200 | C55: նախագծերի պատրաստում, ծախսերի գնահատում | D55: ՀԲՄ | E55: դրամ | F55: 3360000 | G55: 1 | H55: =+G55*F55/1000 -> 3360
B56: 50531140/545 | C56: փորձաքննության ծառայություններ | D56: ԳՀ | E56: դրամ | F56: 159359 | G56: 1 | H56: =+G56*F56/1000 -> 159.359
B57: 50531140/ | C57: փորձաքննության ծառայություններ | D57: ԳՀ | E57: դրամ | F57: 75000 | G57: 1 | H57: =+G57*F57/1000 -> 75
B58: 50531140/ | C58: փորձաքննության ծառայություններ | D58: ԳՀ | E58: դրամ | F58: 220000 | G58: 1 | H58: =+G58*F58/1000 -> 220
B59: 50531140/ | C59: փորձաքննության ծառայություններ | D59: ԳՀ | E59: դրամ | F59: 160000 | G59: 1 | H59: =+G59*F59/1000 -> 160
B60: 50531140/ | C60: փորձաքննության ծառայություններ | D60: ԳՀ | E60: դրամ | F60: 650000 | G60: 1 | H60: =+G60*F60/1000 -> 650
...
