Workbook
Name a: #REF!
Name a: #REF!
Name AgencyCode: #REF!
Name AgencyCode: #REF!
Name AgencyCode: #REF!
Name AgencyCode: #REF!
Name AgencyCode: #REF!
Name AgencyName: #REF!
Name AgencyName: #REF!
Name AgencyName: #REF!
Name AgencyName: #REF!
Name AgencyName: #REF!
Name davit: #REF!
Name davit: #REF!
Name davit: #REF!
Name davit: #REF!
Name Functional1: #REF!
Name Functional1: #REF!
Name Functional1: #REF!
Name Functional1: #REF!
Name Functional1: #REF!
Name ggg: #REF!
Name ggg: #REF!
Name ggg: #REF!
Name ggg: #REF!
Name HAVELVAC10: #REF!
Name PANature: #REF!
Name PANature: #REF!
Name PANature: #REF!
Name PANature: #REF!
Name PANature: #REF!
Name PAType: #REF!
Name PAType: #REF!
Name PAType: #REF!
Name PAType: #REF!
Name PAType: #REF!
Name Performance2: #REF!
Name Performance2: #REF!
Name Performance2: #REF!
Name Performance2: #REF!
Name Performance2: #REF!
Name PerformanceType: #REF!
Name PerformanceType: #REF!
Name PerformanceType: #REF!
Name PerformanceType: #REF!
Name PerformanceType: #REF!
Name Հավելված: #REF!
Name Հավելված: #REF!
Name Հավելված: #REF!
Name Հավելված: #REF!
Name Մաս: #REF!
Name Մաս: #REF!
Name Մաս: #REF!
Name Մաս: #REF!
Name շախմատիստ: #REF!
Name շախմատիստ: #REF!
Name շախմատիստ: #REF!
Name շախմատիստ: #REF!

Sheet Havelvats 1
F1: Հավելված N 1
E2: ՀՀ կառավարության 2024 թվականի
E3: ______________ ի ___Ն որոշման
A5: «ՀԱՅԱUՏԱՆԻ ՀԱՆՐԱՊԵՏՈՒԹՅԱՆ 2024 ԹՎԱԿԱՆԻ ՊԵՏԱԿԱՆ ԲՅՈՒՋԵԻ ՄԱUԻՆ» ՀԱՅԱUՏԱՆԻ ՀԱՆՐԱՊԵՏՈՒԹՅԱՆ OՐԵՆՔԻ N 1 ՀԱՎԵԼՎԱԾԻ N 2 ԱՂՅՈՒՍԱԿՈՒՄ ԿԱՏԱՐՎՈՂ ՎԵՐԱԲԱՇԽՈՒՄԸ ԵՎ ՀԱՅԱՍՏԱՆԻ ՀԱՆՐԱՊԵՏՈՒԹՅԱՆ ԿԱՌԱՎԱՐՈՒԹՅԱՆ 2023 ԹՎԱԿԱՆԻ ԴԵԿՏԵՄԲԵՐԻ 28-Ի N 2323-Ն ՈՐՈՇՄԱՆ N 5 ՀԱՎԵԼՎԱԾԻ N 1 ԱՂՅՈՒՍԱԿՈՒՄ ԿԱՏԱՐՎՈՂ ՓՈՓՈԽՈՒԹՅՈՒՆՆԵՐԸ ԵՎ ԼՐԱՑՈՒՄՆԵՐԸ
F6: հազ. դրամներով
A7: Ծրագրային դասիչը | C7: Բյուջետային հատկացումների գլխավոր կարգադրիչների, ծրագրերի և միջոցառումների անվանումները | D7: Ցուցանիշների փոփոխությունը (ավելացումները նշված են դրական նշանով, իսկ նվազեցումները՝ փակագծերում)
A8: Ծրագիր | B8: Միջոցառում | D8: Առաջին եռամսյակ | E8: Առաջին կիսամյակ | F8: Ինն ամիս | G8: Տարի
C9: ԸՆԴԱՄԵՆԸ | D9: =+D11+D25 -> 0 | E9: =+E11+E25 -> 0 | F9: =+F11+F25 -> 0 | G9: =+G11+G25 -> 0
C10: այդ թվում
C11: ՀՀ ԿՐԹՈՒԹՅԱՆ, ԳԻՏՈՒԹՅԱՆ, ՄՇԱԿՈՒՅԹԻ ԵՎ ՍՊՈՐՏԻ ՆԱԽԱՐԱՐՈՒԹՅՈՒՆ | D11: =D12 -> 34853.6 | E11: =E12 -> 34853.6 | F11: =F12 -> 34853.6 | G11: =G12 -> 34853.6
A12: 1041 | C12: Ծրագրի անվանումը` | D12: =D19 -> 34853.6 | E12: =E19 -> 34853.6 | F12: =F19 -> 34853.6 | G12: =G19 -> 34853.6
C13: Մեծ նվաճումների սպորտ
C14: Ծրագրի նպատակը`
C15: Նպաստել Հայաստանում մեծ սպորտի շարունակական զարգացմանը և միջազգային հարթակներում ՀՀ դիրքի բարելավմանը
C16: Վերջնական արդյունքի նկարագրությունը`
C17: ՀՀ առաջնությունների ընդլայնում, միջազգային սպորտային միջոցառումներին մասնակցության և նվաճումների ապահովում
C18: Ծրագրի միջոցառումներ
B19: 11001 | C19: Միջոցառման անվանումը` | D19: 34853.6 | E19: 34853.6 | F19: 34853.6 | G19: 34853.6
C20: ՀՀ առաջնություններին և միջազգային միջոցառումներին մասնակցության ապահովման համար մարզիկների նախապատրաստում և առաջնությունների անցկացում
C21: Միջոցառման նկարագրությունը`
C22: Մարզաձևերի ազգային ֆեդերացիաների կողմից մարզիկների պատրաստում և տարբեր մարզաձևերի ՀՀ առաջնությունների և միջազգային մրցաշարերի անցկացում, ուսումնամարզական հավաքների կազմակերպում և միջազգային միջոցառումներին մասնակցություն
C23: Միջոցառման տեսակը
C24: Ծառայությունների մատուցում
C25: ՀՀ ԿԱՌԱՎԱՐՈՒԹՅՈՒՆ | D25: =+D26 -> -34853.6 | E25: =+E26 -> -34853.6 | F25: =+F26 -> -34853.6 | G25: =+G26 -> -34853.6
A26: 1139 | C26: Ծրագրի անվանումը` | D26: =+D32 -> -34853.6 | E26: =+E32 -> -34853.6 | F26: =+F32 -> -34853.6 | G26: =+G32 -> -34853.6
C27: ՀՀ կառավարության պահուստային ֆոնդ
C28: Ծրագրի նպատակը`
C29: Պետական բյուջեում չկանխատեսված, ինչպես նաև բյուջետային երաշխիքների ապահովման ծախսերի ֆինանսավորման ապահովում
C30: Վերջնական արդյունքի նկարագրությունը`
C31: Պահուստային ֆոնդի կառավարման արդյունավետության և թափանցիկության ապահովում
B32: 11001 | C32: Միջոցառման անվանումը` | D32: -34853.6 | E32: -34853.6 | F32: -34853.6 | G32: -34853.6
C33: ՀՀ կառավարության պահուստային ֆոնդ
C34: Միջոցառման նկարագրությունը`
C35: ՀՀ պետական բյուջեում նախատեսված ելքերի լրացուցիչ ֆինանսավորման՝ պետական բյուջեում չկանխատեսված ելքերի, ինչպես նաև բյուջետային երաշխիքների ապահովման ելքերի ֆինանսավորման ապահովում
C36: Միջոցառման տեսակը
C37: Ծառայությունների մատուցում

Sheet Havelvats 2 
I1: Հավելված N 2
H2: ՀՀ կառավարության 2024 թվականի
H3: ______________ ի ___Ն որոշման
A5: ՀԱՅԱՍՏԱՆԻ ՀԱՆՐԱՊԵՏՈՒԹՅԱՆ ԿԱՌԱՎԱՐՈՒԹՅԱՆ 2023 ԹՎԱԿԱՆԻ ԴԵԿՏԵՄԲԵՐԻ 28-Ի N 2323-Ն ՈՐՈՇՄԱՆ N 3 ԵՎ N 4 ՀԱՎԵԼՎԱԾՆԵՐՈՒՄ ԿԱՏԱՐՎՈՂ ՓՈՓՈԽՈՒԹՅՈՒՆՆԵՐԸ ԵՎ ԼՐԱՑՈՒՄՆԵՐԸ
A9: Գործառական դասիչը | D9: Ծրագրային դասիչը | F9: Բյուջետային հատկացումների գլխավոր կարգադրիչների, ծրագրերի, միջոցառումների և միջոցառումները կատարող պետական մարմինների անվանումները | G9: Ցուցանիշների փոփոխությունը (ավելացումները նշված են դրական նշանով, իսկ նվազեցումները՝ փակագծերում)
A10: Բաժին | B10: Խումբ | C10: Դաս | D10: Ծրագիր | E10: Միջոցառում | G10: Առաջին եռամսյակ | H10: Առաջին կիսամյակ | I10: Ինն ամիս | J10: Տարի
F11: ԸՆԴԱՄԵՆԸ | G11: =G13+G33 -> 0 | H11: =H13+H33 -> 0 | I11: =I13+I33 -> 0 | J11: =J13+J33 -> 0
F12: այդ թվում
F13: ՀՀ ԿՐԹՈՒԹՅԱՆ, ԳԻՏՈՒԹՅԱՆ, ՄՇԱԿՈՒՅԹԻ ԵՎ ՍՊՈՐՏԻ ՆԱԽԱՐԱՐՈՒԹՅՈՒՆ | G13: =G14 -> 34853.6 | H13: =H14 -> 34853.6 | I13: =I14 -> 34853.6 | J13: =J14 -> 34853.6
A14: 08 | F14: ՀԱՆԳԻՍՏ, ՄՇԱԿՈՒՅԹ ԵՎ ԿՐՈՆ | G14: =G16 -> 34853.6 | H14: =H16 -> 34853.6 | I14: =I16 -> 34853.6 | J14: =J16 -> 34853.6
F15: այդ թվում`
B16: 01 | F16: Հանգստի և սպորտի ծառայություններ | G16: =G18 -> 34853.6 | H16: =H18 -> 34853.6 | I16: =I18 -> 34853.6 | J16: =J18 -> 34853.6
F17: այդ թվում`
C18: 01 | F18: Հանգստի և սպորտի ծառայություններ | G18: =G20 -> 34853.6 | H18: =H20 -> 34853.6 | I18: =I20 -> 34853.6 | J18: =J20 -> 34853.6
F19: այդ թվում`
F20: ՀՀ կրթության, գիտության, մշակույթի և սպորտի նախարարություն | G20: =G22 -> 34853.6 | H20: =H22 -> 34853.6 | I20: =I22 -> 34853.6 | J20: =J22 -> 34853.6
F21: այդ թվում`
D22: 1041 | E22: Մեծ նվաճումների սպորտ | G22: =+G24 -> 34853.6 | H22: =+H24 -> 34853.6 | I22: =+I24 -> 34853.6 | J22: =+J24 -> 34853.6
F23: այդ թվում`
E24: 11001 | F24: ՀՀ առաջնություններին և միջազգային միջոցառումներին մասնակցության ապահովման համար մարզիկների նախապատրաստում և առաջնությունների անցկացում | G24: =G26 -> 34853.6 | H24: =H26 -> 34853.6 | I24: =I26 -> 34853.6 | J24: =J26 -> 34853.6
F25: այդ թվում` ըստ կատարողների
F26: ՀՀ կրթության, գիտության, մշակույթի և սպորտի նախարարություն | G26: =G28 -> 34853.6 | H26: =H28 -> 34853.6 | I26: =I28 -> 34853.6 | J26: =J28 -> 34853.6
F27: այդ թվում՝ բյուջետային ծախսերի տնտեսագիտական դասակարգման հոդվածներ
F28: ԸՆԴԱՄԵՆԸ ԾԱԽՍԵՐ | G28: =G29 -> 34853.6 | H28: =H29 -> 34853.6 | I28: =I29 -> 34853.6 | J28: =J29 -> 34853.6
F29: ԸՆԹԱՑԻԿ ԾԱԽՍԵՐ | G29: =+G30 -> 34853.6 | H29: =+H30 -> 34853.6 | I29: =+I30 -> 34853.6 | J29: =+J30 -> 34853.6
F30: ԴՐԱՄԱՇՆՈՐՀՆԵՐ | G30: =G31 -> 34853.6 | H30: =H31 -> 34853.6 | I30: =I31 -> 34853.6 | J30: =J31 -> 34853.6
F31: Ընթացիկ դրամաշնորհներ պետական հատվածի այլ մակարդակներին | G31: =G32 -> 34853.6 | H31: =H32 -> 34853.6 | I31: =I32 -> 34853.6 | J31: =J32 -> 34853.6
F32: - Այլ ընթացիկ դրամաշնորհներ | G32: ='Havelvats 1'!D19 -> 34853.6 | H32: ='Havelvats 1'!E19 -> 34853.6 | I32: ='Havelvats 1'!F19 -> 34853.6 | J32: ='Havelvats 1'!G19 -> 34853.6
F33: ՀՀ ԿԱՌԱՎԱՐՈՒԹՅՈՒՆ | G33: =+G34 -> -34853.6 | H33: =+H34 -> -34853.6 | I33: =+I34 -> -34853.6 | J33: =+J34 -> -34853.6
A34: 11 | F34: ՀԻՄՆԱԿԱՆ ԲԱԺԻՆՆԵՐԻՆ ՉԴԱՍՎՈՂ ՊԱՀՈՒՍՏԱՅԻՆ ՖՈՆԴԵՐ | G34: =+G36 -> -34853.6 | H34: =+H36 -> -34853.6 | I34: =+I36 -> -34853.6 | J34: =+J36 -> -34853.6
F35: այդ թվում`
B36: 01 | F36: ՀՀ կառավարության և համայնքների պահուստային ֆոնդ | G36: =+G38 -> -34853.6 | H36: =+H38 -> -34853.6 | I36: =+I38 -> -34853.6 | J36: =+J38 -> -34853.6
F37: այդ թվում`
C38: 01 | F38: ՀՀ կառավարության պահուստային ֆոնդ | G38: =G40 -> -34853.6 | H38: =H40 -> -34853.6 | I38: =I40 -> -34853.6 | J38: =J40 -> -34853.6
F39: այդ թվում`
F40: ՀՀ կառավարություն | G40: =+G42 -> -34853.6 | H40: =+H42 -> -34853.6 | I40: =+I42 -> -34853.6 | J40: =+J42 -> -34853.6
F41: այդ թվում`
D42: 1139 | E42: ՀՀ կառավարության պահուստային ֆոնդ | F42: ՀՀ կառավարության պահուստային ֆոնդ | G42: =+G51 -> -34853.6 | H42: =+H51 -> -34853.6 | I42: =+I51 -> -34853.6 | J42: =+J51 -> -34853.6
F43: այդ թվում`
E44: 11001 | F44: ՀՀ կառավարության պահուստային ֆոնդ | G44: =+G46 -> -34853.6 | H44: =+H46 -> -34853.6 | I44: =+I46 -> -34853.6 | J44: =+J46 -> -34853.6
...

Sheet Havelvac 3
F1: Հավելված N 3
F2: ՀՀ կառավարության 2024 թվականի
F3: ______________ ի ___Ն որոշման
A6: ՀԱՅԱՍՏԱՆԻ ՀԱՆՐԱՊԵՏՈՒԹՅԱՆ ԿԱՌԱՎԱՐՈՒԹՅԱՆ 2023 ԹՎԱԿԱՆԻ ԴԵԿՏԵՄԲԵՐԻ 28-Ի N 2323-Ն ՈՐՈՇՄԱՆ N 5 ՀԱՎԵԼՎԱԾԻ N 7 ԱՂՅՈՒՍԱԿՈՒՄ ԿԱՏԱՐՎՈՂ ԼՐԱՑՈՒՄՆԵՐԸ
G7: հազ. դրամներով
A8: Ծրագրային դասիչը | C8: Բյուջետային հատկացումների գլխավոր կարգադրիչների, ծրագրերի, միջոցառումների և միջոցառումները կատարող պետական մարմինների անվանումները | F8: Միջոցառումները կատարող պետական մարմինների և դրամաշնորհ ստացող տնտեսվարող սուբյեկտների անվանումները | G8: Ցուցանիշների փոփոխությունը (ավելացումները նշված են դրական նշանով)
A9: Ծրագիր | B9: Միջոցառում | G9: Տարի
A10: ՀՀ կրթության, գիտության, մշակույթի և սպորտի նախարարություն | G10: =+G11 -> 34853.6
A11: 1041 | B11: Մեծ նվաճումների սպորտ | G11: =+G12 -> 34853.6
B12: 11001 | C12: ՀՀ առաջնություններին և միջազգային միջոցառումներին մասնակցության ապահովման համար մարզիկների նախապատրաստում և առաջնությունների անցկացում | F12: ՀՀ կրթության, գիտության, մշակույթի և սպորտի նախարարություն | G12: =SUM(G13:G13) -> 34853.6
F13: «Հայաստանի բասկետբոլի ֆեդերացիա» ՀԿ | G13: ='Havelvats 2 '!J32 -> 34853.6

Sheet Havelvats 4
G1: Հավելված N 4
F2: ՀՀ կառավարության 2024 թվականի
F3: ______________ ի ___Ն որոշման
B5: ՀԱՅԱՍՏԱՆԻ ՀԱՆՐԱՊԵՏՈՒԹՅԱՆ ԿԱՌԱՎԱՐՈՒԹՅԱՆ 2023 ԹՎԱԿԱՆԻ ԴԵԿՏԵՄԲԵՐԻ 28-Ի N 2323-Ն ՈՐՈՇՄԱՆ N 9 ՀԱՎԵԼՎԱԾԻ N 9.13 և 9.48 ԱՂՅՈՒՍԱԿՆԵՐՈՒՄ ԿԱՏԱՐՎՈՂ ՓՈՓՈԽՈՒԹՅՈՒՆՆԵՐԸ ԵՎ ԼՐԱՑՈՒՄՆԵՐԸ
A7: Աղյուսակ 9․13
C8: ՀՀ կրթության, գիտության, մշակույթի և սպորտի նախարարություն
B9: ՄԱՍ 2. ՊԵՏԱԿԱՆ ՄԱՐՄՆԻ ԳԾՈՎ ԱՐԴՅՈՒՆՔԱՅԻՆ (ԿԱՏԱՐՈՂԱԿԱՆ) ՑՈՒՑԱՆԻՇՆԵՐԸ
B12: Ծրագրի դասիչը | C12: Ծրագրի անվանումը
B13: 1041 | C13: Մեծ նվաճումների սպորտ
B15: Ծրագրի միջոցառումները
B16: Ծրագրի դասիչը՝ | C16: 1041 | D16: Ցուցանիշների փոփոխությունը (ավելացումները նշված են դրական նշանով)
B17: Միջոցառման դասիչը՝ | C17: 11001 | D17: Առաջին եռամսյակ | E17: Առաջին կիսամյակ | F17: Ինն ամիս | G17: Տարի
B18: Միջոցառման անվանումը՝ | C18: ՀՀ առաջնություններին և միջազգային միջոցառումներին մասնակցության ապահովման համար մարզիկների նախապատրաստում և առաջնությունների անցկացում
B19: Նկարագրությունը՝ | C19: Մարզաձևերի ազգային ֆեդերացիաների կողմից մարզիկների պատրաստում և տարբեր մարզաձևերի ՀՀ առաջնությունների և միջազգային մրցաշարերի անցկացում, ուսումնամարզական հավաքների կազմակերպում և միջազգային միջոցառումներին մասնակցություն
B20: Միջոցառման տեսակը՝ | C20: Ծառայությունների մատուցում
B21: Միջոցառումն իրականացնողի անվանումը | C21: Մասնագիտացված կազմակերպություններ
B22: Արդյունքի չափորոշիչներ
B23: Միջազգային միջոցառումների քանակ, հատ | E23: 2 | G23: 2
B24: Միջազգային միջոցառումների մասնակիցների թիվ, մարդ, այդ թվում՛ | E24: 25 | G24: 25
B25: իգական սեռի | E25: 2 | G25: 2
B26: արական սեռի | E26: 23 | G26: 23
B27: Միջոցառման վրա կատարվող ծախսը (հազար դրամ) | D27: ='Havelvats 1'!D19 -> 34853.6 | E27: ='Havelvats 1'!E19 -> 34853.6 | F27: ='Havelvats 1'!F19 -> 34853.6 | G27: ='Havelvats 1'!G19 -> 34853.6
A30: Աղյուսակ 9․48
C31: ՀՀ կառավարություն
B32: ՄԱՍ 2. ՊԵՏԱԿԱՆ ՄԱՐՄՆԻ ԳԾՈՎ ԱՐԴՅՈՒՆՔԱՅԻՆ (ԿԱՏԱՐՈՂԱԿԱՆ) ՑՈՒՑԱՆԻՇՆԵՐԸ
B35: Ծրագրի դասիչը | C35: Ծրագրի անվանումը
B36: 1139 | C36: ՀՀ կառավարության պահուստային ֆոնդ
B38: Ծրագրի միջոցառումները
B39: Ծրագրի դասիչը՝ | C39: 1139 | D39: Ցուցանիշների փոփոխությունը (նվազեցումները նշված են փակագծերում)
B40: Միջոցառման դասիչը՝ | C40: 11001 | D40: Առաջին եռամսյակ | E40: Առաջին կիսամյակ | F40: Ինն ամիս | G40: Տարի
B41: Միջոցառման անվանումը՝ | C41: ՀՀ կառավարության պահուստային ֆոնդ
B42: Նկարագրությունը՝ | C42: ՀՀ պետական բյուջեում նախատեսված ելքերի լրացուցիչ ֆինանսավորման՝ պետական բյուջեում չկանխատեսված ելքերի, ինչպես նաև բյուջետային երաշխիքների ապահովման ելքերի ֆինանսավորման ապահովում
B43: Միջոցառման տեսակը՝ | C43: Ծառայությունների մատուցում
B44: Միջոցառումն իրականացնողի անվանումը | C44: ՀՀ կառավարություն
C45: Արդյունքի չափորոշիչներ
B46: Միջոցառման վրա կատարվող ծախսը (հազար դրամ) | D46: ='Havelvats 1'!D32 -> -34853.6 | E46: ='Havelvats 1'!E32 -> -34853.6 | F46: ='Havelvats 1'!F32 -> -34853.6 | G46: ='Havelvats 1'!G32 -> -34853.6

Sheet Havelvats 5
G1: Հավելված N 5
C2: ՀՀ կառավարության 2024 թվականի
C3: ______________ ի ___Ն որոշման
B5: ՀԱՅԱՍՏԱՆԻ ՀԱՆՐԱՊԵՏՈՒԹՅԱՆ ԿԱՌԱՎԱՐՈՒԹՅԱՆ 2023 ԹՎԱԿԱՆԻ ԴԵԿՏԵՄԲԵՐԻ 23-Ի N 2323-Ն ՈՐՈՇՄԱՆ N 9․1 ՀԱՎԵԼՎԱԾԻ N 9.1․13 ԵՎ 9.1.58 ԱՂՅՈՒՍԱԿՆԵՐՈՒՄ ԿԱՏԱՐՎՈՂ ՓՈՓՈԽՈՒԹՅՈՒՆՆԵՐԸ ԵՎ ԼՐԱՑՈՒՄՆԵՐԸ
A7: Աղյուսակ 9․1․13
C9: ՀՀ կրթության, գիտության, մշակույթի և սպորտի նախարարություն
B10: ՄԱՍ 1. ՊԵՏԱԿԱՆ ՄԱՐՄՆԻ ԳԾՈՎ ԱՐԴՅՈՒՆՔԱՅԻՆ (ԿԱՏԱՐՈՂԱԿԱՆ) ՑՈՒՑԱՆԻՇՆԵՐԸ
B12: Ծրագրի դասիչը | C12: Ծրագրի անվանումը
B13: 1041 | C13: Մեծ նվաճումների սպորտ
B15: Ծրագրի միջոցառումները
B16: Ծրագրի դասիչը՝ | C16: 1041 | D16: Ցուցանիշների փոփոխությունը (ավելացումները նշված են դրական նշանով)
B17: Միջոցառման դասիչը՝ | C17: 11001 | D17: Առաջին եռամսյակ | E17: Առաջին կիսամյակ | F17: Ինն ամիս | G17: Տարի
B18: Միջոցառման անվանումը՝ | C18: ՀՀ առաջնություններին և միջազգային միջոցառումներին մասնակցության ապահովման համար մարզիկների նախապատրաստում և առաջնությունների անցկացում
B19: Նկարագրությունը՝ | C19: Մարզաձևերի ազգային ֆեդերացիաների կողմից մարզիկների պատրաստում և տարբեր մարզաձևերի ՀՀ առաջնությունների և միջազգային մրցաշարերի անցկացում, ուսումնամարզական հավաքների կազմակերպում և միջազգային միջոցառումներին մասնակցություն
B20: Միջոցառման տեսակը՝ | C20: Ծառայությունների մատուցում
B21: Միջոցառումն իրականացնողի անվանումը | C21: Մասնագիտացված կազմակերպություններ
B22: Արդյունքի չափորոշիչներ
B23: Միջազգային միջոցառումների քանակ, հատ | E23: 2 | G23: 2
B24: Միջազգային միջոցառումների մասնակիցների թիվ, մարդ, այդ թվում՛ | E24: 25 | G24: 25
B25: իգական սեռի | E25: 2 | G25: 2
B26: արական սեռի | E26: 23 | G26: 23
B27: Միջոցառման վրա կատարվող ծախսը (հազար դրամ) | D27: ='Havelvats 4'!D27 -> 34853.6 | E27: ='Havelvats 4'!E27 -> 34853.6 | F27: ='Havelvats 4'!F27 -> 34853.6 | G27: ='Havelvats 4'!G27 -> 34853.6
A31: Աղյուսակ 9․1.58
C32: ՀՀ կառավարություն
B33: ՄԱՍ 1. ՊԵՏԱԿԱՆ ՄԱՐՄՆԻ ԳԾՈՎ ԱՐԴՅՈՒՆՔԱՅԻՆ (ԿԱՏԱՐՈՂԱԿԱՆ) ՑՈՒՑԱՆԻՇՆԵՐԸ
B36: Ծրագրի դասիչը | C36: Ծրագրի անվանումը
B37: 1139 | C37: ՀՀ կառավարության պահուստային ֆոնդ
B39: Ծրագրի միջոցառումները
B40: Ծրագրի դասիչը՝ | C40: 1139 | D40: Ցուցանիշների փոփոխությունը (նվազեցումները նշված են փակագծերում)
B41: Միջոցառման դասիչը՝ | C41: 11001 | D41: Առաջին եռամսյակ | E41: Առաջին կիսամյակ | F41: Ինն ամիս | G41: Տարի
B42: Միջոցառման անվանումը՝ | C42: ՀՀ կառավարության պահուստային ֆոնդ
B43: Նկարագրությունը՝ | C43: ՀՀ պետական բյուջեում նախատեսված ելքերի լրացուցիչ ֆինանսավորման՝ պետական բյուջեում չկանխատեսված ելքերի, ինչպես նաև բյուջետային երաշխիքների ապահովման ելքերի ֆինանսավորման ապահովում
B44: Միջոցառման տեսակը՝ | C44: Ծառայությունների մատուցում
B45: Միջոցառումն իրականացնողի անվանումը | C45: ՀՀ կառավարություն
C46: Արդյունքի չափորոշիչներ
B47: Միջոցառման վրա կատարվող ծախսը (հազար դրամ) | D47: ='Havelvats 4'!D46 -> -34853.6 | E47: ='Havelvats 4'!E46 -> -34853.6 | F47: ='Havelvats 4'!F46 -> -34853.6 | G47: ='Havelvats 4'!G46 -> -34853.6

Sheet Havelvats 6
I1: Հավելված N 6
F2: ՀՀ կառավարության 2024 թվականի
F3: ______________ ի ___Ն որոշման
A6: ՀԱՅԱՍՏԱՆԻ ՀԱՆՐԱՊԵՏՈՒԹՅԱՆ 2024 ԹՎԱԿԱՆԻ ՊԵՏԱԿԱՆ ԲՅՈՒՋԵՈՎ ՆԱԽԱՏԵՍՎԱԾ՝ ՀԱՅԱՍՏԱՆԻ ՀԱՆՐԱՊԵՏՈՒԹՅԱՆ ԿԱՌԱՎԱՐՈՒԹՅԱՆ ՊԱՀՈՒՍՏԱՅԻՆ ՖՈՆԴԻՑ ՀԱՏԿԱՑՈՒՄՆԵՐ ԿԱՏԱՐԵԼՈՒ ՎԵՐԱԲԵՐՅԱԼ
I8: հազ. դրամներով
A9: Գործառական դասիչը | D9: Ծրագրային դասիչը | F9: Բյուջետային հատկացումների գլխավոր կարգադրիչների, ծրագրերի, միջոցառումների և միջոցառումները կատարող պետական մարմինների անվանումները | G9: Ցուցանիշների փոփոխությունը (ավելացումները նշված են դրական նշանով, իսկ նվազեցումները՝ փակագծերում)
A10: Բաժին | B10: Խումբ | C10: Դաս | D10: Ծրագիր | E10: Միջոցառում | G10: Առաջին եռամսյակ | H10: Առաջին կիսամյակ | I10: Ինն ամիս | J10: Տարի
F11: ԸՆԴԱՄԵՆԸ | G11: =+G33+G13 -> 0 | H11: =+H33+H13 -> 0 | I11: =+I33+I13 -> 0 | J11: =+J33+J13 -> 0
F12: այդ թվում
F13: ՀՀ կրթության, գիտության, մշակույթի և սպորտի նախարարություն | G13: =+G14 -> 34853.6 | H13: =+H14 -> 34853.6 | I13: =+I14 -> 34853.6 | J13: =+J14 -> 34853.6
A14: 08 | F14: ՀԱՆԳԻՍՏ, ՄՇԱԿՈՒՅԹ ԵՎ ԿՐՈՆ | G14: =+G16 -> 34853.6 | H14: =+H16 -> 34853.6 | I14: =+I16 -> 34853.6 | J14: =+J16 -> 34853.6
F15: այդ թվում`
B16: 01 | F16: Հանգստի և սպորտի ծառայություններ | G16: =+G18 -> 34853.6 | H16: =+H18 -> 34853.6 | I16: =+I18 -> 34853.6 | J16: =+J18 -> 34853.6
F17: այդ թվում`
C18: 01 | F18: Հանգստի և սպորտի ծառայություններ | G18: =+G20 -> 34853.6 | H18: =+H20 -> 34853.6 | I18: =+I20 -> 34853.6 | J18: =+J20 -> 34853.6
F19: այդ թվում`
F20: ՀՀ կրթության, գիտության, մշակույթի և սպորտի նախարարություն | G20: =+G22 -> 34853.6 | H20: =+H22 -> 34853.6 | I20: =+I22 -> 34853.6 | J20: =+J22 -> 34853.6
F21: այդ թվում`
D22: 1041 | E22: Մեծ նվաճումների սպորտ | G22: =+G24 -> 34853.6 | H22: =+H24 -> 34853.6 | I22: =+I24 -> 34853.6 | J22: =+J24 -> 34853.6
E23: 11001 | F23: այդ թվում`
F24: ՀՀ առաջնություններին և միջազգային միջոցառումներին մասնակցության ապահովման համար մարզիկների նախապատրաստում և առաջնությունների անցկացում | G24: =+G26 -> 34853.6 | H24: =+H26 -> 34853.6 | I24: =+I26 -> 34853.6 | J24: =+J26 -> 34853.6
F25: այդ թվում` ըստ կատարողների
F26: ՀՀ կրթության, գիտության, մշակույթի և սպորտի նախարարություն | G26: =+G28 -> 34853.6 | H26: =+H28 -> 34853.6 | I26: =+I28 -> 34853.6 | J26: =+J28 -> 34853.6
F27: այդ թվում՝ բյուջետային ծախսերի տնտեսագիտական դասակարգման հոդվածներ
F28: ԸՆԴԱՄԵՆԸ ԾԱԽՍԵՐ | G28: =+G29 -> 34853.6 | H28: =+H29 -> 34853.6 | I28: =+I29 -> 34853.6 | J28: =+J29 -> 34853.6
F29: ԸՆԹԱՑԻԿ ԾԱԽՍԵՐ | G29: =+G30 -> 34853.6 | H29: =+H30 -> 34853.6 | I29: =+I30 -> 34853.6 | J29: =+J30 -> 34853.6
F30: ԴՐԱՄԱՇՆՈՐՀՆԵՐ | G30: =G31 -> 34853.6 | H30: =H31 -> 34853.6 | I30: =I31 -> 34853.6 | J30: =J31 -> 34853.6
F31: Ընթացիկ դրամաշնորհներ պետական հատվածի այլ մակարդակներին | G31: =G32 -> 34853.6 | H31: =H32 -> 34853.6 | I31: =I32 -> 34853.6 | J31: =J32 -> 34853.6
F32: - Այլ ընթացիկ դրամաշնորհներ | G32: ='Havelvats 1'!D19 -> 34853.6 | H32: ='Havelvats 1'!E19 -> 34853.6 | I32: ='Havelvats 1'!F19 -> 34853.6 | J32: ='Havelvats 1'!G19 -> 34853.6
F33: ՀՀ կառավարություն | G33: =+G34 -> -34853.6 | H33: =+H34 -> -34853.6 | I33: =+I34 -> -34853.6 | J33: =+J34 -> -34853.6
A34: 11 | F34: ՀԻՄՆԱԿԱՆ ԲԱԺԻՆՆԵՐԻՆ ՉԴԱՍՎՈՂ ՊԱՀՈՒՍՏԱՅԻՆ ՖՈՆԴԵՐ | G34: =+G36 -> -34853.6 | H34: =+H36 -> -34853.6 | I34: =+I36 -> -34853.6 | J34: =+J36 -> -34853.6
F35: այդ թվում`
B36: 01 | F36: ՀՀ կառավարության և համայնքների պահուստային ֆոնդ | G36: =+G38 -> -34853.6 | H36: =+H38 -> -34853.6 | I36: =+I38 -> -34853.6 | J36: =+J38 -> -34853.6
F37: այդ թվում`
C38: 01 | F38: ՀՀ կառավարության պահուստային ֆոնդ | G38: =+G40 -> -34853.6 | H38: =+H40 -> -34853.6 | I38: =+I40 -> -34853.6 | J38: =+J40 -> -34853.6
F39: այդ թվում`
F40: ՀՀ կառավարություն | G40: =+G42 -> -34853.6 | H40: =+H42 -> -34853.6 | I40: =+I42 -> -34853.6 | J40: =+J42 -> -34853.6
F41: այդ թվում`
D42: 1139 | E42: ՀՀ կառավարության պահուստային ֆոնդ | F42: ՀՀ կառավարության պահուստային ֆոնդ | G42: =+G44 -> -34853.6 | H42: =+H44 -> -34853.6 | I42: =+I44 -> -34853.6 | J42: =+J44 -> -34853.6
F43: այդ թվում`
...
