Workbook

Sheet Հավելված 1
G1: Հավելված N 1
G2: ՀՀ կառավարության 2024 թվականի
G3: ___________ ___-ի N _______ որոշման
A4: «ՀԱՅԱՍՏԱՆԻ ՀԱՆՐԱՊԵՏՈՒԹՅԱՆ 2024 ԹՎԱԿԱՆԻ ՊԵՏԱԿԱՆ ԲՅՈՒՋԵԻ ՄԱՍԻՆ» ՀԱՅԱՍՏԱՆԻ ՀԱՆՐԱՊԵՏՈՒԹՅԱՆ ՕՐԵՆՔԻ N 1 ՀԱՎԵԼՎԱԾԻ N 2 ԱՂՅՈՒՍԱԿՈՒՄ ԿԱՏԱՐՎՈՂ ՎԵՐԱԲԱՇԽՈՒՄԸ ԵՎ ՀԱՅԱՍՏԱՆԻ ՀԱՆՐԱՊԵՏՈՒԹՅԱՆ ԿԱՌԱՎԱՐՈՒԹՅԱՆ 2023 ԹՎԱԿԱՆԻ ԴԵԿՏԵՄԲԵՐԻ 28-Ի N 2323-Ն ՈՐՈՇՄԱՆ N 5 ՀԱՎԵԼՎԱԾԻ N 1 ԱՂՅՈՒՍԱԿՈՒՄ ԿԱՏԱՐՎՈՂ ՓՈՓՈԽՈՒԹՅՈՒՆՆԵՐԸ
G5: հազ. դրամներով
A6: Ծրագրային դասիչը | C6: Բյուջետային հատկացումների գլխավոր կարգադրիչների, ծրագրերի և միջոցառումների անվանումները | D6: Ցուցանիշների փոփոխությունը (ավելացումները նշված են դրական նշանով, իսկ նվազեցումները՝ փակագծերում)
A7: Ծրագիր | B7: Միջոցառում | D7: Առաջին եռամսյակ | E7: Առաջին կիսամյակ | F7: Ինն ամիս | G7: Տարի
C8: ԸՆԴԱՄԵՆԸ | D8: =D9+D29 -> 0 | E8: =E9+E29 -> 0 | F8: =F9+F29 -> 0 | G8: =G9+G29 -> 0
C9: ՀՀ պետական եկամուտների կոմիտե | D9: =D10 -> 310059.48 | E9: =E10 -> 1240237.9 | F9: =F10 -> 2170416.4 | G9: =G10 -> 2480475.8
A10: 1023 | C10: Ծրագրի անվանումը՝ | D10: =D23 -> 310059.48 | E10: =E23 -> 1240237.9 | F10: =F23 -> 2170416.4 | G10: =G23 -> 2480475.8
C11: Հարկային և մաքսային ծառայություններ
C12: Ծրագրի նպատակը՝
C13: Հարկային և մաքսային միասնական պետական քաղաքականության իրականացում, հարկային և մաքսային օրենսդրության ամբողջական և համահավասար կիրառում
C14: Վերջնական արդյունքի նկարագրությունը՝
C15: Արդյունավետ հարկային և մաքսային հսկողության իրականացում, պետական բյուջեի եկամուտների ապահովում
A16: Ծրագրի միջոցառումներ
B17: 11001 | C17: Միջոցառման անվանումը` | G17: ='[1]Հավելված 3'!G17 -> 0
C18: Հարկային և մաքսային ծառայություններ
C19: Միջոցառման նկարագրությունը`
C20: Հարկային և մաքսային քաղաքականության մշակման, պլանավորման, մոնիտորինգի, ծրագրերի համակարգման, գանձման, վերահսկողության և աջակցության ծառայություններ
C21: Միջոցառման տեսակը
C22: Ծառայությունների մատուցում
B23: 11001 | C23: Միջոցառման անվանումը` | D23: ='Հավելված 2'!G28 -> 310059.48 | E23: ='Հավելված 2'!H28 -> 1240237.9 | F23: ='Հավելված 2'!I28 -> 2170416.4 | G23: ='Հավելված 2'!J28 -> 2480475.8
C24: Հարկային և մաքսային ծառայություններ
C25: Միջոցառման նկարագրությունը`
C26: Հարկային և մաքսային քաղաքականության մշակման, պլանավորման, մոնիտորինգի, ծրագրերի համակարգման, գանձման, վերահսկողության և աջակցության ծառայություններ
C27: Միջոցառման տեսակը
C28: Ծառայությունների մատուցում
C29: ՀՀ կառավարություն | D29: =D30 -> -310059.48 | E29: =E30 -> -1240237.9 | F29: =F30 -> -2170416.4 | G29: =G30 -> -2480475.8
A30: 1139 | C30: Ծրագրի անվանումը` | D30: =D37 -> -310059.48 | E30: =E37 -> -1240237.9 | F30: =F37 -> -2170416.4 | G30: =G37 -> -2480475.8
C31: ՀՀ կառավարության պահուստային ֆոնդ
C32: Ծրագրի նպատակը`
C33: Պետական բյուջեում չկանխատեսված, ինչպես նաեւ բյուջետային երաշխիքների ապահովման ծախսերի ֆինանսավորման ապահովում
C34: Վերջնական արդյունքի նկարագրությունը`
C35: Պահուստային ֆոնդի կառավարման արդյունավետության և թափանցիկության ապահովում
A36: Ծրագրի միջոցառումներ
B37: 11001 | C37: Միջոցառման անվանումը` | D37: ='Հավելված 2'!G46 -> -310059.48 | E37: ='Հավելված 2'!H46 -> -1240237.9 | F37: ='Հավելված 2'!I46 -> -2170416.4 | G37: ='Հավելված 2'!J46 -> -2480475.8
C38: ՀՀ կառավարության պահուստային ֆոնդ
C39: Միջոցառման նկարագրությունը`
C40: ՀՀ պետական բյուջեում նախատեսված ելքերի լրացուցիչ ֆինանսավորման, պետական բյուջեում չկանխատեսված ելքերի, ինչպես նաև բյուջետային երաշխիքների ապահովման ելքերի ֆինանսավորման ապահովում
...

Sheet Հավելված 2
J1: Հավելված N 2
J2: ՀՀ կառավարության 2024 թվականի
J3: ___________ ___-ի N _______ որոշման
A4: ՀԱՅԱՍՏԱՆԻ ՀԱՆՐԱՊԵՏՈՒԹՅԱՆ ԿԱՌԱՎԱՐՈՒԹՅԱՆ 2023 ԹՎԱԿԱՆԻ ԴԵԿՏԵՄԲԵՐԻ 28-Ի N 2323-Ն ՈՐՈՇՄԱՆ NN 3 ԵՎ 4 ՀԱՎԵԼՎԱԾՆԵՐԻ ԱՂՅՈՒՍԱԿՆԵՐՈՒՄ ԿԱՏԱՐՎՈՂ ՓՈՓՈԽՈՒԹՅՈՒՆՆԵՐԸ
J5: հազ. դրամներով
A6: Գործառնական դասիչը | D6: Ծրագրային դասիչը | F6: Բյուջետային ծախսերի գործառնական դասակարգման բաժինների, խմբերի և դասերի, բյուջետային ծրագրերի միջոցառումների, բյուջետային հատկացումների գլխավոր կարգադրիչների անվանումները | G6: Ցուցանիշների փոփոխությունը (ավելացումները նշված են դրական նշանով, իսկ նվազեցումները՝ փակագծերում)
A7: բաժին | B7: խումբ | C7: դաս | D7: ծրագիր | E7: միջոցառում | G7: Առաջին եռամսյակ | H7: Առաջին կիսամյակ | I7: Ինն ամիս | J7: Տարի
F8: ԸՆԴԱՄԵՆԸ ԾԱԽՍԵՐ | G8: =G10+G37 -> 0 | H8: =H10+H37 -> 0 | I8: =I10+I37 -> 0 | J8: =J10+J37 -> 0
F9: այդ թվում՝
A10: 01 | F10: ԸՆԴՀԱՆՈՒՐ ԲՆՈՒՅԹԻ ՀԱՆՐԱՅԻՆ ԾԱՌԱՅՈՒԹՅՈՒՆՆԵՐ | G10: =G12 -> 310059.48 | H10: =H12 -> 1240237.9 | I10: =I12 -> 2170416.4 | J10: =J12 -> 2480475.8
F11: այդ թվում՝
B12: 01 | F12: Օրենսդիր և գործադիր մարմիններ, պետական կառավարում, ֆինանսական և հարկաբյուջետային հարաբերություններ, արտաքին հարաբերություններ | G12: =G14 -> 310059.48 | H12: =H14 -> 1240237.9 | I12: =I14 -> 2170416.4 | J12: =J14 -> 2480475.8
F13: այդ թվում՝
C14: 02 | F14: Ֆինանսական և հարկաբյուջետային հարաբերություններ | G14: =G16 -> 310059.48 | H14: =H16 -> 1240237.9 | I14: =I16 -> 2170416.4 | J14: =J16 -> 2480475.8
F15: այդ թվում՝
F16: ՀՀ պետական եկամուտների կոմիտե | G16: =G17 -> 310059.48 | H16: =H17 -> 1240237.9 | I16: =I17 -> 2170416.4 | J16: =J17 -> 2480475.8
D17: 1023 | F17: Հարկային և մաքսային ծառայություններ | G17: =G28 -> 310059.48 | H17: =H28 -> 1240237.9 | I17: =I28 -> 2170416.4 | J17: =J28 -> 2480475.8
F18: այդ թվում՝
E19: 11001 | F19: Հարկային և մաքսային ծառայություններ | J19: =J21 -> 0
F20: այդ թվում` ըստ կատարողների
F21: ՀՀ պետական եկամուտների կոմիտե | J21: =J23 -> 0
F22: այդ թվում` բյուջետային ծախսերի տնտեսագիտական դասակարգման հոդվածներ
F23: ԸՆԴԱՄԵՆԸ ԾԱԽՍԵՐ | J23: =J24 -> 0
F24: ԸՆԹԱՑԻԿ ԾԱԽՍԵՐ | J24: =J25 -> 0
F25: ԾԱՌԱՅՈՒԹՅՈՒՆՆԵՐԻ ԵՎ ԱՊՐԱՆՔՆԵՐԻ ՁԵՌՔԲԵՐՈՒՄ | J25: =J26 -> 0
F26: Պայմանագրային այլ ծառայությունների ձեռքբերում | J26: =J27 -> 0
F27: - Ներկայացուցչական ծախսեր | J27: 0
E28: 11001 | F28: Հարկային և մաքսային ծառայություններ | G28: =G30 -> 310059.48 | H28: =H30 -> 1240237.9 | I28: =I30 -> 2170416.4 | J28: =J30 -> 2480475.8
F29: այդ թվում` ըստ կատարողների
F30: ՀՀ պետական եկամուտների կոմիտե | G30: =G32 -> 310059.48 | H30: =H32 -> 1240237.9 | I30: =I32 -> 2170416.4 | J30: =J32 -> 2480475.8
F31: այդ թվում` բյուջետային ծախսերի տնտեսագիտական դասակարգման հոդվածներ
F32: ԸՆԴԱՄԵՆԸ ԾԱԽՍԵՐ | G32: =G33 -> 310059.48 | H32: =H33 -> 1240237.9 | I32: =I33 -> 2170416.4 | J32: =J33 -> 2480475.8
F33: ԸՆԹԱՑԻԿ ԾԱԽՍԵՐ | G33: =G34 -> 310059.48 | H33: =H34 -> 1240237.9 | I33: =I34 -> 2170416.4 | J33: =J34 -> 2480475.8
F34: ԱՇԽԱՏԱՆՔԻ ՎԱՐՁԱՏՐՈՒԹՅՈՒՆ | G34: =G35 -> 310059.48 | H34: =H35 -> 1240237.9 | I34: =I35 -> 2170416.4 | J34: =J35 -> 2480475.8
F35: Դրամով վճարվող աշխատավարձեր և հավելավճարներ | G35: =G36 -> 310059.48 | H35: =H36 -> 1240237.9 | I35: =I36 -> 2170416.4 | J35: =J36 -> 2480475.8
F36: - Աշխատողների աշխատավարձեր և հավելավճարներ | G36: 310059.48 | H36: 1240237.9 | I36: 2170416.4 | J36: 2480475.8
A37: 11 | F37: ՀԻՄՆԱԿԱՆ ԲԱԺԻՆՆԵՐԻՆ ՉԴԱՍՎՈՂ ՊԱՀՈՒՍՏԱՅԻՆ ՖՈՆԴԵՐ | G37: =G39 -> -310059.48 | H37: =H39 -> -1240237.9 | I37: =I39 -> -2170416.4 | J37: =J39 -> -2480475.8
F38: այդ թվում`
B39: 01 | F39: ՀՀ կառավարության և համայնքների պահուստային ֆոնդ | G39: =G41 -> -310059.48 | H39: =H41 -> -1240237.9 | I39: =I41 -> -2170416.4 | J39: =J41 -> -2480475.8
F40: այդ թվում`
...

Sheet Հավելված 3 աղյուսակներ 1,2
F1: Հավելված N 3
F2: Աղյուսակ N 1
F3: ՀՀ կառավարության 2024 թվականի
F4: ___________ ___-ի N _______ որոշման
A5: ՀԱՅԱՍՏԱՆԻ ՀԱՆՐԱՊԵՏՈՒԹՅԱՆ ԿԱՌԱՎԱՐՈՒԹՅԱՆ 2023 ԹՎԱԿԱՆԻ ԴԵԿՏԵՄԲԵՐԻ 28-Ի N 2323-Ն ՈՐՈՇՄԱՆ N 9 ՀԱՎԵԼՎԱԾԻ N 9.25 ԵՎ 9.48 ԱՂՅՈՒՍԱԿՆԵՐՈՒՄ ԿԱՏԱՐՎՈՂ ՓՈՓՈԽՈՒԹՅՈՒՆՆԵՐԸ
A7: ՀՀ պետական եկամուտների կոմիտե
A9: ՄԱՍ 2. ՊԵՏԱԿԱՆ ՄԱՐՄՆԻ ԳԾՈՎ ԱՐԴՅՈՒՆՔԱՅԻՆ (ԿԱՏԱՐՈՂԱԿԱՆ) ՑՈՒՑԱՆԻՇՆԵՐԸ
A11: Ծրագրի դասիչը | B11: Ծրագրի անվանումը
A12: 1023 | B12: Հարկային և մաքսային ծառայություններ
A14: Ծրագրի միջոցառումները
A15: Ծրագրի դասիչը՝ | B15: 1023
A16: Միջոցառման դասիչը՝ | B16: 11001 | F16: Տարի
A17: Միջոցառման անվանումը՝ | B17: Հարկային և մաքսային ծառայություններ
A18: Նկարագրությունը՝ | B18: Հարկային և մաքսային քաղաքականության մշակման, պլանավորման, մոնիտորինգի, ծրագրերի համակարգման, գանձման, վերահսկողության և աջակցության ծառայություններ
A19: Միջոցառման տեսակը՝ | B19: Ծառայությունների մատուցում
A20: Ծառայությունը մատուցող կազմակերպության անվանումը | B20: ՀՀ պետական եկամուտների կոմիտե
A21: Արդյունքի չափորոշիչներ
A22: Միջոցառման վրա կատարվող ծախսը (հազար դրամ) | F22: ='Հավելված 2'!#REF! -> #REF!
A24: Ծրագրի դասիչը՝ | B24: 1023 | C24: Ցուցանիշների փոփոխությունը (ավելացումները ներկայացված են դրական նշանով)
A25: Միջոցառման դասիչը՝ | B25: 11001 | C25: Առաջին եռամսյակ | D25: Առաջին կիսամյակ | E25: Ինն ամիս | F25: Տարի
A26: Միջոցառման անվանումը՝ | B26: Հարկային և մաքսային ծառայություններ
A27: Նկարագրությունը՝ | B27: Հարկային և մաքսային քաղաքականության մշակման, պլանավորման, մոնիտորինգի, ծրագրերի համակարգման, գանձման, վերահսկողության և աջակցության ծառայություններ
A28: Միջոցառման տեսակը՝ | B28: Ծառայությունների մատուցում
A29: Ծառայությունը մատուցող կազմակերպության անվանումը | B29: ՀՀ պետական եկամուտների կոմիտե
A30: Արդյունքի չափորոշիչներ
A31: Միջոցառման վրա կատարվող ծախսը (հազար դրամ) | C31: ='Հավելված 2'!G28 -> 310059.48 | D31: ='Հավելված 2'!H28 -> 1240237.9 | E31: ='Հավելված 2'!I28 -> 2170416.4 | F31: ='Հավելված 2'!J28 -> 2480475.8
A33: ՀՀ կառավարություն
A35: ՄԱՍ 2. ՊԵՏԱԿԱՆ ՄԱՐՄՆԻ ԳԾՈՎ ԱՐԴՅՈՒՆՔԱՅԻՆ (ԿԱՏԱՐՈՂԱԿԱՆ) ՑՈՒՑԱՆԻՇՆԵՐԸ
A37: Ծրագրի դասիչը | B37: Ծրագրի անվանումը
A38: 1139 | B38: ՀՀ կառավարության պահուստային ֆոնդ
A40: Ծրագրի միջոցառումները
A42: Ծրագրի դասիչը` | B42: 1139 | C42: Ցուցանիշների փոփոխությունը (նվազեցումները ներկայացված են փակագծերում)
A43: Միջոցառման դասիչը` | B43: 11001 | C43: Առաջին եռամսյակ | D43: Առաջին կիսամյակ | E43: Ինն ամիս | F43: Տարի
A44: Միջոցառման անվանումը` | B44: ՀՀ կառավարության պահուստային ֆոնդ
A45: Նկարագրությունը` | B45: ՀՀ պետական բյուջեում նախատեսված ելքերի լրացուցիչ ֆինանսավորման, պետական բյուջեում չկանխատեսված ելքերի, ինչպես նաև բյուջետային երաշխիքների ապահովման ելքերի ֆինանսավորման ապահովում
A46: Միջոցառման տեսակը` | B46: Ծառայությունների մատուցում
A47: Միջոցառումն իրականացնողի անվանումը | B47: ՀՀ կառավարություն
A48: Արդյունքի չափորոշիչներ
A49: Միջոցառման վրա կատարվող ծախսը (հազար դրամ) | C49: ='Հավելված 2'!G46 -> -310059.48 | D49: ='Հավելված 2'!H46 -> -1240237.9 | E49: ='Հավելված 2'!I46 -> -2170416.4 | F49: ='Հավելված 2'!J46 -> -2480475.8
F51: Աղյուսակ N 2
...
