Workbook
Name a: #REF!
Name a: #REF!
Name a: #REF!
Name AgencyCode: #REF!
Name AgencyCode: #REF!
Name AgencyCode: #REF!
Name AgencyCode: #REF!
Name AgencyCode: #REF!
Name AgencyCode: #REF!
Name AgencyCode: #REF!
Name AgencyName: #REF!
Name AgencyName: #REF!
Name AgencyName: #REF!
Name davit: #REF!
Name davit: #REF!
Name Functional1: #REF!
Name Functional1: #REF!
Name Functional1: #REF!
Name ggg: #REF!
Name ggg: #REF!
Name PANature: #REF!
Name PANature: #REF!
Name PANature: #REF!
Name PAType: #REF!
Name PAType: #REF!
Name PAType: #REF!
Name Performance2: #REF!
Name Performance2: #REF!
Name Performance2: #REF!
Name PerformanceType: #REF!
Name PerformanceType: #REF!
Name PerformanceType: #REF!
Name Հավելված: #REF!
Name Հավելված: #REF!
Name Հավելված: #REF!
Name Մաս: #REF!
Name Մաս: #REF!
Name շախմատիստ: #REF!
Name շախմատիստ: #REF!

Sheet Հավելված N 1
C1: Հավելված N 1
C2: ՀՀ կառավարության 2024 թվականի
C3: ______________ ի ___Ն որոշման
A6: «ՀԱՅԱUՏԱՆԻ ՀԱՆՐԱՊԵՏՈՒԹՅԱՆ 2024 ԹՎԱԿԱՆԻ ՊԵՏԱԿԱՆ ԲՅՈՒՋԵԻ ՄԱUԻՆ» ՀԱՅԱUՏԱՆԻ ՀԱՆՐԱՊԵՏՈՒԹՅԱՆ OՐԵՆՔԻ N 1 ՀԱՎԵԼՎԱԾԻ N 2 ԱՂՅՈՒՍԱԿՈՒՄ ԿԱՏԱՐՎՈՂ ՎԵՐԱԲԱՇԽՈՒՄԸ ԵՎ ՀԱՅԱՍՏԱՆԻ ՀԱՆՐԱՊԵՏՈՒԹՅԱՆ ԿԱՌԱՎԱՐՈՒԹՅԱՆ 2023 ԹՎԱԿԱՆԻ ԴԵԿՏԵՄԲԵՐԻ 28-Ի N 2323-Ն ՈՐՈՇՄԱՆ N 5 ՀԱՎԵԼՎԱԾԻ N 1 ԱՂՅՈՒՍԱԿՈՒՄ ԿԱՏԱՐՎՈՂ ՓՈՓՈԽՈՒԹՅՈՒՆՆԵՐԸ ԵՎ ԼՐԱՑՈՒՄՆԵՐԸ
G9: հազ. դրամներով
A10: Ծրագրային դասիչը | C10: Բյուջետային հատկացումների գլխավոր կարգադրիչների, ծրագրերի և միջոցառումների անվանումները | D10: Ցուցանիշների փոփոխությունը (ավելացումները նշված են դրական նշանով, իսկ նվազեցումները փակագծերում)
A11: Ծրագիր | B11: Միջոցառում | D11: Առաջին եռամսյակ | E11: Առաջին կիսամյակ | F11: Ինն ամիս | G11: Տարի
A12: 1192 | C12: ԸՆԴԱՄԵՆԸ | D12: =+D14 -> 0 | E12: =+E14 -> -82950.8 | F12: =+F14 -> -441325.3 | G12: =+G14 -> 524633.1
C13: այդ թվում
C14: ՀՀ ԿՐԹՈՒԹՅԱՆ, ԳԻՏՈՒԹՅԱՆ, ՄՇԱԿՈՒՅԹԻ ԵՎ ՍՊՈՐՏԻ ՆԱԽԱՐԱՐՈՒԹՅՈՒՆ | D14: =+ROUND(D16+D29+D48,1) -> 0 | E14: =+ROUND(E16+E29+E48,1) -> -82950.8 | F14: =+ROUND(F16+F29+F48,1) -> -441325.3 | G14: =+ROUND(G16+G29+G48,1) -> 524633.1
A15: 1163 | C15: Ծրագրի անվանումը`
C16: Մասսայական սպորտ | D16: =+D23 -> 199 | E16: =+E23 -> 199 | F16: =+F23 -> 199 | G16: =+G23 -> 199
C17: Ծրագրի նպատակը`
C18: Բնակչության շրջանում առողջ ապրելակերպի արմատավորում, անհատի բազմակողմանի ու ներդաշնակ զարգացման գործում ֆիզիկական կուլտուրայի և սպորտի դերի բարձրացում
C19: Վերջնական արդյունքի նկարագրությունը`
C20: Սպորտի նկատմամբ հետաքրքրվածության և մասնակցության ընդլայնում
C21: Ծրագրի միջոցառումներ
B22: 32001 | C22: Միջոցառման անվանումը`
C23: Մարզական օբյեկտների շինարարություն | D23: =+'Հավելված N 2'!G137 -> 199 | E23: =+'Հավելված N 2'!H137 -> 199 | F23: =+'Հավելված N 2'!I137 -> 199 | G23: =+'Հավելված N 2'!J137 -> 199
C24: Միջոցառման նկարագրությունը`
C25: Մարզական օբյեկտների շենքերի (մասնաշենքերի) կառուցում (համաշինարարական աշխատանքներ, ջեռուցման համակարգի իրականացում, ներքին հարդարում, տարածքի բարեկարգում) և նախագծում
C26: Միջոցառման տեսակը
C27: Այլ պետական կազմակերպությունների կողմից օգտագործվող ոչ ֆինանսական ակտիվների հետ գործառնություններ
A28: 1183 | C28: Ծրագրի անվանումը`
C29: Ապահով դպրոց | D29: =+D36+D42 -> 3337.5 | E29: =+E36+E42 -> 3337.5 | F29: =+F36+F42 -> 3337.5 | G29: =+G36+G42 -> 3337.5
C30: Ծրագրի նպատակը`
C31: Դպրոցներին սպառնացող աղետների ռիսկի կառավարման կարողությունների հզորացում, դպրոցի անձնակազմի և աշակերտների անվտանգության ապահովման մակարդակի բարձրացում՛ կիրառելով ներառական և երեխայակենտրոն մոտեցում
C32: Վերջնական արդյունքի նկարագրությունը`
C33: Դպրոցական միջավայրի բարելավում
C34: Ծրագրի միջոցառումներ
B35: 32007 | C35: Միջոցառման անվանումը`
C36: Հանրակրթական կրթություն իրականացնող ուսումնական հաստատությունների նոր մարզադահլիճների կառուցում | D36: =+'Հավելված N 2'!G148 -> 2175 | E36: =+'Հավելված N 2'!H148 -> 2175 | F36: =+'Հավելված N 2'!I148 -> 2175 | G36: =+'Հավելված N 2'!J148 -> 2175
C37: Միջոցառման նկարագրությունը`
C38: Հանրակրթական ուսուցում իրականացնող ուսումնական հաստատությունների նոր մարզադահլիճների կառուցման նախագծանախահաշվային փաստաթղթերի մշակում
C39: Միջոցառման տեսակը
C40: Այլ պետական կազմակերպությունների կողմից օգտագործվող ոչ ֆինանսական ակտիվների հետ գործառնություններ
B41: 32009 | C41: Միջոցառման անվանումը`
C42: Հանրակրթական կրթություն իրականացնող ուսումնական հաստատությունների մարզադահլիճների վերակառուցում | D42: =+'Հավելված N 2'!G157 -> 1162.5 | E42: =+'Հավելված N 2'!H157 -> 1162.5 | F42: =+'Հավելված N 2'!I157 -> 1162.5 | G42: =+'Հավելված N 2'!J157 -> 1162.5
C43: Միջոցառման նկարագրությունը`
C44: Հանրակրթական ուսուցում իրականացնող ուսումնական հաստատությունների մարզադահլիճների վերակառուցման նախագծանախահաշվային փաստաթղթերի մշակում
C45: Միջոցառման տեսակը
C46: Այլ պետական կազմակերպությունների կողմից օգտագործվող ոչ ֆինանսական ակտիվների հետ գործառնություններ
A47: 1236 | C47: Ծրագրի անվանումը`
C48: Հանրակրթական և նախադպրոցական հաստատությունների հիմնում, կառուցում, բարելավում | D48: =+D55+D61+D67 -> -3536.5 | E48: =+E55+E61+E67 -> -86487.3 | F48: =+F55+F61+F67 -> -444861.8 | G48: =+G55+G61+G67 -> 521096.6
C49: Ծրագրի նպատակը`
C50: Առնվազն 300 դպրոցի և 500 մանկապարտեզի կառուցման, վերակառուցման, հիմնանորոգման ծրագրերի իրականացում ՀՀ պետական բյուջեի միջոցների շրջանակներում
C51: Վերջնական արդյունքի նկարագրությունը`
C52: Կրթական միջավայրի բարելավում
C53: Ծրագրի միջոցառումներ
B54: 32001 | C54: Միջոցառման անվանումը`
C55: Մանկապարտեզների նոր շենքերի կառուցում | D55: =+'Հավելված N 2'!G49 -> 322.5 | E55: =+'Հավելված N 2'!H49 -> 322.5 | F55: =+'Հավելված N 2'!I49 -> 322.5 | G55: =+'Հավելված N 2'!J49 -> 322.5
C56: Միջոցառման նկարագրությունը`
C57: Նախադպրոցական կրթության հասանելիության ապահովման նպատակով՛ մանկապարտեզների հիմնում, նոր շենքերի (մասնաշենքերի), ներառյալ՛ ,Մոդուլայինե տիպի շենքերի կառուցում և նախագծում
C58: Միջոցառման տեսակը
C59: Այլ պետական կազմակերպությունների կողմից օգտագործվող ոչ ֆինանսական ակտիվների հետ գործառնություններ
B60: 32002 | C60: Միջոցառման անվանումը`
C61: Մանկապարտեզների շենքերի վերակառուցում, հիմնանորոգում | D61: =+'Հավելված N 2'!G58 -> 0 | E61: =+'Հավելված N 2'!H58 -> -92363.6 | F61: =+'Հավելված N 2'!I58 -> -454238.1 | G61: =+'Հավելված N 2'!J58 -> -639579.7
C62: Միջոցառման նկարագրությունը`
C63: Նախադպրոցական կրթության հասանելիության ապահովման նպատակով՛ մանկապարտեզների շենքերի (մասնաշենքերի), վերակառուցում, հիմնանորոգում և նախագծում
C64: Միջոցառման տեսակը
C65: Այլ պետական կազմակերպությունների կողմից օգտագործվող ոչ ֆինանսական ակտիվների հետ գործառնություններ
B66: 32003 | C66: Միջոցառման անվանումը`
C67: Հանրակրթական դպրոցների նոր շենքերի կառուցում | D67: =+'Հավելված N 2'!G82 -> -3859 | E67: =+'Հավելված N 2'!H82 -> 5553.8 | F67: =+'Հավելված N 2'!I82 -> 9053.8 | G67: =+'Հավելված N 2'!J82 -> 1160353.8
C68: Միջոցառման նկարագրությունը`
C69: ՀՀ մարզերում կրթական որակյալ ծառայությունների հասանելիության ապահովման ծրագրի շրջանակներում հանրակրթական և նախադպրոցական կրթության հասանելիության ապահովման նպատակով կրթական կենտրոնների կառուցում
C70: Միջոցառման տեսակը
C71: Այլ պետական կազմակերպությունների կողմից օգտագործվող ոչ ֆինանսական ակտիվների հետ գործառնություններ

Sheet Հավելված N 2
F1: Հավելված N 2
F2: ՀՀ կառավարության 2024 թվականի
F3: ______________ ի ___Ն որոշման
A7: ՀԱՅԱՍՏԱՆԻ ՀԱՆՐԱՊԵՏՈՒԹՅԱՆ ԿԱՌԱՎԱՐՈՒԹՅԱՆ 2023 ԹՎԱԿԱՆԻ ԴԵԿՏԵՄԲԵՐԻ 28-Ի N 2323-Ն ՈՐՈՇՄԱՆ N 3 ԵՎ N 4 ՀԱՎԵԼՎԱԾՆԵՐՈՒՄ ԿԱՏԱՐՎՈՂ ՓՈՓՈԽՈՒԹՅՈՒՆՆԵՐԸ ԵՎ ԼՐԱՑՈՒՄՆԵՐԸ
J10: հազ. դրամներով
A11: Գործառական դասիչը | D11: Ծրագրային դասիչը | F11: Բյուջետային հատկացումների գլխավոր կարգադրիչների, ծրագրերի, միջոցառումների և միջոցառումները կատարող պետական մարմինների անվանումները | G11: Ցուցանիշների փոփոխությունը (ավելացումները նշված են դրական նշանով, իսկ նվազեցումները փակագծերում)
A12: Բաժին | B12: Խումբ | C12: Դաս | D12: Ծրագիր | E12: Միջոցառում | G12: Առաջին եռամսյակ | H12: Առաջին կիսամյակ | I12: Ինն ամիս | J12: Տարի
F13: ԸՆԴԱՄԵՆԸ | G13: =+G15 -> 0 | H13: =+H15 -> -82950.8 | I13: =+I15 -> -441325.3 | J13: =+J15 -> 524633.1
F14: այդ թվում՝
F15: ՀՀ ԿՐԹՈՒԹՅԱՆ, ԳԻՏՈՒԹՅԱՆ, ՄՇԱԿՈՒՅԹԻ ԵՎ ՍՊՈՐՏԻ ՆԱԽԱՐԱՐՈՒԹՅՈՒՆ | G15: =+G16+G39 -> 0 | H15: =+H16+H39 -> -82950.8 | I15: =+ROUND(I16+I39,1) -> -441325.3 | J15: =+J16+J39 -> 524633.1
A16: 08 | F16: ՀԱՆԳԻՍՏ, ՄՇԱԿՈՒՅԹ ԵՎ ԿՐՈՆ | G16: =+G18 -> 0 | H16: =+H18 -> 0 | I16: =+I18 -> 0 | J16: =+J18 -> 0
F17: այդ թվում`
B18: 02 | F18: Մշակութային ծառայություններ | G18: =+G20 -> 0 | H18: =+H20 -> 0 | I18: =+I20 -> 0 | J18: =+J20 -> 0
F19: այդ թվում`
C20: 07 | F20: Հուշարձանների և մշակութային արժեքների վերականգնում և պահպանում | G20: =+G22 -> 0 | H20: =+H22 -> 0 | I20: =+I22 -> 0 | J20: =+J22 -> 0
F21: այդ թվում`
F22: ՀՀ կրթության, գիտության, մշակույթի և սպորտի նախարարություն | G22: =+G24 -> 0 | H22: =+H24 -> 0 | I22: =+I24 -> 0 | J22: =+J24 -> 0
F23: այդ թվում`
D24: 1075 | E24: Մշակութային ժառանգության ծրագիր | G24: =+G26 -> 0 | H24: =+H26 -> 0 | I24: =+I26 -> 0 | J24: =+J26 -> 0
F25: այդ թվում`
E26: 21001 | F26: Հուշարձանների ամրակայում, նորոգում և վերականգնում | G26: =+G28 -> 0 | H26: =+H28 -> 0 | I26: =+I28 -> 0 | J26: =+J28 -> 0
F27: այդ թվում` ըստ կատարողների
F28: ՀՀ կրթության, գիտության, մշակույթի և սպորտի նախարարություն | G28: =+G30 -> 0 | H28: =+H30 -> 0 | I28: =+I30 -> 0 | J28: =+J30 -> 0
F29: այդ թվում՝ բյուջետային ծախսերի տնտեսագիտական դասակարգման հոդվածներ
F30: ԸՆԴԱՄԵՆԸ ԾԱԽՍԵՐ | G30: =+G31+G35 -> 0 | H30: =+H31+H35 -> 0 | I30: =+I31+I35 -> 0 | J30: =+J31+J35 -> 0
F31: ԸՆԹԱՑԻԿ ԾԱԽՍԵՐ | G31: =+G32 -> 17845.8 | H31: =+H32 -> 25494 | I31: =+I32 -> 25494 | J31: =+J32 -> 25494
F32: ԴՐԱՄԱՇՆՈՐՀՆԵՐ | G32: =+G33 -> 17845.8 | H32: =+H33 -> 25494 | I32: =+I33 -> 25494 | J32: =+J33 -> 25494
F33: ԿԱՊԻՏԱԼ ԴՐԱՄԱՇՆՈՐՀՆԵՐ ՊԵՏԱԿԱՆ ՀԱՏՎԱԾԻ ԱՅԼ ՄԱԿԱՐԴԱԿՆԵՐԻՆ | G33: =+G34 -> 17845.8 | H33: =+H34 -> 25494 | I33: =+I34 -> 25494 | J33: =+J34 -> 25494
F34: - Կապիտալ դրամաշնորհներ պետական և համայնքային ոչ առևտրային կազմակերպություններին | G34: =-G35 -> 17845.8 | H34: =-H35 -> 25494 | I34: =-I35 -> 25494 | J34: =+'Հավելված N 5'!G12 -> 25494
F35: ՈՉ ՖԻՆԱՆՍԱԿԱՆ ԱԿՏԻՎՆԵՐԻ ԳԾՈՎ ԾԱԽՍԵՐ | G35: =+G36 -> -17845.8 | H35: =+H36 -> -25494 | I35: =+I36 -> -25494 | J35: =+J36 -> -25494
F36: ՀԻՄՆԱԿԱՆ ՄԻՋՈՑՆԵՐ | G36: =+G37 -> -17845.8 | H36: =+H37 -> -25494 | I36: =+I37 -> -25494 | J36: =+J37 -> -25494
F37: ԱՅԼ ՀԻՄՆԱԿԱՆ ՄԻՋՈՑՆԵՐ | G37: =+G38 -> -17845.8 | H37: =+H38 -> -25494 | I37: =+I38 -> -25494 | J37: =+J38 -> -25494
F38: - Նախագծահետազոտական ծախսեր | G38: =+'Հավելված N 4'!E17 -> -17845.8 | H38: =+'Հավելված N 4'!F17 -> -25494 | I38: =+'Հավելված N 4'!G17 -> -25494 | J38: =+'Հավելված N 4'!H17 -> -25494
A39: 09 | F39: ԿՐԹՈՒԹՅՈՒՆ | G39: =+G41+G74+G129 -> 0 | H39: =+H41+H74+H129 -> -82950.8 | I39: =+I41+I74+I129 -> -441325.3 | J39: =+J41+J74+J129 -> 524633.1
F40: այդ թվում`
B41: 01 | F41: Նախադպրոցական և տարրական ընդհանուր կրթություն | G41: =+G43 -> 322.5 | H41: =+H43 -> -92041.1 | I41: =+I43 -> -453915.6 | J41: =+J43 -> -639257.2
F42: այդ թվում`
C43: 01 | F43: Նախադպրոցական կրթություն | G43: =+G45 -> 322.5 | H43: =+H45 -> -92041.1 | I43: =+I45 -> -453915.6 | J43: =+J45 -> -639257.2
F44: այդ թվում`
F45: ՀՀ կրթության, գիտության, մշակույթի և սպորտի նախարարություն | G45: =+G47 -> 322.5 | H45: =+H47 -> -92041.1 | I45: =+I47 -> -453915.6 | J45: =+J47 -> -639257.2
F46: այդ թվում`
D47: 1236 | E47: Հանրակրթական և նախադպրոցական հաստատությունների հիմնում, կառուցում, բարելավում | G47: =+G49+G58 -> 322.5 | H47: =+H49+H58 -> -92041.1 | I47: =+I49+I58 -> -453915.6 | J47: =+J49+J58 -> -639257.2
F48: այդ թվում`
E49: 32001 | F49: Մանկապարտեզների նոր շենքերի կառուցում | G49: =+G51 -> 322.5 | H49: =+H51 -> 322.5 | I49: =+I51 -> 322.5 | J49: =+J51 -> 322.5
F50: այդ թվում` ըստ կատարողների
F51: ՀՀ քաղաքաշինության կոմիտե | G51: =+G53 -> 322.5 | H51: =+H53 -> 322.5 | I51: =+I53 -> 322.5 | J51: =+J53 -> 322.5
F52: այդ թվում՝ բյուջետային ծախսերի տնտեսագիտական դասակարգման հոդվածներ
F53: ԸՆԴԱՄԵՆԸ ԾԱԽՍԵՐ | G53: =G54 -> 322.5 | H53: =H54 -> 322.5 | I53: =I54 -> 322.5 | J53: =J54 -> 322.5
F54: ԸՆԹԱՑԻԿ ԾԱԽՍԵՐ | G54: =+G55 -> 322.5 | H54: =+H55 -> 322.5 | I54: =+I55 -> 322.5 | J54: =+J55 -> 322.5
F55: ԾԱՌԱՅՈՒԹՅՈՒՆՆԵՐԻ ԵՎ ԱՊՐԱՆՔՆԵՐԻ ՁԵՌՔ ԲԵՐՈՒՄ | G55: =+G56 -> 322.5 | H55: =+H56 -> 322.5 | I55: =+I56 -> 322.5 | J55: =+J56 -> 322.5
F56: ԱՅԼ ՄԱՍՆԱԳԻՏԱԿԱՆ ԾԱՌԱՅՈՒԹՅՈՒՆՆԵՐԻ ՁԵՌՔ ԲԵՐՈՒՄ | G56: =+G57 -> 322.5 | H56: =+H57 -> 322.5 | I56: =+I57 -> 322.5 | J56: =+J57 -> 322.5
F57: - Մասնագիտական ծառայություններ | G57: =+J57 -> 322.5 | H57: =+J57 -> 322.5 | I57: =+J57 -> 322.5 | J57: =+'Հավելված N 8'!I136 -> 322.5
E58: 32002 | F58: Մանկապարտեզների շենքերի վերակառուցում, հիմնանորոգում | G58: =+G60+G67 -> 0 | H58: =+H60+H67 -> -92363.6 | I58: =+I60+I67 -> -454238.1 | J58: =+J60+J67 -> -639579.7
F59: այդ թվում` ըստ կատարողների
F60: ՀՀ տարածքային կառավարման և ենթակառուցվածքների նախարարություն | G60: =+G62 -> 0 | H60: =+H62 -> -92363.6 | I60: =+I62 -> 0 | J60: =+J62 -> 0
F61: այդ թվում՝ բյուջետային ծախսերի տնտեսագիտական դասակարգման հոդվածներ
F62: ԸՆԴԱՄԵՆԸ ԾԱԽՍԵՐ | G62: =G63 -> 0 | H62: =H63 -> -92363.6 | I62: =I63 -> 0 | J62: =J63 -> 0
F63: ՈՉ ՖԻՆԱՆՍԱԿԱՆ ԱԿՏԻՎՆԵՐԻ ԳԾՈՎ ԾԱԽՍԵՐ | G63: =+G64 -> 0 | H63: =+H64 -> -92363.6 | I63: =+I64 -> 0 | J63: =+J64 -> 0
F64: ՀԻՄՆԱԿԱՆ ՄԻՋՈՑՆԵՐ | G64: =+G65 -> 0 | H64: =+H65 -> -92363.6 | I64: =+I65 -> 0 | J64: =+J65 -> 0
F65: ՇԵՆՔԵՐ ԵՎ ՇԻՆՈՒԹՅՈՒՆՆԵՐ | G65: =+G66 -> 0 | H65: =+H66 -> -92363.6 | I65: =+I66 -> 0 | J65: =+J66 -> 0
F66: - Շենքերի և շինությունների կապիտալ վերանորոգում | G66: =+'Հավելված N 4'!E25 -> 0 | H66: =+'Հավելված N 4'!F25 -> -92363.6 | I66: =+'Հավելված N 4'!G25 -> 0 | J66: =+'Հավելված N 4'!H25 -> 0
F67: ՀՀ կառավարություն | G67: =+G69 -> 0 | H67: =+H69 -> 0 | I67: =+I69 -> -454238.1 | J67: =+J69 -> -639579.7
F68: այդ թվում՝ բյուջետային ծախսերի տնտեսագիտական դասակարգման հոդվածներ
F69: ԸՆԴԱՄԵՆԸ ԾԱԽՍԵՐ | G69: =G70 -> 0 | H69: =H70 -> 0 | I69: =I70 -> -454238.1 | J69: =J70 -> -639579.7
F70: ՈՉ ՖԻՆԱՆՍԱԿԱՆ ԱԿՏԻՎՆԵՐԻ ԳԾՈՎ ԾԱԽՍԵՐ | G70: =+G71 -> 0 | H70: =+H71 -> 0 | I70: =+I71 -> -454238.1 | J70: =+J71 -> -639579.7
F71: ՀԻՄՆԱԿԱՆ ՄԻՋՈՑՆԵՐ | G71: =+G72 -> 0 | H71: =+H72 -> 0 | I71: =+I72 -> -454238.1 | J71: =+J72 -> -639579.7
F72: ՇԵՆՔԵՐ ԵՎ ՇԻՆՈՒԹՅՈՒՆՆԵՐ | G72: =+G73 -> 0 | H72: =+H73 -> 0 | I72: =+I73 -> -454238.1 | J72: =+J73 -> -639579.7
F73: - Շենքերի և շինությունների կապիտալ վերանորոգում | G73: =+'Հավելված N 4'!E26 -> 0 | H73: =+'Հավելված N 4'!F26 -> 0 | I73: =+'Հավելված N 4'!G26 -> -454238.1 | J73: =+'Հավելված N 4'!H26 -> -639579.7
B74: 02 | F74: Միջնակարգ ընդհանուր կրթություն | G74: =+G76 -> -3859 | H74: =+H76 -> 5553.8 | I74: =+I76 -> 9053.8 | J74: =+J76 -> 1160353.8
F75: այդ թվում`
C76: 01 | F76: Հիմնական ընդհանուր կրթություն | G76: =+G78 -> -3859 | H76: =+H78 -> 5553.8 | I76: =+I78 -> 9053.8 | J76: =+J78 -> 1160353.8
F77: այդ թվում`
F78: ՀՀ կրթության, գիտության, մշակույթի և սպորտի նախարարություն | G78: =+G80 -> -3859 | H78: =+H80 -> 5553.8 | I78: =+I80 -> 9053.8 | J78: =+J80 -> 1160353.8
F79: այդ թվում`
D80: 1236 | E80: Հանրակրթական և նախադպրոցական հաստատությունների հիմնում, կառուցում, բարելավում | G80: =+G82+G113 -> -3859 | H80: =+H82+H113 -> 5553.8 | I80: =+I82+I113 -> 9053.8 | J80: =+J82+J113 -> 1160353.8
F81: այդ թվում`
E82: 32003 | F82: Հանրակրթական դպրոցների նոր շենքերի կառուցում | G82: =+G84+G93+G106 -> -3859 | H82: =+H84+H93+H106 -> 5553.8 | I82: =+I84+I93+I106 -> 9053.8 | J82: =+J84+J93+J106 -> 1160353.8
F83: այդ թվում` ըստ կատարողների
F84: ՀՀ կրթության, գիտության, մշակույթի և սպորտի նախարարություն | G84: =+G86 -> 0 | H84: =+H86 -> 1913000 | I84: =+I86 -> 3826000 | J84: =+J86 -> 9617400
F85: այդ թվում՝ բյուջետային ծախսերի տնտեսագիտական դասակարգման հոդվածներ
F86: ԸՆԴԱՄԵՆԸ ԾԱԽՍԵՐ | G86: =G87 -> 0 | H86: =H87 -> 1913000 | I86: =I87 -> 3826000 | J86: =J87 -> 9617400
F87: ՈՉ ՖԻՆԱՆՍԱԿԱՆ ԱԿՏԻՎՆԵՐԻ ԳԾՈՎ ԾԱԽՍԵՐ | G87: =+G88 -> 0 | H87: =+H88 -> 1913000 | I87: =+I88 -> 3826000 | J87: =+J88 -> 9617400
F88: ՀԻՄՆԱԿԱՆ ՄԻՋՈՑՆԵՐ | G88: =+G89+G91 -> 0 | H88: =+H89+H91 -> 1913000 | I88: =+I89+I91 -> 3826000 | J88: =+J89+J91 -> 9617400
F89: ՇԵՆՔԵՐ ԵՎ ՇԻՆՈՒԹՅՈՒՆՆԵՐ | G89: =+G90 -> 0 | H89: =+H90 -> 1913000 | I89: =+I90 -> 3826000 | J89: =+J90 -> 9565000
F90: - Շենքերի և շինությունների շինարարություն | G90: =+'Հավելված N 4'!E70-'Հավելված N 4'!E76-'Հավելված N 4'!E77 -> 0 | H90: =+'Հավելված N 4'!F70-'Հավելված N 4'!F76-'Հավելված N 4'!F77 -> 1913000 | I90: =+'Հավելված N 4'!G70-'Հավելված N 4'!G76-'Հավելված N 4'!G77 -> 3826000 | J90: =+'Հավելված N 4'!H70-'Հավելված N 4'!H76-'Հավելված N 4'!H77 -> 9565000
F91: ԱՅԼ ՀԻՄՆԱԿԱՆ ՄԻՋՈՑՆԵՐ | G91: =+G92 -> 0 | H91: =+H92 -> 0 | I91: =+I92 -> 0 | J91: =+J92 -> 52400
F92: - Նախագծահետազոտական ծախսեր | G92: =+'Հավելված N 4'!E76+'Հավելված N 4'!E77 -> 0 | H92: =+'Հավելված N 4'!F76+'Հավելված N 4'!F77 -> 0 | I92: =+'Հավելված N 4'!G76+'Հավելված N 4'!G77 -> 0 | J92: =+'Հավելված N 4'!H76+'Հավելված N 4'!H77 -> 52400
F93: ՀՀ քաղաքաշինության կոմիտե | G93: =+G95 -> -193446.2 | H93: =+H95 -> -1907446.2 | I93: =+I95 -> -3816946.2 | J93: =+J95 -> -8457046.2
F94: այդ թվում՝ բյուջետային ծախսերի տնտեսագիտական դասակարգման հոդվածներ
F95: ԸՆԴԱՄԵՆԸ ԾԱԽՍԵՐ | G95: =+G96+G100 -> -193446.2 | H95: =+H96+H100 -> -1907446.2 | I95: =+I96+I100 -> -3816946.2 | J95: =+J96+J100 -> -8457046.2
F96: ԸՆԹԱՑԻԿ ԾԱԽՍԵՐ | G96: =+G97 -> 2053.8 | H96: =+H97 -> 2053.8 | I96: =+I97 -> 2053.8 | J96: =+J97 -> 2053.8
F97: ԾԱՌԱՅՈՒԹՅՈՒՆՆԵՐԻ ԵՎ ԱՊՐԱՆՔՆԵՐԻ ՁԵՌՔ ԲԵՐՈՒՄ | G97: =+G98 -> 2053.8 | H97: =+H98 -> 2053.8 | I97: =+I98 -> 2053.8 | J97: =+J98 -> 2053.8
F98: ԱՅԼ ՄԱՍՆԱԳԻՏԱԿԱՆ ԾԱՌԱՅՈՒԹՅՈՒՆՆԵՐԻ ՁԵՌՔ ԲԵՐՈՒՄ | G98: =+G99 -> 2053.8 | H98: =+H99 -> 2053.8 | I98: =+I99 -> 2053.8 | J98: =+J99 -> 2053.8
F99: - Մասնագիտական ծառայություններ | G99: =+J99 -> 2053.8 | H99: =+J99 -> 2053.8 | I99: =+J99 -> 2053.8 | J99: =+'Հավելված N 8'!I230 -> 2053.8
F100: ՈՉ ՖԻՆԱՆՍԱԿԱՆ ԱԿՏԻՎՆԵՐԻ ԳԾՈՎ ԾԱԽՍԵՐ | G100: =+G101 -> -195500 | H100: =+H101 -> -1909500 | I100: =+I101 -> -3819000 | J100: =+J101 -> -8459100
F101: ՀԻՄՆԱԿԱՆ ՄԻՋՈՑՆԵՐ | G101: =+G102+G104 -> -195500 | H101: =+H102+H104 -> -1909500 | I101: =+I102+I104 -> -3819000 | J101: =+J102+J104 -> -8459100
F102: ՇԵՆՔԵՐ ԵՎ ՇԻՆՈՒԹՅՈՒՆՆԵՐ | G102: =+G103 -> -195500 | H102: =+H103 -> -1909500 | I102: =+I103 -> -3819000 | J102: =+J103 -> -8570000
F103: - Շենքերի և շինությունների շինարարություն | G103: =+'Հավելված N 4'!E29-'Հավելված N 4'!E34-'Հավելված N 4'!E35-'Հավելված N 4'!E36-'Հավելված N 4'!E37-'Հավելված N 4'!E38-'Հավելված N 4'!E39 -> -195500 | H103: =+'Հավելված N 4'!F29-'Հավելված N 4'!F34-'Հավելված N 4'!F35-'Հավելված N 4'!F36-'Հավելված N 4'!F37-'Հավելված N 4'!F38-'Հավելված N 4'!F39 -> -1909500 | I103: =+'Հավելված N 4'!G29-'Հավելված N 4'!G34-'Հավելված N 4'!G35-'Հավելված N 4'!G36-'Հավելված N 4'!G37-'Հավելված N 4'!G38-'Հավելված N 4'!G39 -> -3819000 | J103: =+'Հավելված N 4'!H29-'Հավելված N 4'!H34-'Հավելված N 4'!H35-'Հավելված N 4'!H36-'Հավելված N 4'!H37-'Հավելված N 4'!H38-'Հավելված N 4'!H39-'Հավելված N 3'!G41 -> -8570000
F104: ԱՅԼ ՀԻՄՆԱԿԱՆ ՄԻՋՈՑՆԵՐ | G104: =+G105 -> 0 | H104: =+H105 -> 0 | I104: =+I105 -> 0 | J104: =+J105 -> 110900
F105: - Նախագծահետազոտական ծախսեր | G105: =+'Հավելված N 4'!E34+'Հավելված N 4'!E35+'Հավելված N 4'!E36+'Հավելված N 4'!E37+'Հավելված N 4'!E38+'Հավելված N 4'!E39 -> 0 | H105: =+'Հավելված N 4'!F34+'Հավելված N 4'!F35+'Հավելված N 4'!F36+'Հավելված N 4'!F37+'Հավելված N 4'!F38+'Հավելված N 4'!F39 -> 0 | I105: =+'Հավելված N 4'!G34+'Հավելված N 4'!G35+'Հավելված N 4'!G36+'Հավելված N 4'!G37+'Հավելված N 4'!G38+'Հավելված N 4'!G39 -> 0 | J105: =+'Հավելված N 4'!H34+'Հավելված N 4'!H35+'Հավելված N 4'!H36+'Հավելված N 4'!H37+'Հավելված N 4'!H38+'Հավելված N 4'!H39+'Հավելված N 3'!G41 -> 110900
...

Sheet Հավելված N 3
F1: Հավելված N 3
F2: ՀՀ կառավարության 2024 թվականի
F3: ______________ ի ___Ն որոշման
A5: «ՀԱՅԱUՏԱՆԻ ՀԱՆՐԱՊԵՏՈՒԹՅԱՆ 2024 ԹՎԱԿԱՆԻ ՊԵՏԱԿԱՆ ԲՅՈՒՋԵԻ ՄԱUԻՆ» ՀԱՅԱUՏԱՆԻ ՀԱՆՐԱՊԵՏՈՒԹՅԱՆ OՐԵՆՔԻ N 1 ՀԱՎԵԼՎԱԾԻ N 3 ԱՂՅՈՒՍԱԿՈՒՄ ԿԱՏԱՐՎՈՂ ՓՈՓՈԽՈՒԹՅՈՒՆՆԵՐԸ ԵՎ ԼՐԱՑՈՒՄՆԵՐԸ
G8: հազ. դրամներով
A9: Ծրագրային դասիչ | C9: Բյուջետային գլխավոր կարգադրիչների, ծրագրերի, միջոցառումների, միջոցառումները կատարող պետական մարմինների և ուղղությունների անվանումները | D9: Ընդամենը | E9: Ցուցանիշների փոփոխությունը (ավելացումները նշված են դրական նշանով, իսկ նվազեցումները՝ փակագծերում)
A10: Ծրագիր | B10: Միջոցառում | E10: Կառուցման աշխատանքներ | F10: Վերակառուցման, վերանորոգման և վերականգնման աշխատանքներ | G10: Նախագծահե- տազոտական, գեոդեզիա- քարտեզագրա- կան աշխա- տանքներ | H10: Ոչ ֆինանսական այլ ակտիվների ձեռքբերում
C11: ԸՆԴԱՄԵՆԸ | D11: =SUM(E11:H11) -> -31406.8 | E11: =+E13 -> 995000 | F11: =+F13 -> -1164212.8 | G11: =+G13 -> 137806 | H11: =+H13 -> 0
C12: այդ թվում՝
C13: ՀՀ ԿՐԹՈՒԹՅԱՆ, ԳԻՏՈՒԹՅԱՆ, ՄՇԱԿՈՒՅԹԻ ԵՎ ՍՊՈՐՏԻ ՆԱԽԱՐԱՐՈՒԹՅՈՒՆ | D13: =SUM(E13:H13) -> -31406.8 | E13: =+E15+E23+E26 -> 995000 | F13: =+F15+F23+F26 -> -1164212.8 | G13: =+G15+G23+G26 -> 137806 | H13: =+H15+H23+H26 -> 0
C14: այդ թվում`
A15: 1075 | B15: 21001 | C15: Հուշարձանների ամրակայում, նորոգում և վերականգնում | D15: =SUM(E15:H15) -> -25494 | E15: =+E17 -> 0 | F15: =+F17 -> 0 | G15: =+G17 -> -25494 | H15: =+H17 -> 0
C16: այդ թվում`
C17: 2. Վավերագրման և ուսումնասիրման աշխատանքներ, (այդ թվում՝ հետախուզումև պեղում), գիտանախագծային փաստաթղթերի կազմում և փորձաքննում | D17: =SUM(E17:H17) -> -25494 | E17: =+E19+E21 -> 0 | F17: =+F19+F21 -> 0 | G17: =+G19+G21 -> -25494 | H17: =+H19+H21 -> 0
C18: որից`
C19: ՀՀ Գեղարքունիքի մարզ | D19: =SUM(E19:H19) -> -14483 | E19: =SUM(E20:E20) -> 0 | F19: =SUM(F20:F20) -> 0 | G19: =SUM(G20:G20) -> -14483 | H19: =SUM(H20:H20) -> 0
C20: Բերդկունքի ամրոցի (Իշխանաց բերդ) հնավայրի պեղումներ | D20: =+E20+F20+G20+H20 -> -14483 | G20: -14483
C21: ՀՀ Վայոց Ձորի մարզ | D21: =SUM(E21:H21) -> -11011 | E21: =SUM(E22:E22) -> 0 | F21: =SUM(F22:F22) -> 0 | G21: =SUM(G22:G22) -> -11011 | H21: =SUM(H22:H22) -> 0
C22: Եղեգնաձոր համայնքի Հորս գյուղի Չեսար Օրբելյանի պալատի և հարակից եկեղեցու պեղումներ | D22: =+E22+F22+G22+H22 -> -11011 | G22: -11011
A23: 1236 | B23: 32002 | C23: Մանկապարտեզների շենքերի վերակառուցում, հիմնանորոգում | D23: =SUM(E23:H23) -> -1164212.8 | E23: =+E25 -> 0 | F23: =+F25 -> -1164212.8 | G23: =+G25 -> 0 | H23: =+H25 -> 0
C24: այդ թվում`
C25: Մանկապարտեզների շենքերի վերակառուցում, հիմնանորոգում | D25: =SUM(E25:H25) -> -1164212.8 | E25: 0 | F25: -1164212.8 | G25: 0 | H25: =SUM(H26:H36) -> 0
A26: 1236 | B26: 32003 | C26: Հանրակրթական դպրոցների նոր շենքերի կառուցում | D26: =SUM(E26:H26) -> 1158300 | E26: =+E28+E40 -> 995000 | F26: =+F28+F40 -> 0 | G26: =+G28+G40 -> 163300 | H26: =+H28+H40 -> 0
C27: այդ թվում`
C28: Երևան քաղաք | D28: =SUM(E28:H28) -> 1204600 | E28: =SUM(E29:E39) -> 995000 | F28: =SUM(F29:F39) -> 0 | G28: =SUM(G29:G39) -> 209600 | H28: =SUM(H29:H39) -> 0
C29: Երևան Երևանի թիվ 124 հիմնական դպրոց (նախկին «Երևանի թիվ 201 հիմնական դպրոց» ՊՈԱԿ–ի տեղակայման վայրում) | D29: =+E29+F29+G29+H29 -> 400000 | E29: =+'Հավելված N 8'!I21+'Հավելված N 8'!I50+'Հավելված N 8'!I78 -> 400000
C30: Երևանի թիվ 64 հիմնական դպրոց | D30: =+E30+F30+G30+H30 -> 375000 | E30: =+'Հավելված N 8'!I22+'Հավելված N 8'!I51+'Հավելված N 8'!I79 -> 375000
C31: Երևանի Ս. Շահմուրադյանի անվան թիվ 85 հիմնական դպրոց | D31: =+E31+F31+G31+H31 -> 220000 | E31: =+'Հավելված N 8'!I23+'Հավելված N 8'!I52+'Հավելված N 8'!I80 -> 220000
C32: Երևանի Մ. Սարյանի անվան թիվ 86 հիմնական դպրոց | D32: =+E32+F32+G32+H32 -> 26200 | G32: =+'Հավելված N 8'!I106+'Հավելված N 8'!I108 -> 26200
C33: Երևանի թիվ 157 հիմնական դպրոց | D33: =+E33+F33+G33+H33 -> 26200 | G33: =+'Հավելված N 8'!I107+'Հավելված N 8'!I109 -> 26200
C34: Երևանի Գ.Գուրզանդյանի անվան թիվ 163 հիմնական դպրոց | D34: =+E34+F34+G34+H34 -> 26200 | G34: =+'Հավելված N 8'!I217+'Հավելված N 8'!I224 -> 26200
C35: Երևանի Ս. Խանզադյանի անվան թիվ 184 ավագ դպրոց | D35: =+E35+F35+G35+H35 -> 26200 | G35: =+'Հավելված N 8'!I218+'Հավելված N 8'!I225 -> 26200
C36: Երևանի Ա. Երզնկյանի անվան թիվ 118 ավագ դպրոց | D36: =+E36+F36+G36+H36 -> 26200 | G36: =+'Հավելված N 8'!I219+'Հավելված N 8'!I226 -> 26200
C37: Երևանի Րաֆֆու անվան թիվ 36 հիմնական դպրոց | D37: =+E37+F37+G37+H37 -> 26200 | G37: =+'Հավելված N 8'!I220+'Հավելված N 8'!I227 -> 26200
C38: Երևանի Վ. Դավթյանի անվան թիվ 37 հիմնական դպրոց | D38: =+E38+F38+G38+H38 -> 26200 | G38: =+'Հավելված N 8'!I221+'Հավելված N 8'!I228 -> 26200
C39: Երևանի թիվ 173 և թիվ 31 հիմնական դպրոցներ | D39: =+E39+F39+G39+H39 -> 26200 | G39: =+'Հավելված N 8'!I222+'Հավելված N 8'!I229 -> 26200
C40: ՀՀ Սյունիքի մարզ | D40: =SUM(E40:H40) -> -46300 | E40: =+E41 -> 0 | F40: =+F41 -> 0 | G40: =+G41 -> -46300 | H40: =+H41 -> 0
C41: «գ. Խնձորեսկի միջնակարգ դպրոց» ՊՈԱԿ | D41: =+E41+F41+G41+H41 -> -46300 | G41: =+'Հավելված N 8'!I216+'Հավելված N 8'!I223 -> -46300

Sheet Հավելված N 4
G1: Հավելված N 4
E2: ՀՀ կառավարության 2024 թվականի
G3: ______________ ի ___Ն որոշման
B6: ՀԱՅԱՍՏԱՆԻ ՀԱՆՐԱՊԵՏՈՒԹՅԱՆ ԿԱՌԱՎԱՐՈՒԹՅԱՆ 2023 ԹՎԱԿԱՆԻ ԴԵԿՏԵՄԲԵՐԻ 28-Ի N 2323-Ն ՈՐՈՇՄԱՆ N 5 ՀԱՎԵԼՎԱԾԻ N 2 ԱՂՅՈՒՍԱԿՈՒՄ ԿԱՏԱՐՎՈՂ ՓՈՓՈԽՈՒԹՅՈՒՆՆԵՐԸ ԵՎ ԼՐԱՑՈՒՄՆԵՐԸ
H8: հազ. դրամներով
B9: Ծրագրային դասիչ | D9: Բյուջետային գլխավոր կարգադրիչների, ծրագրերի, միջոցառումների, միջոցառումները կատարող պետական մարմինների և ուղղությունների անվանումները | E9: Ցուցանիշների փոփոխությունը (ավելացումները նշված են դրական նշանով, իսկ նվազեցումները՝ փակագծերում)
B10: Ծրագիր | C10: Միջոցառում | E10: Առաջին եռամսյակ | F10: Առաջին կիսամյակ | G10: Ինն ամիս | H10: Տարի
D11: ՀՀ ԿՐԹՈՒԹՅԱՆ, ԳԻՏՈՒԹՅԱՆ, ՄՇԱԿՈՒՅԹԻ ԵՎ ՍՊՈՐՏԻ ՆԱԽԱՐԱՐՈՒԹՅՈՒՆ | E11: =+E13+E23+E27+E111 -> -23758.6 | F11: =+F13+F23+F27+F111 -> -114357.6 | G11: =+G13+G23+G27+G111 -> -472732.1 | H11: =+H13+H23+H27+H111 -> 493226.3
D12: այդ թվում՝
B13: 1075 | C13: 21001 | D13: Հուշարձանների ամրակայում, նորոգում և վերականգնում | E13: =+E15 -> -17845.8 | F13: =+F15 -> -25494 | G13: =+G15 -> -25494 | H13: =+H15 -> -25494
D14: այդ թվում` ըստ կատարողների
D15: ՀՀ կրթության, գիտության, մշակույթի և սպորտի նախարարություն | E15: =+E17 -> -17845.8 | F15: =+F17 -> -25494 | G15: =+G17 -> -25494 | H15: =+H17 -> -25494
D16: այդ թվում՝ ըստ ուղղությունների
D17: 2. Վավերագրման և ուսումնասիրման աշխատանքներ, (այդ թվում՝ հետախուզումև պեղում), գիտանախագծային փաստաթղթերի կազմում և փորձաքննում | E17: =+E19+E21 -> -17845.8 | F17: =+F19+F21 -> -25494 | G17: =+G19+G21 -> -25494 | H17: =+H19+H21 -> -25494
D18: որից`
D19: Հ Գեղարքունիքի մարզ | E19: =SUM(E20:E20) -> -10138.1 | F19: =SUM(F20:F20) -> -14483 | G19: =SUM(G20:G20) -> -14483 | H19: =SUM(H20:H20) -> -14483
D20: =+'Հավելված N 3'!C20 -> Բերդկունքի ամրոցի (Իշխանաց բերդ) հնավայրի պեղումներ | E20: -10138.1 | F20: -14483 | G20: -14483 | H20: =+'Հավելված N 3'!D20 -> -14483
D21: ՀՀ Վայոց Ձորի մարզ | E21: =SUM(E22:E22) -> -7707.7 | F21: =SUM(F22:F22) -> -11011 | G21: =SUM(G22:G22) -> -11011 | H21: =SUM(H22:H22) -> -11011
D22: =+'Հավելված N 3'!C22 -> Եղեգնաձոր համայնքի Հորս գյուղի Չեսար Օրբելյանի պալատի և հարակից եկեղեցու պեղումներ | E22: -7707.7 | F22: -11011 | G22: -11011 | H22: =+'Հավելված N 3'!D22 -> -11011
B23: 1236 | C23: 32002 | D23: Մանկապարտեզների շենքերի վերակառուցում, հիմնանորոգում | E23: =+E25+E26 -> 0 | F23: =+F25+F26 -> -92363.6 | G23: =+G25+G26 -> -454238.1 | H23: =+H25+H26 -> -639579.7
D24: այդ թվում` ըստ կատարողների
D25: ՀՀ տարածքային կառավարման և ենթակառուցվածքների նախարարություն | E25: 0 | F25: -92363.6 | G25: 0 | H25: =+'[1]Հավելված N 3'!D14 -> 0
D26: ՀՀ կառավարություն | E26: 0 | F26: 0 | G26: -454238.1 | H26: -639579.7
B27: 1236 | C27: 32003 | D27: Հանրակրթական դպրոցների նոր շենքերի կառուցում | E27: =+E29+E70+E110 -> -5912.8 | F27: =+F29+F70+F110 -> 3500 | G27: =+G29+G70+G110 -> 7000 | H27: =+H29+H70+H110 -> 1158300
D28: այդ թվում` ըստ կատարողների
D29: ՀՀ քաղաքաշինության կոմիտե | E29: =+E31+E40+E46+E52+E57+E60+E62+E64 -> -195500 | F29: =+F31+F40+F46+F52+F57+F60+F62+F64 -> -1909500 | G29: =+G31+G40+G46+G52+G57+G60+G62+G64 -> -3819000 | H29: =+H31+H40+H46+H52+H57+H60+H62+H64 -> -8459100
D30: այդ թվում՝ ըստ ուղղությունների
D31: Երևան քաղաք | E31: =SUM(E32:E39) -> 0 | F31: =SUM(F32:F39) -> -133000 | G31: =SUM(G32:G39) -> -266000 | H31: =SUM(H32:H39) -> -507800
D32: Երևանի թիվ 187 միջնակարգ դպրոց | E32: 0 | F32: -64000 | G32: -128000 | H32: =+'Հավելված N 8'!I140+'Հավելված N 8'!I166+'Հավելված N 8'!I191 -> -320000
D33: Երևանի թիվ 107 հիմնական դպրոց | E33: 0 | F33: -69000 | G33: -138000 | H33: =+'Հավելված N 8'!I141+'Հավելված N 8'!I167+'Հավելված N 8'!I192 -> -345000
D34: =+'Հավելված N 3'!C34 -> Երևանի Գ.Գուրզանդյանի անվան թիվ 163 հիմնական դպրոց | E34: 0 | F34: 0 | G34: 0 | H34: =+'Հավելված N 3'!D34 -> 26200
D35: =+'Հավելված N 3'!C35 -> Երևանի Ս. Խանզադյանի անվան թիվ 184 ավագ դպրոց | E35: 0 | F35: 0 | G35: 0 | H35: =+'Հավելված N 3'!D35 -> 26200
D36: =+'Հավելված N 3'!C36 -> Երևանի Ա. Երզնկյանի անվան թիվ 118 ավագ դպրոց | E36: 0 | F36: 0 | G36: 0 | H36: =+'Հավելված N 3'!D36 -> 26200
D37: =+'Հավելված N 3'!C37 -> Երևանի Րաֆֆու անվան թիվ 36 հիմնական դպրոց | E37: 0 | F37: 0 | G37: 0 | H37: =+'Հավելված N 3'!D37 -> 26200
D38: =+'Հավելված N 3'!C38 -> Երևանի Վ. Դավթյանի անվան թիվ 37 հիմնական դպրոց | E38: 0 | F38: 0 | G38: 0 | H38: =+'Հավելված N 3'!D38 -> 26200
D39: =+'Հավելված N 3'!C39 -> Երևանի թիվ 173 և թիվ 31 հիմնական դպրոցներ | E39: 0 | F39: 0 | G39: 0 | H39: =+'Հավելված N 3'!D39 -> 26200
D40: ՀՀ Արագածոտնի մարզ | E40: =SUM(E41:E45) -> 0 | F40: =SUM(F41:F45) -> -369000 | G40: =SUM(G41:G45) -> -738000 | H40: =SUM(H41:H45) -> -1845000
D41: ք. Աշտարակի Վ.Պետրոսյան անվ. հիմնական դպրոց | E41: 0 | F41: -80000 | G41: -160000 | H41: =+'Հավելված N 8'!I142+'Հավելված N 8'!I168+'Հավելված N 8'!I193 -> -400000
D42: ք. Ապարանի միջնակարգ դպրոց (ք. Ապարանի Վ.Եղիազարյան անվ. թիվ 1 հիմնական դպրոցի տեղակայման վայրում) | E42: 0 | F42: -75000 | G42: -150000 | H42: =+'Հավելված N 8'!I143+'Հավելված N 8'!I169+'Հավելված N 8'!I194 -> -375000
D43: ք. Թալինի միջնակարգ դպրոց (ք. Թալինի թիվ 2 հիմնական դպրոցի տեղակայման վայրում) | E43: 0 | F43: -75000 | G43: -150000 | H43: =+'Հավելված N 8'!I144+'Հավելված N 8'!I170+'Հավելված N 8'!I195 -> -375000
D44: գ. Արագածավանի թիվ 2 միջնակարգ դպրոց | E44: 0 | F44: -75000 | G44: -150000 | H44: =+'Հավելված N 8'!I145+'Հավելված N 8'!I171+'Հավելված N 8'!I196 -> -375000
D45: գ. Օշականի Մ.Մաշտոցի անվ. միջնակարգ դպրոց | E45: 0 | F45: -64000 | G45: -128000 | H45: =+'Հավելված N 8'!I146+'Հավելված N 8'!I172+'Հավելված N 8'!I197 -> -320000
D46: ՀՀ Արմավիրի մարզ | E46: =SUM(E47:E51) -> -34500 | F46: =SUM(F47:F51) -> -388500 | G46: =SUM(G47:G51) -> -777000 | H46: =SUM(H47:H51) -> -1770000
D47: գ. Ջրառատի Թ.Խաչատրյանի անվ. միջնակարգ դպրոց | E47: 0 | F47: -75000 | G47: -150000 | H47: =+'Հավելված N 8'!I151+'Հավելված N 8'!I173+'Հավելված N 8'!I198 -> -375000
D48: գ. Վանանդի միջնակարգ դպրոց | E48: 0 | F48: -75000 | G48: -150000 | H48: =+'Հավելված N 8'!I147+'Հավելված N 8'!I174+'Հավելված N 8'!I199 -> -375000
D49: գ. Նոր Կեսարիայի միջնակարգ դպրոց | E49: 0 | F49: -75000 | G49: -150000 | H49: =+'Հավելված N 8'!I148+'Հավելված N 8'!I175+'Հավելված N 8'!I200 -> -375000
D50: գ. Ամբերդի Հ. Նավասարդյանի անվ. միջնակարգ դպրոց | E50: -34500 | F50: -103500 | G50: -207000 | H50: =+'Հավելված N 8'!I162+'Հավելված N 8'!I176+'Հավելված N 8'!I201 -> -345000
D51: ք. Վաղարշապատի Վ.Ռշտունու անվ. թիվ 11 հիմնական դպրոց | E51: 0 | F51: -60000 | G51: -120000 | H51: =+'Հավելված N 8'!I150+'Հավելված N 8'!I177+'Հավելված N 8'!I202 -> -300000
D52: ՀՀ Գեղարքունիքի մարզ | E52: =SUM(E53:E56) -> -34500 | F52: =SUM(F53:F56) -> -307500 | G52: =SUM(G53:G56) -> -615000 | H52: =SUM(H53:H56) -> -1365000
D53: ք. Վարդենիսի թիվ 3 հիմնական դպրոց | E53: 0 | F53: -64000 | G53: -128000 | H53: =+'Հավելված N 8'!I152+'Հավելված N 8'!I178+'Հավելված N 8'!I203 -> -320000
D54: ք. Սևանի Վ.Կարապետյանի անվ. թիվ 3 հիմնական դպրոց | E54: 0 | F54: -80000 | G54: -160000 | H54: =+'Հավելված N 8'!I153+'Հավելված N 8'!I179+'Հավելված N 8'!I204 -> -400000
D55: ք. Գավառի Գեորգի Մնացականյանի թիվ 7 միջնակարգ դպրոց | E55: -34500 | F55: -103500 | G55: -207000 | H55: =+'Հավելված N 8'!I154+'Հավելված N 8'!I180+'Հավելված N 8'!I205 -> -345000
D56: ք. Գավառի թիվ 5 հիմնական դպրոց | E56: 0 | F56: -60000 | G56: -120000 | H56: =+'Հավելված N 8'!I155+'Հավելված N 8'!I181+'Հավելված N 8'!I206 -> -300000
D57: ՀՀ Լոռու մարզ | E57: =SUM(E58:E59) -> -23000 | F57: =SUM(F58:F59) -> -129000 | G57: =SUM(G58:G59) -> -258000 | H57: =SUM(H58:H59) -> -530000
D58: գ. Օձունի թիվ 2 միջնակարգ դպրոց | E58: -23000 | F58: -69000 | G58: -138000 | H58: =+'Հավելված N 8'!I163+'Հավելված N 8'!I182+'Հավելված N 8'!I207 -> -230000
D59: ք. Սպիտակի թիվ 8 միջնակարգ դպրոց | E59: 0 | F59: -60000 | G59: -120000 | H59: =+'Հավելված N 8'!I156+'Հավելված N 8'!I183+'Հավելված N 8'!I208 -> -300000
D60: ՀՀ Կոտայքի մարզ | E60: =+E61 -> 0 | F60: =+F61 -> -66000 | G60: =+G61 -> -132000 | H60: =+H61 -> -330000
D61: Կապուտան բնակավայրի միջնակարգ դպրոց | E61: 0 | F61: -66000 | G61: -132000 | H61: =+'Հավելված N 8'!I157+'Հավելված N 8'!I184+'Հավելված N 8'!I209 -> -330000
D62: ՀՀ Սյունիքի մարզ | E62: =+E63 -> 0 | F62: =+F63 -> -56000 | G62: =+G63 -> -112000 | H62: =+H63 -> -326300
D63: =+'Հավելված N 3'!C41 -> «գ. Խնձորեսկի միջնակարգ դպրոց» ՊՈԱԿ | E63: 0 | F63: -56000 | G63: -112000 | H63: =+'Հավելված N 8'!I158+'Հավելված N 8'!I185+'Հավելված N 8'!I210+'Հավելված N 8'!I216+'Հավելված N 8'!I223 -> -326300
D64: ՀՀ Տավուշի մարզ | E64: =SUM(E65:E69) -> -103500 | F64: =SUM(F65:F69) -> -460500 | G64: =SUM(G65:G69) -> -921000 | H64: =SUM(H65:H69) -> -1785000
D65: ք. Այրումի Հ.Մալինյանի անվան միջնակարգ դպրոց | E65: 0 | F65: -75000 | G65: -150000 | H65: =+'Հավելված N 8'!I164+'Հավելված N 8'!I186+'Հավելված N 8'!I211 -> -375000
D66: գ. Կոթիի միջնակարգ դպրոց | E66: -34500 | F66: -103500 | G66: -207000 | H66: ='Հավելված N 8'!I161+'Հավելված N 8'!I187+'Հավելված N 8'!I212 -> -345000
D67: գ. Բագրատաշենի Մ․ Մագուլյանի անվան թիվ 1 միջնակարգ դպրոց | E67: 0 | F67: -75000 | G67: -150000 | H67: ='Հավելված N 8'!I149+'Հավելված N 8'!I188+'Հավելված N 8'!I213 -> -375000
D68: գ. Կողբի Ջ.Կարախանյանի անվ. թիվ 1 միջնակարգ դպրոց | E68: -34500 | F68: -103500 | G68: -207000 | H68: ='Հավելված N 8'!I160+'Հավելված N 8'!I189+'Հավելված N 8'!I214 -> -345000
D69: գ. Սևքարի միջնակարգ դպրոց | E69: -34500 | F69: -103500 | G69: -207000 | H69: ='Հավելված N 8'!I159+'Հավելված N 8'!I190+'Հավելված N 8'!I215 -> -345000
D70: ՀՀ կրթության, գիտության, մշակույթի և սպորտի նախարարություն | E70: =+E72+E80+E86+E92+E97+E100+E102+E104 -> 0 | F70: =+F72+F80+F86+F92+F97+F100+F102+F104 -> 1913000 | G70: =+G72+G80+G86+G92+G97+G100+G102+G104 -> 3826000 | H70: =+H72+H80+H86+H92+H97+H100+H102+H104 -> 9617400
D71: այդ թվում՝ ըստ ուղղությունների
D72: Երևան քաղաք | E72: =SUM(E73:E79) -> 0 | F72: =SUM(F73:F79) -> 332000 | G72: =SUM(G73:G79) -> 664000 | H72: =SUM(H73:H79) -> 1712400
D73: =+'Հավելված N 3'!C29 -> Երևան Երևանի թիվ 124 հիմնական դպրոց (նախկին «Երևանի թիվ 201 հիմնական դպրոց» ՊՈԱԿ–ի տեղակայման վայրում) | E73: 0 | F73: =+H73*0.2 -> 80000 | G73: =+H73*0.4 -> 160000 | H73: =+'Հավելված N 3'!D29 -> 400000
D74: =+'Հավելված N 3'!C30 -> Երևանի թիվ 64 հիմնական դպրոց | E74: 0 | F74: =+H74*0.2 -> 75000 | G74: =+H74*0.4 -> 150000 | H74: =+'Հավելված N 3'!D30 -> 375000
D75: =+'Հավելված N 3'!C31 -> Երևանի Ս. Շահմուրադյանի անվան թիվ 85 հիմնական դպրոց | E75: 0 | F75: =+H75*0.2 -> 44000 | G75: =+H75*0.4 -> 88000 | H75: =+'Հավելված N 3'!D31 -> 220000
D76: =+'Հավելված N 3'!C32 -> Երևանի Մ. Սարյանի անվան թիվ 86 հիմնական դպրոց | E76: 0 | F76: 0 | G76: 0 | H76: =+'Հավելված N 3'!D32 -> 26200
D77: =+'Հավելված N 3'!C33 -> Երևանի թիվ 157 հիմնական դպրոց | E77: 0 | F77: 0 | G77: 0 | H77: =+'Հավելված N 3'!D33 -> 26200
D78: Երևանի թիվ 187 միջնակարգ դպրոց | E78: 0 | F78: 64000 | G78: 128000 | H78: =+'Հավելված N 8'!I24+'Հավելված N 8'!I53+'Հավելված N 8'!I81 -> 320000
D79: Երևանի թիվ 107 հիմնական դպրոց | E79: 0 | F79: 69000 | G79: 138000 | H79: =+'Հավելված N 8'!I25+'Հավելված N 8'!I54+'Հավելված N 8'!I82 -> 345000
D80: ՀՀ Արագածոտնի մարզ | E80: =SUM(E81:E85) -> 0 | F80: =SUM(F81:F85) -> 369000 | G80: =SUM(G81:G85) -> 738000 | H80: =SUM(H81:H85) -> 1845000
D81: ք. Աշտարակի Վ.Պետրոսյան անվ. հիմնական դպրոց | E81: 0 | F81: 80000 | G81: 160000 | H81: =+'Հավելված N 8'!I26+'Հավելված N 8'!I55+'Հավելված N 8'!I83 -> 400000
D82: ք. Ապարանի միջնակարգ դպրոց (ք. Ապարանի Վ.Եղիազարյան անվ. թիվ 1 հիմնական դպրոցի տեղակայման վայրում) | E82: 0 | F82: 75000 | G82: 150000 | H82: =+'Հավելված N 8'!I27+'Հավելված N 8'!I56+'Հավելված N 8'!I84 -> 375000
D83: ք. Թալինի միջնակարգ դպրոց (ք. Թալինի թիվ 2 հիմնական դպրոցի տեղակայման վայրում) | E83: 0 | F83: 75000 | G83: 150000 | H83: =+'Հավելված N 8'!I28+'Հավելված N 8'!I57+'Հավելված N 8'!I85 -> 375000
D84: գ. Արագածավանի թիվ 2 միջնակարգ դպրոց | E84: 0 | F84: 75000 | G84: 150000 | H84: =+'Հավելված N 8'!I29+'Հավելված N 8'!I58+'Հավելված N 8'!I86 -> 375000
D85: գ. Օշականի Մ.Մաշտոցի անվ. միջնակարգ դպրոց | E85: 0 | F85: 64000 | G85: 128000 | H85: =+'Հավելված N 8'!I30+'Հավելված N 8'!I59+'Հավելված N 8'!I87 -> 320000
D86: ՀՀ Արմավիրի մարզ | E86: =SUM(E87:E91) -> 0 | F86: =SUM(F87:F91) -> 354000 | G86: =SUM(G87:G91) -> 708000 | H86: =SUM(H87:H91) -> 1770000
D87: գ. Ջրառատի Թ.Խաչատրյանի անվ. միջնակարգ դպրոց | E87: 0 | F87: 75000 | G87: 150000 | H87: =+'Հավելված N 8'!I31+'Հավելված N 8'!I60+'Հավելված N 8'!I88 -> 375000
D88: գ. Վանանդի միջնակարգ դպրոց | E88: 0 | F88: 75000 | G88: 150000 | H88: =+'Հավելված N 8'!I32+'Հավելված N 8'!I61+'Հավելված N 8'!I89 -> 375000
D89: գ. Նոր Կեսարիայի միջնակարգ դպրոց | E89: 0 | F89: 75000 | G89: 150000 | H89: =+'Հավելված N 8'!I33+'Հավելված N 8'!I62+'Հավելված N 8'!I90 -> 375000
D90: գ. Ամբերդի Հ. Նավասարդյանի անվ. միջնակարգ դպրոց | E90: 0 | F90: =+H90*0.2 -> 69000 | G90: =+H90*0.4 -> 138000 | H90: =+'Հավելված N 8'!I34+'Հավելված N 8'!I63+'Հավելված N 8'!I91 -> 345000
D91: ք. Վաղարշապատի Վ.Ռշտունու անվ. թիվ 11 հիմնական դպրոց | E91: 0 | F91: 60000 | G91: 120000 | H91: =+'Հավելված N 8'!I35+'Հավելված N 8'!I64+'Հավելված N 8'!I92 -> 300000
D92: ՀՀ Գեղարքունիքի մարզ | E92: =SUM(E93:E96) -> 0 | F92: =SUM(F93:F96) -> 273000 | G92: =SUM(G93:G96) -> 546000 | H92: =SUM(H93:H96) -> 1365000
D93: ք. Վարդենիսի թիվ 3 հիմնական դպրոց | E93: 0 | F93: 64000 | G93: 128000 | H93: =+'Հավելված N 8'!I36+'Հավելված N 8'!I65+'Հավելված N 8'!I93 -> 320000
D94: ք. Սևանի Վ.Կարապետյանի անվ. թիվ 3 հիմնական դպրոց | E94: 0 | F94: 80000 | G94: 160000 | H94: =+'Հավելված N 8'!I37+'Հավելված N 8'!I66+'Հավելված N 8'!I94 -> 400000
D95: ք. Գավառի Գեորգի Մնացականյանի թիվ 7 միջնակարգ դպրոց | E95: 0 | F95: =+H95*0.2 -> 69000 | G95: =+H95*0.4 -> 138000 | H95: =+'Հավելված N 8'!I38+'Հավելված N 8'!I67+'Հավելված N 8'!I95 -> 345000
D96: ք. Գավառի թիվ 5 հիմնական դպրոց | E96: 0 | F96: 60000 | G96: 120000 | H96: =+'Հավելված N 8'!I39+'Հավելված N 8'!I68+'Հավելված N 8'!I96 -> 300000
D97: ՀՀ Լոռու մարզ | E97: =SUM(E98:E99) -> 0 | F97: =SUM(F98:F99) -> 106000 | G97: =SUM(G98:G99) -> 212000 | H97: =SUM(H98:H99) -> 530000
D98: գ. Օձունի թիվ 2 միջնակարգ դպրոց | E98: 0 | F98: =+H98*0.2 -> 46000 | G98: =+H98*0.4 -> 92000 | H98: =+'Հավելված N 8'!I40+'Հավելված N 8'!I69+'Հավելված N 8'!I97 -> 230000
D99: ք. Սպիտակի թիվ 8 միջնակարգ դպրոց | E99: 0 | F99: 60000 | G99: 120000 | H99: =+'Հավելված N 8'!I41+'Հավելված N 8'!I70+'Հավելված N 8'!I98 -> 300000
D100: ՀՀ Կոտայքի մարզ | E100: =+E101 -> 0 | F100: =+F101 -> 66000 | G100: =+G101 -> 132000 | H100: =+H101 -> 330000
D101: Կապուտան բնակավայրի միջնակարգ դպրոց | E101: 0 | F101: 66000 | G101: 132000 | H101: =+'Հավելված N 8'!I42+'Հավելված N 8'!I71+'Հավելված N 8'!I99 -> 330000
D102: ՀՀ Սյունիքի մարզ | E102: =+E103 -> 0 | F102: =+F103 -> 56000 | G102: =+G103 -> 112000 | H102: =+H103 -> 280000
D103: «գ. Խնձորեսկի միջնակարգ դպրոց» ՊՈԱԿ | E103: 0 | F103: 56000 | G103: 112000 | H103: =+'Հավելված N 8'!I43+'Հավելված N 8'!I72+'Հավելված N 8'!I100 -> 280000
...

Sheet Հավելված N 5
F1: Հավելված 5
F2: ՀՀ կառավարության 2024 թվականի
F3: ______________ ի ___Ն որոշման
A6: ՀԱՅԱՍՏԱՆԻ ՀԱՆՐԱՊԵՏՈՒԹՅԱՆ ԿԱՌԱՎԱՐՈՒԹՅԱՆ 2023 ԹՎԱԿԱՆԻ ԴԵԿՏԵՄԲԵՐԻ 28-Ի N 2323-Ն ՈՐՈՇՄԱՆ N 5 ՀԱՎԵԼՎԱԾԻ N 7 ԱՂՅՈՒՍԱԿՈՒՄ ԿԱՏԱՐՎՈՂ ԼՐԱՑՈՒՄԸ
A7: հազար դրամ
A8: Ծրագրային դասիչը | D8: Բյուջետային հատկացումների գլխավոր կարգադրիչների, ծրագրերի, միջոցառումների և միջոցառումները կատարող պետական մարմինների անվանումները | F8: Միջոցառումները կատարող պետական մարմինների և դրամաշնորհ ստացող տնտեսվարող սուբյեկտների անվանումները | G8: Ցուցանիշների փոփոխությունը (ավելացումները նշված են դրական նշանով)
A9: Ծրագիր | B9: Միջոցառում | G9: Տարի
A10: ՀՀ կրթության, գիտության, մշակույթի և սպորտի նախարարություն | G10: =+G11 -> 25494
A11: 1075 | B11: Մշակութային ժառանգության ծրագիր | G11: =+G12 -> 25494
B12: 21001 | C12: Հուշարձանների ամրակայում, նորոգում և վերականգնում | F12: ՀՀ կրթության, գիտության, մշակույթի և սպորտի նախարարություն | G12: =+G14 -> 25494
D13: այդ թվում՝ ըստ ուղղությունների և միջոցառումների անվանումների
E14: Վավերագրման և ուսումնասիրման աշխատանքներ, (այդ թվում՝ հետախուզումև պեղում), գիտանախագծային փաստաթղթերի կազմում և փորձաքննում | G14: =+G15+G16 -> 25494
E15: ՀՀ Գեղարքունիքի մարզի Բերդկունքի ամրոցի (Իշխանաց բերդ) հնավայրի պեղումներ | F15: «Պատմամշակութային արգելոց-թանգարանների և պատմական միջավայրի պահպանության ծառայություն» ՊՈԱԿ | G15: 14483
E16: ՀՀ Վայոց Ձորի մարզի Եղեգնաձոր համայնքի Հորս գյուղի Չեսար Օրբելյանի պալատի և հարակից եկեղեցու պեղումներ | F16: «Պատմամշակութային արգելոց-թանգարանների և պատմական միջավայրի պահպանության ծառայություն» ՊՈԱԿ | G16: 11011

Sheet Հավելված N 6
C1: Հավելված N 6
C2: ՀՀ կառավարության 2024 թվականի
C3: ______________ ի ___Ն որոշման
B6: ՀԱՅԱՍՏԱՆԻ ՀԱՆՐԱՊԵՏՈՒԹՅԱՆ ԿԱՌԱՎԱՐՈՒԹՅԱՆ 2023 ԹՎԱԿԱՆԻ ԴԵԿՏԵՄԲԵՐԻ 28-Ի N 2323-Ն ՈՐՈՇՄԱՆ N 9 ՀԱՎԵԼՎԱԾԻ N 9.13 ԱՂՅՈՒՍԱԿՈՒՄ ԿԱՏԱՐՎՈՂ ՓՈՓՈԽՈՒԹՅՈՒՆՆԵՐԸ ԵՎ ԼՐԱՑՈՒՄՆԵՐԸ
A8: Աղյուսակ 9․13
C9: ՀՀ կրթության, գիտության, մշակույթի և սպորտի նախարարություն
B10: ՄԱՍ 2. ՊԵՏԱԿԱՆ ՄԱՐՄՆԻ ԳԾՈՎ ԱՐԴՅՈՒՆՔԱՅԻՆ (ԿԱՏԱՐՈՂԱԿԱՆ) ՑՈՒՑԱՆԻՇՆԵՐԸ
B13: Ծրագրի դասիչը | C13: Ծրագրի անվանումը
B14: 1163 | C14: Մասսայական սպորտ
B16: Ծրագրի միջոցառումները
B17: Ծրագրի դասիչը՝ | C17: 1163 | D17: Ցուցանիշների փոփոխությունը (ավելացումները նշված են դրական նշանով)
B18: Միջոցառման դասիչը՝ | C18: 32001 | D18: Առաջին եռամսյակ | E18: Առաջին կիսամյակ | F18: Ինն ամիս | G18: Տարի
B19: Միջոցառման անվանումը` | C19: Մարզական օբյեկտների շինարարություն
B20: Նկարագրությունը` | C20: Մարզական օբյեկտների շենքերի (մասնաշենքերի) կառուցում (համաշինարարական աշխատանքներ, ջեռուցման համակարգի իրականացում, ներքին հարդարում, տարածքի բարեկարգում) և նախագծում
B21: Միջոցառման տեսակը` | C21: Այլ պետական կազմակերպությունների կողմից օգտագործվող ոչ ֆինանսական ակտիվների հետ գործառնություններ
B22: Ակտիվն օգտագործող կազմակերպությունների անվանումները | C22: Մարզական հաստատություններ
B23: Արդյունքի չափորոշիչներ
B24: Մարզական կառույցների թիվը, որոնց համար ձեռք է բերվել շենքի չափագրման ծառայություն, հատ | E24: 1 | G24: 1
B25: Միջոցառման վրա կատարվող ծախսը (հազար դրամ) | D25: =+'Հավելված N 2'!G137 -> 199 | E25: =+'Հավելված N 2'!H137 -> 199 | F25: =+'Հավելված N 2'!I137 -> 199 | G25: =+'Հավելված N 2'!J137 -> 199
B27: Ծրագրի դասիչը | C27: Ծրագրի անվանումը
B28: 1183 | C28: Ապահով դպրոց
B30: Ծրագրի միջոցառումները
B31: Ծրագրի դասիչը՝ | C31: 1183 | D31: Ցուցանիշների փոփոխությունը (ավելացումները նշված են դրական նշանով)
B32: Միջոցառման դասիչը՝ | C32: 32007 | D32: Առաջին եռամսյակ | E32: Առաջին կիսամյակ | F32: Ինն ամիս | G32: Տարի
B33: Միջոցառման անվանումը` | C33: Հանրակրթական կրթություն իրականացնող ուսումնական հաստատությունների նոր մարզադահլիճների կառուցում
B34: Նկարագրությունը` | C34: Հանրակրթական ուսուցում իրականացնող ուսումնական հաստատությունների նոր մարզադահլիճների կառուցման նախագծանախահաշվային փաստաթղթերի մշակում
B35: Միջոցառման տեսակը` | C35: Այլ պետական կազմակերպությունների կողմից օգտագործվող ոչ ֆինանսական ակտիվների հետ գործառնություններ
B36: Ակտիվն օգտագործող կազմակերպությունների անվանումները | C36: Հանրակրթական դպրոցներ
B37: Արդյունքի չափորոշիչներ
B38: Դպրոցների թիվը, որոնց համար ձեռք է բերվել շենքի չափագրման ծառայություն, հատ | E38: 15 | G38: 15
B39: Միջոցառման վրա կատարվող ծախսը (հազար դրամ) | D39: =+'Հավելված N 2'!G148 -> 2175 | E39: =+'Հավելված N 2'!H148 -> 2175 | F39: =+'Հավելված N 2'!I148 -> 2175 | G39: =+'Հավելված N 2'!J148 -> 2175
B41: Ծրագրի միջոցառումները
B42: Ծրագրի դասիչը` | C42: 1183 | D42: Ցուցանիշների փոփոխությունը (ավելացումները նշված են դրական նշանով)
B43: Միջոցառման դասիչը` | C43: 32009 | D43: Առաջին եռամսյակ | E43: Առաջին կիսամյակ | F43: Ինն ամիս | G43: Տարի
B44: Միջոցառման անվանումը` | C44: Հանրակրթական կրթություն իրականացնող ուսումնական հաստատությունների մարզադահլիճների վերակառուցում
B45: Նկարագրությունը` | C45: Հանրակրթական ուսուցում իրականացնող ուսումնական հաստատությունների մարզադահլիճների վերակառուցման նախագծանախահաշվային փաստաթղթերի մշակում
B46: Միջոցառման տեսակը` | C46: Այլ պետական կազմակերպությունների կողմից օգտագործվող ոչ ֆինանսական ակտիվների հետ գործառնություններ
B47: Ակտիվն օգտագործող կազմակերպությունների անվանումները | C47: Հանրակրթական դպրոցներ
B48: Արդյունքի չափորոշիչներ
B49: Դպրոցների թիվը, որոնց համար ձեռք է բերվել շենքի չափագրման ծառայություն, հատ | E49: 9 | G49: 9
B50: Միջոցառման վրա կատարվող ծախսը (հազար դրամ) | D50: =+'Հավելված N 2'!G157 -> 1162.5 | E50: =+'Հավելված N 2'!H157 -> 1162.5 | F50: =+'Հավելված N 2'!I157 -> 1162.5 | G50: =+'Հավելված N 2'!J157 -> 1162.5
B52: Ծրագրի դասիչը | C52: Ծրագրի անվանումը
B53: 1236 | C53: Հանրակրթական և նախադպրոցական հաստատությունների հիմնում, կառուցում, բարելավում
B55: Ծրագրի միջոցառումները
B56: Ծրագրի դասիչը՝ | C56: 1236 | D56: Ցուցանիշների փոփոխությունը (ավելացումները նշված են դրական նշանով)
B57: Միջոցառման դասիչը՝ | C57: 32001 | D57: Առաջին եռամսյակ | E57: Առաջին կիսամյակ | F57: Ինն ամիս | G57: Տարի
B58: Միջոցառման անվանումը` | C58: Մանկապարտեզների նոր շենքերի կառուցում
B59: Նկարագրությունը` | C59: Նախադպրոցական կրթության հասանելիության ապահովման նպատակով՛ մանկապարտեզների հիմնում, նոր շենքերի (մասնաշենքերի), ներառյալ՛ ,Մոդուլայինե տիպի շենքերի կառուցում և նախագծում
B60: Միջոցառման տեսակը` | C60: Այլ պետական կազմակերպությունների կողմից օգտագործվող ոչ ֆինանսական ակտիվների հետ գործառնություններ
B61: Շահառուների ընտրության չափորոշիչները° | C61: Նախադպրոցական կրթություն իրականացնող ուսումնական հաստատություններ
B62: Արդյունքի չափորոշիչներ
B63: Մանկապարտեզների թիվը, որոնց համար ձեռք է բերվել շենքի չափագրման ծառայություն, հատ | E63: 1 | G63: 1
B64: Միջոցառման վրա կատարվող ծախսը (հազար դրամ) | D64: =+'Հավելված N 1'!D55 -> 322.5 | E64: =+'Հավելված N 1'!E55 -> 322.5 | F64: =+'Հավելված N 1'!F55 -> 322.5 | G64: =+'Հավելված N 1'!G55 -> 322.5
B66: Ծրագրի միջոցառումները
B67: Ծրագրի դասիչը՝ | C67: 1236 | D67: Ցուցանիշների փոփոխությունը (նվազեցումները նշված են փակագծերում)
B68: Միջոցառման դասիչը՝ | C68: 32002 | D68: Առաջին եռամսյակ | E68: Առաջին կիսամյակ | F68: Ինն ամիս | G68: Տարի
B69: Միջոցառման անվանումը` | C69: Մանկապարտեզների շենքերի վերակառուցում, հիմնանորոգում
B70: Նկարագրությունը` | C70: Նախադպրոցական կրթության հասանելիության ապահովման նպատակով՛ մանկապարտեզների շենքերի (մասնաշենքերի), վերակառուցում, հիմնանորոգում և նախագծում
B71: Միջոցառման տեսակը` | C71: Այլ պետական կազմակերպությունների կողմից օգտագործվող ոչ ֆինանսական ակտիվների հետ գործառնություններ
B72: Ակտիվն օգտագործող կազմակերպությունների անվանումները | C72: Նախադպրոցական կրթությույն իրականացնող ուսումնական հաստատություններ
B73: Արդյունքի չափորոշիչներ
B74: Միջոցառման վրա կատարվող ծախսը (հազար դրամ) | D74: =+'Հավելված N 1'!D61 -> 0 | E74: =+'Հավելված N 1'!E61 -> -92363.6 | F74: =+'Հավելված N 1'!F61 -> -454238.1 | G74: =+'Հավելված N 1'!G61 -> -639579.7
B76: Ծրագրի միջոցառումները
B77: Ծրագրի դասիչը՝ | C77: 1236 | D77: Ցուցանիշների փոփոխությունը (ավելացումները նշված են դրական նշանով, իսկ նվազեցումները՝ փակագծերում)
B78: Միջոցառման դասիչը՝ | C78: 32003 | D78: Առաջին եռամսյակ | E78: Առաջին կիսամյակ | F78: Ինն ամիս | G78: Տարի
B79: Միջոցառման անվանումը` | C79: Հանրակրթական դպրոցների նոր շենքերի կառուցում
B80: Նկարագրությունը` | C80: ՀՀ մարզերում կրթական որակյալ ծառայությունների հասանելիության ապահովման ծրագրի շրջանակներում հանրակրթական և նախադպրոցական կրթության հասանելիության ապահովման նպատակով կրթական կենտրոնների կառուցում
B81: Միջոցառման տեսակը` | C81: Այլ պետական կազմակերպությունների կողմից օգտագործվող ոչ ֆինանսական ակտիվների հետ գործառնություններ
B82: Ակտիվն օգտագործող կազմակերպությունների անվանումները | C82: Հանրակրթական դպրոցներ
B83: Արդյունքի չափորոշիչներ
B84: Երևանում կրթական որակյալ ծառայությունների հասանելիության ապահովման ծրագրի շրջանակներում կառուցվող դպրոցների թիվը, հատ | E84: 3 | G84: 3
B85: Նախագծանախահաշվային փաստաթղթերի քանակ, հատ | G85: 8
B86: Դպրոցների թիվը, որոնց համար ձեռք է բերվել շենքի չափագրման ծառայություն, հատ | E86: 4 | G86: 4
B87: Միջոցառման վրա կատարվող ծախսը (հազար դրամ) | D87: =+'Հավելված N 1'!D67 -> -3859 | E87: =+'Հավելված N 1'!E67 -> 5553.8 | F87: =+'Հավելված N 1'!F67 -> 9053.8 | G87: =+'Հավելված N 1'!G67 -> 1160353.8

Sheet Հավելված N 7
C1: Հավելված N 7
C2: ՀՀ կառավարության 2024 թվականի
C3: ______________ ի ___Ն որոշման
B6: ՀԱՅԱՍՏԱՆԻ ՀԱՆՐԱՊԵՏՈՒԹՅԱՆ ԿԱՌԱՎԱՐՈՒԹՅԱՆ 2023 ԹՎԱԿԱՆԻ ԴԵԿՏԵՄԲԵՐԻ 28-Ի N 2323-Ն ՈՐՈՇՄԱՆ N 9.1 ՀԱՎԵԼՎԱԾԻ NN 9.1.7, 9.1.13, 9.1.39 ԵՎ 9.1.58 ԱՂՅՈՒՍԱԿՆԵՐՈՒՄ ԿԱՏԱՐՎՈՂ ՓՈՓՈԽՈՒԹՅՈՒՆՆԵՐԸ ԵՎ ԼՐԱՑՈՒՄՆԵՐԸ
A9: Աղյուսակ 9․1.7
C10: ՀՀ տարածքային կառավարման և ենթակառուցվածքների նախարարություն
B11: ՄԱՍ 1. ՊԵՏԱԿԱՆ ՄԱՐՄՆԻ ԳԾՈՎ ԱՐԴՅՈՒՆՔԱՅԻՆ (ԿԱՏԱՐՈՂԱԿԱՆ) ՑՈՒՑԱՆԻՇՆԵՐԸ
B14: Ծրագրի դասիչը | C14: Ծրագրի անվանումը
B15: 1236 | C15: Հանրակրթական և նախադպրոցական հաստատությունների հիմնում, կառուցում, բարելավում
B17: Ծրագրի միջոցառումները
B18: Ծրագրի դասիչը՝ | C18: 1236 | D18: Ցուցանիշների փոփոխությունը (նվազեցումները նշված են փակագծերում)
B19: Միջոցառման դասիչը՝ | C19: 32002 | D19: Առաջին եռամսյակ | E19: Առաջին կիսամյակ | F19: Ինն ամիս | G19: Տարի
B20: Միջոցառման անվանումը` | C20: Մանկապարտեզների շենքերի վերակառուցում, հիմնանորոգում
B21: Նկարագրությունը` | C21: Նախադպրոցական կրթության հասանելիության ապահովման նպատակով՛ մանկապարտեզների շենքերի (մասնաշենքերի), վերակառուցում, հիմնանորոգում և նախագծում
B22: Միջոցառման տեսակը` | C22: Այլ պետական կազմակերպությունների կողմից օգտագործվող ոչ ֆինանսական ակտիվների հետ գործառնություններ
B23: Ակտիվն օգտագործող կազմակերպությունների անվանումները | C23: Նախադպրոցական կրթությույն իրականացնող ուսումնական հաստատություններ
B24: Արդյունքի չափորոշիչներ
B25: Միջոցառման վրա կատարվող ծախսը (հազար դրամ) | D25: =+'Հավելված N 2'!G60 -> 0 | E25: =+'Հավելված N 2'!H60 -> -92363.6 | F25: =+'Հավելված N 2'!I60 -> 0 | G25: =+'Հավելված N 2'!J60 -> 0
A31: Աղյուսակ 9․1.13
C32: ՀՀ կրթության, գիտության, մշակույթի և սպորտի նախարարություն
B33: ՄԱՍ 1. ՊԵՏԱԿԱՆ ՄԱՐՄՆԻ ԳԾՈՎ ԱՐԴՅՈՒՆՔԱՅԻՆ (ԿԱՏԱՐՈՂԱԿԱՆ) ՑՈՒՑԱՆԻՇՆԵՐԸ
B36: Ծրագրի դասիչը | C36: Ծրագրի անվանումը
B37: 1236 | C37: Հանրակրթական և նախադպրոցական հաստատությունների հիմնում, կառուցում, բարելավում
B39: Ծրագրի միջոցառումները
B40: Ծրագրի դասիչը՝ | C40: 1236 | D40: Ցուցանիշների փոփոխությունը (ավելացումները նշված են դրական նշանով)
B41: Միջոցառման դասիչը՝ | C41: 32003 | D41: Առաջին եռամսյակ | E41: Առաջին կիսամյակ | F41: Ինն ամիս | G41: Տարի
B42: Միջոցառման անվանումը` | C42: Հանրակրթական դպրոցների նոր շենքերի կառուցում
B43: Նկարագրությունը` | C43: ՀՀ մարզերում կրթական որակյալ ծառայությունների հասանելիության ապահովման ծրագրի շրջանակներում հանրակրթական և նախադպրոցական կրթության հասանելիության ապահովման նպատակով կրթական կենտրոնների կառուցում
B44: Միջոցառման տեսակը` | C44: Այլ պետական կազմակերպությունների կողմից օգտագործվող ոչ ֆինանսական ակտիվների հետ գործառնություններ
B45: Ակտիվն օգտագործող կազմակերպությունների անվանումները | C45: Հանրակրթական դպրոցներ
B46: Արդյունքի չափորոշիչներ
B47: Երևանում կրթական որակյալ ծառայությունների հասանելիության ապահովման ծրագրի շրջանակներում կառուցվող դպրոցների թիվը, հատ | E47: 5 | G47: 7
B48: Արագածոտնի մարզում կրթական որակյալ ծառայությունների հասանելիության ապահովման ծրագրի շրջանակներում կառուցվող՛ կլաստերների կենտրոն-դպրոցների թիվը, հատ | E48: 3 | G48: 3
B49: Արմավիրի մարզում կրթական որակյալ ծառայությունների հասանելիության ապահովման ծրագրի շրջանակներում կառուցվող՛ կլաստերների կենտրոն-դպրոցների թիվը, հատ | E49: 3 | G49: 3
B50: Լոռու մարզում կրթական որակյալ ծառայությունների հասանելիության ապահովման ծրագրի շրջանակներում կառուցվող՛ կլաստերների կենտրոն-դպրոցների թիվը, հատ | E50: 2 | G50: 2
B51: Կոտայքի մարզում կրթական որակյալ ծառայությունների հասանելիության ապահովման ծրագրի շրջանակներում կառուցվող՛ կլաստերների կենտրոն-դպրոցների թիվը, հատ | E51: 1 | G51: 1
B52: Սյունիքի մարզում կրթական որակյալ ծառայությունների հասանելիության ապահովման ծրագրի շրջանակներում կառուցվող՛ կլաստերների կենտրոն-դպրոցների թիվը, հատ | E52: 1 | G52: 1
B53: Տավուշի մարզում կրթական որակյալ ծառայությունների հասանելիության ապահովման ծրագրի շրջանակներում կառուցվող՛ կլաստերների կենտրոն-դպրոցների թիվը, հատ | E53: 3 | G53: 3
B54: Արագածոտնի մարզում կրթական որակյալ ծառայությունների հասանելիության ապահովման ծրագրի շրջանակներում կառուցվող դպրոցների թիվը, հատ | E54: 2 | G54: 2
B55: Արմավիրի մարզում կրթական որակյալ ծառայությունների հասանելիության ապահովման ծրագրի շրջանակներում կառուցվող դպրոցների թիվը, հատ | E55: 2 | G55: 2
B56: Գեղարքունիքի մարզում կրթական որակյալ ծառայությունների հասանելիության ապահովման ծրագրի շրջանակներում կառուցվող դպրոցների թիվը, հատ | E56: 4 | G56: 4
B57: Տավուշի մարզում կրթական որակյալ ծառայությունների հասանելիության ապահովման ծրագրի շրջանակներում կառուցվող դպրոցների թիվը, հատ | E57: 2 | G57: 2
B58: Նախագծանախահաշվային փաստաթղթերի քանակ, հատ | G58: 2
B59: Միջոցառման վրա կատարվող ծախսը (հազար դրամ) | D59: =+'Հավելված N 2'!G84 -> 0 | E59: =+'Հավելված N 2'!H84 -> 1913000 | F59: =+'Հավելված N 2'!I84 -> 3826000 | G59: =+'Հավելված N 2'!J84 -> 9617400
B61: Ծրագրի միջոցառումները
B62: Ծրագրի դասիչը՝ | C62: 1236 | D62: Ցուցանիշների փոփոխությունը (ավելացումները նշված են դրական նշանով)
B63: Միջոցառման դասիչը՝ | C63: 32005 | D63: Առաջին եռամսյակ | E63: Առաջին կիսամյակ | F63: Ինն ամիս | G63: Տարի
B64: Միջոցառման անվանումը` | C64: Կրթահամալիրների կառուցում
B65: Նկարագրությունը` | C65: ՀՀ մարզերում կրթական որակյալ ծառայությունների հասանելիության ապահովման ծրագրի շրջանակներում հանրակրթական և նախադպրոցական կրթության հասանելիության ապահովման նպատակով կրթական կենտրոնների կառուցում
B66: Միջոցառման տեսակը` | C66: Այլ պետական կազմակերպությունների կողմից օգտագործվող ոչ ֆինանսական ակտիվների հետ գործառնություններ
B67: Ակտիվն օգտագործող կազմակերպությունների անվանումները | C67: Ստեղծվող կրթահամալիրներ
B68: Արդյունքի չափորոշիչներ
B69: Արագածոտնի մարզում ՀՀ-ում կրթական որակյալ ծառայությունների հասանելիության ապահովման ծրագրի շրջանակներում կառուցվող կրթահամալիրների (կրթական կենտրոնների) քանակ, հատ | E69: 1 | G69: 1
B70: Արմավիրի մարզում ՀՀ-ում կրթական որակյալ ծառայությունների հասանելիության ապահովման ծրագրի շրջանակներում կառուցվող կրթահամալիրների (կրթական կենտրոնների) քանակ, հատ | E70: 3 | G70: 3
B71: Լոռու մարզում ՀՀ-ում կրթական որակյալ ծառայությունների հասանելիության ապահովման ծրագրի շրջանակներում կառուցվող կրթահամալիրների (կրթական կենտրոնների) քանակ, հատ | E71: 1 | G71: 1
B72: Տավուշի մարզում ՀՀ-ում կրթական որակյալ ծառայությունների հասանելիության ապահովման ծրագրի շրջանակներում կառուցվող կրթահամալիրների (կրթական կենտրոնների) քանակ, հատ | E72: 1 | G72: 1
B73: Համայնքների թիվ, որտեղ ընթացիկ տարում ՀՀ-ում կրթական որակյալ ծառայությունների հասանելիության ապահովման ծրագրի շրջանակներում ընթացել են կրթական կենտրոնների կառուցման աշխատանքները | G73: 5
B74: Միջոցառման վրա կատարվող ծախսը (հազար դրամ) | D74: =+'Հավելված N 2'!G115 -> 0 | E74: =+'Հավելված N 2'!H115 -> 384000 | F74: =+'Հավելված N 2'!I115 -> 768000 | G74: =+'Հավելված N 2'!J115 -> 1920000
A80: Աղյուսակ 9․1.39
C81: ՀՀ քաղաքաշինության կոմիտե
B82: ՄԱՍ 1. ՊԵՏԱԿԱՆ ՄԱՐՄՆԻ ԳԾՈՎ ԱՐԴՅՈՒՆՔԱՅԻՆ (ԿԱՏԱՐՈՂԱԿԱՆ) ՑՈՒՑԱՆԻՇՆԵՐԸ
B85: Ծրագրի դասիչը | C85: Ծրագրի անվանումը
B86: 1163 | C86: Մասսայական սպորտ
B88: Ծրագրի միջոցառումները
B89: Ծրագրի դասիչը՝ | C89: 1163 | D89: Ցուցանիշների փոփոխությունը (ավելացումները նշված են դրական նշանով)
B90: Միջոցառման դասիչը՝ | C90: 32001 | D90: Առաջին եռամսյակ | E90: Առաջին կիսամյակ | F90: Ինն ամիս | G90: Տարի
B91: Միջոցառման անվանումը` | C91: Մարզական օբյեկտների շինարարություն
B92: Նկարագրությունը` | C92: Մարզական օբյեկտների շենքերի (մասնաշենքերի) կառուցում (համաշինարարական աշխատանքներ, ջեռուցման համակարգի իրականացում, ներքին հարդարում, տարածքի բարեկարգում) և նախագծում
B93: Միջոցառման տեսակը` | C93: Այլ պետական կազմակերպությունների կողմից օգտագործվող ոչ ֆինանսական ակտիվների հետ գործառնություններ
B94: Ակտիվն օգտագործող կազմակերպությունների անվանումները | C94: Մարզական հաստատություններ
B95: Արդյունքի չափորոշիչներ
B96: Մարզական կառույցների թիվը, որոնց համար ձեռք է բերվել շենքի չափագրման ծառայություն, հատ | E96: 1 | G96: 1
B97: Միջոցառման վրա կատարվող ծախսը (հազար դրամ) | D97: =+'Հավելված N 2'!G139 -> 199 | E97: =+'Հավելված N 2'!H139 -> 199 | F97: =+'Հավելված N 2'!I139 -> 199 | G97: =+'Հավելված N 2'!J139 -> 199
B99: Ծրագրի դասիչը | C99: Ծրագրի անվանումը
B100: 1183 | C100: Ապահով դպրոց
B102: Ծրագրի միջոցառումները
B103: Ծրագրի դասիչը՝ | C103: 1183 | D103: Ցուցանիշների փոփոխությունը (ավելացումները նշված են դրական նշանով)
B104: Միջոցառման դասիչը՝ | C104: 32007 | D104: Առաջին եռամսյակ | E104: Առաջին կիսամյակ | F104: Ինն ամիս | G104: Տարի
B105: Միջոցառման անվանումը` | C105: Հանրակրթական կրթություն իրականացնող ուսումնական հաստատությունների նոր մարզադահլիճների կառուցում
B106: Նկարագրությունը` | C106: Հանրակրթական ուսուցում իրականացնող ուսումնական հաստատությունների նոր մարզադահլիճների կառուցման նախագծանախահաշվային փաստաթղթերի մշակում
B107: Միջոցառման տեսակը` | C107: Այլ պետական կազմակերպությունների կողմից օգտագործվող ոչ ֆինանսական ակտիվների հետ գործառնություններ
B108: Ակտիվն օգտագործող կազմակերպությունների անվանումները | C108: Հանրակրթական դպրոցներ
B109: Արդյունքի չափորոշիչներ
B110: Դպրոցների թիվը, որոնց համար ձեռք է բերվել շենքի չափագրման ծառայություն, հատ | E110: 15 | G110: 15
B111: Միջոցառման վրա կատարվող ծախսը (հազար դրամ) | D111: =+'Հավելված N 2'!G150 -> 2175 | E111: =+'Հավելված N 2'!H150 -> 2175 | F111: =+'Հավելված N 2'!I150 -> 2175 | G111: =+'Հավելված N 2'!J150 -> 2175
B113: Ծրագրի միջոցառումները
B114: Ծրագրի դասիչը` | C114: 1183 | D114: Ցուցանիշների փոփոխությունը (ավելացումները նշված են դրական նշանով)
B115: Միջոցառման դասիչը` | C115: 32009 | D115: Առաջին եռամսյակ | E115: Առաջին կիսամյակ | F115: Ինն ամիս | G115: Տարի
B116: Միջոցառման անվանումը` | C116: Հանրակրթական կրթություն իրականացնող ուսումնական հաստատությունների մարզադահլիճների վերակառուցում
B117: Նկարագրությունը` | C117: Հանրակրթական ուսուցում իրականացնող ուսումնական հաստատությունների մարզադահլիճների վերակառուցման նախագծանախահաշվային փաստաթղթերի մշակում
B118: Միջոցառման տեսակը` | C118: Այլ պետական կազմակերպությունների կողմից օգտագործվող ոչ ֆինանսական ակտիվների հետ գործառնություններ
B119: Ակտիվն օգտագործող կազմակերպությունների անվանումները | C119: Հանրակրթական դպրոցներ
B120: Արդյունքի չափորոշիչներ
B121: Դպրոցների թիվը, որոնց համար ձեռք է բերվել շենքի չափագրման ծառայություն, հատ | E121: 9 | G121: 9
B122: Միջոցառման վրա կատարվող ծախսը (հազար դրամ) | D122: =+'Հավելված N 2'!G159 -> 1162.5 | E122: =+'Հավելված N 2'!H159 -> 1162.5 | F122: =+'Հավելված N 2'!I159 -> 1162.5 | G122: =+'Հավելված N 2'!J159 -> 1162.5
B124: Ծրագրի դասիչը | C124: Ծրագրի անվանումը
B125: 1236 | C125: Հանրակրթական և նախադպրոցական հաստատությունների հիմնում, կառուցում, բարելավում
B127: Ծրագրի միջոցառումները
B128: Ծրագրի դասիչը՝ | C128: 1236 | D128: Ցուցանիշների փոփոխությունը (ավելացումները նշված են դրական նշանով, իսկ նվազեցումները՝ փակագծերում)
B129: Միջոցառման դասիչը՝ | C129: 32003 | D129: Առաջին եռամսյակ | E129: Առաջին կիսամյակ | F129: Ինն ամիս | G129: Տարի
...

Sheet Հավելված N 8
H1: Հավելված N 8
H2: ՀՀ կառավարության 2024 թվականի
H3: ______________ ի ___Ն որոշման
A6: ՀԱՅԱՍՏԱՆԻ ՀԱՆՐԱՊԵՏՈՒԹՅԱՆ ԿԱՌԱՎԱՐՈՒԹՅԱՆ 2023 ԹՎԱԿԱՆԻ ԴԵԿՏԵՄԲԵՐԻ 28-Ի N 2323-Ն N 10 ՀԱՎԵԼՎԱԾՈՒՄ ԿԱՏԱՐՎՈՂ ՓՈՓՈԽՈՒԹՅՈՒՆՆԵՐԸ ԵՎ ԼՐԱՑՈՒՄՆԵՐԸ
A10: Կոդը | B10: Անվանումը | E10: Գնման ձևը | F10: Չափման միավորը | G10: Միավորի գինը | H10: Ցուցանիշների փոփոխությունը (ավելացումները նշված են դրական նշանով, իսկ նվազեցումները՝ փակագծերում)
H11: Քանակը | I11: Գումարը (հազար դրամ)
A12: 1 | B12: 2 | E12: 3 | F12: 4 | G12: 5 | H12: 6 | I12: 7
A13: ՀՀ կրթության, գիտության, մշակույթի և սպորտի նախարարություն | I13: =+I14+I18 -> 11511906
A14: Բաժին N 08 | B14: Խումբ N 02 | C14: Դաս N 07 | D14: Հուշարձանների և մշակութային արժեքների վերականգնում և պահպանում | I14: =+I15 -> -25494
A15: 1075-21001 | B15: Հուշարձանների ամրակայում, նորոգում և վերականգնում | I15: =+I16 -> -25494
B16: ՄԱՍ II. ԱՇԽԱՏԱՆՔՆԵՐ | I16: =SUM(I17:I17) -> -25494
A17: 45111410-1 | B17: հնէաբանական պեղումների վայրերում հողի փորման աշխատանքներ | E17: գհ | F17: դրամ | G17: 25494000 | H17: -1 | I17: =+H17*G17/1000 -> -25494
A18: Բաժին N 09 | B18: Խումբ N 02 | C18: Դաս N 01 | D18: Հիմնական ընդհանուր կրթություն | I18: =+I19+I110 -> 11537400
A19: 1236-32003 | B19: Հանրակրթական դպրոցների նոր շենքերի կառուցում | I19: =+I20+I49 -> 9617400
B20: ՄԱՍ II. ԱՇԽԱՏԱՆՔՆԵՐ | I20: =SUM(I21:I48) -> 9230041.6
A21: 45221142 | B21: ընդհանուր շինարարական աշխատանքներ | E21: ՀԲՄ | F21: դրամ | G21: 386100400 | H21: 1 | I21: =+H21*G21/1000 -> 386100.4
A22: 45221142 | B22: ընդհանուր շինարարական աշխատանքներ | E22: ՀԲՄ | F22: դրամ | G22: 361969100 | H22: 1 | I22: =+H22*G22/1000 -> 361969.1
A23: 45221142 | B23: ընդհանուր շինարարական աշխատանքներ | E23: ՀԲՄ | F23: դրամ | G23: 212355200 | H23: 1 | I23: =+H23*G23/1000 -> 212355.2
A24: 45221142 | B24: ընդհանուր շինարարական աշխատանքներ | E24: ՀԲՄ | F24: դրամ | G24: 308880300 | H24: 1 | I24: =+H24*G24/1000 -> 308880.3
A25: 45221142 | B25: ընդհանուր շինարարական աշխատանքներ | E25: ՀԲՄ | F25: դրամ | G25: 333011600 | H25: 1 | I25: =+H25*G25/1000 -> 333011.6
A26: 45221142 | B26: ընդհանուր շինարարական աշխատանքներ | E26: ՀԲՄ | F26: դրամ | G26: 386100400 | H26: 1 | I26: =+H26*G26/1000 -> 386100.4
A27: 45221142 | B27: ընդհանուր շինարարական աշխատանքներ | E27: ՀԲՄ | F27: դրամ | G27: 361969100 | H27: 1 | I27: =+H27*G27/1000 -> 361969.1
A28: 45221142 | B28: ընդհանուր շինարարական աշխատանքներ | E28: ՀԲՄ | F28: դրամ | G28: 361969100 | H28: 1 | I28: =+H28*G28/1000 -> 361969.1
A29: 45221142 | B29: ընդհանուր շինարարական աշխատանքներ | E29: ՀԲՄ | F29: դրամ | G29: 361969100 | H29: 1 | I29: =+H29*G29/1000 -> 361969.1
A30: 45221142 | B30: ընդհանուր շինարարական աշխատանքներ | E30: ՀԲՄ | F30: դրամ | G30: 308880300 | H30: 1 | I30: =+H30*G30/1000 -> 308880.3
A31: 45221142 | B31: ընդհանուր շինարարական աշխատանքներ | E31: ՀԲՄ | F31: դրամ | G31: 361969100 | H31: 1 | I31: =+H31*G31/1000 -> 361969.1
A32: 45221142 | B32: ընդհանուր շինարարական աշխատանքներ | E32: ՀԲՄ | F32: դրամ | G32: 361969100 | H32: 1 | I32: =+H32*G32/1000 -> 361969.1
... A48: 45221142 | B48: ընդհանուր շինարարական աշխատանքներ | E48: ՀԲՄ | F48: դրամ | G48: 333011600 | H48: 1 | I48: =+H48*G48/1000 -> 333011.6
B49: ՄԱՍ III. ԾԱՌԱՅՈՒԹՅՈՒՆՆԵՐ | I49: =SUM(I50:I109) -> 387358.4
A50: 71351540 | B50: տեխնիկական հսկողության ծառայություններ | E50: ԳՀ | F50: դրամ | G50: 11583000 | H50: 1 | I50: =+H50*G50/1000 -> 11583
A51: 71351540 | B51: տեխնիկական հսկողության ծառայություններ | E51: ԳՀ | F51: դրամ | G51: 10859100 | H51: 1 | I51: =+H51*G51/1000 -> 10859.1
A52: 71351540 | B52: տեխնիկական հսկողության ծառայություններ | E52: ԳՀ | F52: դրամ | G52: 6370700 | H52: 1 | I52: =+H52*G52/1000 -> 6370.7
A53: 71351540 | B53: տեխնիկական հսկողության ծառայություններ | E53: ԳՀ | F53: դրամ | G53: 9266400 | H53: 1 | I53: =+H53*G53/1000 -> 9266.4
A54: 71351540 | B54: տեխնիկական հսկողության ծառայություններ | E54: ԳՀ | F54: դրամ | G54: 9990300 | H54: 1 | I54: =+ROUND(H54*G54/1000,1) -> 9990.3
A55: 71351540 | B55: տեխնիկական հսկողության ծառայություններ | E55: ԳՀ | F55: դրամ | G55: 11583000 | H55: 1 | I55: =+H55*G55/1000 -> 11583
A56: 71351540 | B56: տեխնիկական հսկողության ծառայություններ | E56: ԳՀ | F56: դրամ | G56: 10859100 | H56: 1 | I56: =+H56*G56/1000 -> 10859.1
A57: 71351540 | B57: տեխնիկական հսկողության ծառայություններ | E57: ԳՀ | F57: դրամ | G57: 10859100 | H57: 1 | I57: =+H57*G57/1000 -> 10859.1
A58: 71351540 | B58: տեխնիկական հսկողության ծառայություններ | E58: ԳՀ | F58: դրամ | G58: 10859100 | H58: 1 | I58: =+H58*G58/1000 -> 10859.1
A59: 71351540 | B59: տեխնիկական հսկողության ծառայություններ | E59: ԳՀ | F59: դրամ | G59: 9266400 | H59: 1 | I59: =+H59*G59/1000 -> 9266.4
A60: 71351540 | B60: տեխնիկական հսկողության ծառայություններ | E60: ԳՀ | F60: դրամ | G60: 10859100 | H60: 1 | I60: =+H60*G60/1000 -> 10859.1
A61: 71351540 | B61: տեխնիկական հսկողության ծառայություններ | E61: ԳՀ | F61: դրամ | G61: 10859100 | H61: 1 | I61: =+H61*G61/1000 -> 10859.1
A62: 71351540 | B62: տեխնիկական հսկողության ծառայություններ | E62: ԳՀ | F62: դրամ | G62: 10859100 | H62: 1 | I62: =+H62*G62/1000 -> 10859.1
A63: 71351540 | B63: տեխնիկական հսկողության ծառայություններ | E63: ԳՀ | F63: դրամ | G63: 9990300 | H63: 1 | I63: =+H63*G63/1000 -> 9990.3
A64: 71351540 | B64: տեխնիկական հսկողության ծառայություններ | E64: ԳՀ | F64: դրամ | G64: 8687300 | H64: 1 | I64: =+H64*G64/1000 -> 8687.3
A65: 71351540 | B65: տեխնիկական հսկողության ծառայություններ | E65: ԳՀ | F65: դրամ | G65: 9266400 | H65: 1 | I65: =+H65*G65/1000 -> 9266.4
A66: 71351540 | B66: տեխնիկական հսկողության ծառայություններ | E66: ԳՀ | F66: դրամ | G66: 11583000 | H66: 1 | I66: =+H66*G66/1000 -> 11583
... A81: 98111140 | B81: հեղինակային հսկողության ծառայություններ | E81: ՄԱ | F81: դրամ | G81: 1853300 | H81: 1 | I81: =+H81*G81/1000 -> 1853.3
A82: 98111140 | B82: հեղինակային հսկողության ծառայություններ | E82: ՄԱ | F82: դրամ | G82: 1998100 | H82: 1 | I82: =+ROUND(H82*G82/1000,1) -> 1998.1
A83: 98111140 | B83: հեղինակային հսկողության ծառայություններ | E83: ՄԱ | F83: դրամ | G83: 2316600 | H83: 1 | I83: =+H83*G83/1000 -> 2316.6
A84: 98111140 | B84: հեղինակային հսկողության ծառայություններ | E84: ՄԱ | F84: դրամ | G84: 2171800 | H84: 1 | I84: =+H84*G84/1000 -> 2171.8
A85: 98111140 | B85: հեղինակային հսկողության ծառայություններ | E85: ՄԱ | F85: դրամ | G85: 2171800 | H85: 1 | I85: =+H85*G85/1000 -> 2171.8
A86: 98111140 | B86: հեղինակային հսկողության ծառայություններ | E86: ՄԱ | F86: դրամ | G86: 2171800 | H86: 1 | I86: =+H86*G86/1000 -> 2171.8
A87: 98111140 | B87: հեղինակային հսկողության ծառայություններ | E87: ՄԱ | F87: դրամ | G87: 1853300 | H87: 1 | I87: =+H87*G87/1000 -> 1853.3
A88: 98111140 | B88: հեղինակային հսկողության ծառայություններ | E88: ՄԱ | F88: դրամ | G88: 2171800 | H88: 1 | I88: =+H88*G88/1000 -> 2171.8
A89: 98111140 | B89: հեղինակային հսկողության ծառայություններ | E89: ՄԱ | F89: դրամ | G89: 2171800 | H89: 1 | I89: =+H89*G89/1000 -> 2171.8
A90: 98111140 | B90: հեղինակային հսկողության ծառայություններ | E90: ՄԱ | F90: դրամ | G90: 2171800 | H90: 1 | I90: =+H90*G90/1000 -> 2171.8
A91: 98111140 | B91: հեղինակային հսկողության ծառայություններ | E91: ՄԱ | F91: դրամ | G91: 1998100 | H91: 1 | I91: =+H91*G91/1000 -> 1998.1
A92: 98111140 | B92: հեղինակային հսկողության ծառայություններ | E92: ՄԱ | F92: դրամ | G92: 1737400 | H92: 1 | I92: =+H92*G92/1000 -> 1737.4
A93: 98111140 | B93: հեղինակային հսկողության ծառայություններ | E93: ՄԱ | F93: դրամ | G93: 1853300 | H93: 1 | I93: =+H93*G93/1000 -> 1853.3
A94: 98111140 | B94: հեղինակային հսկողության ծառայություններ | E94: ՄԱ | F94: դրամ | G94: 2316600 | H94: 1 | I94: =+H94*G94/1000 -> 2316.6
... A105: 98111140 | B105: հեղինակային հսկողության ծառայություններ | E105: ՄԱ | F105: դրամ | G105: 1998100 | H105: 1 | I105: =+H105*G105/1000 -> 1998.1
A106: 71241200 | B106: նախագծերի պատրաստում, ծախսերի գնահատում | E106: ԳՀ | F106: դրամ | G106: 25000000 | H106: 1 | I106: =+ROUND(H106*G106/1000,1) -> 25000
A107: 71241200 | B107: նախագծերի պատրաստում, ծախսերի գնահատում | E107: ԳՀ | F107: դրամ | G107: 25000000 | H107: 1 | I107: =+ROUND(H107*G107/1000,1) -> 25000
A108: 50531140 | B108: փորձաքննության ծառայություններ | E108: ԳՀ | F108: դրամ | G108: 1200000 | H108: 1 | I108: =+ROUND(H108*G108/1000,1) -> 1200
A109: 50531140 | B109: փորձաքննության ծառայություններ | E109: ԳՀ | F109: դրամ | G109: 1200000 | H109: 1 | I109: =+ROUND(H109*G109/1000,1) -> 1200
A110: 1236-32005 | B110: Կրթահամալիրների կառուցում | I110: =+I111+I118 -> 1920000
B111: ՄԱՍ II. ԱՇԽԱՏԱՆՔՆԵՐ | I111: =SUM(I112:I117) -> 1835563.8
A112: 45221142 | B112: ընդհանուր շինարարական աշխատանքներ | E112: ՀԲՄ | F112: դրամ | G112: 305927300 | H112: 1 | I112: =+H112*G112/1000 -> 305927.3
A113: 45221142 | B113: ընդհանուր շինարարական աշխատանքներ | E113: ՀԲՄ | F113: դրամ | G113: 305927300 | H113: 1 | I113: =+H113*G113/1000 -> 305927.3
A114: 45221142 | B114: ընդհանուր շինարարական աշխատանքներ | E114: ՀԲՄ | F114: դրամ | G114: 305927300 | H114: 1 | I114: =+H114*G114/1000 -> 305927.3
A115: 45221142 | B115: ընդհանուր շինարարական աշխատանքներ | E115: ՀԲՄ | F115: դրամ | G115: 305927300 | H115: 1 | I115: =+H115*G115/1000 -> 305927.3
A116: 45221142 | B116: ընդհանուր շինարարական աշխատանքներ | E116: ՀԲՄ | F116: դրամ | G116: 305927300 | H116: 1 | I116: =+H116*G116/1000 -> 305927.3
A117: 45221142 | B117: ընդհանուր շինարարական աշխատանքներ | E117: ՀԲՄ | F117: դրամ | G117: 305927300 | H117: 1 | I117: =+H117*G117/1000 -> 305927.3
B118: ՄԱՍ III. ԾԱՌԱՅՈՒԹՅՈՒՆՆԵՐ | I118: =SUM(I119:I130) -> 84436.2
A119: 71351540 | B119: տեխնիկական հսկողության ծառայություններ | E119: ԳՀ | F119: դրամ | G119: 12237100 | H119: 1 | I119: =+H119*G119/1000 -> 12237.1
A120: 71351540 | B120: տեխնիկական հսկողության ծառայություններ | E120: ԳՀ | F120: դրամ | G120: 12237100 | H120: 1 | I120: =+H120*G120/1000 -> 12237.1
A121: 71351540 | B121: տեխնիկական հսկողության ծառայություններ | E121: ԳՀ | F121: դրամ | G121: 12237100 | H121: 1 | I121: =+H121*G121/1000 -> 12237.1
A122: 71351540 | B122: տեխնիկական հսկողության ծառայություններ | E122: ԳՀ | F122: դրամ | G122: 12237100 | H122: 1 | I122: =+H122*G122/1000 -> 12237.1
A123: 71351540 | B123: տեխնիկական հսկողության ծառայություններ | E123: ԳՀ | F123: դրամ | G123: 12237100 | H123: 1 | I123: =+H123*G123/1000 -> 12237.1
A124: 71351540 | B124: տեխնիկական հսկողության ծառայություններ | E124: ԳՀ | F124: դրամ | G124: 12237100 | H124: 1 | I124: =+H124*G124/1000 -> 12237.1
A125: 98111140 | B125: հեղինակային հսկողության ծառայություններ | E125: ՄԱ | F125: դրամ | G125: 1835600 | H125: 1 | I125: =+H125*G125/1000 -> 1835.6
A126: 98111140 | B126: հեղինակային հսկողության ծառայություններ | E126: ՄԱ | F126: դրամ | G126: 1835600 | H126: 1 | I126: =+H126*G126/1000 -> 1835.6
A127: 98111140 | B127: հեղինակային հսկողության ծառայություններ | E127: ՄԱ | F127: դրամ | G127: 1835600 | H127: 1 | I127: =+H127*G127/1000 -> 1835.6
A128: 98111140 | B128: հեղինակային հսկողության ծառայություններ | E128: ՄԱ | F128: դրամ | G128: 1835600 | H128: 1 | I128: =+H128*G128/1000 -> 1835.6
A129: 98111140 | B129: հեղինակային հսկողության ծառայություններ | E129: ՄԱ | F129: դրամ | G129: 1835600 | H129: 1 | I129: =+H129*G129/1000 -> 1835.6
A130: 98111140 | B130: հեղինակային հսկողության ծառայություններ | E130: ՄԱ | F130: դրամ | G130: 1835600 | H130: 1 | I130: =+H130*G130/1000 -> 1835.6
A132: ՀՀ քաղաքաշինության կոմիտե | I132: =+I133+I137+I252 -> -10373187
A133: Բաժին N 09 | B133: Խումբ N 01 | C133: Դաս N 01 | D133: Նախադպրոցական կրթություն | I133: =+I134 -> 322.5
A134: 1236-32001 | B134: Մանկապարտեզների նոր շենքերի կառուցում | I134: =+I135 -> 322.5
B135: ՄԱՍ III. ԾԱՌԱՅՈՒԹՅՈՒՆՆԵՐ | I135: =+I136 -> 322.5
A136: 71311360 | B136: շենքերի չափագրման ծառայություններ | E136: ՀՄԱ | F136: դրամ | G136: 322500 | H136: 1 | I136: =+ROUND(H136*G136/1000,1) -> 322.5
A137: Բաժին N 09 | B137: Խումբ N 02 | C137: Դաս N 01 | D137: Հիմնական ընդհանուր կրթություն | I137: =+I138+I231 -> -10377046
A138: 1236-32003 | B138: Հանրակրթական դպրոցների նոր շենքերի կառուցում | I138: =+I139+I165 -> -8457046.2
B139: ՄԱՍ II. ԱՇԽԱՏԱՆՔՆԵՐ | I139: =SUM(I140:I164) -> -8269616.9
A140: 45221142-2 | B140: ընդհանուր շինարարական աշխատանքներ | E140: ՀԲՄ | F140: դրամ | G140: 308880300 | H140: -1 | I140: =+H140*G140/1000 -> -308880.3
A141: 45221142-4 | B141: ընդհանուր շինարարական աշխատանքներ | E141: ՀԲՄ | F141: դրամ | G141: 333011600 | H141: -1 | I141: =+H141*G141/1000 -> -333011.6
A142: 45221142-5 | B142: ընդհանուր շինարարական աշխատանքներ | E142: ՀԲՄ | F142: դրամ | G142: 386100400 | H142: -1 | I142: =+H142*G142/1000 -> -386100.4
A143: 45221142-6 | B143: ընդհանուր շինարարական աշխատանքներ | E143: ՀԲՄ | F143: դրամ | G143: 361969100 | H143: -1 | I143: =+H143*G143/1000 -> -361969.1
A144: 45221142-7 | B144: ընդհանուր շինարարական աշխատանքներ | E144: ՀԲՄ | F144: դրամ | G144: 361969100 | H144: -1 | I144: =+H144*G144/1000 -> -361969.1
A145: 45221142-8 | B145: ընդհանուր շինարարական աշխատանքներ | E145: ՀԲՄ | F145: դրամ | G145: 361969100 | H145: -1 | I145: =+H145*G145/1000 -> -361969.1
...
