Workbook
Name a: #REF!
Name a: #REF!
Name a: #REF!
Name AgencyCode: #REF!
Name AgencyCode: #REF!
Name AgencyCode: #REF!
Name AgencyCode: #REF!
Name AgencyCode: #REF!
Name AgencyCode: #REF!
Name AgencyCode: #REF!
Name AgencyName: #REF!
Name AgencyName: #REF!
Name AgencyName: #REF!
Name davit: #REF!
Name davit: #REF!
Name Functional1: #REF!
Name Functional1: #REF!
Name Functional1: #REF!
Name ggg: #REF!
Name ggg: #REF!
Name PANature: #REF!
Name PANature: #REF!
Name PANature: #REF!
Name PAType: #REF!
Name PAType: #REF!
Name PAType: #REF!
Name Performance2: #REF!
Name Performance2: #REF!
Name Performance2: #REF!
Name PerformanceType: #REF!
Name PerformanceType: #REF!
Name PerformanceType: #REF!
Name Հավելված: #REF!
Name Հավելված: #REF!
Name Հավելված: #REF!
Name Մաս: #REF!
Name Մաս: #REF!
Name շախմատիստ: #REF!
Name շախմատիստ: #REF!

Sheet Հավելված N 1
C1: Հավելված N 1
C2: ՀՀ կառավարության 2024 թվականի
C3: ______________ ի ___Ն որոշման
A6: «ՀԱՅԱUՏԱՆԻ ՀԱՆՐԱՊԵՏՈՒԹՅԱՆ 2024 ԹՎԱԿԱՆԻ ՊԵՏԱԿԱՆ ԲՅՈՒՋԵԻ ՄԱUԻՆ» ՀԱՅԱUՏԱՆԻ ՀԱՆՐԱՊԵՏՈՒԹՅԱՆ OՐԵՆՔԻ N 1 ՀԱՎԵԼՎԱԾԻ N 2 ԱՂՅՈՒՍԱԿՈՒՄ ԿԱՏԱՐՎՈՂ ՎԵՐԱԲԱՇԽՈՒՄԸ ԵՎ ՀԱՅԱՍՏԱՆԻ ՀԱՆՐԱՊԵՏՈՒԹՅԱՆ ԿԱՌԱՎԱՐՈՒԹՅԱՆ 2023 ԹՎԱԿԱՆԻ ԴԵԿՏԵՄԲԵՐԻ 28-Ի N 2323-Ն ՈՐՈՇՄԱՆ N 5 ՀԱՎԵԼՎԱԾԻ N 1 ԱՂՅՈՒՍԱԿՈՒՄ ԿԱՏԱՐՎՈՂ ՓՈՓՈԽՈՒԹՅՈՒՆՆԵՐԸ ԵՎ ԼՐԱՑՈՒՄՆԵՐԸ
G9: հազ. դրամներով
A10: Ծրագրային դասիչը | C10: Բյուջետային հատկացումների գլխավոր կարգադրիչների, ծրագրերի և միջոցառումների անվանումները | D10: Ցուցանիշների փոփոխությունը (ավելացումները նշված են դրական նշանով, իսկ նվազեցումները փակագծերում)
A11: Ծրագիր | B11: Միջոցառում | D11: Առաջին եռամսյակ | E11: Առաջին կիսամյակ | F11: Ինն ամիս | G11: Տարի
A12: 1192 | C12: ԸՆԴԱՄԵՆԸ | D12: =+D14 -> 0 | E12: =+E14 -> -82950.8 | F12: =+F14 -> -441325.3 | G12: =+G14 -> 524633.1
C13: այդ թվում
C14: ՀՀ ԿՐԹՈՒԹՅԱՆ, ԳԻՏՈՒԹՅԱՆ, ՄՇԱԿՈՒՅԹԻ ԵՎ ՍՊՈՐՏԻ ՆԱԽԱՐԱՐՈՒԹՅՈՒՆ | D14: =+ROUND(D16+D29+D48,1) -> 0 | E14: =+ROUND(E16+E29+E48,1) -> -82950.8 | F14: =+ROUND(F16+F29+F48,1) -> -441325.3 | G14: =+ROUND(G16+G29+G48,1) -> 524633.1
A15: 1163 | C15: Ծրագրի անվանումը`
C16: Մասսայական սպորտ | D16: =+D23 -> 199 | E16: =+E23 -> 199 | F16: =+F23 -> 199 | G16: =+G23 -> 199
C17: Ծրագրի նպատակը`
C18: Բնակչության շրջանում առողջ ապրելակերպի արմատավորում, անհատի բազմակողմանի ու ներդաշնակ զարգացման գործում ֆիզիկական կուլտուրայի և սպորտի դերի բարձրացում
C19: Վերջնական արդյունքի նկարագրությունը`
C20: Սպորտի նկատմամբ հետաքրքրվածության և մասնակցության ընդլայնում
C21: Ծրագրի միջոցառումներ
B22: 32001 | C22: Միջոցառման անվանումը`
C23: Մարզական օբյեկտների շինարարություն | D23: =+'Հավելված N 2'!G137 -> 199 | E23: =+'Հավելված N 2'!H137 -> 199 | F23: =+'Հավելված N 2'!I137 -> 199 | G23: =+'Հավելված N 2'!J137 -> 199
C24: Միջոցառման նկարագրությունը`
C25: Մարզական օբյեկտների շենքերի (մասնաշենքերի) կառուցում (համաշինարարական աշխատանքներ, ջեռուցման համակարգի իրականացում, ներքին հարդարում, տարածքի բարեկարգում) և նախագծում
C26: Միջոցառման տեսակը
C27: Այլ պետական կազմակերպությունների կողմից օգտագործվող ոչ ֆինանսական ակտիվների հետ գործառնություններ
A28: 1183 | C28: Ծրագրի անվանումը`
C29: Ապահով դպրոց | D29: =+D36+D42 -> 3337.5 | E29: =+E36+E42 -> 3337.5 | F29: =+F36+F42 -> 3337.5 | G29: =+G36+G42 -> 3337.5
C30: Ծրագրի նպատակը`
C31: Դպրոցներին սպառնացող աղետների ռիսկի կառավարման կարողությունների հզորացում, դպրոցի անձնակազմի և աշակերտների անվտանգության ապահովման մակարդակի բարձրացում՛ կիրառելով ներառական և երեխայակենտրոն մոտեցում
C32: Վերջնական արդյունքի նկարագրությունը`
C33: Դպրոցական միջավայրի բարելավում
C34: Ծրագրի միջոցառումներ
B35: 32007 | C35: Միջոցառման անվանումը`
C36: Հանրակրթական կրթություն իրականացնող ուսումնական հաստատությունների նոր մարզադահլիճների կառուցում | D36: =+'Հավելված N 2'!G148 -> 2175 | E36: =+'Հավելված N 2'!H148 -> 2175 | F36: =+'Հավելված N 2'!I148 -> 2175 | G36: =+'Հավելված N 2'!J148 -> 2175
C37: Միջոցառման նկարագրությունը`
C38: Հանրակրթական ուսուցում իրականացնող ուսումնական հաստատությունների նոր մարզադահլիճների կառուցման նախագծանախահաշվային փաստաթղթերի մշակում
C39: Միջոցառման տեսակը
C40: Այլ պետական կազմակերպությունների կողմից օգտագործվող ոչ ֆինանսական ակտիվների հետ գործառնություններ
B41: 32009 | C41: Միջոցառման անվանումը`
C42: Հանրակրթական կրթություն իրականացնող ուսումնական հաստատությունների մարզադահլիճների վերակառուցում | D42: =+'Հավելված N 2'!G157 -> 1162.5 | E42: =+'Հավելված N 2'!H157 -> 1162.5 | F42: =+'Հավելված N 2'!I157 -> 1162.5 | G42: =+'Հավելված N 2'!J157 -> 1162.5
C43: Միջոցառման նկարագրությունը`
C44: Հանրակրթական ուսուցում իրականացնող ուսումնական հաստատությունների մարզադահլիճների վերակառուցման նախագծանախահաշվային փաստաթղթերի մշակում
...

Sheet Հավելված N 2
F1: Հավելված N 2
F2: ՀՀ կառավարության 2024 թվականի
F3: ______________ ի ___Ն որոշման
A7: ՀԱՅԱՍՏԱՆԻ ՀԱՆՐԱՊԵՏՈՒԹՅԱՆ ԿԱՌԱՎԱՐՈՒԹՅԱՆ 2023 ԹՎԱԿԱՆԻ ԴԵԿՏԵՄԲԵՐԻ 28-Ի N 2323-Ն ՈՐՈՇՄԱՆ N 3 ԵՎ N 4 ՀԱՎԵԼՎԱԾՆԵՐՈՒՄ ԿԱՏԱՐՎՈՂ ՓՈՓՈԽՈՒԹՅՈՒՆՆԵՐԸ ԵՎ ԼՐԱՑՈՒՄՆԵՐԸ
J10: հազ. դրամներով
A11: Գործառական դասիչը | D11: Ծրագրային դասիչը | F11: Բյուջետային հատկացումների գլխավոր կարգադրիչների, ծրագրերի, միջոցառումների և միջոցառումները կատարող պետական մարմինների անվանումները | G11: Ցուցանիշների փոփոխությունը (ավելացումները նշված են դրական նշանով, իսկ նվազեցումները փակագծերում)
A12: Բաժին | B12: Խումբ | C12: Դաս | D12: Ծրագիր | E12: Միջոցառում | G12: Առաջին եռամսյակ | H12: Առաջին կիսամյակ | I12: Ինն ամիս | J12: Տարի
F13: ԸՆԴԱՄԵՆԸ | G13: =+G15 -> 0 | H13: =+H15 -> -82950.8 | I13: =+I15 -> -441325.3 | J13: =+J15 -> 524633.1
F14: այդ թվում՝
F15: ՀՀ ԿՐԹՈՒԹՅԱՆ, ԳԻՏՈՒԹՅԱՆ, ՄՇԱԿՈՒՅԹԻ ԵՎ ՍՊՈՐՏԻ ՆԱԽԱՐԱՐՈՒԹՅՈՒՆ | G15: =+G16+G39 -> 0 | H15: =+H16+H39 -> -82950.8 | I15: =+ROUND(I16+I39,1) -> -441325.3 | J15: =+J16+J39 -> 524633.1
A16: 08 | F16: ՀԱՆԳԻՍՏ, ՄՇԱԿՈՒՅԹ ԵՎ ԿՐՈՆ | G16: =+G18 -> 0 | H16: =+H18 -> 0 | I16: =+I18 -> 0 | J16: =+J18 -> 0
F17: այդ թվում`
B18: 02 | F18: Մշակութային ծառայություններ | G18: =+G20 -> 0 | H18: =+H20 -> 0 | I18: =+I20 -> 0 | J18: =+J20 -> 0
F19: այդ թվում`
C20: 07 | F20: Հուշարձանների և մշակութային արժեքների վերականգնում և պահպանում | G20: =+G22 -> 0 | H20: =+H22 -> 0 | I20: =+I22 -> 0 | J20: =+J22 -> 0
F21: այդ թվում`
F22: ՀՀ կրթության, գիտության, մշակույթի և սպորտի նախարարություն | G22: =+G24 -> 0 | H22: =+H24 -> 0 | I22: =+I24 -> 0 | J22: =+J24 -> 0
F23: այդ թվում`
D24: 1075 | E24: Մշակութային ժառանգության ծրագիր | G24: =+G26 -> 0 | H24: =+H26 -> 0 | I24: =+I26 -> 0 | J24: =+J26 -> 0
F25: այդ թվում`
E26: 21001 | F26: Հուշարձանների ամրակայում, նորոգում և վերականգնում | G26: =+G28 -> 0 | H26: =+H28 -> 0 | I26: =+I28 -> 0 | J26: =+J28 -> 0
F27: այդ թվում` ըստ կատարողների
F28: ՀՀ կրթության, գիտության, մշակույթի և սպորտի նախարարություն | G28: =+G30 -> 0 | H28: =+H30 -> 0 | I28: =+I30 -> 0 | J28: =+J30 -> 0
F29: այդ թվում՝ բյուջետային ծախսերի տնտեսագիտական դասակարգման հոդվածներ
F30: ԸՆԴԱՄԵՆԸ ԾԱԽՍԵՐ | G30: =+G31+G35 -> 0 | H30: =+H31+H35 -> 0 | I30: =+I31+I35 -> 0 | J30: =+J31+J35 -> 0
F31: ԸՆԹԱՑԻԿ ԾԱԽՍԵՐ | G31: =+G32 -> 17845.8 | H31: =+H32 -> 25494 | I31: =+I32 -> 25494 | J31: =+J32 -> 25494
F32: ԴՐԱՄԱՇՆՈՐՀՆԵՐ | G32: =+G33 -> 17845.8 | H32: =+H33 -> 25494 | I32: =+I33 -> 25494 | J32: =+J33 -> 25494
F33: ԿԱՊԻՏԱԼ ԴՐԱՄԱՇՆՈՐՀՆԵՐ ՊԵՏԱԿԱՆ ՀԱՏՎԱԾԻ ԱՅԼ ՄԱԿԱՐԴԱԿՆԵՐԻՆ | G33: =+G34 -> 17845.8 | H33: =+H34 -> 25494 | I33: =+I34 -> 25494 | J33: =+J34 -> 25494
F34: - Կապիտալ դրամաշնորհներ պետական և համայնքային ոչ առևտրային կազմակերպություններին | G34: =-G35 -> 17845.8 | H34: =-H35 -> 25494 | I34: =-I35 -> 25494 | J34: =+'Հավելված N 5'!G12 -> 25494
F35: ՈՉ ՖԻՆԱՆՍԱԿԱՆ ԱԿՏԻՎՆԵՐԻ ԳԾՈՎ ԾԱԽՍԵՐ | G35: =+G36 -> -17845.8 | H35: =+H36 -> -25494 | I35: =+I36 -> -25494 | J35: =+J36 -> -25494
F36: ՀԻՄՆԱԿԱՆ ՄԻՋՈՑՆԵՐ | G36: =+G37 -> -17845.8 | H36: =+H37 -> -25494 | I36: =+I37 -> -25494 | J36: =+J37 -> -25494
F37: ԱՅԼ ՀԻՄՆԱԿԱՆ ՄԻՋՈՑՆԵՐ | G37: =+G38 -> -17845.8 | H37: =+H38 -> -25494 | I37: =+I38 -> -25494 | J37: =+J38 -> -25494
F38: - Նախագծահետազոտական ծախսեր | G38: =+'Հավելված N 4'!E17 -> -17845.8 | H38: =+'Հավելված N 4'!F17 -> -25494 | I38: =+'Հավելված N 4'!G17 -> -25494 | J38: =+'Հավելված N 4'!H17 -> -25494
A39: 09 | F39: ԿՐԹՈՒԹՅՈՒՆ | G39: =+G41+G74+G129 -> 0 | H39: =+H41+H74+H129 -> -82950.8 | I39: =+I41+I74+I129 -> -441325.3 | J39: =+J41+J74+J129 -> 524633.1
F40: այդ թվում`
B41: 01 | F41: Նախադպրոցական և տարրական ընդհանուր կրթություն | G41: =+G43 -> 322.5 | H41: =+H43 -> -92041.1 | I41: =+I43 -> -453915.6 | J41: =+J43 -> -639257.2
F42: այդ թվում`
C43: 01 | F43: Նախադպրոցական կրթություն | G43: =+G45 -> 322.5 | H43: =+H45 -> -92041.1 | I43: =+I45 -> -453915.6 | J43: =+J45 -> -639257.2
F44: այդ թվում`
F45: ՀՀ կրթության, գիտության, մշակույթի և սպորտի նախարարություն | G45: =+G47 -> 322.5 | H45: =+H47 -> -92041.1 | I45: =+I47 -> -453915.6 | J45: =+J47 -> -639257.2
...

Sheet Հավելված N 3
F1: Հավելված N 3
F2: ՀՀ կառավարության 2024 թվականի
F3: ______________ ի ___Ն որոշման
A5: «ՀԱՅԱUՏԱՆԻ ՀԱՆՐԱՊԵՏՈՒԹՅԱՆ 2024 ԹՎԱԿԱՆԻ ՊԵՏԱԿԱՆ ԲՅՈՒՋԵԻ ՄԱUԻՆ» ՀԱՅԱUՏԱՆԻ ՀԱՆՐԱՊԵՏՈՒԹՅԱՆ OՐԵՆՔԻ N 1 ՀԱՎԵԼՎԱԾԻ N 3 ԱՂՅՈՒՍԱԿՈՒՄ ԿԱՏԱՐՎՈՂ ՓՈՓՈԽՈՒԹՅՈՒՆՆԵՐԸ ԵՎ ԼՐԱՑՈՒՄՆԵՐԸ
G8: հազ. դրամներով
A9: Ծրագրային դասիչ | C9: Բյուջետային գլխավոր կարգադրիչների, ծրագրերի, միջոցառումների, միջոցառումները կատարող պետական մարմինների և ուղղությունների անվանումները | D9: Ընդամենը | E9: Ցուցանիշների փոփոխությունը (ավելացումները նշված են դրական նշանով, իսկ նվազեցումները՝ փակագծերում)
A10: Ծրագիր | B10: Միջոցառում | E10: Կառուցման աշխատանքներ | F10: Վերակառուցման, վերանորոգման և վերականգնման աշխատանքներ | G10: Նախագծահե- տազոտական, գեոդեզիա- քարտեզագրա- կան աշխա- տանքներ | H10: Ոչ ֆինանսական այլ ակտիվների ձեռքբերում
C11: ԸՆԴԱՄԵՆԸ | D11: =SUM(E11:H11) -> -31406.8 | E11: =+E13 -> 995000 | F11: =+F13 -> -1164212.8 | G11: =+G13 -> 137806 | H11: =+H13 -> 0
C12: այդ թվում՝
C13: ՀՀ ԿՐԹՈՒԹՅԱՆ, ԳԻՏՈՒԹՅԱՆ, ՄՇԱԿՈՒՅԹԻ ԵՎ ՍՊՈՐՏԻ ՆԱԽԱՐԱՐՈՒԹՅՈՒՆ | D13: =SUM(E13:H13) -> -31406.8 | E13: =+E15+E23+E26 -> 995000 | F13: =+F15+F23+F26 -> -1164212.8 | G13: =+G15+G23+G26 -> 137806 | H13: =+H15+H23+H26 -> 0
C14: այդ թվում`
A15: 1075 | B15: 21001 | C15: Հուշարձանների ամրակայում, նորոգում և վերականգնում | D15: =SUM(E15:H15) -> -25494 | E15: =+E17 -> 0 | F15: =+F17 -> 0 | G15: =+G17 -> -25494 | H15: =+H17 -> 0
C16: այդ թվում`
C17: 2. Վավերագրման և ուսումնասիրման աշխատանքներ, (այդ թվում՝ հետախուզումև պեղում), գիտանախագծային փաստաթղթերի կազմում և փորձաքննում | D17: =SUM(E17:H17) -> -25494 | E17: =+E19+E21 -> 0 | F17: =+F19+F21 -> 0 | G17: =+G19+G21 -> -25494 | H17: =+H19+H21 -> 0
C18: որից`
C19: ՀՀ Գեղարքունիքի մարզ | D19: =SUM(E19:H19) -> -14483 | E19: =SUM(E20:E20) -> 0 | F19: =SUM(F20:F20) -> 0 | G19: =SUM(G20:G20) -> -14483 | H19: =SUM(H20:H20) -> 0
C20: Բերդկունքի ամրոցի (Իշխանաց բերդ) հնավայրի պեղումներ | D20: =+E20+F20+G20+H20 -> -14483 | G20: -14483
C21: ՀՀ Վայոց Ձորի մարզ | D21: =SUM(E21:H21) -> -11011 | E21: =SUM(E22:E22) -> 0 | F21: =SUM(F22:F22) -> 0 | G21: =SUM(G22:G22) -> -11011 | H21: =SUM(H22:H22) -> 0
C22: Եղեգնաձոր համայնքի Հորս գյուղի Չեսար Օրբելյանի պալատի և հարակից եկեղեցու պեղումներ | D22: =+E22+F22+G22+H22 -> -11011 | G22: -11011
A23: 1236 | B23: 32002 | C23: Մանկապարտեզների շենքերի վերակառուցում, հիմնանորոգում | D23: =SUM(E23:H23) -> -1164212.8 | E23: =+E25 -> 0 | F23: =+F25 -> -1164212.8 | G23: =+G25 -> 0 | H23: =+H25 -> 0
C24: այդ թվում`
C25: Մանկապարտեզների շենքերի վերակառուցում, հիմնանորոգում | D25: =SUM(E25:H25) -> -1164212.8 | E25: 0 | F25: -1164212.8 | G25: 0 | H25: =SUM(H26:H36) -> 0
A26: 1236 | B26: 32003 | C26: Հանրակրթական դպրոցների նոր շենքերի կառուցում | D26: =SUM(E26:H26) -> 1158300 | E26: =+E28+E40 -> 995000 | F26: =+F28+F40 -> 0 | G26: =+G28+G40 -> 163300 | H26: =+H28+H40 -> 0
C27: այդ թվում`
C28: Երևան քաղաք | D28: =SUM(E28:H28) -> 1204600 | E28: =SUM(E29:E39) -> 995000 | F28: =SUM(F29:F39) -> 0 | G28: =SUM(G29:G39) -> 209600 | H28: =SUM(H29:H39) -> 0
C29: Երևան Երևանի թիվ 124 հիմնական դպրոց (նախկին «Երևանի թիվ 201 հիմնական դպրոց» ՊՈԱԿ–ի տեղակայման վայրում) | D29: =+E29+F29+G29+H29 -> 400000 | E29: =+'Հավելված N 8'!I21+'Հավելված N 8'!I50+'Հավելված N 8'!I78 -> 400000
C30: Երևանի թիվ 64 հիմնական դպրոց | D30: =+E30+F30+G30+H30 -> 375000 | E30: =+'Հավելված N 8'!I22+'Հավելված N 8'!I51+'Հավելված N 8'!I79 -> 375000
C31: Երևանի Ս. Շահմուրադյանի անվան թիվ 85 հիմնական դպրոց | D31: =+E31+F31+G31+H31 -> 220000 | E31: =+'Հավելված N 8'!I23+'Հավելված N 8'!I52+'Հավելված N 8'!I80 -> 220000
C32: Երևանի Մ. Սարյանի անվան թիվ 86 հիմնական դպրոց | D32: =+E32+F32+G32+H32 -> 26200 | G32: =+'Հավելված N 8'!I106+'Հավելված N 8'!I108 -> 26200
C33: Երևանի թիվ 157 հիմնական դպրոց | D33: =+E33+F33+G33+H33 -> 26200 | G33: =+'Հավելված N 8'!I107+'Հավելված N 8'!I109 -> 26200
C34: Երևանի Գ.Գուրզանդյանի անվան թիվ 163 հիմնական դպրոց | D34: =+E34+F34+G34+H34 -> 26200 | G34: =+'Հավելված N 8'!I217+'Հավելված N 8'!I224 -> 26200
C35: Երևանի Ս. Խանզադյանի անվան թիվ 184 ավագ դպրոց | D35: =+E35+F35+G35+H35 -> 26200 | G35: =+'Հավելված N 8'!I218+'Հավելված N 8'!I225 -> 26200
C36: Երևանի Ա. Երզնկյանի անվան թիվ 118 ավագ դպրոց | D36: =+E36+F36+G36+H36 -> 26200 | G36: =+'Հավելված N 8'!I219+'Հավելված N 8'!I226 -> 26200
C37: Երևանի Րաֆֆու անվան թիվ 36 հիմնական դպրոց | D37: =+E37+F37+G37+H37 -> 26200 | G37: =+'Հավելված N 8'!I220+'Հավելված N 8'!I227 -> 26200
C38: Երևանի Վ. Դավթյանի անվան թիվ 37 հիմնական դպրոց | D38: =+E38+F38+G38+H38 -> 26200 | G38: =+'Հավելված N 8'!I221+'Հավելված N 8'!I228 -> 26200
C39: Երևանի թիվ 173 և թիվ 31 հիմնական դպրոցներ | D39: =+E39+F39+G39+H39 -> 26200 | G39: =+'Հավելված N 8'!I222+'Հավելված N 8'!I229 -> 26200
C40: ՀՀ Սյունիքի մարզ | D40: =SUM(E40:H40) -> -46300 | E40: =+E41 -> 0 | F40: =+F41 -> 0 | G40: =+G41 -> -46300 | H40: =+H41 -> 0
C41: «գ. Խնձորեսկի միջնակարգ դպրոց» ՊՈԱԿ | D41: =+E41+F41+G41+H41 -> -46300 | G41: =+'Հավելված N 8'!I216+'Հավելված N 8'!I223 -> -46300

Sheet Հավելված N 4
G1: Հավելված N 4
E2: ՀՀ կառավարության 2024 թվականի
G3: ______________ ի ___Ն որոշման
B6: ՀԱՅԱՍՏԱՆԻ ՀԱՆՐԱՊԵՏՈՒԹՅԱՆ ԿԱՌԱՎԱՐՈՒԹՅԱՆ 2023 ԹՎԱԿԱՆԻ ԴԵԿՏԵՄԲԵՐԻ 28-Ի N 2323-Ն ՈՐՈՇՄԱՆ N 5 ՀԱՎԵԼՎԱԾԻ N 2 ԱՂՅՈՒՍԱԿՈՒՄ ԿԱՏԱՐՎՈՂ ՓՈՓՈԽՈՒԹՅՈՒՆՆԵՐԸ ԵՎ ԼՐԱՑՈՒՄՆԵՐԸ
H8: հազ. դրամներով
B9: Ծրագրային դասիչ | D9: Բյուջետային գլխավոր կարգադրիչների, ծրագրերի, միջոցառումների, միջոցառումները կատարող պետական մարմինների և ուղղությունների անվանումները | E9: Ցուցանիշների փոփոխությունը (ավելացումները նշված են դրական նշանով, իսկ նվազեցումները՝ փակագծերում)
B10: Ծրագիր | C10: Միջոցառում | E10: Առաջին եռամսյակ | F10: Առաջին կիսամյակ | G10: Ինն ամիս | H10: Տարի
D11: ՀՀ ԿՐԹՈՒԹՅԱՆ, ԳԻՏՈՒԹՅԱՆ, ՄՇԱԿՈՒՅԹԻ ԵՎ ՍՊՈՐՏԻ ՆԱԽԱՐԱՐՈՒԹՅՈՒՆ | E11: =+E13+E23+E27+E111 -> -23758.6 | F11: =+F13+F23+F27+F111 -> -114357.6 | G11: =+G13+G23+G27+G111 -> -472732.1 | H11: =+H13+H23+H27+H111 -> 493226.3
D12: այդ թվում՝
B13: 1075 | C13: 21001 | D13: Հուշարձանների ամրակայում, նորոգում և վերականգնում | E13: =+E15 -> -17845.8 | F13: =+F15 -> -25494 | G13: =+G15 -> -25494 | H13: =+H15 -> -25494
D14: այդ թվում` ըստ կատարողների
D15: ՀՀ կրթության, գիտության, մշակույթի և սպորտի նախարարություն | E15: =+E17 -> -17845.8 | F15: =+F17 -> -25494 | G15: =+G17 -> -25494 | H15: =+H17 -> -25494
D16: այդ թվում՝ ըստ ուղղությունների
D17: 2. Վավերագրման և ուսումնասիրման աշխատանքներ, (այդ թվում՝ հետախուզումև պեղում), գիտանախագծային փաստաթղթերի կազմում և փորձաքննում | E17: =+E19+E21 -> -17845.8 | F17: =+F19+F21 -> -25494 | G17: =+G19+G21 -> -25494 | H17: =+H19+H21 -> -25494
D18: որից`
D19: Հ Գեղարքունիքի մարզ | E19: =SUM(E20:E20) -> -10138.1 | F19: =SUM(F20:F20) -> -14483 | G19: =SUM(G20:G20) -> -14483 | H19: =SUM(H20:H20) -> -14483
D20: =+'Հավելված N 3'!C20 -> Բերդկունքի ամրոցի (Իշխանաց բերդ) հնավայրի պեղումներ | E20: -10138.1 | F20: -14483 | G20: -14483 | H20: =+'Հավելված N 3'!D20 -> -14483
D21: ՀՀ Վայոց Ձորի մարզ | E21: =SUM(E22:E22) -> -7707.7 | F21: =SUM(F22:F22) -> -11011 | G21: =SUM(G22:G22) -> -11011 | H21: =SUM(H22:H22) -> -11011
D22: =+'Հավելված N 3'!C22 -> Եղեգնաձոր համայնքի Հորս գյուղի Չեսար Օրբելյանի պալատի և հարակից եկեղեցու պեղումներ | E22: -7707.7 | F22: -11011 | G22: -11011 | H22: =+'Հավելված N 3'!D22 -> -11011
B23: 1236 | C23: 32002 | D23: Մանկապարտեզների շենքերի վերակառուցում, հիմնանորոգում | E23: =+E25+E26 -> 0 | F23: =+F25+F26 -> -92363.6 | G23: =+G25+G26 -> -454238.1 | H23: =+H25+H26 -> -639579.7
D24: այդ թվում` ըստ կատարողների
D25: ՀՀ տարածքային կառավարման և ենթակառուցվածքների նախարարություն | E25: 0 | F25: -92363.6 | G25: 0 | H25: =+'[1]Հավելված N 3'!D14 -> 0
D26: ՀՀ կառավարություն | E26: 0 | F26: 0 | G26: -454238.1 | H26: -639579.7
B27: 1236 | C27: 32003 | D27: Հանրակրթական դպրոցների նոր շենքերի կառուցում | E27: =+E29+E70+E110 -> -5912.8 | F27: =+F29+F70+F110 -> 3500 | G27: =+G29+G70+G110 -> 7000 | H27: =+H29+H70+H110 -> 1158300
D28: այդ թվում` ըստ կատարողների
D29: ՀՀ քաղաքաշինության կոմիտե | E29: =+E31+E40+E46+E52+E57+E60+E62+E64 -> -195500 | F29: =+F31+F40+F46+F52+F57+F60+F62+F64 -> -1909500 | G29: =+G31+G40+G46+G52+G57+G60+G62+G64 -> -3819000 | H29: =+H31+H40+H46+H52+H57+H60+H62+H64 -> -8459100
D30: այդ թվում՝ ըստ ուղղությունների
D31: Երևան քաղաք | E31: =SUM(E32:E39) -> 0 | F31: =SUM(F32:F39) -> -133000 | G31: =SUM(G32:G39) -> -266000 | H31: =SUM(H32:H39) -> -507800
D32: Երևանի թիվ 187 միջնակարգ դպրոց | E32: 0 | F32: -64000 | G32: -128000 | H32: =+'Հավելված N 8'!I140+'Հավելված N 8'!I166+'Հավելված N 8'!I191 -> -320000
D33: Երևանի թիվ 107 հիմնական դպրոց | E33: 0 | F33: -69000 | G33: -138000 | H33: =+'Հավելված N 8'!I141+'Հավելված N 8'!I167+'Հավելված N 8'!I192 -> -345000
D34: =+'Հավելված N 3'!C34 -> Երևանի Գ.Գուրզանդյանի անվան թիվ 163 հիմնական դպրոց | E34: 0 | F34: 0 | G34: 0 | H34: =+'Հավելված N 3'!D34 -> 26200
D35: =+'Հավելված N 3'!C35 -> Երևանի Ս. Խանզադյանի անվան թիվ 184 ավագ դպրոց | E35: 0 | F35: 0 | G35: 0 | H35: =+'Հավելված N 3'!D35 -> 26200
D36: =+'Հավելված N 3'!C36 -> Երևանի Ա. Երզնկյանի անվան թիվ 118 ավագ դպրոց | E36: 0 | F36: 0 | G36: 0 | H36: =+'Հավելված N 3'!D36 -> 26200
D37: =+'Հավելված N 3'!C37 -> Երևանի Րաֆֆու անվան թիվ 36 հիմնական դպրոց | E37: 0 | F37: 0 | G37: 0 | H37: =+'Հավելված N 3'!D37 -> 26200
D38: =+'Հավելված N 3'!C38 -> Երևանի Վ. Դավթյանի անվան թիվ 37 հիմնական դպրոց | E38: 0 | F38: 0 | G38: 0 | H38: =+'Հավելված N 3'!D38 -> 26200
D39: =+'Հավելված N 3'!C39 -> Երևանի թիվ 173 և թիվ 31 հիմնական դպրոցներ | E39: 0 | F39: 0 | G39: 0 | H39: =+'Հավելված N 3'!D39 -> 26200
D40: ՀՀ Արագածոտնի մարզ | E40: =SUM(E41:E45) -> 0 | F40: =SUM(F41:F45) -> -369000 | G40: =SUM(G41:G45) -> -738000 | H40: =SUM(H41:H45) -> -1845000
D41: ք. Աշտարակի Վ.Պետրոսյան անվ. հիմնական դպրոց | E41: 0 | F41: -80000 | G41: -160000 | H41: =+'Հավելված N 8'!I142+'Հավելված N 8'!I168+'Հավելված N 8'!I193 -> -400000
D42: ք. Ապարանի միջնակարգ դպրոց (ք. Ապարանի Վ.Եղիազարյան անվ. թիվ 1 հիմնական դպրոցի տեղակայման վայրում) | E42: 0 | F42: -75000 | G42: -150000 | H42: =+'Հավելված N 8'!I143+'Հավելված N 8'!I169+'Հավելված N 8'!I194 -> -375000
D43: ք. Թալինի միջնակարգ դպրոց (ք. Թալինի թիվ 2 հիմնական դպրոցի տեղակայման վայրում) | E43: 0 | F43: -75000 | G43: -150000 | H43: =+'Հավելված N 8'!I144+'Հավելված N 8'!I170+'Հավելված N 8'!I195 -> -375000
...

Sheet Հավելված N 5
F1: Հավելված 5
F2: ՀՀ կառավարության 2024 թվականի
F3: ______________ ի ___Ն որոշման
A6: ՀԱՅԱՍՏԱՆԻ ՀԱՆՐԱՊԵՏՈՒԹՅԱՆ ԿԱՌԱՎԱՐՈՒԹՅԱՆ 2023 ԹՎԱԿԱՆԻ ԴԵԿՏԵՄԲԵՐԻ 28-Ի N 2323-Ն ՈՐՈՇՄԱՆ N 5 ՀԱՎԵԼՎԱԾԻ N 7 ԱՂՅՈՒՍԱԿՈՒՄ ԿԱՏԱՐՎՈՂ ԼՐԱՑՈՒՄԸ
A7: հազար դրամ
A8: Ծրագրային դասիչը | D8: Բյուջետային հատկացումների գլխավոր կարգադրիչների, ծրագրերի, միջոցառումների և միջոցառումները կատարող պետական մարմինների անվանումները | F8: Միջոցառումները կատարող պետական մարմինների և դրամաշնորհ ստացող տնտեսվարող սուբյեկտների անվանումները | G8: Ցուցանիշների փոփոխությունը (ավելացումները նշված են դրական նշանով)
A9: Ծրագիր | B9: Միջոցառում | G9: Տարի
A10: ՀՀ կրթության, գիտության, մշակույթի և սպորտի նախարարություն | G10: =+G11 -> 25494
A11: 1075 | B11: Մշակութային ժառանգության ծրագիր | G11: =+G12 -> 25494
B12: 21001 | C12: Հուշարձանների ամրակայում, նորոգում և վերականգնում | F12: ՀՀ կրթության, գիտության, մշակույթի և սպորտի նախարարություն | G12: =+G14 -> 25494
D13: այդ թվում՝ ըստ ուղղությունների և միջոցառումների անվանումների
E14: Վավերագրման և ուսումնասիրման աշխատանքներ, (այդ թվում՝ հետախուզումև պեղում), գիտանախագծային փաստաթղթերի կազմում և փորձաքննում | G14: =+G15+G16 -> 25494
E15: ՀՀ Գեղարքունիքի մարզի Բերդկունքի ամրոցի (Իշխանաց բերդ) հնավայրի պեղումներ | F15: «Պատմամշակութային արգելոց-թանգարանների և պատմական միջավայրի պահպանության ծառայություն» ՊՈԱԿ | G15: 14483
E16: ՀՀ Վայոց Ձորի մարզի Եղեգնաձոր համայնքի Հորս գյուղի Չեսար Օրբելյանի պալատի և հարակից եկեղեցու պեղումներ | F16: «Պատմամշակութային արգելոց-թանգարանների և պատմական միջավայրի պահպանության ծառայություն» ՊՈԱԿ | G16: 11011

Sheet Հավելված N 6
C1: Հավելված N 6
C2: ՀՀ կառավարության 2024 թվականի
C3: ______________ ի ___Ն որոշման
B6: ՀԱՅԱՍՏԱՆԻ ՀԱՆՐԱՊԵՏՈՒԹՅԱՆ ԿԱՌԱՎԱՐՈՒԹՅԱՆ 2023 ԹՎԱԿԱՆԻ ԴԵԿՏԵՄԲԵՐԻ 28-Ի N 2323-Ն ՈՐՈՇՄԱՆ N 9 ՀԱՎԵԼՎԱԾԻ N 9.13 ԱՂՅՈՒՍԱԿՈՒՄ ԿԱՏԱՐՎՈՂ ՓՈՓՈԽՈՒԹՅՈՒՆՆԵՐԸ ԵՎ ԼՐԱՑՈՒՄՆԵՐԸ
A8: Աղյուսակ 9․13
C9: ՀՀ կրթության, գիտության, մշակույթի և սպորտի նախարարություն
B10: ՄԱՍ 2. ՊԵՏԱԿԱՆ ՄԱՐՄՆԻ ԳԾՈՎ ԱՐԴՅՈՒՆՔԱՅԻՆ (ԿԱՏԱՐՈՂԱԿԱՆ) ՑՈՒՑԱՆԻՇՆԵՐԸ
B13: Ծրագրի դասիչը | C13: Ծրագրի անվանումը
B14: 1163 | C14: Մասսայական սպորտ
B16: Ծրագրի միջոցառումները
B17: Ծրագրի դասիչը՝ | C17: 1163 | D17: Ցուցանիշների փոփոխությունը (ավելացումները նշված են դրական նշանով)
B18: Միջոցառման դասիչը՝ | C18: 32001 | D18: Առաջին եռամսյակ | E18: Առաջին կիսամյակ | F18: Ինն ամիս | G18: Տարի
B19: Միջոցառման անվանումը` | C19: Մարզական օբյեկտների շինարարություն
B20: Նկարագրությունը` | C20: Մարզական օբյեկտների շենքերի (մասնաշենքերի) կառուցում (համաշինարարական աշխատանքներ, ջեռուցման համակարգի իրականացում, ներքին հարդարում, տարածքի բարեկարգում) և նախագծում
B21: Միջոցառման տեսակը` | C21: Այլ պետական կազմակերպությունների կողմից օգտագործվող ոչ ֆինանսական ակտիվների հետ գործառնություններ
B22: Ակտիվն օգտագործող կազմակերպությունների անվանումները | C22: Մարզական հաստատություններ
B23: Արդյունքի չափորոշիչներ
B24: Մարզական կառույցների թիվը, որոնց համար ձեռք է բերվել շենքի չափագրման ծառայություն, հատ | E24: 1 | G24: 1
B25: Միջոցառման վրա կատարվող ծախսը (հազար դրամ) | D25: =+'Հավելված N 2'!G137 -> 199 | E25: =+'Հավելված N 2'!H137 -> 199 | F25: =+'Հավելված N 2'!I137 -> 199 | G25: =+'Հավելված N 2'!J137 -> 199
B27: Ծրագրի դասիչը | C27: Ծրագրի անվանումը
B28: 1183 | C28: Ապահով դպրոց
B30: Ծրագրի միջոցառումները
B31: Ծրագրի դասիչը՝ | C31: 1183 | D31: Ցուցանիշների փոփոխությունը (ավելացումները նշված են դրական նշանով)
B32: Միջոցառման դասիչը՝ | C32: 32007 | D32: Առաջին եռամսյակ | E32: Առաջին կիսամյակ | F32: Ինն ամիս | G32: Տարի
B33: Միջոցառման անվանումը` | C33: Հանրակրթական կրթություն իրականացնող ուսումնական հաստատությունների նոր մարզադահլիճների կառուցում
B34: Նկարագրությունը` | C34: Հանրակրթական ուսուցում իրականացնող ուսումնական հաստատությունների նոր մարզադահլիճների կառուցման նախագծանախահաշվային փաստաթղթերի մշակում
B35: Միջոցառման տեսակը` | C35: Այլ պետական կազմակերպությունների կողմից օգտագործվող ոչ ֆինանսական ակտիվների հետ գործառնություններ
B36: Ակտիվն օգտագործող կազմակերպությունների անվանումները | C36: Հանրակրթական դպրոցներ
B37: Արդյունքի չափորոշիչներ
B38: Դպրոցների թիվը, որոնց համար ձեռք է բերվել շենքի չափագրման ծառայություն, հատ | E38: 15 | G38: 15
B39: Միջոցառման վրա կատարվող ծախսը (հազար դրամ) | D39: =+'Հավելված N 2'!G148 -> 2175 | E39: =+'Հավելված N 2'!H148 -> 2175 | F39: =+'Հավելված N 2'!I148 -> 2175 | G39: =+'Հավելված N 2'!J148 -> 2175
B41: Ծրագրի միջոցառումները
B42: Ծրագրի դասիչը` | C42: 1183 | D42: Ցուցանիշների փոփոխությունը (ավելացումները նշված են դրական նշանով)
B43: Միջոցառման դասիչը` | C43: 32009 | D43: Առաջին եռամսյակ | E43: Առաջին կիսամյակ | F43: Ինն ամիս | G43: Տարի
B44: Միջոցառման անվանումը` | C44: Հանրակրթական կրթություն իրականացնող ուսումնական հաստատությունների մարզադահլիճների վերակառուցում
B45: Նկարագրությունը` | C45: Հանրակրթական ուսուցում իրականացնող ուսումնական հաստատությունների մարզադահլիճների վերակառուցման նախագծանախահաշվային փաստաթղթերի մշակում
B46: Միջոցառման տեսակը` | C46: Այլ պետական կազմակերպությունների կողմից օգտագործվող ոչ ֆինանսական ակտիվների հետ գործառնություններ
B47: Ակտիվն օգտագործող կազմակերպությունների անվանումները | C47: Հանրակրթական դպրոցներ
B48: Արդյունքի չափորոշիչներ
B49: Դպրոցների թիվը, որոնց համար ձեռք է բերվել շենքի չափագրման ծառայություն, հատ | E49: 9 | G49: 9
...

Sheet Հավելված N 7
C1: Հավելված N 7
C2: ՀՀ կառավարության 2024 թվականի
C3: ______________ ի ___Ն որոշման
B6: ՀԱՅԱՍՏԱՆԻ ՀԱՆՐԱՊԵՏՈՒԹՅԱՆ ԿԱՌԱՎԱՐՈՒԹՅԱՆ 2023 ԹՎԱԿԱՆԻ ԴԵԿՏԵՄԲԵՐԻ 28-Ի N 2323-Ն ՈՐՈՇՄԱՆ N 9.1 ՀԱՎԵԼՎԱԾԻ NN 9.1.7, 9.1.13, 9.1.39 ԵՎ 9.1.58 ԱՂՅՈՒՍԱԿՆԵՐՈՒՄ ԿԱՏԱՐՎՈՂ ՓՈՓՈԽՈՒԹՅՈՒՆՆԵՐԸ ԵՎ ԼՐԱՑՈՒՄՆԵՐԸ
A9: Աղյուսակ 9․1.7
C10: ՀՀ տարածքային կառավարման և ենթակառուցվածքների նախարարություն
B11: ՄԱՍ 1. ՊԵՏԱԿԱՆ ՄԱՐՄՆԻ ԳԾՈՎ ԱՐԴՅՈՒՆՔԱՅԻՆ (ԿԱՏԱՐՈՂԱԿԱՆ) ՑՈՒՑԱՆԻՇՆԵՐԸ
B14: Ծրագրի դասիչը | C14: Ծրագրի անվանումը
B15: 1236 | C15: Հանրակրթական և նախադպրոցական հաստատությունների հիմնում, կառուցում, բարելավում
B17: Ծրագրի միջոցառումները
B18: Ծրագրի դասիչը՝ | C18: 1236 | D18: Ցուցանիշների փոփոխությունը (նվազեցումները նշված են փակագծերում)
B19: Միջոցառման դասիչը՝ | C19: 32002 | D19: Առաջին եռամսյակ | E19: Առաջին կիսամյակ | F19: Ինն ամիս | G19: Տարի
B20: Միջոցառման անվանումը` | C20: Մանկապարտեզների շենքերի վերակառուցում, հիմնանորոգում
B21: Նկարագրությունը` | C21: Նախադպրոցական կրթության հասանելիության ապահովման նպատակով՛ մանկապարտեզների շենքերի (մասնաշենքերի), վերակառուցում, հիմնանորոգում և նախագծում
B22: Միջոցառման տեսակը` | C22: Այլ պետական կազմակերպությունների կողմից օգտագործվող ոչ ֆինանսական ակտիվների հետ գործառնություններ
B23: Ակտիվն օգտագործող կազմակերպությունների անվանումները | C23: Նախադպրոցական կրթությույն իրականացնող ուսումնական հաստատություններ
B24: Արդյունքի չափորոշիչներ
B25: Միջոցառման վրա կատարվող ծախսը (հազար դրամ) | D25: =+'Հավելված N 2'!G60 -> 0 | E25: =+'Հավելված N 2'!H60 -> -92363.6 | F25: =+'Հավելված N 2'!I60 -> 0 | G25: =+'Հավելված N 2'!J60 -> 0
A31: Աղյուսակ 9․1.13
C32: ՀՀ կրթության, գիտության, մշակույթի և սպորտի նախարարություն
B33: ՄԱՍ 1. ՊԵՏԱԿԱՆ ՄԱՐՄՆԻ ԳԾՈՎ ԱՐԴՅՈՒՆՔԱՅԻՆ (ԿԱՏԱՐՈՂԱԿԱՆ) ՑՈՒՑԱՆԻՇՆԵՐԸ
B36: Ծրագրի դասիչը | C36: Ծրագրի անվանումը
B37: 1236 | C37: Հանրակրթական և նախադպրոցական հաստատությունների հիմնում, կառուցում, բարելավում
B39: Ծրագրի միջոցառումները
B40: Ծրագրի դասիչը՝ | C40: 1236 | D40: Ցուցանիշների փոփոխությունը (ավելացումները նշված են դրական նշանով)
B41: Միջոցառման դասիչը՝ | C41: 32003 | D41: Առաջին եռամսյակ | E41: Առաջին կիսամյակ | F41: Ինն ամիս | G41: Տարի
B42: Միջոցառման անվանումը` | C42: Հանրակրթական դպրոցների նոր շենքերի կառուցում
B43: Նկարագրությունը` | C43: ՀՀ մարզերում կրթական որակյալ ծառայությունների հասանելիության ապահովման ծրագրի շրջանակներում հանրակրթական և նախադպրոցական կրթության հասանելիության ապահովման նպատակով կրթական կենտրոնների կառուցում
B44: Միջոցառման տեսակը` | C44: Այլ պետական կազմակերպությունների կողմից օգտագործվող ոչ ֆինանսական ակտիվների հետ գործառնություններ
B45: Ակտիվն օգտագործող կազմակերպությունների անվանումները | C45: Հանրակրթական դպրոցներ
B46: Արդյունքի չափորոշիչներ
B47: Երևանում կրթական որակյալ ծառայությունների հասանելիության ապահովման ծրագրի շրջանակներում կառուցվող դպրոցների թիվը, հատ | E47: 5 | G47: 7
B48: Արագածոտնի մարզում կրթական որակյալ ծառայությունների հասանելիության ապահովման ծրագրի շրջանակներում կառուցվող՛ կլաստերների կենտրոն-դպրոցների թիվը, հատ | E48: 3 | G48: 3
B49: Արմավիրի մարզում կրթական որակյալ ծառայությունների հասանելիության ապահովման ծրագրի շրջանակներում կառուցվող՛ կլաստերների կենտրոն-դպրոցների թիվը, հատ | E49: 3 | G49: 3
B50: Լոռու մարզում կրթական որակյալ ծառայությունների հասանելիության ապահովման ծրագրի շրջանակներում կառուցվող՛ կլաստերների կենտրոն-դպրոցների թիվը, հատ | E50: 2 | G50: 2
B51: Կոտայքի մարզում կրթական որակյալ ծառայությունների հասանելիության ապահովման ծրագրի շրջանակներում կառուցվող՛ կլաստերների կենտրոն-դպրոցների թիվը, հատ | E51: 1 | G51: 1
B52: Սյունիքի մարզում կրթական որակյալ ծառայությունների հասանելիության ապահովման ծրագրի շրջանակներում կառուցվող՛ կլաստերների կենտրոն-դպրոցների թիվը, հատ | E52: 1 | G52: 1
B53: Տավուշի մարզում կրթական որակյալ ծառայությունների հասանելիության ապահովման ծրագրի շրջանակներում կառուցվող՛ կլաստերների կենտրոն-դպրոցների թիվը, հատ | E53: 3 | G53: 3
B54: Արագածոտնի մարզում կրթական որակյալ ծառայությունների հասանելիության ապահովման ծրագրի շրջանակներում կառուցվող դպրոցների թիվը, հատ | E54: 2 | G54: 2
B55: Արմավիրի մարզում կրթական որակյալ ծառայությունների հասանելիության ապահովման ծրագրի շրջանակներում կառուցվող դպրոցների թիվը, հատ | E55: 2 | G55: 2
...

Sheet Հավելված N 8
H1: Հավելված N 8
H2: ՀՀ կառավարության 2024 թվականի
H3: ______________ ի ___Ն որոշման
A6: ՀԱՅԱՍՏԱՆԻ ՀԱՆՐԱՊԵՏՈՒԹՅԱՆ ԿԱՌԱՎԱՐՈՒԹՅԱՆ 2023 ԹՎԱԿԱՆԻ ԴԵԿՏԵՄԲԵՐԻ 28-Ի N 2323-Ն N 10 ՀԱՎԵԼՎԱԾՈՒՄ ԿԱՏԱՐՎՈՂ ՓՈՓՈԽՈՒԹՅՈՒՆՆԵՐԸ ԵՎ ԼՐԱՑՈՒՄՆԵՐԸ
A10: Կոդը | B10: Անվանումը | E10: Գնման ձևը | F10: Չափման միավորը | G10: Միավորի գինը | H10: Ցուցանիշների փոփոխությունը (ավելացումները նշված են դրական նշանով, իսկ նվազեցումները՝ փակագծերում)
H11: Քանակը | I11: Գումարը (հազար դրամ)
A12: 1 | B12: 2 | E12: 3 | F12: 4 | G12: 5 | H12: 6 | I12: 7
A13: ՀՀ կրթության, գիտության, մշակույթի և սպորտի նախարարություն | I13: =+I14+I18 -> 11511906
A14: Բաժին N 08 | B14: Խումբ N 02 | C14: Դաս N 07 | D14: Հուշարձանների և մշակութային արժեքների վերականգնում և պահպանում | I14: =+I15 -> -25494
A15: 1075-21001 | B15: Հուշարձանների ամրակայում, նորոգում և վերականգնում | I15: =+I16 -> -25494
B16: ՄԱՍ II. ԱՇԽԱՏԱՆՔՆԵՐ | I16: =SUM(I17:I17) -> -25494
A17: 45111410-1 | B17: հնէաբանական պեղումների վայրերում հողի փորման աշխատանքներ | E17: գհ | F17: դրամ | G17: 25494000 | H17: -1 | I17: =+H17*G17/1000 -> -25494
A18: Բաժին N 09 | B18: Խումբ N 02 | C18: Դաս N 01 | D18: Հիմնական ընդհանուր կրթություն | I18: =+I19+I110 -> 11537400
A19: 1236-32003 | B19: Հանրակրթական դպրոցների նոր շենքերի կառուցում | I19: =+I20+I49 -> 9617400
B20: ՄԱՍ II. ԱՇԽԱՏԱՆՔՆԵՐ | I20: =SUM(I21:I48) -> 9230041.6
A21: 45221142 | B21: ընդհանուր շինարարական աշխատանքներ | E21: ՀԲՄ | F21: դրամ | G21: 386100400 | H21: 1 | I21: =+H21*G21/1000 -> 386100.4
A22: 45221142 | B22: ընդհանուր շինարարական աշխատանքներ | E22: ՀԲՄ | F22: դրամ | G22: 361969100 | H22: 1 | I22: =+H22*G22/1000 -> 361969.1
A23: 45221142 | B23: ընդհանուր շինարարական աշխատանքներ | E23: ՀԲՄ | F23: դրամ | G23: 212355200 | H23: 1 | I23: =+H23*G23/1000 -> 212355.2
A24: 45221142 | B24: ընդհանուր շինարարական աշխատանքներ | E24: ՀԲՄ | F24: դրամ | G24: 308880300 | H24: 1 | I24: =+H24*G24/1000 -> 308880.3
A25: 45221142 | B25: ընդհանուր շինարարական աշխատանքներ | E25: ՀԲՄ | F25: դրամ | G25: 333011600 | H25: 1 | I25: =+H25*G25/1000 -> 333011.6
A26: 45221142 | B26: ընդհանուր շինարարական աշխատանքներ | E26: ՀԲՄ | F26: դրամ | G26: 386100400 | H26: 1 | I26: =+H26*G26/1000 -> 386100.4
A27: 45221142 | B27: ընդհանուր շինարարական աշխատանքներ | E27: ՀԲՄ | F27: դրամ | G27: 361969100 | H27: 1 | I27: =+H27*G27/1000 -> 361969.1
A28: 45221142 | B28: ընդհանուր շինարարական աշխատանքներ | E28: ՀԲՄ | F28: դրամ | G28: 361969100 | H28: 1 | I28: =+H28*G28/1000 -> 361969.1
A29: 45221142 | B29: ընդհանուր շինարարական աշխատանքներ | E29: ՀԲՄ | F29: դրամ | G29: 361969100 | H29: 1 | I29: =+H29*G29/1000 -> 361969.1
A30: 45221142 | B30: ընդհանուր շինարարական աշխատանքներ | E30: ՀԲՄ | F30: դրամ | G30: 308880300 | H30: 1 | I30: =+H30*G30/1000 -> 308880.3
A31: 45221142 | B31: ընդհանուր շինարարական աշխատանքներ | E31: ՀԲՄ | F31: դրամ | G31: 361969100 | H31: 1 | I31: =+H31*G31/1000 -> 361969.1
A32: 45221142 | B32: ընդհանուր շինարարական աշխատանքներ | E32: ՀԲՄ | F32: դրամ | G32: 361969100 | H32: 1 | I32: =+H32*G32/1000 -> 361969.1
... A48: 45221142 | B48: ընդհանուր շինարարական աշխատանքներ | E48: ՀԲՄ | F48: դրամ | G48: 333011600 | H48: 1 | I48: =+H48*G48/1000 -> 333011.6
B49: ՄԱՍ III. ԾԱՌԱՅՈՒԹՅՈՒՆՆԵՐ | I49: =SUM(I50:I109) -> 387358.4
A50: 71351540 | B50: տեխնիկական հսկողության ծառայություններ | E50: ԳՀ | F50: դրամ | G50: 11583000 | H50: 1 | I50: =+H50*G50/1000 -> 11583
A51: 71351540 | B51: տեխնիկական հսկողության ծառայություններ | E51: ԳՀ | F51: դրամ | G51: 10859100 | H51: 1 | I51: =+H51*G51/1000 -> 10859.1
A52: 71351540 | B52: տեխնիկական հսկողության ծառայություններ | E52: ԳՀ | F52: դրամ | G52: 6370700 | H52: 1 | I52: =+H52*G52/1000 -> 6370.7
A53: 71351540 | B53: տեխնիկական հսկողության ծառայություններ | E53: ԳՀ | F53: դրամ | G53: 9266400 | H53: 1 | I53: =+H53*G53/1000 -> 9266.4
A54: 71351540 | B54: տեխնիկական հսկողության ծառայություններ | E54: ԳՀ | F54: դրամ | G54: 9990300 | H54: 1 | I54: =+ROUND(H54*G54/1000,1) -> 9990.3
A55: 71351540 | B55: տեխնիկական հսկողության ծառայություններ | E55: ԳՀ | F55: դրամ | G55: 11583000 | H55: 1 | I55: =+H55*G55/1000 -> 11583
A56: 71351540 | B56: տեխնիկական հսկողության ծառայություններ | E56: ԳՀ | F56: դրամ | G56: 10859100 | H56: 1 | I56: =+H56*G56/1000 -> 10859.1
A57: 71351540 | B57: տեխնիկական հսկողության ծառայություններ | E57: ԳՀ | F57: դրամ | G57: 10859100 | H57: 1 | I57: =+H57*G57/1000 -> 10859.1
A58: 71351540 | B58: տեխնիկական հսկողության ծառայություններ | E58: ԳՀ | F58: դրամ | G58: 10859100 | H58: 1 | I58: =+H58*G58/1000 -> 10859.1
A59: 71351540 | B59: տեխնիկական հսկողության ծառայություններ | E59: ԳՀ | F59: դրամ | G59: 9266400 | H59: 1 | I59: =+H59*G59/1000 -> 9266.4
A60: 71351540 | B60: տեխնիկական հսկողության ծառայություններ | E60: ԳՀ | F60: դրամ | G60: 10859100 | H60: 1 | I60: =+H60*G60/1000 -> 10859.1
...
