Workbook
Name _tab10: #REF!
Name _tab11: #REF!
Name _tab12: #REF!
Name _tab13: #REF!
Name _tab14: #REF!
Name _tab15: #REF!
Name _tab16: #REF!
Name _tab17: #REF!
Name _tab18: #REF!
Name _tab19: #REF!
Name _tab20: #REF!
Name _tab21: #REF!
Name _tab22: #REF!
Name _tab23: #REF!
Name _tab24: #REF!
Name _tab5: #REF!
Name _tab6: #REF!
Name _tab7: #REF!
Name _tab8: #REF!
Name _tab9: #REF!
Name AgencyCode: #REF!
Name AgencyName: #REF!
Name åû: #REF!
Name davit: #REF!
Name Functional1: #REF!
Name ggg: #REF!
Name mas: #REF!
Name mass: #REF!
Name PANature: #REF!
Name par_count: #REF!,#REF!,#REF!,#REF!,#REF!,#REF!,#REF!,#REF!,#REF!,#REF!,#REF!,#REF!,#REF!,#REF!,#REF!
Name par_qual: #REF!,#REF!,#REF!,#REF!,#REF!
Name par_time: #REF!,#REF!,#REF!,#REF!
Name par2.12s: #REF!
Name par2.4s: #REF!,#REF!,#REF!,#REF!,#REF!,#REF!,#REF!,#REF!,#REF!,#REF!,#REF!,#REF!,#REF!,#REF!,#REF!,#REF!
Name par2.5s: #REF!,#REF!
Name par2.6s: #REF!,#REF!,#REF!,#REF!
Name par2.7s: #REF!,#REF!
Name par2.9s: #REF!,#REF!,#REF!,#REF!,#REF!,#REF!,#REF!,#REF!,#REF!,#REF!,#REF!,#REF!,#REF!,#REF!,#REF!,#REF!
Name par4.10s: #REF!,#REF!
Name par4.11d: #REF!,#REF!,#REF!,#REF!,#REF!
Name par4.12d: #REF!
Name par4.13s: #REF!
Name par4.14: #REF!,#REF!,#REF!,#REF!,#REF!,#REF!
Name par4.15: #REF!,#REF!,#REF!
Name par4.16: #REF!,#REF!,#REF!
Name par4.17: #REF!,#REF!,#REF!,#REF!
Name par4.18d: #REF!,#REF!
Name par4.19s: #REF!
Name par4.20f: #REF!
Name par4.21f: #REF!
Name par4.22: #REF!
Name par4.4: #REF!
Name par4.5: #REF!
Name par4.6s: #REF!
Name par4.7s: #REF!
Name par4.8: #REF!,#REF!,#REF!,#REF!,#REF!
Name par4.9: #REF!,#REF!,#REF!,#REF!,#REF!,#REF!
Name par5.1: #REF!,#REF!
Name par5.3: #REF!,#REF!,#REF!,#REF!,#REF!,#REF!
Name par5.4: #REF!,#REF!,#REF!,#REF!,#REF!

Sheet 1
B1: Հավելված N 1
B2: ՀՀ կառավարության 2024 թվականի
B3: N որոշման
A5: «ՀԱՅԱՍՏԱՆԻ ՀԱՆՐԱՊԵՏՈՒԹՅԱՆ 2024 ԹՎԱԿԱՆԻ ՊԵՏԱԿԱՆ ԲՅՈՒՋԵԻ ՄԱՍԻՆ» ՕՐԵՆՔԻ 2-ՐԴ ՀՈԴՎԱԾԻ ԱՂՅՈՒՍԱԿՈՒՄ ԿԱՏԱՐՎՈՂ ՓՈՓՈԽՈՒԹՅՈՒՆՆԵՐԸ
B7: հազար դրամներով
B8: Ցուցանիշների փոփոխությունը (նվազեցումները նշված են փակագծերում)
A9: Եկամուտների գծով | B9: 0
A10: Ծախսերի գծով | B10: -3500000
A11: Դեֆիցիտը (պակասուրդը) | B11: =B10-B9 -> -3500000

Sheet 2
A1: Հավելված N 2 ՀՀ կառավարության 2024 թվականի -ի N -Ն որոշման
A3: «ՀԱՅԱՍՏԱՆԻ ՀԱՆՐԱՊԵՏՈՒԹՅԱՆ 2024 ԹՎԱԿԱՆԻ ՊԵՏԱԿԱՆ ԲՅՈՒՋԵԻ ՄԱՍԻՆ» ՀԱՅԱՍՏԱՆԻ ՀԱՆՐԱՊԵՏՈՒԹՅԱՆ ՕՐԵՆՔԻ N 3 ՀԱՎԵԼՎԱԾԻ N 1 ԱՂՅՈՒՍԱԿՈՒՄ ԵՎ ՀԱՅԱՍՏԱՆԻ ՀԱՆՐԱՊԵՏՈՒԹՅԱՆ ԿԱՌԱՎԱՐՈՒԹՅԱՆ 2023 ԹՎԱԿԱՆԻ ԴԵԿՏԵՄԲԵՐԻ 28-Ի N 2323-Ն ՈՐՈՇՄԱՆ N 1 ՀԱՎԵԼՎԱԾԻ N 1 ԱՂՅՈՒՍԱԿՈՒՄ ԿԱՏԱՐՎՈՂ ՓՈՓՈԽՈՒԹՅՈՒՆԸ
E5: հազար դրամներով
A6: Պետական բյուջեի դեֆիցիտի ֆինանսավորման աղբյուրներն ու դրանց տարրերի անվանումները | B6: Ցուցանիշների փոփոխությունը (նվազեցումները նշված են փակագծերում)
B7: Առաջին եռամսյակ | C7: Առաջին կիսամյակ | D7: Ինն ամիս | E7: Տարի
A8: ԸՆԴԱՄԵՆԸ | B8: =+B10 -> -3500000 | C8: =+C10 -> -3500000 | D8: =+D10 -> -3500000 | E8: =+E10 -> -3500000
A9: այդ թվում՝
A10: Ա.Ներքին աղբյուրներ-ընդամենը | B10: =B12 -> -3500000 | C10: =C12 -> -3500000 | D10: =D12 -> -3500000 | E10: =E12 -> -3500000
A11: այդ թվում՝
A12: 2. Ֆինանսական զուտ ակտիվներ | B12: =B14 -> -3500000 | C12: =C14 -> -3500000 | D12: =D14 -> -3500000 | E12: =E14 -> -3500000
A13: այդ թվում՝
A14: 2.4. Վարկերի և փոխատվությունների տրամադրում | B14: =+B16 -> -3500000 | C14: =+C16 -> -3500000 | D14: =+D16 -> -3500000 | E14: =+E16 -> -3500000
A15: որից
A16: Բյուջետային վարկերի տրամադրում տնտեսվարող սուբյեկտներին | B16: -3500000 | C16: -3500000 | D16: -3500000 | E16: -3500000

Sheet 3
A1: Հավելված N 3 ՀՀ կառավարության 2024 թվականի -ի N -Ն որոշման
B2: «ՀԱՅԱՍՏԱՆԻ ՀԱՆՐԱՊԵՏՈՒԹՅԱՆ 2024 ԹՎԱԿԱՆԻ ՊԵՏԱԿԱՆ ԲՅՈՒՋԵԻ ՄԱՍԻՆ» ՀԱՅԱՍՏԱՆԻ ՀԱՆՐԱՊԵՏՈՒԹՅԱՆ ՕՐԵՆՔԻ N 3 ՀԱՎԵԼՎԱԾԻ N 1.1 ԱՂՅՈՒՍԱԿՈՒՄ ԵՎ ՀԱՅԱՍՏԱՆԻ ՀԱՆՐԱՊԵՏՈՒԹՅԱՆ ԿԱՌԱՎԱՐՈՒԹՅԱՆ 2023 ԹՎԱԿԱՆԻ ԴԵԿՏԵՄԲԵՐԻ 28-Ի N 2323-Ն N 1 ՀԱՎԵԼՎԱԾԻ N 2 ԱՂՅՈՒՍԱԿՈՒՄ ԿԱՏԱՐՎՈՂ ԼՐԱՑՈՒՄԸ
H4: հազար դրամներով
B5: Ծրագրային դասիչ | D5: Բյուջետային գլխավոր կարգադրիչների, ծրագրերի և միջոցառումների անվանումները | E5: Ցուցանիշների փոփոխությունը (ավելացումները նշված են դրական նշանով)
B6: Ծրագիր | C6: Միջոցառում | E6: Առաջին եռամսյակ | F6: Առաջին կիսամյակ | G6: Ինն ամիս | H6: Տարի
D7: ԸՆԴԱՄԵՆԸ այդ թվում | E7: =+E9 -> 3500000 | F7: =+F9 -> 3500000 | G7: =+G9 -> 3500000 | H7: =+H9 -> 3500000
B8: ՀՀ էկոնոմիկայի նախարարություն
B9: 1226 | D9: Ծրագրի անվանումը՝ | E9: =E16 -> 3500000 | F9: =F16 -> 3500000 | G9: =G16 -> 3500000 | H9: =H16 -> 3500000
D10: Տնտեսական երկարաժամկետ զարգացմանն ուղղված ծրագիր
D11: Ծրագրի նպատակը՝ Մասնավոր ներդրումների աճի խթանում
D13: Վերջնական արդյունքի նկարագրությունը՝ Ներդրումների ծավալների աճ
B15: Ֆինանսական ակտիվների կառավարման միջոցառումներ
C16: 42002 | D16: Միջոցառման անվանումը՝ | E16: =-'[1]1'!B17 -> 3500000 | F16: =-'[1]1'!C17 -> 3500000 | G16: =-'[1]1'!D17 -> 3500000 | H16: =-'[1]1'!E17 -> 3500000
D17: «Համահայկական ֆոնդ» փակ ոչ հրապարակային պայմանագրային ներդրումային ֆոնդին բյուջետային վարկի տրամադրում
D18: Նկարագրությունը՝
D19: «Ջի Թի Բի ՍԹԻԼ» ՍՊ ընկերության գործարար ծրագրի իրականացման նպատակով «Համահայկական ֆոնդ» փակ ոչ հրապարակային պայմանագրային ներդրումային ֆոնդին բյուջետային վարկի տրամադրում
D20: Միջոցառման տեսակը՝ Վարկերի տրամադրում

Sheet 4
A1: Հավելված N 4 ՀՀ կառավարության 2024 թվականի -ի N -Ն որոշման
A2: «ՀԱՅԱՍՏԱՆԻ ՀԱՆՐԱՊԵՏՈՒԹՅԱՆ 2024 ԹՎԱԿԱՆԻ ՊԵՏԱԿԱՆ ԲՅՈՒՋԵԻ ՄԱՍԻՆ» ՀԱՅԱՍՏԱՆԻ ՀԱՆՐԱՊԵՏՈՒԹՅԱՆ ՕՐԵՆՔԻ N 3 ՀԱՎԵԼՎԱԾՈՒՄ N1.1.1 ԱՂՅՈՒՍԱԿԻ ԵՎ ՀԱՅԱՍՏԱՆԻ ՀԱՆՐԱՊԵՏՈՒԹՅԱՆ ԿԱՌԱՎԱՐՈՒԹՅԱՆ 2023 ԹՎԱԿԱՆԻ ԴԵԿՏԵՄԲԵՐԻ 28-Ի N 2323-Ն ՈՐՈՇՄԱՆ N 1 ՀԱՎԵԼՎԱԾՈՒՄ N 4 ԱՂՅՈՒՍԱԿԻ ԼՐԱՑՈՒՄՆԵՐԸ
G3: հազար դրամներով
A4: Ծրագրային դասիչ | C4: Պետական բյուջեի դեֆիցիտի ֆինանսավորման աղբյուրներն ու դրանց տարրերի անվանումները | D4: Ցուցանիշների փոփոխությունը (ավելացումները նշված են դրական նշանով)
D5: Առաջին եռամսյակ | E5: Առաջին կիսամյակ | F5: Ինն ամիս | G5: Տարի
A6: Ծրագիր | B6: Միջոցառում | C6: ԸՆԴԱՄԵՆԸ | D6: =+D8 -> 3500000 | E6: =+E8 -> 3500000 | F6: =+F8 -> 3500000 | G6: =+G8 -> 3500000
C7: այդ թվում՝
C8: ՀՀ էկոնոմիկայի նախարարություն | D8: =+D9 -> 3500000 | E8: =+E9 -> 3500000 | F8: =+F9 -> 3500000 | G8: =+G9 -> 3500000
A9: =+'[1]2'!B9 -> 1226 | C9: =+'[1]2'!D10 -> Տնտեսական երկարաժամկետ զարգացմանն ուղղված ծրագիր | D9: =+D10 -> 3500000 | E9: =+E10 -> 3500000 | F9: =+F10 -> 3500000 | G9: =+G10 -> 3500000
B10: =+'[1]2'!C16 -> 42002 | C10: =+'[1]2'!D17 -> «Համահայկական ֆոնդ» փակ ոչ հրապարակային պայմանագրային ներդրումային ֆոնդին բյուջետային վարկի տրամադրում | D10: =+D14 -> 3500000 | E10: =+E14 -> 3500000 | F10: =+F14 -> 3500000 | G10: =+G14 -> 3500000
C11: այդ թվում՝ ըստ կատարողների
C12: ՀՀ ֆինանսների նախարարություն | D12: =+D10 -> 3500000 | E12: =+E10 -> 3500000 | F12: =+F10 -> 3500000 | G12: =+G10 -> 3500000
C13: այդ թվում՝ ըստ տնտեսագիտական դասակարգման հոդվածների՝
C14: ՀԻՄՆԱԿԱՆ ԳՈՒՄԱՐԻ ՄԱՐՄԱՆ ԵՎ ՖԻՆԱՆՍԱԿԱՆ ԱԿՏԻՎՆԵՐԻ ՁԵՌՔԲԵՐՄԱՆ ԳԾՈՎ ԾԱԽՍԵՐ, այդ թվում` | D14: =+D15 -> 3500000 | E14: =+E15 -> 3500000 | F14: =+F15 -> 3500000 | G14: =+G15 -> 3500000
C15: ՖԻՆԱՆՍԱԿԱՆ ԱԿՏԻՎՆԵՐԻ ՁԵՌՔԲԵՐՈՒՄ, այդ թվում | D15: =+D16 -> 3500000 | E15: =+E16 -> 3500000 | F15: =+F16 -> 3500000 | G15: =+G16 -> 3500000
C16: ՆԵՐՔԻՆ ՖԻՆԱՆՍԱԿԱՆ ԱԿՏԻՎՆԵՐԻ ՁԵՌՔԲԵՐՈՒՄ, այդ թվում` | D16: =+D17 -> 3500000 | E16: =+E17 -> 3500000 | F16: =+F17 -> 3500000 | G16: =+G17 -> 3500000
C17: Վարկերի և փոխատվությունների տրամադրում | D17: =+'[1]2'!E16 -> 3500000 | E17: =+'[1]2'!F16 -> 3500000 | F17: =+'[1]2'!G16 -> 3500000 | G17: =+'[1]2'!H16 -> 3500000

Sheet 5
A1: Հավելված N 5 ՀՀ կառավարության 2024 թվականի -ի N -Ն որոշման
A2: «ՀԱՅԱՍՏԱՆԻ ՀԱՆՐԱՊԵՏՈՒԹՅԱՆ 2024 ԹՎԱԿԱՆԻ ՊԵՏԱԿԱՆ ԲՅՈՒՋԵԻ ՄԱՍԻՆ» ՀԱՅԱՍՏԱՆԻ ՀԱՆՐԱՊԵՏՈՒԹՅԱՆ ՕՐԵՆՔԻ N 3 ՀԱՎԵԼՎԱԾՈՒՄ N 1.1.1.1 ԱՂՅՈՒՍԱԿԻ ԵՎ ՀԱՅԱՍՏԱՆԻ ՀԱՆՐԱՊԵՏՈՒԹՅԱՆ ԿԱՌԱՎԱՐՈՒԹՅԱՆ 2023 ԹՎԱԿԱՆԻ ԴԵԿՏԵՄԲԵՐԻ 28-Ի N 2323-Ն ՈՐՈՇՄԱՆ N 1 ՀԱՎԵԼՎԱԾՈՒՄ N 5 ԱՂՅՈՒՍԱԿԻ ԼՐԱՑՈՒՄՆԵՐԸ
A4: ՄԱՍ 2. ՊԵՏԱԿԱՆ ՄԱՐՄՆԻ ԳԾՈՎ ԱՐԴՅՈՒՆՔԱՅԻՆ (ԿԱՏԱՐՈՂԱԿԱՆ) ՑՈՒՑԱՆԻՇՆԵՐԸ
A6: Ծրագրի դասիչը | B6: Ծրագրի անվանումը
A7: =+'[1]2'!B9 -> 1226 | B7: =+'[1]2'!D10 -> Տնտեսական երկարաժամկետ զարգացմանն ուղղված ծրագիր
A8: Ծրագրի միջոցառումները
A9: Ծրագրի դասիչը՝ | B9: =+'[1]2'!B9 -> 1226 | C9: Ցուցանիշների փոփոխությունը (ավելացումները նշված են դրական նշանով)
A10: Միջոցառման դասիչը՝ | B10: =+'[1]2'!C16 -> 42002 | C10: Առաջին եռամսյակ | D10: Առաջին կիսամյակ | E10: Ինն ամիս | F10: Տարի
A11: Միջոցառման անվանումը՝ | B11: =+'[1]2'!D17 -> «Համահայկական ֆոնդ» փակ ոչ հրապարակային պայմանագրային ներդրումային ֆոնդին բյուջետային վարկի տրամադրում
A12: Նկարագրությունը՝ | B12: «Ջի Թի Բի ՍԹԻԼ» ՍՊ ընկերության գործարար ծրագրի իրականացման նպատակով «Համահայկական ֆոնդ» փակ ոչ հրապարակային պայմանագրային ներդրումային ֆոնդին բյուջետային վարկի տրամադրում
A13: Միջոցառման տեսակը՝ | B13: Վարկերի տրամադրում
A14: Միջոցառումն իրականացնողի անվանումը՝ | B14: ՀՀ էկոնոմիկայի նախարարություն
B15: Արդյունքի չափորոշիչներ
A16: Տրամադրված բյուջետային վարկ, հատ | D16: 1 | F16: 1
A17: Միջոցառման վրա կատարվող ծախսը (հազար դրամ) | C17: ='[1]1'!B14 -> 3500000 | D17: ='[1]1'!C14 -> 3500000 | E17: ='[1]1'!D14 -> 3500000 | F17: ='[1]1'!E14 -> 3500000

Sheet 6
A1: Հավելված N 6 ՀՀ կառավարության 2024 թվականի -ի N -Ն որոշման
A3: «ՀԱՅԱՍՏԱՆԻ ՀԱՆՐԱՊԵՏՈՒԹՅԱՆ 2024 ԹՎԱԿԱՆԻ ՊԵՏԱԿԱՆ ԲՅՈՒՋԵԻ ՄԱՍԻՆ» ՀԱՅԱՍՏԱՆԻ ՀԱՆՐԱՊԵՏՈՒԹՅԱՆ ՕՐԵՆՔԻ N 1 ՀԱՎԵԼՎԱԾԻ N 2 ԱՂՅՈՒՍԱԿՈՒՄ ԵՎ ՀԱՅԱՍՏԱՆԻ ՀԱՆՐԱՊԵՏՈՒԹՅԱՆ ԿԱՌԱՎԱՐՈՒԹՅԱՆ 2023 ԹՎԱԿԱՆԻ ԴԵԿՏԵՄԲԵՐԻ 28-Ի N 2323-Ն ՈՐՈՇՄԱՆ N 5 ՀԱՎԵԼՎԱԾԻ N 1 ԱՂՅՈՒՍԱԿՈՒՄ ԿԱՏԱՐՎՈՂ ՓՈՓՈԽՈՒԹՅՈՒՆԸ
A5: Ծրագրային դասիչը | C5: Բյուջետային գլխավոր կարգադրիչների, ծրագրերի և միջոցառումների անվանումները | D5: Ցուցանիշների փոփոխությունը (նվազեցումները նշված են փակագծերում)
A6: Ծրագիր | B6: Միջոցառում | D6: Առաջին եռամսյակ | E6: Կիսամյակ | F6: Ինն ամիս | G6: Տարի
C7: ԸՆԴԱՄԵՆԸ ԾԱԽՍԵՐ | D7: =+D8 -> -3500000 | E7: =+E8 -> -3500000 | F7: =+F8 -> -3500000 | G7: =+G8 -> -3500000
C8: ՀՀ կառավարություն | D8: =+D9 -> -3500000 | E8: =+E9 -> -3500000 | F8: =+F9 -> -3500000 | G8: =+G9 -> -3500000
A9: 1139 | C9: Ծրագրի անվանումը` | D9: =+D16 -> -3500000 | E9: =+E16 -> -3500000 | F9: =+F16 -> -3500000 | G9: =+G16 -> -3500000
C10: ՀՀ կառավարության պահուստային ֆոնդ
C11: Ծրագրի նպատակը`
C12: Պետական բյուջեում չկանխատեսված, ինչպես նաև բյուջետային երաշխիքների ապահովման ծախսերի ֆինանսավորման ապահովում_x000D_
C13: Վերջնական արդյունքի նկարագրությունը`
C14: Պահուստային ֆոնդի կառավարման արդյունավետության և թափանցիկության ապահովում_x000D_
A15: Ծրագրի միջոցառումներ
B16: 11001 | C16: Միջոցառման անվանումը` | D16: -3500000 | E16: -3500000 | F16: -3500000 | G16: -3500000
C17: ՀՀ կառավարության պահուստային ֆոնդ
C18: Միջոցառման նկարագրությունը`
C19: ՀՀ պետական բյուջեում նախատեսված ելքերի լրացուցիչ ֆինանսավորման, պետական բյուջեում չկանխատեսված ելքերի, ինչպես նաև բյուջետային երաշխիքների ապահովման ելքերի ֆինանսավորման ապահովում
C20: Միջոցառման տեսակը
C21: Ծառայությունների մատուցում

Sheet 7
A1: Հավելված N 7 ՀՀ կառավարության 2024 թվականի -ի N -Ն որոշման
A3: ՀԱՅԱՍՏԱՆԻ ՀԱՆՐԱՊԵՏՈՒԹՅԱՆ ԿԱՌԱՎԱՐՈՒԹՅԱՆ 2023 ԹՎԱԿԱՆԻ ԴԵԿՏԵՄԲԵՐԻ 28-Ի N 2323-Ն ՈՐՈՇՄԱՆ N 3 ԵՎ 4 ՀԱՎԵԼՎԱԾՆԵՐՈՒՄ ԿԱՏԱՐՎՈՂ ՓՈՓՈԽՈՒԹՅՈՒՆԸ
A5: Գործառական դասիչը | D5: Ծրագրային դասիչը | F5: Բյուջետային ծախսերի գործառական դասակարգման բաժինների, խմբերի և դասերի, բյուջետային ծրագրերի միջոցառումների, բյուջետային հատկացումների գլխավոր կարգադրիչների անվանումները | G5: Ցուցանիշների փոփոխությունը (նվազեցումները նշված են փակագծերում)
A6: Բաժին | B6: Խումբ | C6: Դաս | D6: Ծրագիր | E6: Միջոցառում | G6: Առաջին եռամսյակ | H6: Կիսամյակ | I6: Ինն ամիս | J6: Տարի
F7: ԸՆԴԱՄԵՆԸ ԾԱԽՍԵՐ | G7: =+G8 -> -3500000 | H7: =+H8 -> -3500000 | I7: =+I8 -> -3500000 | J7: =+J8 -> -3500000
A8: 11 | F8: ՀԻՄՆԱԿԱՆ ԲԱԺԻՆՆԵՐԻՆ ՉԴԱՍՎՈՂ ՊԱՀՈՒՍՏԱՅԻՆ ՖՈՆԴԵՐ | G8: =SUM(G10) -> -3500000 | H8: =SUM(H10) -> -3500000 | I8: =SUM(I10) -> -3500000 | J8: =SUM(J10) -> -3500000
F9: այդ թվում`
B10: 01 | F10: ՀՀ կառավարության և համայնքների պահուստային ֆոնդ | G10: =G12 -> -3500000 | H10: =H12 -> -3500000 | I10: =I12 -> -3500000 | J10: =J12 -> -3500000
F11: այդ թվում`
C12: 01 | F12: ՀՀ կառավարության պահուստային ֆոնդ | G12: =G14 -> -3500000 | H12: =H14 -> -3500000 | I12: =I14 -> -3500000 | J12: =J14 -> -3500000
F13: այդ թվում`
F14: ՀՀ կառավարություն | G14: =+G16 -> -3500000 | H14: =+H16 -> -3500000 | I14: =+I16 -> -3500000 | J14: =+J16 -> -3500000
F15: այդ թվում`
D16: 1139 | F16: =+'[2]2'!C80 -> ՀՀ կառավարության պահուստային ֆոնդ | G16: =+G18 -> -3500000 | H16: =+H18 -> -3500000 | I16: =+I18 -> -3500000 | J16: =+J18 -> -3500000
F17: այդ թվում`
E18: 11001 | F18: =+'[2]2'!C87 -> ՀՀ կառավարության պահուստային ֆոնդ | G18: =+G20 -> -3500000 | H18: =+H20 -> -3500000 | I18: =+I20 -> -3500000 | J18: =+J20 -> -3500000
F19: այդ թվում` ըստ կատարողների
F20: ՀՀ կառավարություն | G20: =+G22 -> -3500000 | H20: =+H22 -> -3500000 | I20: =+I22 -> -3500000 | J20: =+J22 -> -3500000
F21: այդ թվում` բյուջետային ծախսերի տնտեսագիտական դասակարգման հոդվածներ
F22: ԸՆԴԱՄԵՆԸ ԾԱԽՍԵՐ | G22: =+G23 -> -3500000 | H22: =+H23 -> -3500000 | I22: =+I23 -> -3500000 | J22: =+J23 -> -3500000
F23: ԸՆԹԱՑԻԿ ԾԱԽՍԵՐ | G23: =+G24 -> -3500000 | H23: =+H24 -> -3500000 | I23: =+I24 -> -3500000 | J23: =+J24 -> -3500000
F24: ԱՅԼ ԾԱԽՍԵՐ | G24: =+G25 -> -3500000 | H24: =+H25 -> -3500000 | I24: =+I25 -> -3500000 | J24: =+J25 -> -3500000
F25: Պահուստային միջոցներ | G25: =+'6'!D16 -> -3500000 | H25: =+'6'!E16 -> -3500000 | I25: =+'6'!F16 -> -3500000 | J25: =+'6'!G16 -> -3500000

Sheet 8
A1: Հավելված N 8 ՀՀ կառավարության 2024 թվականի -ի N -Ն որոշման
A3: ՀԱՅԱՍՏԱՆԻ ՀԱՆՐԱՊԵՏՈՒԹՅԱՆ ԿԱՌԱՎԱՐՈՒԹՅԱՆ 2023 ԹՎԱԿԱՆԻ ԴԵԿՏԵՄԲԵՐԻ 8-Ի N 2323-Ն ՈՐՈՇՄԱՆ N 9 ՀԱՎԵԼՎԱԾԻ N 9.48 ԱՂՅՈՒՍԱԿՈՒՄ ԵՎ N 9.1 ՀԱՎԵԼՎԱԾԻ N 9.1.58 ԱՂՅՈՒՍԱԿՈՒՄ ԿԱՏԱՐՎՈՂ ՓՈՓՈԽՈՒԹՅՈՒՆՆԵՐԸ
A4: ՀՀ կառավարություն
A5: ՄԱՍ 2. ՊԵՏԱԿԱՆ ՄԱՐՄՆԻ ԳԾՈՎ ԱՐԴՅՈՒՆՔԱՅԻՆ (ԿԱՏԱՐՈՂԱԿԱՆ) ՑՈՒՑԱՆԻՇՆԵՐԸ
A6: Ծրագրի դասիչը | B6: Ծրագրի անվանումը
A7: ='6'!A9 -> 1139 | B7: ='6'!C10 -> ՀՀ կառավարության պահուստային ֆոնդ
A9: Ծրագրի դասիչը` | B9: =+'6'!A9 -> 1139 | C9: Ցուցանիշների փոփոխությունը (նվազեցումները նշված են փակագծերում)
A10: Միջոցառման դասիչը` | B10: =+'6'!B16 -> 11001 | C10: Առաջին եռամսյակ | D10: Կիսամյակ | E10: Ինն ամիս | F10: Տարի
A11: Միջոցառման անվանումը` | B11: =+'6'!C17 -> ՀՀ կառավարության պահուստային ֆոնդ
A12: Նկարագրությունը` | B12: =+'6'!C19 -> ՀՀ պետական բյուջեում նախատեսված ելքերի լրացուցիչ ֆինանսավորման, պետական բյուջեում չկանխատեսված ելքերի, ինչպես նաև բյուջետային երաշխիքների ապահովման ելքերի ֆինանսավորման ապահովում
A13: Միջոցառման տեսակը` | B13: Ծառայությունների մատուցում
A14: Միջոցառումն իրականացնողի անվանումը | B14: ՀՀ կառավարություն
A15: Արդյունքի չափորոշիչներ
A16: Միջոցառման վրա կատարվող ծախսը (հազար դրամ) | C16: =+'6'!D16 -> -3500000 | D16: =+'6'!E16 -> -3500000 | E16: =+'6'!F16 -> -3500000 | F16: =+'6'!G16 -> -3500000
