Workbook
Name _tab10: #REF!
Name _tab10: #REF!
Name _tab11: #REF!
Name _tab11: #REF!
Name _tab12: #REF!
Name _tab12: #REF!
Name _tab13: #REF!
Name _tab13: #REF!
Name _tab14: #REF!
Name _tab14: #REF!
Name _tab15: #REF!
Name _tab15: #REF!
Name _tab16: #REF!
Name _tab16: #REF!
Name _tab17: #REF!
Name _tab17: #REF!
Name _tab18: #REF!
Name _tab18: #REF!
Name _tab19: #REF!
Name _tab19: #REF!
Name _tab20: #REF!
Name _tab20: #REF!
Name _tab21: #REF!
Name _tab21: #REF!
Name _tab22: #REF!
Name _tab22: #REF!
Name _tab23: #REF!
Name _tab23: #REF!
Name _tab24: #REF!
Name _tab24: #REF!
Name _tab5: #REF!
Name _tab5: #REF!
Name _tab6: #REF!
Name _tab6: #REF!
Name _tab7: #REF!
Name _tab7: #REF!
Name _tab8: #REF!
Name _tab8: #REF!
Name _tab9: #REF!
Name _tab9: #REF!
Name par_count: #REF!,#REF!,#REF!,#REF!,#REF!,#REF!,#REF!,#REF!,#REF!,#REF!,#REF!,#REF!,#REF!,#REF!,#REF!
Name par_count: #REF!,#REF!,#REF!,#REF!,#REF!,#REF!,#REF!,#REF!,#REF!,#REF!,#REF!,#REF!,#REF!,#REF!,#REF!
Name par_qual: #REF!,#REF!,#REF!,#REF!,#REF!
Name par_qual: #REF!,#REF!,#REF!,#REF!,#REF!
Name par_time: #REF!,#REF!,#REF!,#REF!
Name par_time: #REF!,#REF!,#REF!,#REF!
Name par2.12s: #REF!
Name par2.12s: #REF!
Name par2.4s: #REF!,#REF!,#REF!,#REF!,#REF!,#REF!,#REF!,#REF!,#REF!,#REF!,#REF!,#REF!,#REF!,#REF!,#REF!,#REF!
Name par2.4s: #REF!,#REF!,#REF!,#REF!,#REF!,#REF!,#REF!,#REF!,#REF!,#REF!,#REF!,#REF!,#REF!,#REF!,#REF!,#REF!
Name par2.5s: #REF!,#REF!
Name par2.5s: #REF!,#REF!
Name par2.6s: #REF!,#REF!,#REF!,#REF!
Name par2.6s: #REF!,#REF!,#REF!,#REF!
Name par2.7s: #REF!,#REF!
Name par2.7s: #REF!,#REF!
Name par2.9s: #REF!,#REF!,#REF!,#REF!,#REF!,#REF!,#REF!,#REF!,#REF!,#REF!,#REF!,#REF!,#REF!,#REF!,#REF!,#REF!
Name par2.9s: #REF!,#REF!,#REF!,#REF!,#REF!,#REF!,#REF!,#REF!,#REF!,#REF!,#REF!,#REF!,#REF!,#REF!,#REF!,#REF!
Name par4.10s: #REF!,#REF!
Name par4.10s: #REF!,#REF!

Sheet 1.
D1: Հավելված N 1
D2: ՀՀ կառավարության 2023 թվականի
C3: -----------------ի N -----------Ն որոշման
A5: ՀԱՅԱՍՏԱՆԻ ՀԱՆՐԱՊԵՏՈՒԹՅԱՆ 2023 ԹՎԱԿԱՆԻ ՊԵՏԱԿԱՆ ԲՅՈՒՋԵԻ ՄԱՍԻՆ» ՕՐԵՆՔԻ N 1 ՀԱՎԵԼՎԱԾԻ N 2 ԱՂՅՈՒՍԱԿՈՒՄ ԿԱՏԱՐՎՈՂ ՎԵՐԱԲԱՇԽՈՒՄԸ ԵՎ ՀԱՅԱՍՏԱՆԻ ՀԱՆՐԱՊԵՏՈՒԹՅԱՆ ԿԱՌԱՎԱՐՈՒԹՅԱՆ 2022 ԹՎԱԿԱՆԻ ԴԵԿՏԵՄԲԵՐԻ 29-Ի N 2111-Ն ՈՐՈՇՄԱՆ N 5 ՀԱՎԵԼՎԱԾԻ N 1 ԱՂՅՈՒՍԱԿՈՒՄ ԿԱՏԱՐՎՈՂ ՓՈՓՈԽՈՒԹՅՈՒՆՆԵՐԸ
D6: (հազար դրամ)
A7: Ծրագրային դասիչը | C7: Բյուջետային հատկացումների գլխավոր կարգադրիչների, ծրագրերի և միջոցառումների անվանումները | D7: Ցուցանիշների փոփոխությունները ավելացումները նշված են դրական նշանով, իսկ նվազեցումը՝ փակագծերում
A8: Ծրագիր | B8: Միջոցառում | D8: Տարի
C9: ԸՆԴԱՄԵՆԸ | D9: =D10+D269 -> 0
C10: ՀՀ աշխատանքի և սոցիալական հարցերի նախարարություն | D10: =D11+D36+D55+D68+D99+D112+D131+D150+D181+D218+D243+D256 -> 1696483.4
A11: 1005 | C11: Ծրագրի անվանումը` | D11: =SUM(D18,D24,D30) -> -9400
C12: Պարգևավճարներ և պատվովճարներ
C13: Ծրագրի նպատակը`
C14: Պետական հոգածության դրսևորում, առանձին կատեգորիայի քաղաքացիներին և նրանց ընտանիքներին սոցիալական երաշխիքների տրամադրում
C15: Վերջնական արդյունքի նկարագրությունը`
C16: Առանձին կատեգորիայի քաղաքացիներին և նրանց ընտանիքի անդամների սոցիալական պաշտպանվածության մակարդակի բարձրացում
A17: Ծրագրի միջոցառումներ
B18: 12002 | C18: Միջոցառման անվանումը` | D18: 300
C19: Վետերանների պատվովճարներ
C20: Միջոցառման նկարագրությունը`
C21: ՀՄՊ վետերաններին պատվովճարի տրամադրում
C22: Միջոցառման տեսակը
C23: Տրանսֆերտների տրամադրում
B24: 12003 | C24: Միջոցառման անվանումը` | D24: -6000
C25: Զոհված՝ հետմահու «Հայաստանի ազգային հերոս» ՀՀ բարձրագույն կոչում ստացած կամ «Մարտական խաչ» շքանշանով պարգևատրված անձի ընտանիքին տրվող պարգևավճար
C26: Միջոցառման նկարագրությունը`
C27: Զոհված՝ հետմահու «Հայաստանի ազգային հերոս» ՀՀ բարձրագույն կոչում ստացած կամ «Մարտական խաչ» շքանշանով պարգևատրված անձի ընտանիքին տրվող պարգևավճարի տրամամդրում
C28: Միջոցառման տեսակը
C29: Տրանսֆերտների տրամադրում
B30: 12005 | C30: Միջոցառման անվանումը` | D30: -3700
C31: Ծնողական փառքի մեդալով պարգևատրված անձանց ամենամսյա պատվովճար
C32: Միջոցառման նկարագրությունը`
C33: Ծնողական փառքի մեդալով պարգևատրված անձանց ամենամսյա պատվովճարի տրամադրում
C34: Միջոցառման տեսակը
C35: Տրանսֆերտների տրամադրում
A36: 1011 | C36: Ծրագրի անվանումը` | D36: =SUM(D43,D49) -> -933400
C37: Անապահով սոցիալական խմբերին աջակցություն
C38: Ծրագրի նպատակը`
C39: Օժանդակել անապահով ընտանիքների կենսամակարդակի բարձրացմանը
C40: Վերջնական արդյունքի նկարագրությունը`
C41: Աղքատության մեղմում և ծայրահեղ աղքատության կրճատում
...

Sheet 2.
G1: Հավելված N 2
G2: ՀՀ կառավարության 2023 թվականի
F3: -----------------ի N -----------Ն որոշման
A5: ՀԱՅԱՍՏԱՆԻ ՀԱՆՐԱՊԵՏՈՒԹՅԱՆ ԿԱՌԱՎԱՐՈՒԹՅԱՆ 2022 ԹՎԱԿԱՆԻ ԴԵԿՏԵՄԲԵՐԻ 29-Ի N 2111-Ն ՈՐՈՇՄԱՆ N 3 ԵՎ N 4 ՀԱՎԵԼՎԱԾՆԵՐՈՒՄ ԿԱՏԱՐՎՈՂ ՓՈՓՈԽՈՒԹՅՈՒՆՆԵՐԸ
G6: (հազար դրամ)
A7: Գործառական դասիչը | D7: Ծրագրային դասիչը | F7: Բյուջետային ծախսերի գործառական դասակարգման բաժինների, խմբերի և դասերի, բյուջետային ծրագրերի միջոցառումների, բյուջետային հատկացումների գլխավոր կարգադրիչների անվանումները | G7: Ցուցանիշների փոփոխությունները ավելացումները նշված են դրական նշանով, իսկ նվազեցումը՝ փակագծերում
A8: Բաժինը | B8: Խումբը | C8: Դասը | D8: Ծրագիր | E8: Միջոցառում | G8: Տարի
F9: ԸՆԴԱՄԵՆԸ ԾԱԽՍԵՐ | G9: =G11+G381 -> 0
F10: այդ թվում`
A11: 10 | F11: ՍՈՑԻԱԼԱԿԱՆ ՊԱՇՏՊԱՆՈՒԹՅՈՒՆ | G11: =G13+G39+G96+G113+G208+G234+G260+G297 -> 1696483.4
F12: այդ թվում`
B13: 01 | F13: Վատառողջություն և անաշխատունակություն | G13: =G15 -> -5760.9
F14: այդ թվում`
C15: 02 | F15: Անաշխատունակություն | G15: =G17 -> -5760.9
F16: այդ թվում`
F17: ՀՀ աշխատանքի և սոցիալական հարցերի նախարարություն | G17: =G19 -> -5760.9
F18: այդ թվում`
D19: 1160 | F19: Հաշմանդամություն ունեցող անձանց աջակցություն | G19: =G21+G30 -> -5760.9
F20: այդ թվում`
E21: 11012 | F21: Հաշմանդամություն ունեցող անձանց սոցիալ- վերականգնողական ծառայություններ ցերեկային կենտրոնում | G21: =G23 -> -2686.4
F22: այդ թվում` ըստ կատարողների
F23: ՀՀ աշխատանքի և սոցիալական հարցերի նախարարություն | G23: =G25 -> -2686.4
F24: այդ թվում` բյուջետային ծախսերի տնտեսագիտական դասակարգման հոդվածներ
F25: ԸՆԴԱՄԵՆԸ ԾԱԽՍԵՐ | G25: =G26 -> -2686.4
F26: ԸՆԹԱՑԻԿ ԾԱԽՍԵՐ | G26: =G27 -> -2686.4
F27: ԴՐԱՄԱՇՆՈՐՀՆԵՐ | G27: =G28 -> -2686.4
F28: Ընթացիկ դրամաշնորհներ պետական հատվածի այլ մակարդակներին | G28: =G29 -> -2686.4
F29: - Այլ ընթացիկ դրամաշնորհներ | G29: ='1.'!D231 -> -2686.4
E30: 11013 | F30: Հաշմանդամություն ունեցող անձանց շուրջօրյա խնամքի ծառայություներ համայնքահենք փոքր խմբային տներում | G30: =G32 -> -3074.5
F31: այդ թվում` ըստ կատարողների
F32: ՀՀ աշխատանքի և սոցիալական հարցերի նախարարություն | G32: =G34 -> -3074.5
F33: այդ թվում` բյուջետային ծախսերի տնտեսագիտական դասակարգման հոդվածներ
F34: ԸՆԴԱՄԵՆԸ ԾԱԽՍԵՐ | G34: =G35 -> -3074.5
F35: ԸՆԹԱՑԻԿ ԾԱԽՍԵՐ | G35: =G36 -> -3074.5
F36: ԴՐԱՄԱՇՆՈՐՀՆԵՐ | G36: =G37 -> -3074.5
F37: Ընթացիկ դրամաշնորհներ պետական հատվածի այլ մակարդակներին | G37: =G38 -> -3074.5
F38: - Այլ ընթացիկ դրամաշնորհներ | G38: ='1.'!D237 -> -3074.5
B39: 02 | F39: Ծերություն | G39: =G41 -> 3783752.4
F40: այդ թվում`
C41: 01 | F41: Ծերություն | G41: =G43 -> 3783752.4
...

Sheet 3
D1: Հավելված N 3
D2: ՀՀ կառավարության 2023 թվականի
C3: -----------------ի N -----------Ն որոշման
A5: ՀԱՅԱՍՏԱՆԻ ՀԱՆՐԱՊԵՏՈՒԹՅԱՆ ԿԱՌԱՎԱՐՈՒԹՅԱՆ 2022 ԹՎԱԿԱՆԻ ԴԵԿՏԵՄԲԵՐԻ 29-Ի N 2111-Ն ՈՐՈՇՄԱՆN 5 ՀԱՎԵԼՎԱԾԻ N 2 ԱՂՅՈՒՍԱԿՈՒՄ ԿԱՏԱՐՎՈՂ ՓՈՓՈԽՈՒԹՅՈՒՆՆԵՐԸ
A8: Ծրագրային դասիչ | C8: Բյուջետային գլխավոր կարգադրիչների, ծրագրերի, միջոցառումների, միջոցառումները կատարող պետական մարմինների և ուղղությունների անվանումները | D8: Ցուցանիշների փոփոխությունը (ավելացումները նշված են դրական նշանով)
A9: Ծրագիր | B9: Միջոցառում | D9: Տարի
C10: ԸՆԴԱՄԵՆԸ | D10: =D12 -> -83121.4
C11: այդ թվում`
A12: 1032 | B12: ='[1]1'!B24 -> 32007 | C12: Տարեց և (կամ) հաշմանդամություն ունեցող անձանց շուրջօրյա խնամք մատուցող պետական ոչ առևտրային կազմակերպությունների շենքային պայմանների բարելավում | D12: =D14 -> -83121.4
C13: այդ թվում` ըստ կատարողների
C14: ՀՀ աշխատանքի և սոցիալական հարցերի նախարարություն | D14: ='[1]1'!D24 -> -83121.4

Sheet 4
H1: Հավելված N 4
H2: ՀՀ կառավարության 2023 թվականի
H3: -----------------ի N -----------Ն որոշման
B5: ՀԱՅԱՍՏԱՆԻ ՀԱՆՐԱՊԵՏՈՒԹՅԱՆ ԿԱՌԱՎԱՐՈՒԹՅԱՆ 2022 ԹՎԱԿԱՆԻ ԴԵԿՏԵՄԲԵՐԻ 29-Ի N 2111-Ն ՈՐՈՇՄԱՆ N 5 ՀԱՎԵԼՎԱԾԻ N 7 ԱՂՅՈՒՍԱԿՈՒՄ ԿԱՏԱՐՎՈՂ ՓՈՓՈԽՈՒԹՅՈՒՆՆԵՐԸ
H6: (հազար դրամ)
B7: Ծրագրային դասիչ | D7: Բյուջետային գլխավոր կարգադրիչների, ծրագրերի, միջոցառումների, միջոցառումները կատարող պետական մարմինների և ուղղությունների անվանումները | G7: Միջոցառումները կատարող պետական մարմինների և դրամաշնորհ ստացող տնտեսավարող սուբյեկտների անվանումները | H7: Ցուցանիշների փոփոխությունները ավելացումները նշված են դրական նշանով, իսկ նվազեցումները՝ փակագծերում
B8: Ծրագիր | C8: Միջոցառում | H8: Տարի
B10: 1 | C10: 2 | D10: 3 | G10: 4 | H10: 5
B11: ՀՀ աշխատանքի և սոցիալական հարցերի նախարարություն | H11: =H12+H39+H34 -> -416043.6
B12: 1141 | C12: Ընտանիքներին, կանանց և երեխաներին աջակցություն | H12: =H13+H19+H23+H30+H32 -> -333332.7
C13: 11001 | D13: Երեխաների շուրջօրյա խնամքի ծառայություններ | G13: ՀՀ աշխատանքի և սոցիալական հարցերի նախարարություն | H13: =SUM(H14:H18) -> -118300
G14: «Երևանի մանկան տուն» ՊՈԱԿ | H14: -8900
G15: «Գավառի մանկատուն» ՊՈԱԿ | H15: -20000
G16: «Գյումրու «Երեխաների տուն» ՊՈԱԿ | H16: -26600
G17: «Մարի Իզմիրլյանի անվան մանկատուն» ՊՈԱԿ | H17: -23500
G18: «Խարբերդի մասնագիտացված մանկատուն» ՊՈԱԿ | H18: -39300
C19: 11007 | D19: Կյանքի դժվարին իրավիճակում հայտնված երեխաներին ժամանակավոր խնամքի տրամադրման ծառայություններ | G19: ՀՀ աշխատանքի և սոցիալական հարցերի նախարարություն | H19: =H20+H21+H22 -> -95200
G20: «Երևանի «Զատիկ» երեխաներին աջակցության կենտրոն» ՊՈԱԿ | H20: -53600
G21: «Շիրակի մարզի երեխայի և ընտանիքի աջակցության կենտրոն» ՊՈԱԿ | H21: -24600
G22: «Սյունիքի մարզի երեխայի և ընտանիքի աջակցության կենտրոն» ՊՈԱԿ* | H22: -17000
C23: 11009 | D23: Երեխաների և ընտանիքների աջակցության տրամադրման ծառայություններ | G23: ՀՀ աշխատանքի և սոցիալական հարցերի նախարարություն | H23: =SUM(H24:H29) -> -96100
G24: «Երեխայի և ընտանիքի աջակցության կենտրոն» ՊՈԱԿ | H24: -19400
G25: «Սյունիքի մարզի երեխայի և ընտանիքի աջակցության կենտրոն» ՊՈԱԿ* | H25: -18300
G26: «Լոռու մարզի երեխայի և ընտանիքի աջակցության կենտրոն» ՊՈԱԿ | H26: -19100
G27: «Երևանի Աջափնյակ թաղային համայնքի երեխաների սոցիալական հոգածության կենտրոն» ՊՈԱԿ | H27: -15900
G28: «Շիրակի մարզի երեխայի և ընտանիքի աջակցության կենտրոն» ՊՈԱԿ | H28: -3200
G29: «Երևանի «Զատիկ» երեխաներին աջակցության կենտրոն» ՊՈԱԿ | H29: -20200
C30: 11016 | D30: Ընտանիքում բռնության ենթարկված անձանց աջակցության կենտրոնների ծառայություններ | G30: ՀՀ աշխատանքի և սոցիալական հարցերի նախարարություն | H30: =H31 -> -2635.7
G31: Մրցույթով ընտրված կազմակերպություն | H31: ='1.'!D206 -> -2635.7
C32: 11018 | D32: Երեխաների խնամքի ցերեկային ծառայությունների տրամադրում | G32: ՀՀ աշխատանքի և սոցիալական հարցերի նախարարություն | H32: =H33 -> -21097
G33: Մրցույթով ընտրված կազմակերպություն | H33: ='1.'!D212 -> -21097
B34: 1160 | C34: Հաշմանդամություն ունեցող անձանց աջակցություն | H34: =H35+H37 -> -5760.9
C35: 11012 | D35: Հաշմանդամություն ունեցող անձանց սոցիալ- վերականգնողական ծառայություններ ցերեկային կենտրոնում | G35: ՀՀ աշխատանքի և սոցիալական հարցերի նախարարություն | H35: =H36 -> -2686.4
G36: Մրցույթով ընտրված կազմակերպություն | H36: ='1.'!D231 -> -2686.4
C37: 11013 | D37: Հաշմանդամություն ունեցող անձանց շուրջօրյա խնամքի ծառայություներ համայնքահենք փոքր խմբային տներում | G37: ՀՀ աշխատանքի և սոցիալական հարցերի նախարարություն | H37: =H38 -> -3074.5
G38: Մրցույթով ընտրված կազմակերպություն | H38: ='1.'!D237 -> -3074.5
B39: 1088 | C39: Զբաղվածության ծրագիր | H39: =H40 -> -76950
C40: 12002 | D40: Աշխատաշուկայում անմրցունակ ազատազրկման վայրերից վերադարձած, հաշմանդամություն ունեցող, ինչպես նաև «հաշմանդամություն ունեցող երեխա» կարգավիճակ ունեցող անձանց աշխատանքի տեղավորման դեպքում գործատուին աշխատավարձի մասնակի փոխհատուցում և հաշմանդամություն ունեցող անձին ուղեկցողի համար դրամական օգնության տրամադրում | G40: ՀՀ աշխատանքի և սոցիալական հարցերի նախարարության միասնական սոցիալական ծառայություն | H40: =H41 -> -76950
G41: Աշխատաշուկայում անմրցունակ անձանց օրենսդրությամբ սահմանված կարգով աշխատանքով ապահովող կազմակերպություններ | H41: ='1.'!D125 -> -76950

Sheet 5
C1: Հավելված N 5
C2: ՀՀ կառավարության 2023 թվականի
C3: -----------------ի N -----------Ն որոշման
A4: ՀԱՅԱՍՏԱՆԻ ՀԱՆՐԱՊԵՏՈՒԹՅԱՆ ԿԱՌԱՎԱՐՈՒԹՅԱՆ 2020 ԹՎԱԿԱՆԻ ԴԵԿՏԵՄԲԵՐԻ 30-Ի N 2215-Ն ՈՐՈՇՄԱՆ N 9 ՀԱՎԵԼՎԱԾԻ N 9.1.20 ԱՂՅՈՒՍԱԿՈՒՄ ԿԱՏԱՐՎՈՂ ՓՈՓՈԽՈՒԹՅՈՒՆՆԵՐԸ
A5: ՀԱՅԱՍՏԱՆԻ ՀԱՆՐԱՊԵՏՈՒԹՅԱՆ ԿԱՌԱՎԱՐՈՒԹՅԱՆ 2022 ԹՎԱԿԱՆԻ ԴԵԿՏԵՄԲԵՐԻ 29-Ի N 2111-Ն ՈՐՈՇՄԱՆ N 9 ՀԱՎԵԼՎԱԾԻ N 9.15 ԵՎ N 9.47 ԱՂՅՈՒՍԱԿՈՒՄ ԿԱՏԱՐՎՈՂ ՓՈՓՈԽՈՒԹՅՈՒՆՆԵՐԸ
A6: Հայաստանի Հանրապետության աշխատանքի և սոցիալական հարցերի նախարարություն
A8: ՄԱՍ 2. ՊԵՏԱԿԱՆ ՄԱՐՄՆԻ ԳԾՈՎ ԱՐԴՅՈՒՆՔԱՅԻՆ (ԿԱՏԱՐՈՂԱԿԱՆ) ՑՈՒՑԱՆԻՇՆԵՐԸ
A9: Ծրագրի դասիչը | B9: Ծրագրի անվանումը
A10: 1005 | B10: Պարգևավճարներ և պատվովճարներ
A11: Ծրագրի միջոցառումները
A13: Ծրագրի դասիչը` | B13: 1005 | C13: Ցուցանիշների փոփոխությունները (ավելացումները նշված են դրական նշանով)
A14: Միջոցառման դասիչը` | B14: 12002 | C14: Տարի
A15: Միջոցառման անվանումը` | B15: Վետերանների պատվովճարներ
A16: Նկարագրությունը` | B16: ՀՄՊ վետերաններին պատվովճարի տրամադրում
A17: Միջոցառման տեսակը` | B17: Տրանսֆերտների տրամադրում
A18: Շահառուների ընտրության չափանիշները | B18: ՀՄ պատերազմի վետերաններին պատվովճարների տրամադրում 02.12.1998թ. ՀՕ-267-Ն օրենքի 4-րդ հոդվածով
A19: Արդյունքի չափորոշիչներ
A20: Միջոցառման վրա կատարվող ծախսը (հազար դրամ) | C20: ='1.'!D18 -> 300
A22: Ծրագրի դասիչը` | B22: 1005 | C22: Ցուցանիշների փոփոխությունները (նվազեցումները նշված են փակագծերում)
A23: Միջոցառման դասիչը` | B23: 12003 | C23: Տարի
A24: Միջոցառման անվանումը` | B24: Զոհված՛ հետմահու «Հայաստանի ազգային հերոս» ՀՀ բարձրագույն կոչում ստացած կամ «Մարտական խաչ» շքանշանով պարգևատրված անձի ընտանիքին տրվող պարգևավճար
A25: Նկարագրությունը` | B25: Զոհված՛ հետմահու «Հայաստանի ազգային հերոս» ՀՀ բարձրագույն կոչում ստացած կամ «Մարտական խաչ» շքանշանով պարգևատրված անձի ընտանիքին տրվող պարգևավճարի տրամադրում
A26: Միջոցառման տեսակը` | B26: Տրանսֆերտների տրամադրում
A27: Շահառուների ընտրության չափանիշները | B27: Զոհված հետմահու «Հայաստանի ազգային հերոս» ՀՀ բարձրագույն կոչում ստացած կամ «Մարտական խաչ» շքանշանով պարգևատրված անձի ընտանիքի անդամներ
A28: Արդյունքի չափորոշիչներ
A29: Միջոցառման վրա կատարվող ծախսը (հազար դրամ) | C29: ='1.'!D24 -> -6000
A31: Ծրագրի դասիչը` | B31: 1005 | C31: Ցուցանիշների փոփոխությունները (նվազեցումները նշված են փակագծերում)
A32: Միջոցառման դասիչը` | B32: 12005 | C32: Տարի
A33: Միջոցառման անվանումը` | B33: Ծնողական փառքի մեդալով պարգևատրված անձանց ամենամսյա պատվովճար
A34: Նկարագրությունը` | B34: Ծնողական փառքի մեդալով պարգևատրված անձանց ամենամսյա պատվովճար
A35: Միջոցառման տեսակը` | B35: Տրանսֆերտների տրամադրում
A36: Միջոցառումն իրականացնողի անվանումը | B36: ՀՀ աշխատանքի և սոցիալական հարցերի նախարարության միասնական սոցիալական ծառայություն
A37: Արդյունքի չափորոշիչներ
A38: Շահառուների թիվ,մարդ | C38: -3 | D38: 10000
A39: Միջոցառման վրա կատարվող ծախսը (հազար դրամ) | C39: ='1.'!D30 -> -3700
A41: Ծրագրի դասիչը | B41: Ծրագրի անվանումը
A42: 1011 | B42: Անապահով սոցիալական խմբերին աջակցություն
A43: Ծրագրի միջոցառումները
A45: Ծրագրի դասիչը` | B45: 1011 | C45: Ցուցանիշների փոփոխությունները (նվազեցումները նշված են փակագծերում)
A46: Միջոցառման դասիչը` | B46: 11003 | C46: Տարի
...

Sheet 6
C1: Հավելված N 6
C2: ՀՀ կառավարության 2023 թվականի
C3: -----------------ի N -----------Ն որոշման
A4: ՀԱՅԱՍՏԱՆԻ ՀԱՆՐԱՊԵՏՈՒԹՅԱՆ ԿԱՌԱՎԱՐՈՒԹՅԱՆ 2020 ԹՎԱԿԱՆԻ ԴԵԿՏԵՄԲԵՐԻ 30-Ի N 2215-Ն ՈՐՈՇՄԱՆ N 9 ՀԱՎԵԼՎԱԾԻ N 9.1.20 ԱՂՅՈՒՍԱԿՈՒՄ ԿԱՏԱՐՎՈՂ ՓՈՓՈԽՈՒԹՅՈՒՆՆԵՐԸ
A5: ՀԱՅԱՍՏԱՆԻ ՀԱՆՐԱՊԵՏՈՒԹՅԱՆ ԿԱՌԱՎԱՐՈՒԹՅԱՆ 2022 ԹՎԱԿԱՆԻ ԴԵԿՏԵՄԲԵՐԻ 29-Ի N 2111-Ն N 9.1 ՀԱՎԵԼՎԱԾԻ N 9.1.15, N 9.1.19 ԵՎ N 9.1.58 ԱՂՅՈՒՍԱԿՈՒՄ ԿԱՏԱՐՎՈՂ ՓՈՓՈԽՈՒԹՅՈՒՆՆԵՐԸ
A6: ՄԱՍ 1. ՊԵՏԱԿԱՆ ՄԱՐՄՆԻ ԳԾՈՎ ԱՐԴՅՈՒՆՔԱՅԻՆ (ԿԱՏԱՐՈՂԱԿԱՆ) ՑՈՒՑԱՆԻՇՆԵՐԸ
A7: ՀՀ աշխատանքի և սոցիալական հարցերի նախարարություն
A9: Ծրագրի դասիչը | B9: Ծրագրի անվանումը
A10: 1032 | B10: Խնամքի ծառայություններ 18 տարեկանից բարձր տարիքի անձանց
A11: Ծրագրի միջոցառումները
A13: Ծրագրի դասիչը` | B13: 1032 | C13: Ցուցանիշների փոփոխությունը ( նվազեցումները նշված են փակագծերում)
A14: Միջոցառման դասիչը` | B14: 32007 | C14: տարի
A15: Միջոցառման անվանումը` | B15: Տարեց և (կամ) հաշմանդամություն ունեցող անձանց շուրջօրյա խնամք մատուցող պետական ոչ առևտրային կազմակերպությունների շենքային պայմանների բարելավում
A16: Նկարագրությունը` | B16: Տարեց և (կամ) հաշմանդամություն ունեցող անձանց շուրջօրյա խնամք մատուցող ՊՈԱԿ-ների վերանորոգման և շինարարության համար անհրաժեշտ նախագծանախահաշվային փաթեթների կազմում և փորձաքննության անցկացում, վերանորոգման և շինարարական աշխատանքների իրականացում
A17: Միջոցառման տեսակը` | B17: Այլ պետական կազմակերպությունների կողմից օգտագործվող ոչ ֆինանսական ակտիվների հետ գործառնություններ
A18: Միջոցառումն իրականացնողի անվանումը | B18: ՀՀ աշխատանքի և սոցիալական հարցերի նախարարություն
A19: Արդյունքի չափորոշիչներ
A20: Նախագծանախահաշվային փաթեթների թիվ, հատ | C20: -2
A21: Շուրջօրյա խնամքի կարիք ունեցող տարեց և (կամ) հաշմանդամություն ունեցող անձանց շուրջօրյա խնամք մատուցող ՊՈԱԿ-ներ | C21: -2
A22: Միջոցառման վրա կատարվող ծախսը (հազար դրամ) | C22: ='5'!C85 -> -83121.4
A24: Ծրագրի դասիչը | B24: Ծրագրի անվանումը
A25: 1068 | B25: Ժողովրդագրական վիճակի բարելավում
A26: Ծրագրի միջոցառումները
A28: Ծրագրի դասիչը` | B28: 1068 | C28: Ցուցանիշների փոփոխությունները (ավելացումները նշված են դրական նշանով)
A29: Միջոցառման դասիչը` | B29: 12005 | C29: Տարի
A30: Միջոցառման անվանումը` | B30: Զոհված զինծառայողների ծնողների՝ վերարտադրողականության օժանդակ տեխնոլոգիաների կիրառմամբ բժշկական օգնության և սպասարկման որոշ ծախսերի մասնակի փոխհատուցման տրամադրում
A31: Նկարագրությունը` | B31: Զոհված զինծառայողների ծնողների վերարտադրողական առողջությանն աջակցելու նպատակով վերարտադրողականության օժանդակ տեխնոլոգիաների կիրառմամբ բժշկական օգնության և սպասարկման որոշ ծախսերի մասնակի փոխհատուցման տրամադրում
A32: Միջոցառման տեսակը` | B32: Տրանսֆերտների տրամադրում
A33: Շահառուների ընտրության չափանիշները | B33: ՀՀ կառավարության 2022 թվականի հունվարի 13-ի N 64-Լ որոշում
A34: Արդյունքի չափորոշիչներ
A35: Շահառուների թվաքանակը, մարդ | C35: ='5'!C129 -> 15
A36: Միջոցառման վրա կատարվող ծախսը (հազար դրամ) | C36: ='5'!C130 -> 9000
A38: Ծրագրի դասիչը | B38: Ծրագրի անվանումը
A39: 1141 | B39: Ընտանիքներին, կանանց և երեխաներին աջակցություն
A40: Ծրագրի միջոցառումները
A42: Ծրագրի դասիչը` | B42: 1141 | C42: Ցուցանիշների փոփոխությունը ( նվազեցումները նշված են փակագծերում)
A43: Միջոցառման դասիչը` | B43: 11001 | C43: Տարի
A44: Միջոցառման անվանումը` | B44: Երեխաների շուրջօրյա խնամքի ծառայություններ
A45: Նկարագրությունը` | B45: Մինչև 18 տարեկան առանց ծնողական խնամքի մնացած երեխաների շուրջօրյա խնամքի, դաստիարակության, ուսման, ֆիզիկական և մտավոր զարգացմանը նպաստող պայմանների ապահովում, երեխաների իրավունքների և շահերի պաշտպանություն
A46: Միջոցառման տեսակը` | B46: Ծառայությունների մատուցում
...

Sheet 7
I1: Հավելված N 7
I2: ՀՀ կառավարության 2022 թվականի
I3: -----------------ի N -----------Ն որոշման
A5: ՀԱՅԱՍՏԱՆԻ ՀԱՆՐԱՊԵՏՈՒԹՅԱՆ ԿԱՌԱՎԱՐՈՒԹՅԱՆ 2022 ԹՎԱԿԱՆԻ ԴԵԿՏԵՄԲԵՐԻ 29-Ի N 2111-Ն ՈՐՈՇՄԱՆ N 10 ՀԱՎԵԼՎԱԾՈՒՄ ԿԱՏԱՐՎՈՂ ՓՈՓՈԽՈՒԹՅՈՒՆՆԵՐԸ
A7: Գնման առարկայի | G7: Միավորի գինը ( դրամ) | H7: Ցուցանիշների փոփոխությունները ավելացումները նշված են դրական նշանով, իսկ նվազեցումը՝ փակագծերում
A8: Կոդը | D8: Անվանումը | E8: Գնման ձևը | F8: Չափման միավորը | H8: Քանակը | I8: Գումարը (հազար դրամ)
A9: Գնման առարկայի | G9: Միավորի գինը ( դրամ) | H9: Ցուցանիշների փոփոխությունները ավելացումները նշված են դրական նշանով, իսկ նվազեցումը՝ փակագծերում
A10: Կոդը | D10: Անվանումը | E10: Գնման ձևը | F10: Չափման միավորը | H10: Քանակը | I10: Գումարը (հազար դրամ)
A11: ՀՀ աշխատանքի և սոցիալական հարցերի նախարարություն | I11: =I12 -> -83121.4
A12: Բաժին N 10 | B12: Խումբ N 02 | C12: Դաս N 01 | D12: Ծերություն | I12: =+I13 -> -83121.4
A13: 1032 32007 | B13: =+'[1]2'!F57 -> այդ թվում` ըստ կատարողների | I13: =+I14 -> -83121.4
B14: ՄԱՍ III. ԾԱՌԱՅՈՒԹՅՈՒՆՆԵՐ | I14: =SUM(I15:I22) -> -83121.4
A15: 71241200/3 | B15: նախագծերի պատրաստում, ծախսերի գնահատում | E15: ԳՀ | F15: դրամ | I15: =-22680000/1000 -> -22680
A16: 71241200/1 | B16: նախագծերի պատրաստում, ծախսերի գնահատում | E16: ԳՀ | F16: դրամ | I16: =-8905000/1000 -> -8905
A17: 71241200/502 | B17: նախագծերի պատրաստում, ծախսերի գնահատում | E17: ԳՀ | F17: դրամ | I17: =-31200000/1000 -> -31200
A18: 71241200/504 | B18: նախագծերի պատրաստում, ծախսերի գնահատում | E18: ԳՀ | F18: դրամ | I18: =-18000000/1000 -> -18000
A19: 50531140/2 | B19: փորձաքննության ծառայություններ | E19: ԳՀ | F19: դրամ | I19: =-638200/1000 -> -638.2
A20: 50531140/1 | B20: փորձաքննության ծառայություններ | E20: ԳՀ | F20: դրամ | I20: =-532400/1000 -> -532.4
A21: 50531140/4 | B21: փորձաքննության ծառայություններ | E21: ԳՀ | F21: դրամ | I21: =-605000/1000 -> -605
A22: 50531140/3 | B22: փորձաքննության ծառայություններ | E22: ԳՀ | F22: դրամ | I22: =-560800/1000 -> -560.8
A23: ՀՀ աշխատանքի և սոցիալական հարցերի նախարարության միասնական սոցիալական ծառայություն | I23: =+I24+I28+I49 -> -13525.397
A24: Բաժին N 10 | B24: Խումբ N 09 | C24: Դաս N 01 | D24: Սոցիալական պաշտպանություն (այլ դասերին չպատկանող) | I24: =+I25 -> -13700
A25: 1011 11003 | B25: Սոցիալական դեպքի վարման ծառայության ձեռք բերում | I25: =+I26 -> -13700
B26: ՄԱՍ III. ԾԱՌԱՅՈՒԹՅՈՒՆՆԵՐ | I26: =+I27 -> -13700
A27: 64211130-505 | B27: բջջային հեռախոսների ծառայություններ | E27: ԷԱՃ | F27: դրամ | I27: -13700
A28: Բաժին N 10 | B28: Խումբ N 09 | C28: Դաս N 02 | D28: Սոցիալական պաշտպանությանը տրամադրվող օժանդակ ծառայություններ (այլ դասերին չպատկանող) | I28: =+I29+I32+I35 -> 17076.003
A29: 1068 11001 | B29: Մինչև 2 տարեկան երեխայի խնամքի նպաստի տրամադրման ապահովում | I29: =+I30 -> -20000
B30: ՄԱՍ III. ԾԱՌԱՅՈՒԹՅՈՒՆՆԵՐ | I30: =+I31 -> -20000
A31: 79571100-1 | B31: փոստային առաքման ծառայություններ | E31: ՄԱ | F31: դրամ | I31: -20000
A32: 1102 11002 | B32: Կենսաթոշակների և այլ դրամական վճարների իրականացման ապահովում | I32: =+I33 -> 40000
B33: ՄԱՍ III. ԾԱՌԱՅՈՒԹՅՈՒՆՆԵՐ | I33: =+I34 -> 40000
A34: 79571100-1 | B34: փոստային առաքման ծառայություններ | E34: ՄԱ | F34: դրամ | I34: 40000
A35: 1160 11005 | B35: Հաշմանդամություն ունեցող անձանց մատուցվող ծառայությունների ծրագրի իրականացման ապահովում | I35: =+I36 -> -2923.9968
B36: ՄԱՍ III. ԾԱՌԱՅՈՒԹՅՈՒՆՆԵՐ | I36: =SUM(I37:I48) -> -2923.9968
A37: 79821170-1 | B37: տպագրական և առաքման ծառայություններ | E37: ԷԱՃ | F37: դրամ | I37: -132.59682
A38: 79821170-567 | B38: տպագրական և առաքման ծառայություններ | E38: ԷԱՃ | F38: հատ | G38: 5 | H38: -8500 | I38: =+G38*H38/1000 -> -42.5
A39: 79821170-568 | B39: տպագրական և առաքման ծառայություններ | E39: ԷԱՃ | F39: հատ | G39: 5 | H39: -41200 | I39: =+G39*H39/1000 -> -206
A40: 79821170-569 | B40: տպագրական և առաքման ծառայություններ | E40: ԷԱՃ | F40: հատ | G40: 25 | H40: -2000 | I40: =+G40*H40/1000 -> -50
A41: 79821170-570 | B41: տպագրական և առաքման ծառայություններ | E41: ԷԱՃ | F41: հատ | G41: 20 | H41: -24000 | I41: =+G41*H41/1000 -> -480
A42: 79821170-571 | B42: տպագրական և առաքման ծառայություններ | E42: ԷԱՃ | F42: հատ | G42: 3 | H42: -6000 | I42: =+G42*H42/1000 -> -18
...

Sheet 8
G1: Հավելված N 8
F2: ՀՀ կառավարության 2023 թվականի
F3: -----------------ի N -----------Ն որոշման
A5: ՀԱՅԱՍՏԱՆԻ ՀԱՆՐԱՊԵՏՈՒԹՅԱՆ 2023 ԹՎԱԿԱՆԻ ՊԵՏԱԿԱՆ ԲՅՈՒՋԵՈՎ ՆԱԽԱՏԵՍՎԱԾ՝ ՀԱՅԱՍՏԱՆԻ ՀԱՆՐԱՊԵՏՈՒԹՅԱՆ ԿԱՌԱՎԱՐՈՒԹՅԱՆ ՊԱՀՈՒՍՏԱՅԻՆ ՖՈՆԴԻՑ ՀԱՏԿԱՑՈՒՄՆԵՐ ԿԱՏԱՐԵԼՈՒ ՎԵՐԱԲԵՐՅԱԼ
G6: (հազար դրամ)
A7: Գործառական դասիչը | D7: Ծրագրային դասիչը | F7: Բյուջետային ծախսերի գործառական դասակարգման բաժինների, խմբերի և դասերի, բյուջետային ծրագրերի միջոցառումների, բյուջետային հատկացումների գլխավոր կարգադրիչների անվանումները | G7: Ցուցանիշների փոփոխությունները ավելացումները նշված են դրական նշանով, իսկ նվազեցումը՝ փակագծերում
A8: Բաժինը | B8: Խումբը | C8: Դասը | D8: Ծրագիր | E8: Միջոցառում | G8: Տարի
F9: ԸՆԴԱՄԵՆԸ ԾԱԽՍԵՐ | G9: =G11+G29 -> 0
F10: այդ թվում`
A11: 11 | F11: ՀԻՄՆԱԿԱՆ ԲԱԺԻՆՆԵՐԻՆ ՉԴԱՍՎՈՂ ՊԱՀՈՒՍՏԱՅԻՆ ՖՈՆԴԵՐ | G11: =SUM(G13) -> -1696483.4
F12: այդ թվում`
B13: 01 | F13: ՀՀ կառավարության և համայնքների պահուստային ֆոնդ | G13: =SUM(G15) -> -1696483.4
F14: այդ թվում`
C15: 01 | F15: ՀՀ կառավարության պահուստային ֆոնդ | G15: =G17 -> -1696483.4
F16: այդ թվում`
F17: ՀՀ կառավարություն | G17: =G19 -> -1696483.4
F18: այդ թվում`
D19: 1139 | F19: ՀՀ կառավարության պահուստային ֆոնդ | G19: =SUM(G21) -> -1696483.4
F20: այդ թվում` ըստ կատարողների
E21: 11001 | F21: ՀՀ կառավարության պահուստային ֆոնդ | G21: =G23 -> -1696483.4
F22: այդ թվում` ըստ կատարողների
F23: ՀՀ կառավարություն | G23: =G24 -> -1696483.4
F24: այդ թվում` բյուջետային ծախսերի տնտեսագիտական դասակարգման հոդվածներ | G24: =SUM(G26) -> -1696483.4
F25: ԸՆԴԱՄԵՆԸ ԾԱԽՍԵՐ | G25: =SUM(G27) -> -1696483.4
F26: ԸՆԹԱՑԻԿ ԾԱԽՍԵՐ | G26: =SUM(G28) -> -1696483.4
F27: ԱՅԼ ԾԱԽՍԵՐ | G27: =SUM(G28) -> -1696483.4
F28: Պահուստային միջոցներ | G28: =SUM('1.'!D276) -> -1696483.4
A29: 10 | F29: ՍՈՑԻԱԼԱԿԱՆ ՊԱՇՏՊԱՆՈՒԹՅՈՒՆ | G29: 1696483.4
F30: այդ թվում`
B31: 01 | F31: Վատառողջություն և անաշխատունակություն | G31: -5760.9
F32: այդ թվում`
C33: 02 | F33: Անաշխատունակություն | G33: -5760.9
F34: այդ թվում`
F35: ՀՀ աշխատանքի և սոցիալական հարցերի նախարարություն | G35: -5760.9
F36: այդ թվում`
D37: 1160 | F37: Հաշմանդամություն ունեցող անձանց աջակցություն | G37: -5760.9
F38: այդ թվում`
E39: 11012 | F39: Հաշմանդամություն ունեցող անձանց սոցիալ- վերականգնողական ծառայություններ ցերեկային կենտրոնում | G39: -2686.4
F40: այդ թվում` ըստ կատարողների
F41: ՀՀ աշխատանքի և սոցիալական հարցերի նախարարություն | G41: -2686.4
...
