Workbook
Name _tab10: #REF!
Name _tab10: #REF!
Name _tab11: #REF!
Name _tab11: #REF!
Name _tab12: #REF!
Name _tab12: #REF!
Name _tab13: #REF!
Name _tab13: #REF!
Name _tab14: #REF!
Name _tab14: #REF!
Name _tab15: #REF!
Name _tab15: #REF!
Name _tab16: #REF!
Name _tab16: #REF!
Name _tab17: #REF!
Name _tab17: #REF!
Name _tab18: #REF!
Name _tab18: #REF!
Name _tab19: #REF!
Name _tab19: #REF!
Name _tab20: #REF!
Name _tab20: #REF!
Name _tab21: #REF!
Name _tab21: #REF!
Name _tab22: #REF!
Name _tab22: #REF!
Name _tab23: #REF!
Name _tab23: #REF!
Name _tab24: #REF!
Name _tab24: #REF!
Name _tab5: #REF!
Name _tab5: #REF!
Name _tab6: #REF!
Name _tab6: #REF!
Name _tab7: #REF!
Name _tab7: #REF!
Name _tab8: #REF!
Name _tab8: #REF!
Name _tab9: #REF!
Name _tab9: #REF!
Name par_count: #REF!,#REF!,#REF!,#REF!,#REF!,#REF!,#REF!,#REF!,#REF!,#REF!,#REF!,#REF!,#REF!,#REF!,#REF!
Name par_count: #REF!,#REF!,#REF!,#REF!,#REF!,#REF!,#REF!,#REF!,#REF!,#REF!,#REF!,#REF!,#REF!,#REF!,#REF!
Name par_qual: #REF!,#REF!,#REF!,#REF!,#REF!
Name par_qual: #REF!,#REF!,#REF!,#REF!,#REF!
Name par_time: #REF!,#REF!,#REF!,#REF!
Name par_time: #REF!,#REF!,#REF!,#REF!
Name par2.12s: #REF!
Name par2.12s: #REF!
Name par2.4s: #REF!,#REF!,#REF!,#REF!,#REF!,#REF!,#REF!,#REF!,#REF!,#REF!,#REF!,#REF!,#REF!,#REF!,#REF!,#REF!
Name par2.4s: #REF!,#REF!,#REF!,#REF!,#REF!,#REF!,#REF!,#REF!,#REF!,#REF!,#REF!,#REF!,#REF!,#REF!,#REF!,#REF!
Name par2.5s: #REF!,#REF!
Name par2.5s: #REF!,#REF!
Name par2.6s: #REF!,#REF!,#REF!,#REF!
Name par2.6s: #REF!,#REF!,#REF!,#REF!
Name par2.7s: #REF!,#REF!
Name par2.7s: #REF!,#REF!
Name par2.9s: #REF!,#REF!,#REF!,#REF!,#REF!,#REF!,#REF!,#REF!,#REF!,#REF!,#REF!,#REF!,#REF!,#REF!,#REF!,#REF!
Name par2.9s: #REF!,#REF!,#REF!,#REF!,#REF!,#REF!,#REF!,#REF!,#REF!,#REF!,#REF!,#REF!,#REF!,#REF!,#REF!,#REF!
Name par4.10s: #REF!,#REF!
Name par4.10s: #REF!,#REF!

Sheet 1.
D1: Հավելված N 1
D2: ՀՀ կառավարության 2023 թվականի
C3: -----------------ի N -----------Ն որոշման
A5: ՀԱՅԱՍՏԱՆԻ ՀԱՆՐԱՊԵՏՈՒԹՅԱՆ 2023 ԹՎԱԿԱՆԻ ՊԵՏԱԿԱՆ ԲՅՈՒՋԵԻ ՄԱՍԻՆ» ՕՐԵՆՔԻ N 1 ՀԱՎԵԼՎԱԾԻ N 2 ԱՂՅՈՒՍԱԿՈՒՄ ԿԱՏԱՐՎՈՂ ՎԵՐԱԲԱՇԽՈՒՄԸ ԵՎ ՀԱՅԱՍՏԱՆԻ ՀԱՆՐԱՊԵՏՈՒԹՅԱՆ ԿԱՌԱՎԱՐՈՒԹՅԱՆ 2022 ԹՎԱԿԱՆԻ ԴԵԿՏԵՄԲԵՐԻ 29-Ի N 2111-Ն ՈՐՈՇՄԱՆ N 5 ՀԱՎԵԼՎԱԾԻ N 1 ԱՂՅՈՒՍԱԿՈՒՄ ԿԱՏԱՐՎՈՂ ՓՈՓՈԽՈՒԹՅՈՒՆՆԵՐԸ
D6: (հազար դրամ)
A7: Ծրագրային դասիչը | C7: Բյուջետային հատկացումների գլխավոր կարգադրիչների, ծրագրերի և միջոցառումների անվանումները | D7: Ցուցանիշների փոփոխությունները ավելացումները նշված են դրական նշանով, իսկ նվազեցումը՝ փակագծերում
A8: Ծրագիր | B8: Միջոցառում | D8: Տարի
C9: ԸՆԴԱՄԵՆԸ | D9: =D10+D269 -> 0
C10: ՀՀ աշխատանքի և սոցիալական հարցերի նախարարություն | D10: =D11+D36+D55+D68+D99+D112+D131+D150+D181+D218+D243+D256 -> 1696483.4
A11: 1005 | C11: Ծրագրի անվանումը` | D11: =SUM(D18,D24,D30) -> -9400
C12: Պարգևավճարներ և պատվովճարներ
C13: Ծրագրի նպատակը`
C14: Պետական հոգածության դրսևորում, առանձին կատեգորիայի քաղաքացիներին և նրանց ընտանիքներին սոցիալական երաշխիքների տրամադրում
C15: Վերջնական արդյունքի նկարագրությունը`
C16: Առանձին կատեգորիայի քաղաքացիներին և նրանց ընտանիքի անդամների սոցիալական պաշտպանվածության մակարդակի բարձրացում
A17: Ծրագրի միջոցառումներ
B18: 12002 | C18: Միջոցառման անվանումը` | D18: 300
C19: Վետերանների պատվովճարներ
C20: Միջոցառման նկարագրությունը`
C21: ՀՄՊ վետերաններին պատվովճարի տրամադրում
C22: Միջոցառման տեսակը
C23: Տրանսֆերտների տրամադրում
B24: 12003 | C24: Միջոցառման անվանումը` | D24: -6000
C25: Զոհված՝ հետմահու «Հայաստանի ազգային հերոս» ՀՀ բարձրագույն կոչում ստացած կամ «Մարտական խաչ» շքանշանով պարգևատրված անձի ընտանիքին տրվող պարգևավճար
C26: Միջոցառման նկարագրությունը`
C27: Զոհված՝ հետմահու «Հայաստանի ազգային հերոս» ՀՀ բարձրագույն կոչում ստացած կամ «Մարտական խաչ» շքանշանով պարգևատրված անձի ընտանիքին տրվող պարգևավճարի տրամամդրում
C28: Միջոցառման տեսակը
C29: Տրանսֆերտների տրամադրում
B30: 12005 | C30: Միջոցառման անվանումը` | D30: -3700
C31: Ծնողական փառքի մեդալով պարգևատրված անձանց ամենամսյա պատվովճար
C32: Միջոցառման նկարագրությունը`
C33: Ծնողական փառքի մեդալով պարգևատրված անձանց ամենամսյա պատվովճարի տրամադրում
C34: Միջոցառման տեսակը
C35: Տրանսֆերտների տրամադրում
A36: 1011 | C36: Ծրագրի անվանումը` | D36: =SUM(D43,D49) -> -933400
C37: Անապահով սոցիալական խմբերին աջակցություն
C38: Ծրագրի նպատակը`
C39: Օժանդակել անապահով ընտանիքների կենսամակարդակի բարձրացմանը
C40: Վերջնական արդյունքի նկարագրությունը`
C41: Աղքատության մեղմում և ծայրահեղ աղքատության կրճատում
A42: Ծրագրի միջոցառումներ
B43: 11003 | C43: Միջոցառման անվանումը` | D43: -58400
C44: Սոցիալական դեպքի վարման ծառայության ձեռք բերում
C45: Միջոցառման նկարագրությունը`
C46: Ընտանիքի, դրա յուրաքանչյուր անդամի, սոցիալական գնահատման իրականացում՛ անապահով սոցիալական խմբերին հայտնաբերելու համար՛ սոցիալական աջակցության տարածքային մարմինների սոցիալական աշխատողների կողմից տնային այցելությունների միջոցով
C47: Միջոցառման տեսակը
C48: Ծառայությունների մատուցում
B49: 12001 | C49: Միջոցառման անվանումը` | D49: -875000
C50: Ընտանիքի կենսամակարդակի բարձրացմանն ուղղված նպաստներ
C51: Միջոցառման նկարագրությունը`
C52: Ընտանիքների անապահովության գնահատման համակարգում հաշվառված, անապահով ճանաչված ընտանիքներին նպաստի, սոցիալական նպաստի և հրատապ օգնության տրամադրում
C53: Միջոցառման տեսակը
C54: Տրանսֆերտների տրամադրում
A55: 1032 | C55: Ծրագրի անվանումը` | D55: =D62 -> -83121.4
C56: Խնամքի ծառայություններ 18 տարեկանից բարձր տարիքի անձանց
C57: Ծրագրի նպատակը`
C58: Խնամքի կարիք ունեցող 18 տարեկանից բարձր տարիքի անձանց բնականոն կենսագործունեության ապահովում
C59: Վերջնական արդյունքի նկարագրությունը`
C60: Խնամքի ծառայություններ ստացած առավել կարիքավոր անձանց ընդգրկվածության աճ
A61: Ծրագրի միջոցառումներ
B62: 32007 | C62: Միջոցառման անվանումը` | D62: -83121.4
C63: Տարեց և (կամ) հաշմանդամություն ունեցող անձանց շուրջօրյա խնամք մատուցող պետական ոչ առևտրային կազմակերպությունների շենքային պայմանների բարելավում
C64: Միջոցառման նկարագրությունը`
C65: Տարեց և (կամ) հաշմանդամություն ունեցող անձանց շուրջօրյա խնամք մատուցող ՊՈԱԿ-ների վերանորոգման և շինարարության համար անհրաժեշտ նախագծանախահաշվային փաթեթների կազմում և փորձաքննության անցկացում, վերանորոգման և շինարարական աշխատանքների իրականացում
C66: Միջոցառման տեսակը
C67: Այլ պետական կազմակերպությունների կողմից օգտագործվող ոչ ֆինանսական ակտիվների հետ գործառնություններ
A68: 1068 | C68: Ծրագրի անվանումը` | D68: =SUM(D75,D81,D87,D93) -> 609400
C69: Ժողովրդագրական վիճակի բարելավում
C70: Ծրագրի նպատակը`
C71: Խթանել ժողովրդագրական վիճակի բարելավումը
C72: Վերջնական արդյունքի նկարագրությունը`
C73: Ժողովրդագրական վիճակի բարելավում և բազմազավակության աճ
A74: Ծրագրի միջոցառումներ
B75: 11001 | C75: Միջոցառման անվանումը` | D75: -20000
C76: Մինչև 2 տարեկան երեխայի խնամքի նպաստի տրամադրման ապահովում
C77: Միջոցառման նկարագրությունը`
C78: Մինչև 2 տարեկան երեխայի խնամքի նպաստի վճարման ծառայությունների ձեռքբերում
C79: Միջոցառման տեսակը
C80: Ծառայությունների մատուցում
B81: 12001 | C81: Միջոցառման անվանումը` | D81: -129600
C82: Մինչև 2 տարեկան երեխայի խնամքի նպաստի տրամադրում
C83: Միջոցառման նկարագրությունը`
C84: Մինչև 2 տարեկան երեխայի խնամքի նպաստի տրամադրում
C85: Միջոցառման տեսակը
C86: Տրանսֆերտների տրամադրում
B87: 12004 | C87: Միջոցառման անվանումը` | D87: =750000 -> 750000
C88: Դրամական աջակցություն ընտանիքում 3 և ավելի երեխա ունեցող ընտանիքներին
C89: Միջոցառման նկարագրությունը`
C90: Ընտանիքում 3-րդ և յուրաքանչյուր հաջորդ երեխայի ծնվելու կապակցությամբ նոր ծնված երեխային նշանակել և վճարել դրամական աջակցություն՛ ամսական 50000 դրամի չափով, մինչև երեխայի 6 տարեկանը լրանալը
C91: Միջոցառման տեսակը
C92: Տրանսֆերտների տրամադրում
B93: 1205 | C93: Միջոցառման անվանումը` | D93: 9000
C94: Զոհված զինծառայողների ծնողների՝ վերարտադրողականության օժանդակ տեխնոլոգիաների կիրառմամբ բժշկական օգնության և սպասարկման որոշ ծախսերի մասնակի փոխհատուցման տրամադրում
C95: Միջոցառման նկարագրությունը`
C96: Զոհված զինծառայողների ծնողների վերարտադրողական առողջությանն աջակցելու նպատակով վերարտադրողականության օժանդակ տեխնոլոգիաների կիրառմամբ բժշկական օգնության և սպասարկման որոշ ծախսերի մասնակի փոխհատուցման տրամադրում
C97: Միջոցառման տեսակը
C98: Տրանսֆերտների տրամադրում
A99: 1082 | C99: Ծրագրի անվանումը` | D99: =SUM(D106) -> -355000
C100: Սոցիալական աջակցություն անաշխատունակության դեպքում
C101: Ծրագրի նպատակը`
...

Sheet 2.
G1: Հավելված N 2
G2: ՀՀ կառավարության 2023 թվականի
F3: -----------------ի N -----------Ն որոշման
A5: ՀԱՅԱՍՏԱՆԻ ՀԱՆՐԱՊԵՏՈՒԹՅԱՆ ԿԱՌԱՎԱՐՈՒԹՅԱՆ 2022 ԹՎԱԿԱՆԻ ԴԵԿՏԵՄԲԵՐԻ 29-Ի N 2111-Ն ՈՐՈՇՄԱՆ N 3 ԵՎ N 4 ՀԱՎԵԼՎԱԾՆԵՐՈՒՄ ԿԱՏԱՐՎՈՂ ՓՈՓՈԽՈՒԹՅՈՒՆՆԵՐԸ
G6: (հազար դրամ)
A7: Գործառական դասիչը | D7: Ծրագրային դասիչը | F7: Բյուջետային ծախսերի գործառական դասակարգման բաժինների, խմբերի և դասերի, բյուջետային ծրագրերի միջոցառումների, բյուջետային հատկացումների գլխավոր կարգադրիչների անվանումները | G7: Ցուցանիշների փոփոխությունները ավելացումները նշված են դրական նշանով, իսկ նվազեցումը՝ փակագծերում
A8: Բաժինը | B8: Խումբը | C8: Դասը | D8: Ծրագիր | E8: Միջոցառում | G8: Տարի
F9: ԸՆԴԱՄԵՆԸ ԾԱԽՍԵՐ | G9: =G11+G381 -> 0
F10: այդ թվում`
A11: 10 | F11: ՍՈՑԻԱԼԱԿԱՆ ՊԱՇՏՊԱՆՈՒԹՅՈՒՆ | G11: =G13+G39+G96+G113+G208+G234+G260+G297 -> 1696483.4
F12: այդ թվում`
B13: 01 | F13: Վատառողջություն և անաշխատունակություն | G13: =G15 -> -5760.9
F14: այդ թվում`
C15: 02 | F15: Անաշխատունակություն | G15: =G17 -> -5760.9
F16: այդ թվում`
F17: ՀՀ աշխատանքի և սոցիալական հարցերի նախարարություն | G17: =G19 -> -5760.9
F18: այդ թվում`
D19: 1160 | F19: Հաշմանդամություն ունեցող անձանց աջակցություն | G19: =G21+G30 -> -5760.9
F20: այդ թվում`
E21: 11012 | F21: Հաշմանդամություն ունեցող անձանց սոցիալ- վերականգնողական ծառայություններ ցերեկային կենտրոնում | G21: =G23 -> -2686.4
F22: այդ թվում` ըստ կատարողների
F23: ՀՀ աշխատանքի և սոցիալական հարցերի նախարարություն | G23: =G25 -> -2686.4
F24: այդ թվում` բյուջետային ծախսերի տնտեսագիտական դասակարգման հոդվածներ
F25: ԸՆԴԱՄԵՆԸ ԾԱԽՍԵՐ | G25: =G26 -> -2686.4
F26: ԸՆԹԱՑԻԿ ԾԱԽՍԵՐ | G26: =G27 -> -2686.4
F27: ԴՐԱՄԱՇՆՈՐՀՆԵՐ | G27: =G28 -> -2686.4
F28: Ընթացիկ դրամաշնորհներ պետական հատվածի այլ մակարդակներին | G28: =G29 -> -2686.4
F29: - Այլ ընթացիկ դրամաշնորհներ | G29: ='1.'!D231 -> -2686.4
E30: 11013 | F30: Հաշմանդամություն ունեցող անձանց շուրջօրյա խնամքի ծառայություներ համայնքահենք փոքր խմբային տներում | G30: =G32 -> -3074.5
F31: այդ թվում` ըստ կատարողների
F32: ՀՀ աշխատանքի և սոցիալական հարցերի նախարարություն | G32: =G34 -> -3074.5
F33: այդ թվում` բյուջետային ծախսերի տնտեսագիտական դասակարգման հոդվածներ
F34: ԸՆԴԱՄԵՆԸ ԾԱԽՍԵՐ | G34: =G35 -> -3074.5
F35: ԸՆԹԱՑԻԿ ԾԱԽՍԵՐ | G35: =G36 -> -3074.5
F36: ԴՐԱՄԱՇՆՈՐՀՆԵՐ | G36: =G37 -> -3074.5
F37: Ընթացիկ դրամաշնորհներ պետական հատվածի այլ մակարդակներին | G37: =G38 -> -3074.5
F38: - Այլ ընթացիկ դրամաշնորհներ | G38: ='1.'!D237 -> -3074.5
B39: 02 | F39: Ծերություն | G39: =G41 -> 3783752.4
F40: այդ թվում`
C41: 01 | F41: Ծերություն | G41: =G43 -> 3783752.4
F42: այդ թվում`
F43: ՀՀ աշխատանքի և սոցիալական հարցերի նախարարություն | G43: =G45+G56+G85 -> 3783752.4
F44: այդ թվում`
D45: 1032 | F45: Խնամքի ծառայություններ 18 տարեկանից բարձր տարիքի անձանց | G45: =G47 -> -83121.4
F46: այդ թվում`
E47: 32007 | F47: Տարեց և (կամ) հաշմանդամություն ունեցող անձանց շուրջօրյա խնամք մատուցող պետական ոչ առևտրային կազմակերպությունների շենքային պայմանների բարելավում | G47: =G49 -> -83121.4
F48: այդ թվում` ըստ կատարողների
F49: ՀՀ աշխատանքի և սոցիալական հարցերի նախարարություն | G49: =G51 -> -83121.4
F50: այդ թվում` բյուջետային ծախսերի տնտեսագիտական դասակարգման հոդվածներ
F51: ԸՆԴԱՄԵՆԸ ԾԱԽՍԵՐ | G51: =G52 -> -83121.4
F52: ՈՉ ՖԻՆԱՆՍԱԿԱՆ ԱԿՏԻՎՆԵՐԻ ԳԾՈՎ ԾԱԽՍԵՐ | G52: =G53 -> -83121.4
F53: ՀԻՄՆԱԿԱՆ ՄԻՋՈՑՆԵՐ | G53: =G54 -> -83121.4
F54: ԱՅԼ ՀԻՄՆԱԿԱՆ ՄԻՋՈՑՆԵՐ | G54: =G55 -> -83121.4
F55: - Նախագծահետազոտական ծախսեր | G55: ='1.'!D62 -> -83121.4
D56: 1102 | F56: Կենսաթոշակային ապահովություն | G56: =G58+G67+G76 -> 2655161.8
F57: այդ թվում`
E58: 12001 | F58: Սպայական անձնակազմի և նրանց ընտանիքների անդամների կենսաթոշակներ | G58: =+G60 -> 2459800
F59: այդ թվում` ըստ կատարողների
F60: ՀՀ աշխատանքի և սոցիալական հարցերի նախարարության միասնական սոցիալական ծառայություն | G60: =+G62 -> 2459800
F61: այդ թվում` բյուջետային ծախսերի տնտեսագիտական դասակարգման հոդվածներ
F62: ԸՆԴԱՄԵՆԸ ԾԱԽՍԵՐ | G62: =+G63 -> 2459800
F63: ԸՆԹԱՑԻԿ ԾԱԽՍԵՐ | G63: =+G64 -> 2459800
F64: ՍՈՑԻԱԼԱԿԱՆ ՆՊԱՍՏՆԵՐ ԵՎ ԿԵՆՍԱԹՈՇԱԿՆԵՐ | G64: =+G65 -> 2459800
F65: Կենսաթոշակներ | G65: =+G66 -> 2459800
F66: - Կենսաթոշակներ | G66: ='1.'!D163 -> 2459800
E67: 12002 | F67: Շարքային զինծառայողների և նրանց ընտանիքների անդամների զինվորական կենսաթոշակներ | G67: =G69 -> 30361.8
F68: այդ թվում` ըստ կատարողների
F69: ՀՀ աշխատանքի և սոցիալական հարցերի նախարարության միասնական սոցիալական ծառայություն | G69: =G71 -> 30361.8
F70: այդ թվում` բյուջետային ծախսերի տնտեսագիտական դասակարգման հոդվածներ
F71: ԸՆԴԱՄԵՆԸ ԾԱԽՍԵՐ | G71: =G72 -> 30361.8
F72: ԸՆԹԱՑԻԿ ԾԱԽՍԵՐ | G72: =G73 -> 30361.8
F73: ՍՈՑԻԱԼԱԿԱՆ ՆՊԱՍՏՆԵՐ ԵՎ ԿԵՆՍԱԹՈՇԱԿՆԵՐ | G73: =G74 -> 30361.8
F74: Կենսաթոշակներ | G74: =G75 -> 30361.8
F75: - Կենսաթոշակներ | G75: ='1.'!D169 -> 30361.8
E76: 12004 | F76: ՀՀ օրենքով նշանակված կենսաթոշակներ | G76: =G78 -> 165000
F77: այդ թվում` ըստ կատարողների
F78: ՀՀ աշխատանքի և սոցիալական հարցերի նախարարության միասնական սոցիալական ծառայություն | G78: =G80 -> 165000
F79: այդ թվում` բյուջետային ծախսերի տնտեսագիտական դասակարգման հոդվածներ
F80: ԸՆԴԱՄԵՆԸ ԾԱԽՍԵՐ | G80: =G81 -> 165000
F81: ԸՆԹԱՑԻԿ ԾԱԽՍԵՐ | G81: =G82 -> 165000
F82: ՍՈՑԻԱԼԱԿԱՆ ՆՊԱՍՏՆԵՐ ԵՎ ԿԵՆՍԱԹՈՇԱԿՆԵՐ | G82: =G83 -> 165000
F83: Կենսաթոշակներ | G83: =G84 -> 165000
F84: - Կենսաթոշակներ | G84: =SUM('1.'!D175) -> 165000
D85: 1205 | F85: Սոցիալական ապահովություն | G85: =+G95 -> 1211712
F86: այդ թվում`
E87: 12001 | F87: Ծերության, հաշմանդամության, կերակրողին կորցնելու դեպքում նպաստներ | G87: =+G89 -> 1211712
F88: այդ թվում` ըստ կատարողների
F89: ՀՀ աշխատանքի և սոցիալական հարցերի նախարարության միասնական սոցիալական ծառայություն | G89: =+G91 -> 1211712
F90: այդ թվում` բյուջետային ծախսերի տնտեսագիտական դասակարգման հոդվածներ | G90: =+G92 -> 1211712
F91: ԸՆԴԱՄԵՆԸ ԾԱԽՍԵՐ | G91: =+G92 -> 1211712
F92: ԸՆԹԱՑԻԿ ԾԱԽՍԵՐ | G92: =+G93 -> 1211712
F93: ՍՈՑԻԱԼԱԿԱՆ ՆՊԱՍՏՆԵՐ ԵՎ ԿԵՆՍԱԹՈՇԱԿՆԵՐ | G93: =+G94 -> 1211712
F94: Սոցիալական օգնության դրամական արտահայտությամբ նպաստներ (բյուջեից) | G94: =+G95 -> 1211712
F95: - Այլ նպաստներ բյուջեից | G95: =SUM('1.'!D263) -> 1211712
B96: 03 | F96: Հարազատին կորցրած անձինք | G96: =+G98 -> -6000
F97: այդ թվում`
C98: 01 | F98: Հարազատին կորցրած անձինք | G98: =G100 -> -6000
F99: այդ թվում`
F100: ՀՀ աշխատանքի և սոցիալական հարցերի նախարարություն | G100: =G102 -> -6000
F101: այդ թվում`
...

Sheet 3
D1: Հավելված N 3
D2: ՀՀ կառավարության 2023 թվականի
C3: -----------------ի N -----------Ն որոշման
A5: ՀԱՅԱՍՏԱՆԻ ՀԱՆՐԱՊԵՏՈՒԹՅԱՆ ԿԱՌԱՎԱՐՈՒԹՅԱՆ 2022 ԹՎԱԿԱՆԻ ԴԵԿՏԵՄԲԵՐԻ 29-Ի N 2111-Ն ՈՐՈՇՄԱՆN 5 ՀԱՎԵԼՎԱԾԻ N 2 ԱՂՅՈՒՍԱԿՈՒՄ ԿԱՏԱՐՎՈՂ ՓՈՓՈԽՈՒԹՅՈՒՆՆԵՐԸ
A8: Ծրագրային դասիչ | C8: Բյուջետային գլխավոր կարգադրիչների, ծրագրերի, միջոցառումների, միջոցառումները կատարող պետական մարմինների և ուղղությունների անվանումները | D8: Ցուցանիշների փոփոխությունը (ավելացումները նշված են դրական նշանով)
A9: Ծրագիր | B9: Միջոցառում | D9: Տարի
C10: ԸՆԴԱՄԵՆԸ | D10: =D12 -> -83121.4
C11: այդ թվում`
A12: 1032 | B12: ='[1]1'!B24 -> 32007 | C12: Տարեց և (կամ) հաշմանդամություն ունեցող անձանց շուրջօրյա խնամք մատուցող պետական ոչ առևտրային կազմակերպությունների շենքային պայմանների բարելավում | D12: =D14 -> -83121.4
C13: այդ թվում` ըստ կատարողների
C14: ՀՀ աշխատանքի և սոցիալական հարցերի նախարարություն | D14: ='[1]1'!D24 -> -83121.4

Sheet 4
H1: Հավելված N 4
H2: ՀՀ կառավարության 2023 թվականի
H3: -----------------ի N -----------Ն որոշման
B5: ՀԱՅԱՍՏԱՆԻ ՀԱՆՐԱՊԵՏՈՒԹՅԱՆ ԿԱՌԱՎԱՐՈՒԹՅԱՆ 2022 ԹՎԱԿԱՆԻ ԴԵԿՏԵՄԲԵՐԻ 29-Ի N 2111-Ն ՈՐՈՇՄԱՆ N 5 ՀԱՎԵԼՎԱԾԻ N 7 ԱՂՅՈՒՍԱԿՈՒՄ ԿԱՏԱՐՎՈՂ ՓՈՓՈԽՈՒԹՅՈՒՆՆԵՐԸ
H6: (հազար դրամ)
B7: Ծրագրային դասիչ | D7: Բյուջետային գլխավոր կարգադրիչների, ծրագրերի, միջոցառումների, միջոցառումները կատարող պետական մարմինների և ուղղությունների անվանումները | G7: Միջոցառումները կատարող պետական մարմինների և դրամաշնորհ ստացող տնտեսավարող սուբյեկտների անվանումները | H7: Ցուցանիշների փոփոխությունները ավելացումները նշված են դրական նշանով, իսկ նվազեցումները՝ փակագծերում
B8: Ծրագիր | C8: Միջոցառում | H8: Տարի
B10: 1 | C10: 2 | D10: 3 | G10: 4 | H10: 5
B11: ՀՀ աշխատանքի և սոցիալական հարցերի նախարարություն | H11: =H12+H39+H34 -> -416043.6
B12: 1141 | C12: Ընտանիքներին, կանանց և երեխաներին աջակցություն | H12: =H13+H19+H23+H30+H32 -> -333332.7
C13: 11001 | D13: Երեխաների շուրջօրյա խնամքի ծառայություններ | G13: ՀՀ աշխատանքի և սոցիալական հարցերի նախարարություն | H13: =SUM(H14:H18) -> -118300
G14: «Երևանի մանկան տուն» ՊՈԱԿ | H14: -8900
G15: «Գավառի մանկատուն» ՊՈԱԿ | H15: -20000
G16: «Գյումրու «Երեխաների տուն» ՊՈԱԿ | H16: -26600
G17: «Մարի Իզմիրլյանի անվան մանկատուն» ՊՈԱԿ | H17: -23500
G18: «Խարբերդի մասնագիտացված մանկատուն» ՊՈԱԿ | H18: -39300
C19: 11007 | D19: Կյանքի դժվարին իրավիճակում հայտնված երեխաներին ժամանակավոր խնամքի տրամադրման ծառայություններ | G19: ՀՀ աշխատանքի և սոցիալական հարցերի նախարարություն | H19: =H20+H21+H22 -> -95200
G20: «Երևանի «Զատիկ» երեխաներին աջակցության կենտրոն» ՊՈԱԿ | H20: -53600
G21: «Շիրակի մարզի երեխայի և ընտանիքի աջակցության կենտրոն» ՊՈԱԿ | H21: -24600
G22: «Սյունիքի մարզի երեխայի և ընտանիքի աջակցության կենտրոն» ՊՈԱԿ* | H22: -17000
C23: 11009 | D23: Երեխաների և ընտանիքների աջակցության տրամադրման ծառայություններ | G23: ՀՀ աշխատանքի և սոցիալական հարցերի նախարարություն | H23: =SUM(H24:H29) -> -96100
G24: «Երեխայի և ընտանիքի աջակցության կենտրոն» ՊՈԱԿ | H24: -19400
G25: «Սյունիքի մարզի երեխայի և ընտանիքի աջակցության կենտրոն» ՊՈԱԿ* | H25: -18300
G26: «Լոռու մարզի երեխայի և ընտանիքի աջակցության կենտրոն» ՊՈԱԿ | H26: -19100
G27: «Երևանի Աջափնյակ թաղային համայնքի երեխաների սոցիալական հոգածության կենտրոն» ՊՈԱԿ | H27: -15900
G28: «Շիրակի մարզի երեխայի և ընտանիքի աջակցության կենտրոն» ՊՈԱԿ | H28: -3200
G29: «Երևանի «Զատիկ» երեխաներին աջակցության կենտրոն» ՊՈԱԿ | H29: -20200
C30: 11016 | D30: Ընտանիքում բռնության ենթարկված անձանց աջակցության կենտրոնների ծառայություններ | G30: ՀՀ աշխատանքի և սոցիալական հարցերի նախարարություն | H30: =H31 -> -2635.7
G31: Մրցույթով ընտրված կազմակերպություն | H31: ='1.'!D206 -> -2635.7
C32: 11018 | D32: Երեխաների խնամքի ցերեկային ծառայությունների տրամադրում | G32: ՀՀ աշխատանքի և սոցիալական հարցերի նախարարություն | H32: =H33 -> -21097
G33: Մրցույթով ընտրված կազմակերպություն | H33: ='1.'!D212 -> -21097
B34: 1160 | C34: Հաշմանդամություն ունեցող անձանց աջակցություն | H34: =H35+H37 -> -5760.9
C35: 11012 | D35: Հաշմանդամություն ունեցող անձանց սոցիալ- վերականգնողական ծառայություններ ցերեկային կենտրոնում | G35: ՀՀ աշխատանքի և սոցիալական հարցերի նախարարություն | H35: =H36 -> -2686.4
G36: Մրցույթով ընտրված կազմակերպություն | H36: ='1.'!D231 -> -2686.4
C37: 11013 | D37: Հաշմանդամություն ունեցող անձանց շուրջօրյա խնամքի ծառայություներ համայնքահենք փոքր խմբային տներում | G37: ՀՀ աշխատանքի և սոցիալական հարցերի նախարարություն | H37: =H38 -> -3074.5
G38: Մրցույթով ընտրված կազմակերպություն | H38: ='1.'!D237 -> -3074.5
B39: 1088 | C39: Զբաղվածության ծրագիր | H39: =H40 -> -76950
C40: 12002 | D40: Աշխատաշուկայում անմրցունակ ազատազրկման վայրերից վերադարձած, հաշմանդամություն ունեցող, ինչպես նաև «հաշմանդամություն ունեցող երեխա» կարգավիճակ ունեցող անձանց աշխատանքի տեղավորման դեպքում գործատուին աշխատավարձի մասնակի փոխհատուցում և հաշմանդամություն ունեցող անձին ուղեկցողի համար դրամական օգնության տրամադրում | G40: ՀՀ աշխատանքի և սոցիալական հարցերի նախարարության միասնական սոցիալական ծառայություն | H40: =H41 -> -76950
G41: Աշխատաշուկայում անմրցունակ անձանց օրենսդրությամբ սահմանված կարգով աշխատանքով ապահովող կազմակերպություններ | H41: ='1.'!D125 -> -76950

Sheet 5
C1: Հավելված N 5
C2: ՀՀ կառավարության 2023 թվականի
C3: -----------------ի N -----------Ն որոշման
A4: ՀԱՅԱՍՏԱՆԻ ՀԱՆՐԱՊԵՏՈՒԹՅԱՆ ԿԱՌԱՎԱՐՈՒԹՅԱՆ 2020 ԹՎԱԿԱՆԻ ԴԵԿՏԵՄԲԵՐԻ 30-Ի N 2215-Ն ՈՐՈՇՄԱՆ N 9 ՀԱՎԵԼՎԱԾԻ N 9.1.20 ԱՂՅՈՒՍԱԿՈՒՄ ԿԱՏԱՐՎՈՂ ՓՈՓՈԽՈՒԹՅՈՒՆՆԵՐԸ
A5: ՀԱՅԱՍՏԱՆԻ ՀԱՆՐԱՊԵՏՈՒԹՅԱՆ ԿԱՌԱՎԱՐՈՒԹՅԱՆ 2022 ԹՎԱԿԱՆԻ ԴԵԿՏԵՄԲԵՐԻ 29-Ի N 2111-Ն ՈՐՈՇՄԱՆ N 9 ՀԱՎԵԼՎԱԾԻ N 9.15 ԵՎ N 9.47 ԱՂՅՈՒՍԱԿՈՒՄ ԿԱՏԱՐՎՈՂ ՓՈՓՈԽՈՒԹՅՈՒՆՆԵՐԸ
A6: Հայաստանի Հանրապետության աշխատանքի և սոցիալական հարցերի նախարարություն
A8: ՄԱՍ 2. ՊԵՏԱԿԱՆ ՄԱՐՄՆԻ ԳԾՈՎ ԱՐԴՅՈՒՆՔԱՅԻՆ (ԿԱՏԱՐՈՂԱԿԱՆ) ՑՈՒՑԱՆԻՇՆԵՐԸ
A9: Ծրագրի դասիչը | B9: Ծրագրի անվանումը
A10: 1005 | B10: Պարգևավճարներ և պատվովճարներ
A11: Ծրագրի միջոցառումները
A13: Ծրագրի դասիչը` | B13: 1005 | C13: Ցուցանիշների փոփոխությունները (ավելացումները նշված են դրական նշանով)
A14: Միջոցառման դասիչը` | B14: 12002 | C14: Տարի
A15: Միջոցառման անվանումը` | B15: Վետերանների պատվովճարներ
A16: Նկարագրությունը` | B16: ՀՄՊ վետերաններին պատվովճարի տրամադրում
A17: Միջոցառման տեսակը` | B17: Տրանսֆերտների տրամադրում
A18: Շահառուների ընտրության չափանիշները | B18: ՀՄ պատերազմի վետերաններին պատվովճարների տրամադրում 02.12.1998թ. ՀՕ-267-Ն օրենքի 4-րդ հոդվածով
A19: Արդյունքի չափորոշիչներ
A20: Միջոցառման վրա կատարվող ծախսը (հազար դրամ) | C20: ='1.'!D18 -> 300
A22: Ծրագրի դասիչը` | B22: 1005 | C22: Ցուցանիշների փոփոխությունները (նվազեցումները նշված են փակագծերում)
A23: Միջոցառման դասիչը` | B23: 12003 | C23: Տարի
A24: Միջոցառման անվանումը` | B24: Զոհված՛ հետմահու «Հայաստանի ազգային հերոս» ՀՀ բարձրագույն կոչում ստացած կամ «Մարտական խաչ» շքանշանով պարգևատրված անձի ընտանիքին տրվող պարգևավճար
A25: Նկարագրությունը` | B25: Զոհված՛ հետմահու «Հայաստանի ազգային հերոս» ՀՀ բարձրագույն կոչում ստացած կամ «Մարտական խաչ» շքանշանով պարգևատրված անձի ընտանիքին տրվող պարգևավճարի տրամադրում
A26: Միջոցառման տեսակը` | B26: Տրանսֆերտների տրամադրում
A27: Շահառուների ընտրության չափանիշները | B27: Զոհված հետմահու «Հայաստանի ազգային հերոս» ՀՀ բարձրագույն կոչում ստացած կամ «Մարտական խաչ» շքանշանով պարգևատրված անձի ընտանիքի անդամներ
A28: Արդյունքի չափորոշիչներ
A29: Միջոցառման վրա կատարվող ծախսը (հազար դրամ) | C29: ='1.'!D24 -> -6000
A31: Ծրագրի դասիչը` | B31: 1005 | C31: Ցուցանիշների փոփոխությունները (նվազեցումները նշված են փակագծերում)
A32: Միջոցառման դասիչը` | B32: 12005 | C32: Տարի
A33: Միջոցառման անվանումը` | B33: Ծնողական փառքի մեդալով պարգևատրված անձանց ամենամսյա պատվովճար
A34: Նկարագրությունը` | B34: Ծնողական փառքի մեդալով պարգևատրված անձանց ամենամսյա պատվովճար
A35: Միջոցառման տեսակը` | B35: Տրանսֆերտների տրամադրում
A36: Միջոցառումն իրականացնողի անվանումը | B36: ՀՀ աշխատանքի և սոցիալական հարցերի նախարարության միասնական սոցիալական ծառայություն
A37: Արդյունքի չափորոշիչներ
A38: Շահառուների թիվ,մարդ | C38: -3 | D38: 10000
A39: Միջոցառման վրա կատարվող ծախսը (հազար դրամ) | C39: ='1.'!D30 -> -3700
A41: Ծրագրի դասիչը | B41: Ծրագրի անվանումը
A42: 1011 | B42: Անապահով սոցիալական խմբերին աջակցություն
A43: Ծրագրի միջոցառումները
A45: Ծրագրի դասիչը` | B45: 1011 | C45: Ցուցանիշների փոփոխությունները (նվազեցումները նշված են փակագծերում)
A46: Միջոցառման դասիչը` | B46: 11003 | C46: Տարի
A47: Միջոցառման անվանումը` | B47: Սոցիալական դեպքի վարման ծառայության ձեռք բերում
A48: Նկարագրությունը` | B48: Ընտանիքի, դրա յուրաքանչյուր անդամի, սոցիալական գնահատման իրականացում՛ անապահով սոցիալական խմբերին հայտնաբերելու համար՛ սոցիալական աջակցության տարածքային մարմինների սոցիալական աշխատողների կողմից տնային այցելությունների միջոցով
A49: Միջոցառման տեսակը` | B49: Ծառայությունների մատուցում
A50: Միջոցառումն իրականացնողի անվանումը՝ | B50: ՀՀ աշխատանքի և սոցիալական հարցերի նախարարության միասնական սոցիալական ծառայություն
A51: Արդյունքի չափորոշիչներ
A52: Տունայցերի թիվ, այդ թվում
A53: Ընտանիքի սոցիալական գնահատման համակարգում | C53: -10590
A54: Զբաղվածության պետական ծրագրերի գնահատման համակարգում | C54: -71150
A55: Հաշմանդամության գնահատման համակարգում | C55: 7064
A56: Տունայցի արդյունքում սոցիալական ծառայություն ստացած ընտանիքների (անձանց) թիվ | C56: -41821
A57: Գնահատված կարիքների թիվ տոկոս, տունայցերի նկատմամբ | C57: -58000
A58: Միջոցառման վրա կատարվող ծախսը (հազար դրամ) | C58: ='1.'!D43 -> -58400
A61: Ծրագրի դասիչը` | B61: 1011 | C61: Ցուցանիշների փոփոխությունները (նվազեցումները նշված են փակագծերում)
A62: Միջոցառման դասիչը` | B62: 12001 | C62: Տարի
A63: Միջոցառման անվանումը` | B63: Ընտանիքի կենսամակարդակի բարձրացմանն ուղղված նպաստներ
A64: Նկարագրությունը` | B64: Ընտանիքների անապահովության գնահատման համակարգում հաշվառված, անապահով ճանաչված ընտանիքներին նպաստի, սոցիալական նպաստի և հրատապ օգնության տրամադրում
A65: Միջոցառման տեսակը` | B65: Տրանսֆերտների տրամադրում
A66: Շահառուների ընտրության չափանիշները | B66: Ընտանիքների անապահովության գնահատման համակարգում հաշվառված ընտանիք (ընտանիքի անապահովության միավորի հիման վրա)
A67: Արդյունքի չափորոշիչներ
A68: Ընտանիքի կենսամակարդակի բարձրացմանն ուղղված նպաստներ ստացող ընտանիքների թիվը, (հատ) | C68: =SUM(C69/D68/12*1000) -> -2314.8148 | D68: 31500
A69: Միջոցառման վրա կատարվող ծախսը (հազար դրամ) | C69: ='1.'!D49 -> -875000
A71: Ծրագրի դասիչը | B71: Ծրագրի անվանումը
A72: 1032 | B72: Խնամքի ծառայություններ 18 տարեկանից բարձր տարիքի անձանց
A74: Ծրագրի միջոցառումները
A76: Ծրագրի դասիչը` | B76: 1032 | C76: Ցուցանիշների փոփոխությունը ( նվազեցումները նշված են փակագծերում)
A77: Միջոցառման դասիչը` | B77: 32007 | C77: տարի
A78: Միջոցառման անվանումը` | B78: Տարեց և (կամ) հաշմանդամություն ունեցող անձանց շուրջօրյա խնամք մատուցող պետական ոչ առևտրային կազմակերպությունների շենքային պայմանների բարելավում
A79: Նկարագրությունը` | B79: Տարեց և (կամ) հաշմանդամություն ունեցող անձանց շուրջօրյա խնամք մատուցող ՊՈԱԿ-ների վերանորոգման և շինարարության համար անհրաժեշտ նախագծանախահաշվային փաթեթների կազմում և փորձաքննության անցկացում, վերանորոգման և շինարարական աշխատանքների իրականացում
A80: Միջոցառման տեսակը` | B80: Այլ պետական կազմակերպությունների կողմից օգտագործվող ոչ ֆինանսական ակտիվների հետ գործառնություններ
A81: Միջոցառումն իրականացնողի անվանումը | B81: ՀՀ աշխատանքի և սոցիալական հարցերի նախարարություն
A82: Արդյունքի չափորոշիչներ
A83: Նախագծանախահաշվային փաթեթների թիվ, հատ | C83: -2
A84: Շուրջօրյա խնամքի կարիք ունեցող տարեց և (կամ) հաշմանդամություն ունեցող անձանց շուրջօրյա խնամք մատուցող ՊՈԱԿ-ներ | C84: -2
A85: Միջոցառման վրա կատարվող ծախսը (հազար դրամ) | C85: ='1.'!D62 -> -83121.4
A88: Ծրագրի դասիչը | B88: Ծրագրի անվանումը
A89: 1068 | B89: Ժողովրդագրական վիճակի բարելավում
A90: Ծրագրի միջոցառումները
A91: Ծրագրի դասիչը` | B91: 1068 | C91: Ցուցանիշների փոփոխությունները (նվազեցումները նշված են փակագծերում)
A92: Միջոցառման դասիչը` | B92: 11001 | C92: Տարի
A93: Միջոցառման անվանումը` | B93: Մինչև 2 տարեկան երեխայի խնամքի նպաստի տրամադրման ապահովում
A94: Նկարագրությունը` | B94: Մինչև 2 տարեկան երեխայի խնամքի նպաստի վճարման ծառայությունների ձեռքբերում
A95: Միջոցառման տեսակը` | B95: Ծառայությունների մատուցում
A96: Միջոցառումն իրականացնողի անվանումը | B96: «Գնումների մասին» ՀՀ օրենքի համաձայն ընտրված կազմակերպություն
A97: Արդյունքի չափորոշիչներ
A98: Մինչև 2 տարեկան երեխայի խնամքի նպաստ ստացող քաղաքացիների թիվ, մարդ | C98: =-39000 -> -39000
A99: Միջոցառման վրա կատարվող ծախսը (հազար դրամ) | C99: ='1.'!D75 -> -20000
A101: Ծրագրի դասիչը` | B101: 1068 | C101: Ցուցանիշների փոփոխությունները (նվազեցումները նշված են փակագծերում)
A102: Միջոցառման դասիչը` | B102: 12001 | C102: Տարի
A103: Միջոցառման անվանումը` | B103: Մինչև 2 տարեկան երեխայի խնամքի նպաստի տրամադրում
A104: Նկարագրությունը` | B104: Մինչև 2 տարեկան երեխայի խնամքի նպաստի տրամադրում
A105: Միջոցառման տեսակը` | B105: Տրանսֆերտների տրամադրում
A106: Շահառուների ընտրության չափանիշները | B106: Մինչև երեք տարեկան երեխայի խնամքի արձակուրդում գտնվող անձը` մինչև երեխայի 2 տարեկանը լրանալը,
A107: Արդյունքի չափորոշիչներ
A108: Մինչև 2 տարեկան երեխայի խնամքի նպաստ ստացող քաղաքացիների թիվ, մարդ | C108: =SUM(C109/D108/12)*1000 -> -300 | D108: 36000
A109: Միջոցառման վրա կատարվող ծախսը (հազար դրամ) | C109: ='1.'!D81 -> -129600 | D109: .
A112: Ծրագրի դասիչը` | B112: 1068 | C112: Ցուցանիշների փոփոխությունները (ավելացումները նշված են դրական նշանով)
A113: Միջոցառման դասիչը` | B113: 12004 | C113: Տարի
A114: Միջոցառման անվանումը` | B114: Դրամական աջակցություն ընտանիքում 3 և ավելի երեխա ունեցող ընտանիքներին
A115: Նկարագրությունը` | B115: Ընտանիքում 3-րդ և յուրաքանչյուր հաջորդ երեխայի ծնվելու կապակցությամբ նոր ծնված երեխային նշանակել և վճարել դրամական աջակցություն՛ ամսական 50000 դրամի չափով, մինչև երեխայի 6 տարեկանը լրանալը
A116: Միջոցառման տեսակը` | B116: Տրանսֆերտների տրամադրում
...

Sheet 6
C1: Հավելված N 6
C2: ՀՀ կառավարության 2023 թվականի
C3: -----------------ի N -----------Ն որոշման
A4: ՀԱՅԱՍՏԱՆԻ ՀԱՆՐԱՊԵՏՈՒԹՅԱՆ ԿԱՌԱՎԱՐՈՒԹՅԱՆ 2020 ԹՎԱԿԱՆԻ ԴԵԿՏԵՄԲԵՐԻ 30-Ի N 2215-Ն ՈՐՈՇՄԱՆ N 9 ՀԱՎԵԼՎԱԾԻ N 9.1.20 ԱՂՅՈՒՍԱԿՈՒՄ ԿԱՏԱՐՎՈՂ ՓՈՓՈԽՈՒԹՅՈՒՆՆԵՐԸ
A5: ՀԱՅԱՍՏԱՆԻ ՀԱՆՐԱՊԵՏՈՒԹՅԱՆ ԿԱՌԱՎԱՐՈՒԹՅԱՆ 2022 ԹՎԱԿԱՆԻ ԴԵԿՏԵՄԲԵՐԻ 29-Ի N 2111-Ն N 9.1 ՀԱՎԵԼՎԱԾԻ N 9.1.15, N 9.1.19 ԵՎ N 9.1.58 ԱՂՅՈՒՍԱԿՈՒՄ ԿԱՏԱՐՎՈՂ ՓՈՓՈԽՈՒԹՅՈՒՆՆԵՐԸ
A6: ՄԱՍ 1. ՊԵՏԱԿԱՆ ՄԱՐՄՆԻ ԳԾՈՎ ԱՐԴՅՈՒՆՔԱՅԻՆ (ԿԱՏԱՐՈՂԱԿԱՆ) ՑՈՒՑԱՆԻՇՆԵՐԸ
A7: ՀՀ աշխատանքի և սոցիալական հարցերի նախարարություն
A9: Ծրագրի դասիչը | B9: Ծրագրի անվանումը
A10: 1032 | B10: Խնամքի ծառայություններ 18 տարեկանից բարձր տարիքի անձանց
A11: Ծրագրի միջոցառումները
A13: Ծրագրի դասիչը` | B13: 1032 | C13: Ցուցանիշների փոփոխությունը ( նվազեցումները նշված են փակագծերում)
A14: Միջոցառման դասիչը` | B14: 32007 | C14: տարի
A15: Միջոցառման անվանումը` | B15: Տարեց և (կամ) հաշմանդամություն ունեցող անձանց շուրջօրյա խնամք մատուցող պետական ոչ առևտրային կազմակերպությունների շենքային պայմանների բարելավում
A16: Նկարագրությունը` | B16: Տարեց և (կամ) հաշմանդամություն ունեցող անձանց շուրջօրյա խնամք մատուցող ՊՈԱԿ-ների վերանորոգման և շինարարության համար անհրաժեշտ նախագծանախահաշվային փաթեթների կազմում և փորձաքննության անցկացում, վերանորոգման և շինարարական աշխատանքների իրականացում
A17: Միջոցառման տեսակը` | B17: Այլ պետական կազմակերպությունների կողմից օգտագործվող ոչ ֆինանսական ակտիվների հետ գործառնություններ
A18: Միջոցառումն իրականացնողի անվանումը | B18: ՀՀ աշխատանքի և սոցիալական հարցերի նախարարություն
A19: Արդյունքի չափորոշիչներ
A20: Նախագծանախահաշվային փաթեթների թիվ, հատ | C20: -2
A21: Շուրջօրյա խնամքի կարիք ունեցող տարեց և (կամ) հաշմանդամություն ունեցող անձանց շուրջօրյա խնամք մատուցող ՊՈԱԿ-ներ | C21: -2
A22: Միջոցառման վրա կատարվող ծախսը (հազար դրամ) | C22: ='5'!C85 -> -83121.4
A24: Ծրագրի դասիչը | B24: Ծրագրի անվանումը
A25: 1068 | B25: Ժողովրդագրական վիճակի բարելավում
A26: Ծրագրի միջոցառումները
A28: Ծրագրի դասիչը` | B28: 1068 | C28: Ցուցանիշների փոփոխությունները (ավելացումները նշված են դրական նշանով)
A29: Միջոցառման դասիչը` | B29: 12005 | C29: Տարի
A30: Միջոցառման անվանումը` | B30: Զոհված զինծառայողների ծնողների՝ վերարտադրողականության օժանդակ տեխնոլոգիաների կիրառմամբ բժշկական օգնության և սպասարկման որոշ ծախսերի մասնակի փոխհատուցման տրամադրում
A31: Նկարագրությունը` | B31: Զոհված զինծառայողների ծնողների վերարտադրողական առողջությանն աջակցելու նպատակով վերարտադրողականության օժանդակ տեխնոլոգիաների կիրառմամբ բժշկական օգնության և սպասարկման որոշ ծախսերի մասնակի փոխհատուցման տրամադրում
A32: Միջոցառման տեսակը` | B32: Տրանսֆերտների տրամադրում
A33: Շահառուների ընտրության չափանիշները | B33: ՀՀ կառավարության 2022 թվականի հունվարի 13-ի N 64-Լ որոշում
A34: Արդյունքի չափորոշիչներ
A35: Շահառուների թվաքանակը, մարդ | C35: ='5'!C129 -> 15
A36: Միջոցառման վրա կատարվող ծախսը (հազար դրամ) | C36: ='5'!C130 -> 9000
A38: Ծրագրի դասիչը | B38: Ծրագրի անվանումը
A39: 1141 | B39: Ընտանիքներին, կանանց և երեխաներին աջակցություն
A40: Ծրագրի միջոցառումները
A42: Ծրագրի դասիչը` | B42: 1141 | C42: Ցուցանիշների փոփոխությունը ( նվազեցումները նշված են փակագծերում)
A43: Միջոցառման դասիչը` | B43: 11001 | C43: Տարի
A44: Միջոցառման անվանումը` | B44: Երեխաների շուրջօրյա խնամքի ծառայություններ
A45: Նկարագրությունը` | B45: Մինչև 18 տարեկան առանց ծնողական խնամքի մնացած երեխաների շուրջօրյա խնամքի, դաստիարակության, ուսման, ֆիզիկական և մտավոր զարգացմանը նպաստող պայմանների ապահովում, երեխաների իրավունքների և շահերի պաշտպանություն
A46: Միջոցառման տեսակը` | B46: Ծառայությունների մատուցում
A47: Միջոցառումն իրականացնողի անվանումը` | B47: Մասնագիտացված կազմակերպություններ
A48: Արդյունքի չափորոշիչներ
A49: Միջոցառման վրա կատարվող ծախսը (հազ. դրամ) | C49: -118300
A51: Ծրագրի դասիչը` | B51: 1141 | C51: Ցուցանիշների փոփոխությունը ( նվազեցումները նշված են փակագծերում)
A52: Միջոցառման դասիչը` | B52: 11007 | C52: Տարի
A53: Միջոցառման անվանումը` | B53: Կյանքի դժվարին իրավիճակում հայտնված երեխաներին ժամանակավոր խնամքի տրամադրման ծառայություններ
A54: Նկարագրությունը` | B54: Կյանքի դժվարին իրավիճակում հայտնված 3-18 տարեկան առանց ծնողական խնամքի մնացած երեխաների շուրջօրյա խնամքի կազմակերում մինչև նրանց նկատմամբ խնամակալ, hոգաբարձու նշանակելը, իսկ դրա անհրարինության դեպքում` շուրջօրյա խնամքի հաստատություններ տեղավորելը
A55: Միջոցառման տեսակը` | B55: Ծառայությունների մատուցում
A56: Միջոցառումն իրականացնողի անվանումը` | B56: Մասնագիտացված կազմակերպություն
A57: Արդյունքի չափորոշիչներ
A58: Միջոցառման վրա կատարվող ծախսը (հազ. դրամ) | C58: -95200
A61: Ծրագրի դասիչը` | B61: 1141 | C61: Ցուցանիշների փոփոխությունը ( նվազեցումները նշված են փակագծերում)
A62: Միջոցառման դասիչը` | B62: 11009 | C62: Տարի
A63: Միջոցառման անվանումը` | B63: Երեխաների և ընտանիքների աջակցության տրամադրման ծառայություններ
A64: Նկարագրությունը` | B64: Կյանքի դժվարին իրավիճակում հայտնված կամ հաշմանդամություն ունեցող 3-18 տարեկան երեխաների ցերեկային խնամքի, դաստիարակության, ուսման, ֆիզիկական և մտավոր զարգացմանը նպաստող պայմանների ապահովում, ինչպես նաև ընտանեկան բռնության ենթարկված անձանց աջակցություն
A65: Միջոցառման տեսակը` | B65: Ծառայությունների մատուցում
A66: Միջոցառումն իրականացնողի անվանումը` | B66: Մասնագիտացված կազմակերպություններ
A67: Արդյունքի չափորոշիչներ
A68: Միջոցառման վրա կատարվող ծախսը (հազ. դրամ) | C68: -96100
A70: Ծրագրի դասիչը` | B70: 1141 | C70: Ցուցանիշների փոփոխությունը ( նվազեցումները նշված են փակագծերում)
A71: Միջոցառման դասիչը` | B71: 11016 | C71: տարի
A72: Միջոցառման անվանումը` | B72: Ընտանեկան բռնության ենթարկված անձանց աջակցության կենտրոնների ծառայություններ
A73: Նկարագրությունը` | B73: Ընտանիքում բռնության ենթարկված անձանց, անհրաժեշտության դեպքում նրանց խնամքի տակ եղող անձանց ծառայությունների տրամադրում
A74: Միջոցառման տեսակը` | B74: Ծառայությունների մատուցում
A75: Միջոցառումն իրականացնողի անվանումը? | B75: Մրցույթի արդյունքում ընտրված հավաստագրված հասարակական կազմակերպություն
A76: Արդյունքի չափորոշիչներ
A77: Միջոցառման վրա կատարվող ծախսը (հազար դրամ) | C77: ='5'!C277 -> -2635.7
A79: Ծրագրի դասիչը` | B79: 1141 | C79: Ցուցանիշների փոփոխությունը ( նվազեցումները նշված են փակագծերում)
A80: Միջոցառման դասիչը` | B80: 11018 | C80: տարի
A81: Միջոցառման անվանումը` | B81: Երեխաների խնամքի ցերեկային ծառայությունների տրամադրում
A82: Նկարագրությունը` | B82: Կյանքի դժվար. իրավիճ. հայտնված, հաշմանդ. ունեցող երեխ. ցերեկ. խնամքի ծառ. տրամադր.է, հասարակ. ներառելը՛ մատչելի սոց-հոգեբան., մանկավարժ. վերականգնող. ծառ. տրամադրման, կրթ. կարողութ. զարգացման, ինչպես նաև երեխ. շուրջօրյա հաստատ. մուտքի կանխարգ. միջոցով
A83: Միջոցառման տեսակը` | B83: Ծառայությունների մատուցում
A84: Միջոցառումն իրականացնողի անվանումը? | B84: Մրցույթի արդյունքում ընտրված հավաստագրված հասարակական կազմակերպություն
A85: Արդյունքի չափորոշիչներ
A86: Միջոցառման վրա կատարվող ծախսը (հազար դրամ) | C86: ='5'!C286 -> -21097
A88: Ծրագրի դասիչը | B88: Ծրագրի անվանումը
A89: 1160 | B89: Հաշմանդամություն ունեցող անձանց աջակցություն
A90: Ծրագրի միջոցառումները
A92: Ծրագրի դասիչը` | B92: 1160 | C92: Ցուցանիշների փոփոխությունները (նվազեցումները նշված են փակագծերում)
A93: Միջոցառման դասիչը` | B93: 11012 | C93: Տարի
A94: Միջոցառման անվանումը` | B94: Հաշմանդամություն ունեցող անձանց սոցիալ- վերականգնողական ծառայություններ ցերեկային կենտրոնում
A95: Նկարագրությունը` | B95: Մտավոր և հոգեկան խնդիրներ ունեցող անձանց սոցիալ-վերականգնողական ծառայությունների մատուցում ցերեկային կենտրոնում
A96: Միջոցառման տեսակը` | B96: Ծառայությունների մատուցում
A97: Միջոցառումն իրականացնողի անվանումը | B97: Մասնագիտացված կազմակերպություններ
A98: Արդյունքի չափորոշիչներ
A99: Միջոցառման վրա կատարվող ծախսը (հազար դրամ) | C99: ='5'!C309 -> -2686.4
A101: Ծրագրի դասիչը` | B101: 1160 | C101: Ցուցանիշների փոփոխությունները (նվազեցումները նշված են փակագծերում)
A102: Միջոցառման դասիչը` | B102: 11013 | C102: Տարի
A103: Միջոցառման անվանումը` | B103: Հաշմանդամություն ունեցող անձանց շուրջօրյա խնամքի ծառայություներ համայնքահենք փոքր խմբային տներում
A104: Նկարագրությունը` | B104: Հաշմանդամություն ունեցող անձանց շուրջօրյա խնամքի ծառայություներ համայնքահենք փոքր խմբային տներում
A105: Միջոցառման տեսակը` | B105: Ծառայությունների մատուցում
A106: Միջոցառումն իրականացնողի անվանումը | B106: Մասնագիտացված կազմակերպություններ
A107: Արդյունքի չափորոշիչներ
A108: Միջոցառման վրա կատարվող ծախսը (հազար դրամ) | C108: ='5'!C318 -> -3074.5
A111: ՀՀ աշխատանքի և սոցիալական հարցերի նախարարության միասնական սոցիալական ծառայություն
A112: Ծրագրի դասիչը | B112: Ծրագրի անվանումը
A113: 1005 | B113: Պարգևավճարներ և պատվովճարներ
A114: Ծրագրի միջոցառումները
A116: Ծրագրի դասիչը` | B116: 1005 | C116: Ցուցանիշների փոփոխությունները (ավելացումները նշված են դրական նշանով)
A117: Միջոցառման դասիչը` | B117: 12002 | C117: Տարի
...

Sheet 7
I1: Հավելված N 7
I2: ՀՀ կառավարության 2022 թվականի
I3: -----------------ի N -----------Ն որոշման
A5: ՀԱՅԱՍՏԱՆԻ ՀԱՆՐԱՊԵՏՈՒԹՅԱՆ ԿԱՌԱՎԱՐՈՒԹՅԱՆ 2022 ԹՎԱԿԱՆԻ ԴԵԿՏԵՄԲԵՐԻ 29-Ի N 2111-Ն ՈՐՈՇՄԱՆ N 10 ՀԱՎԵԼՎԱԾՈՒՄ ԿԱՏԱՐՎՈՂ ՓՈՓՈԽՈՒԹՅՈՒՆՆԵՐԸ
A7: Գնման առարկայի | G7: Միավորի գինը ( դրամ) | H7: Ցուցանիշների փոփոխությունները ավելացումները նշված են դրական նշանով, իսկ նվազեցումը՝ փակագծերում
A8: Կոդը | D8: Անվանումը | E8: Գնման ձևը | F8: Չափման միավորը | H8: Քանակը | I8: Գումարը (հազար դրամ)
A9: Գնման առարկայի | G9: Միավորի գինը ( դրամ) | H9: Ցուցանիշների փոփոխությունները ավելացումները նշված են դրական նշանով, իսկ նվազեցումը՝ փակագծերում
A10: Կոդը | D10: Անվանումը | E10: Գնման ձևը | F10: Չափման միավորը | H10: Քանակը | I10: Գումարը (հազար դրամ)
A11: ՀՀ աշխատանքի և սոցիալական հարցերի նախարարություն | I11: =I12 -> -83121.4
A12: Բաժին N 10 | B12: Խումբ N 02 | C12: Դաս N 01 | D12: Ծերություն | I12: =+I13 -> -83121.4
A13: 1032 32007 | B13: =+'[1]2'!F57 -> այդ թվում` ըստ կատարողների | I13: =+I14 -> -83121.4
B14: ՄԱՍ III. ԾԱՌԱՅՈՒԹՅՈՒՆՆԵՐ | I14: =SUM(I15:I22) -> -83121.4
A15: 71241200/3 | B15: նախագծերի պատրաստում, ծախսերի գնահատում | E15: ԳՀ | F15: դրամ | I15: =-22680000/1000 -> -22680
A16: 71241200/1 | B16: նախագծերի պատրաստում, ծախսերի գնահատում | E16: ԳՀ | F16: դրամ | I16: =-8905000/1000 -> -8905
A17: 71241200/502 | B17: նախագծերի պատրաստում, ծախսերի գնահատում | E17: ԳՀ | F17: դրամ | I17: =-31200000/1000 -> -31200
A18: 71241200/504 | B18: նախագծերի պատրաստում, ծախսերի գնահատում | E18: ԳՀ | F18: դրամ | I18: =-18000000/1000 -> -18000
A19: 50531140/2 | B19: փորձաքննության ծառայություններ | E19: ԳՀ | F19: դրամ | I19: =-638200/1000 -> -638.2
A20: 50531140/1 | B20: փորձաքննության ծառայություններ | E20: ԳՀ | F20: դրամ | I20: =-532400/1000 -> -532.4
A21: 50531140/4 | B21: փորձաքննության ծառայություններ | E21: ԳՀ | F21: դրամ | I21: =-605000/1000 -> -605
A22: 50531140/3 | B22: փորձաքննության ծառայություններ | E22: ԳՀ | F22: դրամ | I22: =-560800/1000 -> -560.8
A23: ՀՀ աշխատանքի և սոցիալական հարցերի նախարարության միասնական սոցիալական ծառայություն | I23: =+I24+I28+I49 -> -13525.397
A24: Բաժին N 10 | B24: Խումբ N 09 | C24: Դաս N 01 | D24: Սոցիալական պաշտպանություն (այլ դասերին չպատկանող) | I24: =+I25 -> -13700
A25: 1011 11003 | B25: Սոցիալական դեպքի վարման ծառայության ձեռք բերում | I25: =+I26 -> -13700
B26: ՄԱՍ III. ԾԱՌԱՅՈՒԹՅՈՒՆՆԵՐ | I26: =+I27 -> -13700
A27: 64211130-505 | B27: բջջային հեռախոսների ծառայություններ | E27: ԷԱՃ | F27: դրամ | I27: -13700
A28: Բաժին N 10 | B28: Խումբ N 09 | C28: Դաս N 02 | D28: Սոցիալական պաշտպանությանը տրամադրվող օժանդակ ծառայություններ (այլ դասերին չպատկանող) | I28: =+I29+I32+I35 -> 17076.003
A29: 1068 11001 | B29: Մինչև 2 տարեկան երեխայի խնամքի նպաստի տրամադրման ապահովում | I29: =+I30 -> -20000
B30: ՄԱՍ III. ԾԱՌԱՅՈՒԹՅՈՒՆՆԵՐ | I30: =+I31 -> -20000
A31: 79571100-1 | B31: փոստային առաքման ծառայություններ | E31: ՄԱ | F31: դրամ | I31: -20000
A32: 1102 11002 | B32: Կենսաթոշակների և այլ դրամական վճարների իրականացման ապահովում | I32: =+I33 -> 40000
B33: ՄԱՍ III. ԾԱՌԱՅՈՒԹՅՈՒՆՆԵՐ | I33: =+I34 -> 40000
A34: 79571100-1 | B34: փոստային առաքման ծառայություններ | E34: ՄԱ | F34: դրամ | I34: 40000
A35: 1160 11005 | B35: Հաշմանդամություն ունեցող անձանց մատուցվող ծառայությունների ծրագրի իրականացման ապահովում | I35: =+I36 -> -2923.9968
B36: ՄԱՍ III. ԾԱՌԱՅՈՒԹՅՈՒՆՆԵՐ | I36: =SUM(I37:I48) -> -2923.9968
A37: 79821170-1 | B37: տպագրական և առաքման ծառայություններ | E37: ԷԱՃ | F37: դրամ | I37: -132.59682
A38: 79821170-567 | B38: տպագրական և առաքման ծառայություններ | E38: ԷԱՃ | F38: հատ | G38: 5 | H38: -8500 | I38: =+G38*H38/1000 -> -42.5
A39: 79821170-568 | B39: տպագրական և առաքման ծառայություններ | E39: ԷԱՃ | F39: հատ | G39: 5 | H39: -41200 | I39: =+G39*H39/1000 -> -206
A40: 79821170-569 | B40: տպագրական և առաքման ծառայություններ | E40: ԷԱՃ | F40: հատ | G40: 25 | H40: -2000 | I40: =+G40*H40/1000 -> -50
A41: 79821170-570 | B41: տպագրական և առաքման ծառայություններ | E41: ԷԱՃ | F41: հատ | G41: 20 | H41: -24000 | I41: =+G41*H41/1000 -> -480
A42: 79821170-571 | B42: տպագրական և առաքման ծառայություններ | E42: ԷԱՃ | F42: հատ | G42: 3 | H42: -6000 | I42: =+G42*H42/1000 -> -18
A43: 79821170-572 | B43: տպագրական և առաքման ծառայություններ | E43: ԷԱՃ | F43: հատ | G43: 16 | H43: -44000 | I43: =+G43*H43/1000 -> -704
A44: 79821170-573 | B44: տպագրական և առաքման ծառայություններ | E44: ԷԱՃ | F44: հատ | G44: 5 | H44: -1000 | I44: =+G44*H44/1000 -> -5
A45: 79821170-574 | B45: տպագրական և առաքման ծառայություններ | E45: ԷԱՃ | F45: հատ | G45: 15 | H45: -44000 | I45: =+G45*H45/1000 -> -660
A46: 79821170-575 | B46: տպագրական և առաքման ծառայություններ | E46: ԷԱՃ | F46: հատ | G46: 3300 | H46: -154 | I46: =+G46*H46/1000 -> -508.2
A47: 79821170-576 | B47: տպագրական և առաքման ծառայություններ | E47: ԷԱՃ | F47: հատ | G47: 3200 | H47: -2 | I47: =+G47*H47/1000 -> -6.4
A48: 79821170-577 | B48: տպագրական և առաքման ծառայություններ | E48: ԷԱՃ | F48: հատ | G48: 2650 | H48: -42 | I48: =+G48*H48/1000 -> -111.3
A49: Բաժին N 10 | B49: Խումբ N 05 | C49: Դաս N 01 | D49: Գործազրկություն | I49: =+I50 -> -16901.4
A50: 1088 11001 | B50: Գործազուրկների, աշխատանաքից ազատման ռիսկ ունեցող, ինչպես նաև ազատազրկման ձևով պատիժը կրելու ավարտին վեց ամիս մնացած աշխատանք փնտրող անձանց մասնագիտական ուսուցման կազմակերպում | I50: =+I51 -> -16901.4
B51: ՄԱՍ III. ԾԱՌԱՅՈՒԹՅՈՒՆՆԵՐ | I51: =+I52 -> -16901.4
A52: 80531100-1 | B52: արդյունաբերական ուսուցման ծառայություններ | E52: ԷԱՃ | F52: դրամ | I52: -16901.4

Sheet 8
G1: Հավելված N 8
F2: ՀՀ կառավարության 2023 թվականի
F3: -----------------ի N -----------Ն որոշման
A5: ՀԱՅԱՍՏԱՆԻ ՀԱՆՐԱՊԵՏՈՒԹՅԱՆ 2023 ԹՎԱԿԱՆԻ ՊԵՏԱԿԱՆ ԲՅՈՒՋԵՈՎ ՆԱԽԱՏԵՍՎԱԾ՝ ՀԱՅԱՍՏԱՆԻ ՀԱՆՐԱՊԵՏՈՒԹՅԱՆ ԿԱՌԱՎԱՐՈՒԹՅԱՆ ՊԱՀՈՒՍՏԱՅԻՆ ՖՈՆԴԻՑ ՀԱՏԿԱՑՈՒՄՆԵՐ ԿԱՏԱՐԵԼՈՒ ՎԵՐԱԲԵՐՅԱԼ
G6: (հազար դրամ)
A7: Գործառական դասիչը | D7: Ծրագրային դասիչը | F7: Բյուջետային ծախսերի գործառական դասակարգման բաժինների, խմբերի և դասերի, բյուջետային ծրագրերի միջոցառումների, բյուջետային հատկացումների գլխավոր կարգադրիչների անվանումները | G7: Ցուցանիշների փոփոխությունները ավելացումները նշված են դրական նշանով, իսկ նվազեցումը՝ փակագծերում
A8: Բաժինը | B8: Խումբը | C8: Դասը | D8: Ծրագիր | E8: Միջոցառում | G8: Տարի
F9: ԸՆԴԱՄԵՆԸ ԾԱԽՍԵՐ | G9: =G11+G29 -> 0
F10: այդ թվում`
A11: 11 | F11: ՀԻՄՆԱԿԱՆ ԲԱԺԻՆՆԵՐԻՆ ՉԴԱՍՎՈՂ ՊԱՀՈՒՍՏԱՅԻՆ ՖՈՆԴԵՐ | G11: =SUM(G13) -> -1696483.4
F12: այդ թվում`
B13: 01 | F13: ՀՀ կառավարության և համայնքների պահուստային ֆոնդ | G13: =SUM(G15) -> -1696483.4
F14: այդ թվում`
C15: 01 | F15: ՀՀ կառավարության պահուստային ֆոնդ | G15: =G17 -> -1696483.4
F16: այդ թվում`
F17: ՀՀ կառավարություն | G17: =G19 -> -1696483.4
F18: այդ թվում`
D19: 1139 | F19: ՀՀ կառավարության պահուստային ֆոնդ | G19: =SUM(G21) -> -1696483.4
F20: այդ թվում` ըստ կատարողների
E21: 11001 | F21: ՀՀ կառավարության պահուստային ֆոնդ | G21: =G23 -> -1696483.4
F22: այդ թվում` ըստ կատարողների
F23: ՀՀ կառավարություն | G23: =G24 -> -1696483.4
F24: այդ թվում` բյուջետային ծախսերի տնտեսագիտական դասակարգման հոդվածներ | G24: =SUM(G26) -> -1696483.4
F25: ԸՆԴԱՄԵՆԸ ԾԱԽՍԵՐ | G25: =SUM(G27) -> -1696483.4
F26: ԸՆԹԱՑԻԿ ԾԱԽՍԵՐ | G26: =SUM(G28) -> -1696483.4
F27: ԱՅԼ ԾԱԽՍԵՐ | G27: =SUM(G28) -> -1696483.4
F28: Պահուստային միջոցներ | G28: =SUM('1.'!D276) -> -1696483.4
A29: 10 | F29: ՍՈՑԻԱԼԱԿԱՆ ՊԱՇՏՊԱՆՈՒԹՅՈՒՆ | G29: 1696483.4
F30: այդ թվում`
B31: 01 | F31: Վատառողջություն և անաշխատունակություն | G31: -5760.9
F32: այդ թվում`
C33: 02 | F33: Անաշխատունակություն | G33: -5760.9
F34: այդ թվում`
F35: ՀՀ աշխատանքի և սոցիալական հարցերի նախարարություն | G35: -5760.9
F36: այդ թվում`
D37: 1160 | F37: Հաշմանդամություն ունեցող անձանց աջակցություն | G37: -5760.9
F38: այդ թվում`
E39: 11012 | F39: Հաշմանդամություն ունեցող անձանց սոցիալ- վերականգնողական ծառայություններ ցերեկային կենտրոնում | G39: -2686.4
F40: այդ թվում` ըստ կատարողների
F41: ՀՀ աշխատանքի և սոցիալական հարցերի նախարարություն | G41: -2686.4
F42: այդ թվում` բյուջետային ծախսերի տնտեսագիտական դասակարգման հոդվածներ
F43: ԸՆԴԱՄԵՆԸ ԾԱԽՍԵՐ | G43: -2686.4
F44: ԸՆԹԱՑԻԿ ԾԱԽՍԵՐ | G44: -2686.4
F45: ԴՐԱՄԱՇՆՈՐՀՆԵՐ | G45: -2686.4
F46: Ընթացիկ դրամաշնորհներ պետական հատվածի այլ մակարդակներին | G46: -2686.4
F47: - Այլ ընթացիկ դրամաշնորհներ | G47: -2686.4
E48: 11013 | F48: Հաշմանդամություն ունեցող անձանց շուրջօրյա խնամքի ծառայություներ համայնքահենք փոքր խմբային տներում | G48: -3074.5
F49: այդ թվում` ըստ կատարողների
F50: ՀՀ աշխատանքի և սոցիալական հարցերի նախարարություն | G50: -3074.5
F51: այդ թվում` բյուջետային ծախսերի տնտեսագիտական դասակարգման հոդվածներ
F52: ԸՆԴԱՄԵՆԸ ԾԱԽՍԵՐ | G52: -3074.5
F53: ԸՆԹԱՑԻԿ ԾԱԽՍԵՐ | G53: -3074.5
F54: ԴՐԱՄԱՇՆՈՐՀՆԵՐ | G54: -3074.5
F55: Ընթացիկ դրամաշնորհներ պետական հատվածի այլ մակարդակներին | G55: -3074.5
F56: - Այլ ընթացիկ դրամաշնորհներ | G56: -3074.5
B57: 02 | F57: Ծերություն | G57: 3783752.4
F58: այդ թվում`
C59: 01 | F59: Ծերություն | G59: 3783752.4
F60: այդ թվում`
F61: ՀՀ աշխատանքի և սոցիալական հարցերի նախարարություն | G61: 3783752.4
F62: այդ թվում`
D63: 1032 | F63: Խնամքի ծառայություններ 18 տարեկանից բարձր տարիքի անձանց | G63: -83121.4
F64: այդ թվում`
E65: 32007 | F65: Տարեց և (կամ) հաշմանդամություն ունեցող անձանց շուրջօրյա խնամք մատուցող պետական ոչ առևտրային կազմակերպությունների շենքային պայմանների բարելավում | G65: -83121.4
F66: այդ թվում` ըստ կատարողների
F67: ՀՀ աշխատանքի և սոցիալական հարցերի նախարարություն | G67: -83121.4
F68: այդ թվում` բյուջետային ծախսերի տնտեսագիտական դասակարգման հոդվածներ
F69: ԸՆԴԱՄԵՆԸ ԾԱԽՍԵՐ | G69: -83121.4
F70: ՈՉ ՖԻՆԱՆՍԱԿԱՆ ԱԿՏԻՎՆԵՐԻ ԳԾՈՎ ԾԱԽՍԵՐ | G70: -83121.4
F71: ՀԻՄՆԱԿԱՆ ՄԻՋՈՑՆԵՐ | G71: -83121.4
F72: ԱՅԼ ՀԻՄՆԱԿԱՆ ՄԻՋՈՑՆԵՐ | G72: -83121.4
F73: - Նախագծահետազոտական ծախսեր | G73: -83121.4
D74: 1102 | F74: Կենսաթոշակային ապահովություն | G74: 2655161.8
F75: այդ թվում`
E76: 12001 | F76: Սպայական անձնակազմի և նրանց ընտանիքների անդամների կենսաթոշակներ | G76: 2459800
F77: այդ թվում` ըստ կատարողների
F78: ՀՀ աշխատանքի և սոցիալական հարցերի նախարարության միասնական սոցիալական ծառայություն | G78: 2459800
F79: այդ թվում` բյուջետային ծախսերի տնտեսագիտական դասակարգման հոդվածներ
F80: ԸՆԴԱՄԵՆԸ ԾԱԽՍԵՐ | G80: 2459800
F81: ԸՆԹԱՑԻԿ ԾԱԽՍԵՐ | G81: 2459800
F82: ՍՈՑԻԱԼԱԿԱՆ ՆՊԱՍՏՆԵՐ ԵՎ ԿԵՆՍԱԹՈՇԱԿՆԵՐ | G82: 2459800
F83: Կենսաթոշակներ | G83: 2459800
F84: - Կենսաթոշակներ | G84: 2459800
E85: 12002 | F85: Շարքային զինծառայողների և նրանց ընտանիքների անդամների զինվորական կենսաթոշակներ | G85: 30361.8
F86: այդ թվում` ըստ կատարողների
F87: ՀՀ աշխատանքի և սոցիալական հարցերի նախարարության միասնական սոցիալական ծառայություն | G87: 30361.8
F88: այդ թվում` բյուջետային ծախսերի տնտեսագիտական դասակարգման հոդվածներ
F89: ԸՆԴԱՄԵՆԸ ԾԱԽՍԵՐ | G89: 30361.8
F90: ԸՆԹԱՑԻԿ ԾԱԽՍԵՐ | G90: 30361.8
F91: ՍՈՑԻԱԼԱԿԱՆ ՆՊԱՍՏՆԵՐ ԵՎ ԿԵՆՍԱԹՈՇԱԿՆԵՐ | G91: 30361.8
F92: Կենսաթոշակներ | G92: 30361.8
F93: - Կենսաթոշակներ | G93: 30361.8
E94: 12004 | F94: ՀՀ օրենքով նշանակված կենսաթոշակներ | G94: 165000
F95: այդ թվում` ըստ կատարողների
F96: ՀՀ աշխատանքի և սոցիալական հարցերի նախարարության միասնական սոցիալական ծառայություն | G96: 165000
F97: այդ թվում` բյուջետային ծախսերի տնտեսագիտական դասակարգման հոդվածներ
F98: ԸՆԴԱՄԵՆԸ ԾԱԽՍԵՐ | G98: 165000
F99: ԸՆԹԱՑԻԿ ԾԱԽՍԵՐ | G99: 165000
F100: ՍՈՑԻԱԼԱԿԱՆ ՆՊԱՍՏՆԵՐ ԵՎ ԿԵՆՍԱԹՈՇԱԿՆԵՐ | G100: 165000
F101: Կենսաթոշակներ | G101: 165000
...
