Workbook
Name _tab10: #REF!
Name _tab10: #REF!
Name _tab10: #REF!
Name _tab10: #REF!
Name _tab11: #REF!
Name _tab11: #REF!
Name _tab11: #REF!
Name _tab11: #REF!
Name _tab12: #REF!
Name _tab12: #REF!
Name _tab12: #REF!
Name _tab12: #REF!
Name _tab13: #REF!
Name _tab13: #REF!
Name _tab13: #REF!
Name _tab13: #REF!
Name _tab14: #REF!
Name _tab14: #REF!
Name _tab14: #REF!
Name _tab14: #REF!
Name _tab15: #REF!
Name _tab15: #REF!
Name _tab15: #REF!
Name _tab15: #REF!
Name _tab16: #REF!
Name _tab16: #REF!
Name _tab16: #REF!
Name _tab16: #REF!
Name _tab17: #REF!
Name _tab17: #REF!
Name _tab17: #REF!
Name _tab17: #REF!
Name _tab18: #REF!
Name _tab18: #REF!
Name _tab18: #REF!
Name _tab18: #REF!
Name _tab19: #REF!
Name _tab19: #REF!
Name _tab19: #REF!
Name _tab19: #REF!
Name _tab20: #REF!
Name _tab20: #REF!
Name _tab20: #REF!
Name _tab20: #REF!
Name _tab21: #REF!
Name _tab21: #REF!
Name _tab21: #REF!
Name _tab21: #REF!
Name _tab22: #REF!
Name _tab22: #REF!
Name _tab22: #REF!
Name _tab22: #REF!
Name _tab23: #REF!
Name _tab23: #REF!
Name _tab23: #REF!
Name _tab23: #REF!
Name _tab24: #REF!
Name _tab24: #REF!
Name _tab24: #REF!
Name _tab24: #REF!

Sheet 1.
D1: Հավելված N 1
D2: ՀՀ կառավարության 2023 թվականի N -Ն որոշման
A3: «ՀԱՅԱՍՏԱՆԻ ՀԱՆՐԱՊԵՏՈՒԹՅԱՆ 2023 ԹՎԱԿԱՆԻ ՊԵՏԱԿԱՆ ԲՅՈՒՋԵԻ ՄԱՍԻՆ» ՀԱՅԱՍՏԱՆԻ ՀԱՆՐԱՊԵՏՈՒԹՅԱՆ ՕՐԵՆՔԻ N1 ՀԱՎԵԼՎԱԾԻ N2 ԱՂՅՈՒՍԱԿՈՒՄ ԿԱՏԱՐՎՈՂ ՎԵՐԱԲԱՇԽՈՒՄԸ ԵՎ ՀԱՅԱՍՏԱՆԻ ՀԱՆՐԱՊԵՏՈՒԹՅԱՆ ԿԱՌԱՎԱՐՈՒԹՅԱՆ 2022 ԹՎԱԿԱՆԻ ԴԵԿՏԵՄԲԵՐԻ 29-Ի N 2111-Ն ՈՐՈՇՄԱՆ N 5 ՀԱՎԵԼՎԱԾԻ N1 ԱՂՅՈՒՍԱԿՈՒՄ ԿԱՏԱՐՎՈՂ ՓՈՓՈԽՈՒԹՅՈՒՆՆԵՐԸ
D4: հազ. դրամ
A5: «ՀԱՅԱՍՏԱՆԻ ՀԱՆՐԱՊԵՏՈՒԹՅԱՆ 2023 ԹՎԱԿԱՆԻ ՊԵՏԱԿԱՆ ԲՅՈՒՋԵԻ ՄԱՍԻՆ» ՀԱՅԱՍՏԱՆԻ ՀԱՆՐԱՊԵՏՈՒԹՅԱՆ ՕՐԵՆՔԻ N1 ՀԱՎԵԼՎԱԾԻ N2 ԱՂՅՈՒՍԱԿՈՒՄ ԿԱՏԱՐՎՈՂ ՎԵՐԱԲԱՇԽՈՒՄԸ ԵՎ ՀԱՅԱՍՏԱՆԻ ՀԱՆՐԱՊԵՏՈՒԹՅԱՆ ԿԱՌԱՎԱՐՈՒԹՅԱՆ 2022 ԹՎԱԿԱՆԻ ԴԵԿՏԵՄԲԵՐԻ 29-Ի N 2111-Ն ՈՐՈՇՄԱՆ N 5 ՀԱՎԵԼՎԱԾԻ N1 ԱՂՅՈՒՍԱԿՈՒՄ ԿԱՏԱՐՎՈՂ ՓՈՓՈԽՈՒԹՅՈՒՆՆԵՐԸ
D6: հազար դրամ
A7: Ծրագրային դասիչը | C7: Բյուջետային գլխավոր կարգադրիչների, ծրագրերի և միջոցառումների անվանումները | D7: Ցուցանիշների փոփոխությունը (ավելացումները նշված են դրական նշանով, իսկ նվազեցումները՝ փակագծերում)
A8: Ծրագիր | B8: Միջոցառում | D8: Տարի
C9: ԸՆԴԱՄԵՆԸ ԾԱԽՍԵՐ | D9: =+D10+D24 -> 0
C10: ՀՀ կառավարություն | D10: =SUM(D11) -> 6650000
A11: 1139 | C11: Ծրագրի անվանումը` | D11: =SUM(D18) -> 6650000
C12: ՀՀ կառավարության պահուստային ֆոնդ
C13: Ծրագրի նպատակը`
C14: Պետական բյուջեում չկանխատեսված, ինչպես նաեւ բյուջետային երաշխիքների ապահովման ծախսերի ֆինանսավորման ապահովում
C15: Վերջնական արդյունքի նկարագրությունը`
C16: Պահուստային ֆոնդի կառավարման արդյունավետության և թափանցիկության ապահովում
A17: Ծրագրի միջոցառումներ
B18: 11001 | C18: Միջոցառման անվանումը` | D18: =-D24 -> 6650000
C19: ՀՀ կառավարության պահուստային ֆոնդ
C20: Միջոցառման նկարագրությունը`
C21: ՀՀ պետական բյուջեում նախատեսված ելքերի լրացուցիչ ֆինանսավորման, պետական բյուջեում չկանխատեսված ելքերի, ինչպես նաև բյուջետային երաշխիքների ապահովման ելքերի ֆինանսավորման ապահովում
C22: Միջոցառման տեսակը
C23: Ծառայությունների մատուցում
C24: ՀՀ ֆինանսների նախարարություն | D24: =D25+D38 -> -6650000
A25: 1006 | C25: Ծրագրի անվանումը` | D25: =D32 -> -6500000
C26: Պետական պարտքի կառավարում
C27: Ծրագրի նպատակը`
C28: Կառավարության ֆինանսական կարիքների բավարարման մշտական հնարավորության ապահովումը` երկարաժամկետ հատվածում նվազեցնելով պարտքի սպասարկման մեծությունը
C29: Վերջնական արդյունքի նկարագրությունը`
C30: Կառավարության պարտքի օպտիմալ կառուցվածքի ձևավորում՛ հաշվի առնելով պոտենցիալ ռիսկերը
A31: Ծրագրի միջոցառումներ
B32: 13001 | C32: Միջոցառման անվանումը` | D32: ='2.'!G43 -> -6500000
C33: Կառավարության պարտքի սպասարկում
C34: Միջոցառման նկարագրությունը`
C35: Կառավարության պարտքի սպասարկում (տոկոսավճարներ)
C36: Միջոցառման տեսակը
C37: Ֆինանսավորման ծախսերի իրականացում
A38: 1108 | C38: Ծրագրի անվանումը` | D38: =D45 -> -150000
C39: Հանրային ֆինանսների կառավարման բնագավառում պետական քաղաքականության մշակում, ծրագրերի համակարգում և մոնիտորինգ
C40: Ծրագրի նպատակը`
C41: Հարկաբյուջետային քաղաքականության մշակում և իրականացման ապահովում, հանրային ֆինանսների արդյունավետ կառավարում
C42: Վերջնական արդյունքի նկարագրությունը`
C43: Հանրային ֆինանսների ձևավորման, բաշխման և օգտագործման արդյունավետության աճ, ֆինանսական կարգապահության բարելավում
A44: Ծրագրի միջոցառումներ
B45: 11011 | C45: Միջոցառման անվանումը` | D45: -150000
C46: Պետական բյուջետային ծրագրերի գնահատում
C47: Միջոցառման նկարագրությունը`
C48: Իրականացնել բյուջետային ծրագրերի վերլուծություն, գնահատում, աուդիտ՛ հրապարակելով արդյունքները
C49: Միջոցառման տեսակը
C50: Ծառայությունների մատուցում

Sheet 2.
G1: Հավելված N 2
G2: ՀՀ կառավարության 2023 թվականի N -Ն որոշման
A3: ՀԱՅԱՍՏԱՆԻ ՀԱՆՐԱՊԵՏՈՒԹՅԱՆ ԿԱՌԱՎԱՐՈՒԹՅԱՆ 2022 ԹՎԱԿԱՆԻ ԴԵԿՏԵՄԲԵՐԻ 29-Ի N 2111-Ն ՈՐՈՇՄԱՆ N 3 ԵՎ 4 ՀԱՎԵԼՎԱԾՆԵՐՈՒՄ ԿԱՏԱՐՎՈՂ ՓՈՓՈԽՈՒԹՅՈՒՆՆԵՐԸ
G4: հազ. դրամ
A5: Գործառական դասիչը | D5: Ծրագրային դասիչը | F5: Բյուջետային ծախսերի գործառական դասակարգման բաժինների, խմբերի և դասերի, բյուջետային ծրագրերի միջոցառումների, բյուջետային հատկացումների գլխավոր կարգադրիչների անվանումները | G5: Ցուցանիշների փոփոխությունը (ավելացումները նշված են դրական նշանով, իսկ նվազեցումները՝ փակագծերում)
G6: Տարի
A7: Բաժին | B7: Խումբ | C7: Դաս | D7: Ծրագիր | E7: Միջոցա ռում
F8: ԸՆԴԱՄԵՆԸ ԾԱԽՍԵՐ | G8: =+G9+G23 -> 0
A9: 11 | F9: ՀԻՄՆԱԿԱՆ ԲԱԺԻՆՆԵՐԻՆ ՉԴԱՍՎՈՂ ՊԱՀՈՒՍՏԱՅԻՆ ՖՈՆԴԵՐ | G9: =+G11 -> 6650000
F10: այդ թվում`
B11: 01 | F11: ՀՀ կառավարության պահուստային ֆոնդ | G11: =+G13 -> 6650000
F12: այդ թվում`
C13: 01 | F13: ՀՀ կառավարության պահուստային ֆոնդ | G13: =+G15 -> 6650000
F14: այդ թվում`
D15: 1139 | E15: 11001 | F15: ՀՀ կառավարության պահուստային ֆոնդ | G15: =+G17 -> 6650000
F16: այդ թվում` ըստ կատարողների
F17: ՀՀ կառավարություն | G17: =+G19 -> 6650000
F18: այդ թվում` բյուջետային ծախսերի տնտեսագիտական դասակարգման հոդվածներ
F19: ԸՆԴԱՄԵՆԸ ԾԱԽՍԵՐ | G19: =+G20 -> 6650000
F20: ԸՆԹԱՑԻԿ ԾԱԽՍԵՐ | G20: =+G21 -> 6650000
F21: ԱՅԼ ԾԱԽՍԵՐ | G21: =+G22 -> 6650000
F22: Պահուստային միջոցներ | G22: ='1.'!D18 -> 6650000
A23: 01 | F23: ԸՆԴՀԱՆՈՒՐ ԲՆՈՒՅԹԻ ՀԱՆՐԱՅԻՆ ԾԱՌԱՅՈՒԹՅՈՒՆՆԵՐ | G23: =G25+G38 -> -6650000
F24: այդ թվում`
B25: 01 | F25: Օրենսդիր և գործադիր մարմիններ, պետական կառավարում, ֆինանսական և հարկաբյուջետային հարաբերություններ, արտաքին հարաբերություններ | G25: =G27 -> -150000
F26: այդ թվում`
C27: 02 | F27: Ֆինանսական և հարկաբյուջետային հարաբերություններ | G27: =G29 -> -150000
F28: այդ թվում`
D29: 1108 | E29: 11011 | F29: Պետական բյուջետային ծրագրերի գնահատում | G29: =G31 -> -150000
F30: այդ թվում` ըստ կատարողների
F31: ՀՀ ֆինանսների նախարարություն | G31: =G33 -> -150000
F32: այդ թվում` բյուջետային ծախսերի տնտեսագիտական դասակարգման հոդվածներ
F33: ԸՆԴԱՄԵՆԸ ԾԱԽՍԵՐ | G33: =G34 -> -150000
F34: ԸՆԹԱՑԻԿ ԾԱԽՍԵՐ | G34: =G35 -> -150000
F35: ԾԱՌԱՅՈՒԹՅՈՒՆՆԵՐԻ ԵՎ ԱՊՐԱՆՔՆԵՐԻ ՁԵՌՔԲԵՐՈՒՄ | G35: =G36 -> -150000
F36: Պայմանագրային այլ ծառայությունների ձեռքբերում | G36: =G37 -> -150000
F37: - Կառավարչական ծառայություններ | G37: -150000
B38: 07 | F38: Պետական պարտքի գծով գործառնություններ | G38: =G40 -> -6500000
F39: այդ թվում`
C40: 01 | F40: Պետական պարտքի գծով գործառնություններ | G40: =G41 -> -6500000
D41: 1006 | F41: Պետական պարտքի կառավարում | G41: =G43 -> -6500000
F42: այդ թվում`
E43: 13001 | F43: Կառավարության պարտքի սպասարկում | G43: =G45 -> -6500000
F44: այդ թվում` ըստ կատարողների
F45: ՀՀ ֆինանսների նախարարություն | G45: =G47 -> -6500000
F46: այդ թվում` բյուջետային ծախսերի տնտեսագիտական դասակարգման հոդվածներ
F47: ԸՆԴԱՄԵՆԸ ԾԱԽՍԵՐ | G47: =G48 -> -6500000
F48: ԸՆԹԱՑԻԿ ԾԱԽՍԵՐ | G48: =G49 -> -6500000
F49: ՏՈԿՈՍԱՎՃԱՐՆԵՐ | G49: =G50+G51 -> -6500000
F50: - Ներքին տոկոսավճարներ | G50: -6500000
G51: 0

Sheet 3.
C1: Հավելված N 3
C2: ՀՀ կառավարության 2023 թվականի N -Ն որոշման
A3: ՀԱՅԱՍՏԱՆԻ ՀԱՆՐԱՊԵՏՈՒԹՅԱՆ ԿԱՌԱՎԱՐՈՒԹՅԱՆ 2022 ԹՎԱԿԱՆԻ ԴԵԿՏԵՄԲԵՐԻ 29-Ի N 2111-Ն ՈՐՈՇՄԱՆ N 9 ՀԱՎԵԼՎԱԾԻ NN 9.47, N 9.17 և N 9.1 ՀԱՎԵԼՎԱԾԻ NN 9.1.58, N 9.1.17 ԱՂՅՈՒՍԱԿՆԵՐՈՒՄ ԿԱՏԱՐՎՈՂ ՓՈՓՈԽՈՒԹՅՈՒՆՆԵՐԸ
A4: ՀՀ կառավարություն
A5: ՄԱՍ 2. ՊԵՏԱԿԱՆ ՄԱՐՄՆԻ ԳԾՈՎ ԱՐԴՅՈՒՆՔԱՅԻՆ (ԿԱՏԱՐՈՂԱԿԱՆ) ՑՈՒՑԱՆԻՇՆԵՐԸ
A8: Ծրագրի դասիչը | B8: Ծրագրի անվանումը
A9: 1139 | B9: ՀՀ կառավարության պահուստային ֆոնդ
A11: Ծրագրի միջոցառումները
A13: Ծրագրի դասիչը` | B13: 1139 | C13: Ցուցանիշների փոփոխությունը (ավելացումները նշված են դրական նշանով)
A14: Միջոցառման դասիչը` | B14: 11001 | C14: Տարի
A15: Միջոցառման անվանումը` | B15: ՀՀ կառավարության պահուստային ֆոնդ
A16: Նկարագրությունը` | B16: ՀՀ պետական բյուջեում նախատեսված ելքերի լրացուցիչ ֆինանսավորման, պետական բյուջեում չկանխատեսված ելքերի, ինչպես նաև բյուջետային երաշխիքների ապահովման ելքերի ֆինանսավորման ապահովում
A17: Միջոցառման տեսակը` | B17: Ծառայությունների մատուցում
A18: Արդյունքի չափորոշիչներ
A19: Միջոցառման վրա կատարվող ծախսը (հազար դրամ) | C19: ='1.'!D18 -> 6650000
A21: ՀՀ ֆինանսների նախարարություն
A22: ՄԱՍ 2. ՊԵՏԱԿԱՆ ՄԱՐՄՆԻ ԳԾՈՎ ԱՐԴՅՈՒՆՔԱՅԻՆ (ԿԱՏԱՐՈՂԱԿԱՆ) ՑՈՒՑԱՆԻՇՆԵՐԸ
A24: Ծրագրի դասիչը | B24: Ծրագրի անվանումը
A25: 1006 | B25: Պետական պարտքի կառավարում
A27: Ծրագրի միջոցառումները
A29: Ծրագրի դասիչը` | B29: 1006 | C29: Ցուցանիշների փոփոխությունը (նվազեցումները նշված են փակագծերում)
A30: Միջոցառման դասիչը` | B30: 13001 | C30: Տարի
A31: Միջոցառման անվանումը` | B31: Կառավարության պարտքի սպասարկում
A32: Նկարագրությունը` | B32: Կառավարության պարտքի սպասարկում (տոկոսավճարներ)
A33: Միջոցառման տեսակը` | B33: Ֆինանսավորման ծախսերի իրականացում
A34: Միջոցառումն իրականացնողի անվանումը՛ | B34: ՀՀ ֆինանսների նախարարություն
A35: Արդյունքի չափորոշիչներ
A36: Միջոցառման վրա կատարվող ծախսը (հազար դրամ) | C36: ='2.'!G50 -> -6500000
A38: Ծրագրի դասիչը` | B38: 1108 | C38: Ցուցանիշների փոփոխությունը (նվազեցումները նշված են փակագծերում)
A39: Միջոցառման դասիչը` | B39: 11011 | C39: Տարի
A40: Միջոցառման անվանումը` | B40: Պետական բյուջետային ծրագրերի գնահատում
A41: Նկարագրությունը` | B41: Իրականացնել բյուջետային ծրագրերի վերլուծություն, գնահատում, աուդիտ՛ հրապարակելով արդյունքները
A42: Միջոցառման տեսակը` | B42: Ծառայությունների մատուցում
A43: Ծառայությունը մատուցող կազմակերպության(ների) անվանում(ներ)ը | B43: ՀՀ ֆինանսների նախարարություն
A44: Արդյունքի չափորոշիչներ
A45: աուդիտորների քանակ | C45: -2
A46: Միջոցառման վրա կատարվող ծախսը (հազար դրամ) | C46: ='1.'!D45 -> -150000

Sheet Sheet1
A1: 4239 | B1: 20939.6
A2: 4252 | B2: 4001.2
A3: 4261 | B3: 24221.5
A4: 4264 | B4: 658398.2
A5: 4267 | B5: 51113.2
A6: 4269 | B6: 58135.2
A7: 5121 | B7: 34800
A8: 5122 | B8: 30780.6
A9: 5129 | B9: 165718.2
A10: 5132 | B10: 33.2
