Workbook
Name AgencyCode: #REF!
Name AgencyCode: #REF!
Name AgencyCode: #REF!
Name AgencyCode: #REF!
Name AgencyCode: #REF!
Name AgencyCode: #REF!
Name AgencyCode: #REF!
Name AgencyCode: #REF!
Name AgencyName: #REF!
Name AgencyName: #REF!
Name AgencyName: #REF!
Name AgencyName: #REF!
Name AgencyName: #REF!
Name åû: #REF!
Name åû: #REF!
Name åû: #REF!
Name davit: #REF!
Name davit: #REF!
Name davit: #REF!
Name Functional1: #REF!
Name Functional1: #REF!
Name Functional1: #REF!
Name Functional1: #REF!
Name Functional1: #REF!
Name ggg: #REF!
Name ggg: #REF!
Name ggg: #REF!
Name mas: #REF!
Name mas: #REF!
Name mas: #REF!
Name mass: #REF!
Name mass: #REF!
Name mass: #REF!
Name PANature: #REF!
Name PANature: #REF!
Name PANature: #REF!
Name PANature: #REF!
Name PANature: #REF!
Name PAType: #REF!
Name PAType: #REF!
Name PAType: #REF!
Name PAType: #REF!
Name PAType: #REF!
Name Performance2: #REF!
Name Performance2: #REF!
Name Performance2: #REF!
Name Performance2: #REF!
Name Performance2: #REF!
Name PerformanceType: #REF!
Name PerformanceType: #REF!
Name PerformanceType: #REF!
Name PerformanceType: #REF!
Name PerformanceType: #REF!
Name x: #REF!
Name x: #REF!
Name x: #REF!
Name x: #REF!
Name Հավելված: #REF!
Name Հավելված: #REF!
Name Հավելված: #REF!

Sheet h1
B1: Հավելված N 1
B2: ՀՀ կառավարության 2023 թվականի
B3: ______________ ի ___Ն որոշման
A5: «ՀԱՅԱՍՏԱՆԻ ՀԱՆՐԱՊԵՏՈՒԹՅԱՆ 2023 ԹՎԱԿԱՆԻ ՊԵՏԱԿԱՆ ԲՅՈՒՋԵԻ ՄԱՍԻՆ» ՕՐԵՆՔԻ N 2 ՀՈԴՎԱԾԻ ԱՂՅՈՒՍԱԿՈՒՄ ԿԱՏԱՐՎՈՂ ՓՈՓՈԽՈՒԹՅՈՒՆՆԵՐԸ
B7: հազար դրամներով
B8: Ցուցանիշների փոփոխությունը (նվազեցումները նշված են փակագծերում)
A9: 1. Եկամուտների գծով | B9: =+'h2'!B10 -> -4394281.2
A10: 2. Ծախսերի գծով | B10: ='h9'!H10 -> -14557465
A11: 3. Դեֆիցիտը (պակասուրդը) | B11: =-B9+B10 -> -10163184

Sheet h2
C1: Հավելված N 2
C2: ՀՀ կառավարության 2023 թվականի
C3: ______________ ի ___Ն որոշման
A5: «ՀԱՅԱՍՏԱՆԻ ՀԱՆՐԱՊԵՏՈՒԹՅԱՆ 2023 ,ԹՎԱԿԱՆԻ ՊԵՏԱԿԱՆ ԲՅՈՒՋԵԻ ՄԱՍԻՆ» ՕՐԵՆՔԻ N 6 ՀՈԴՎԱԾԻ ԱՂՅՈՒՍԱԿՈՒՄ ԵՎ ՀԱՅԱՍՏԱՆԻ ՀԱՆՐԱՊԵՏՈՒԹՅԱՆ ԿԱՌԱՎԱՐՈՒԹՅԱՆ 2022 ԹՎԱԿԱՆԻ ԴԵԿՏԵՄԲԵՐԻ 29-Ի N 2111-Ն ՈՐՈՇՄԱՆ N 2 ՀԱՎԵԼՎԱԾՈՒՄ ԿԱՏԱՐՎՈՂ ՓՈՓՈԽՈՒԹՅՈՒՆՆԵՐԸ
B7: հազար դրամներով
A8: Եկամտատեսակ | B8: Ցուցանիշների փոփոխությունը (նվազեցումները նշված են փակագծերում)
B9: Տարի
A10: ՊԵՏԱԿԱՆ ԲՅՈՒՋԵԻ ԵԿԱՄՈՒՏՆԵՐ | B10: =+B12 -> -4394281.2
A11: այդ թվում`
A12: Պաշտոնական դրամաշնորհներ | B12: =+h12.d!I11 -> -4394281.2

Sheet h3
C1: Հավելված N 3
C2: ՀՀ կառավարության 2023թվականի
C3: ______________ ի ___Ն որոշման
A5: ՀԱՅԱՍՏԱՆԻ ՀԱՆՐԱՊԵՏՈՒԹՅԱՆ ԿԱՌԱՎԱՐՈՒԹՅԱՆ 2022 ԹՎԱԿԱՆԻ ԴԵԿՏԵՄԲԵՐԻ 29-Ի N 2111-Ն ՈՐՈՇՄԱՆ N 1 ՀԱՎԵԼՎԱԾԻ N 1 ԱՂՅՈՒՍԱԿՈՒՄ ԿԱՏԱՐՎՈՂ ՓՈՓՈԽՈՒԹՅՈՒՆՆԵՐԸ
B7: հազ. դրամ
A8: Պետական բյուջեի դեֆիցիտի ֆինանսավորման աղբյուրներն ու դրանց տարրերի անվանումները | B8: Ցուցանիշների փոփոխությունը (ավելացումները նշված են դրական նշանով, իսկ նվազեցումները` փակագծերում)
B9: Տարի
A10: ԸՆԴԱՄԵՆԸ | B10: =+B12+B22 -> -10163184
A11: այդ թվում՝
A12: Ա.Ներքին աղբյուրներ-ընդամենը | B12: =+B14 -> 17542851
A13: այդ թվում՝
A14: 2. Ֆինանսական զուտ ակտիվներ | B14: =+B16+B17+B20 -> 17542851
A15: այդ թվում՝
A16: 2.3. Ելքերի ֆինանսավորմանն ուղղվող ՀՀ 2023 թվականի պետական բյուջեի տարեսկզբի ազատ մնացորդի միջոցներ | B16: =+'h6'!F11 -> -2903574.1
A17: 2.4. Վարկերի և փոխատվությունների տրամադրում | B17: =+B18+B19 -> 24946425
A18: - Արտաքին աղբյուրների աջակցությամբ իրականացվող նպատակային ծրագրերի շրջանակներում ենթավարկերի տրամադրում այդ ծրագրերում ներգրաված տնտեսվարող սուբյեկտներին | B18: =-'h6'!D11 -> 20446425
A19: - Բյուջետային վարկերի տրամադրում տնտեսվարող սուբյեկտներին | B19: =-h5.!E9 -> 4500000
A20: 2.6.Այլ | B20: =+B21 -> -4500000
A21: Պետական բյուջեի միջոցների փոփոխություն | B21: -4500000
A22: Բ. Արտաքին աղբյուրներ - ընդամենը | B22: =+B24 -> -27706035
A23: այդ թվում
A24: 1. Փոխառու զուտ միջոցներ | B24: =B26 -> -27706035
A25: այդ թվում՝
A26: 1.1. Վարկերի և փոխատվությունների ստացում | B26: =+B28 -> -27706035
A27: որից`
A28: նպատակային վարկերի գծով | B28: =+h11v!F11+'h6'!E11 -> -27706035

Sheet h4
E1: Հավելված N 4
E2: ՀՀ կառավարության 2023 թվականի
E3: ______________ ի ___Ն որոշման
B5: ՀԱՅԱՍՏԱՆԻ ՀԱՆՐԱՊԵՏՈՒԹՅԱՆ ԿԱՌԱՎԱՐՈՒԹՅԱՆ 2022 ԹՎԱԿԱՆԻ ԴԵԿՏԵՄԲԵՐԻ 29-Ի N 2111-Ն ՈՐՈՇՄԱՆ N 1 ՀԱՎԵԼՎԱԾԻ N 2 ԱՂՅՈՒՍԱԿՈՒՄ ԿԱՏԱՐՎՈՂ ՓՈՓՈԽՈՒԹՅՈՒՆՆԵՐԸ
E6: հազ. դրամ
B7: Ծրագրային դասիչ | D7: Բյուջետային գլխավոր կարգադրիչների, ծրագրերի և միջոցառումների անվանումները | E7: Ցուցանիշների փոփոխությունը (նվազեցումները նշված են փակագծերում)
B8: Ծրագիր | C8: Միջոցառում | E8: Տարի
D9: ԸՆԴԱՄԵՆԸ այդ թվում | E9: =+E10 -> -24946425
D10: ՀՀ տարածքային կառավարման և ենթակառուցվածքների նախարարություն | E10: =E11+E19+E27+E49 -> -24946425
B11: 1040 | D11: Ծրագրի անվանումը՝ Կոշտ թափոնների կառավարում | E11: =E15 -> -1074000
D12: Ծրագրի նպատակը՝ Կենցաղային թափոնների արդյունավետ կառավարում սոցիալական և բնապահպանական խնդիրների լուծում
D13: Վերջնական արդյունքի նկարագրությունը՝ Կենցաղային թափոնների արդյունավետ կառավարում
B14: Ֆինանսական ակտիվների կառավարման միջոցառումներ
C15: 42001 | D15: Միջոցառման անվանումը՝ Վերակառուցման և զարգացման եվրոպական բանկի աջակցությամբ իրականացվող Կոտայքի և Գեղարքունիքի մարզերի կոշտ թափոնների կառավարման ծրագրի շրջանակներում ենթավարկի տրամադրում «Կոտայքի և Գեղարքունիքի Կոշտ կենցաղային թափոնների կառավարում» ՍՊԸ-ին | E15: ='h6'!D16 -> -1074000
D16: Միջոցառման նկարագրությունը՝ Կոշտ թափոնների կառավարման համակարգի բարելավում և նոր աղբավայրի ստեղծում
D17: Միջոցառման տեսակը՝
D18: Վարկերի տրամադրում
B19: 1157 | D19: Ծրագրի անվանումը՝ Քաղաքային զարգացում | E19: =E23 -> -2218233.2
D20: Ծրագրի նպատակը՝ Քաղաքային ենթակառուցվածքների զարգացում
D21: Վերջնական արդյունքի նկարագրությունը՝ Քաղաքային ենթակառուցվածքների արդիականացում և բարելավում
B22: Ֆինանսական ակտիվների կառավարման միջոցառումներ
C23: 42004 | D23: Միջոցառման անվանումը՝ Վերակառուցման և զարգացման եվրոպական բանկի աջակցությամբ իրականացվող Երևան քաղաքի հանրային տրանսպորտի նոր երթուղային ցանցի շարժակազմերի ներդրման ֆինանսական աջակցության ծրագրի շրջանակներում ենթավարկի տրամադրում | E23: ='h6'!D26 -> -2218233.2
D24: Միջոցառման նկարագրությունը՝ Երևան քաղաքի տրանսպորտի և երթևեկության բարելավման համար տրամադրվող աջակցություն
D25: Միջոցառման տեսակը՝
D26: Վարկերի տրամադրում
B27: 1167 | D27: Ծրագրի անվանումը՝ Էլեկտրաէներգետիկ համակարգի զարգացման ծրագիր | E27: =E31+E39+E35+E44 -> -19691292
D28: Ծրագրի նպատակը՝ Նպաստել էլեկտրաէներգետիկ համակարգի հուսալիության բարձրացմանը և էլեկտրաէներգիայի անխափան մատակարարման ապահովմանը
D29: Վերջնական արդյունքի նկարագրությունը՝ Հուսալի և անվտանգ էլեկտրամատակարարման ապահովում
B30: Ֆինանսական ակտիվների կառավարման միջոցառումներ
C31: 42003 | D31: Միջոցառման անվանումը՝ Վերակառուցման և զարգացման միջազգային բանկի աջակցությամբ իրականացվող էլեկտրամատակարարման հուսալիության ծրագրի լրացուցիչ ֆինանսավորման ծրագրի շրջանակներում ենթավարկի տրամադրում «Բարձրավոլտ էլեկտրացանցեր» ՓԲԸ-ին | E31: ='h6'!D35 -> -199000
D32: Միջոցառման նկարագրությունը՝ Էլեկտրամատակարարման հուսալիության ծրագրի լրացուցիչ ֆինանսավորման ծրագրի շրջանակներում «Հաղթանակ» 220կՎ, «Չարենցավան-3», «Վանաձոր-1» 110կՎ, «Զովունի» 220կՎ ենթակայանների ֆիզիկապես և բարոյապես մաշված սարքավորումների փոխարինում
D33: Միջոցառման տեսակը՝
D34: Վարկերի տրամադրում
C35: 42005 | D35: Միջոցառման անվանումը՝ Վերակառուցման և զարգացման միջազգային բանկի աջակցությամբ իրականացվող «Աշնակ» և «Արարատ» ենթակայանների վերակառուցման ծրագրի շրջանակներում ենթավարկի տրամադրում «Բարձրավոլտ էլեկտրացանցեր» ՓԲԸ- ին | E35: ='h6'!D43 -> 164000
D36: Միջոցառման նկարագրությունը՝ Էլեկտրահաղորդման ցանցի բարելավման ծրագրի շրջանակներում 30 և ավելի տարիներ շահագործման մեջ գտնվող 220 կՎ «Աշնակ» և 40 և ավելի տարիներ շահագործման մեջ գտնվող 220 կՎ «Արարատ-2» ենթակայանների վերակառուցում
D37: Միջոցառման տեսակը՝
D38: Վարկերի տրամադրում
C39: 42008 | D39: Միջոցառման անվանումը՝ Գերմանիայի զարգացման վարկերի բանկի (KFW) աջակցությամբ իրականացվող «Կովկասյան էլեկտրահաղորդման ցանց I» Հայաստան-Վրաստան հաղորդիչ գիծ/ենթակայանների վարկային ծրագրի շրջանակներում ենթավարկի տրամադրում «Բարձրավոլտ էլեկտրացանցեր» ՓԲԸ- ին | E39: ='h6'!D51 -> -15156292
D41: Միջոցառման նկարագրությունը՝ Հայաստան-Վրաստան 400 կՎ լարման էլեկտրահաղորդման օդային գծի և համապատասխան ենթակայանների կառուցում
D42: Միջոցառման տեսակը՝
...

Sheet h5.
F1: Հավելված N 5
F2: ՀՀ կառավարության 2023 թվականի
F3: ______________ ի ___Ն որոշման
B5: ՀԱՅԱՍՏԱՆԻ ՀԱՆՐԱՊԵՏՈՒԹՅԱՆ ԿԱՌԱՎԱՐՈՒԹՅԱՆ 2022 ԹՎԱԿԱՆԻ ԴԵԿՏԵՄԲԵՐԻ 29-Ի N 2111-Ն ՈՐՈՇՄԱՆ N 1 ՀԱՎԵԼՎԱԾԻ N 4 ԱՂՅՈՒՍԱԿՈՒՄ ԿԱՏԱՐՎՈՂ ՓՈՓՈԽՈՒԹՅՈՒՆՆԵՐԸ
E6: հազ. դրամ
B7: Ծրագրային դասիչ | D7: Պետական բյուջեի դեֆիցիտի ֆինանսավորման աղբյուրներն ու դրանց տարրերի անվանումները | E7: Ցուցանիշների փոփոխությունը (նվազեցումները նշված են փակագծերում)
E8: Տարի
B9: Ծրագիր | C9: Միջոցառում | D9: ԸՆԴԱՄԵՆԸ | E9: =+E11 -> -4500000
D10: այդ թվում՝
D11: ՀՀ տարածքային կառավարման և ենթակառուցվածքների նախարարություն | E11: =+E12 -> -4500000
B12: 1167 | D12: Էլեկտրաէներգետիկ համակարգի զարգացման ծրագիր | E12: =+E13 -> -4500000
C13: 42009 | D13: «Հայկական ատոմային էլեկտրակայան» ՓԲԸ-ին տրամադրվող բյուջետային վարկ | E13: =+E17 -> -4500000
D14: այդ թվում՝ ըստ կատարողների
D15: ՀՀ ֆինանսների նախարարություն | E15: =+E13 -> -4500000
D16: այդ թվում՝ ըստ տնտեսագիտական դասակարգման հոդվածների՝
D17: ՀԻՄՆԱԿԱՆ ԳՈՒՄԱՐԻ ՄԱՐՄԱՆ ԵՎ ՖԻՆԱՆՍԱԿԱՆ ԱԿՏԻՎՆԵՐԻ ՁԵՌՔԲԵՐՄԱՆ ԳԾՈՎ ԾԱԽՍԵՐ, այդ թվում` | E17: =+E18 -> -4500000
D18: ՖԻՆԱՆՍԱԿԱՆ ԱԿՏԻՎՆԵՐԻ ՁԵՌՔԲԵՐՈՒՄ, այդ թվում | E18: =+E19 -> -4500000
D19: ՆԵՐՔԻՆ ՖԻՆԱՆՍԱԿԱՆ ԱԿՏԻՎՆԵՐԻ ՁԵՌՔԲԵՐՈՒՄ, այդ թվում` | E19: =+E20 -> -4500000
D20: Ներքին վարկեր և փոխատվություններ | E20: -4500000

Sheet h6
F1: Հավելված N 6
F2: ՀՀ կառավարության 2023 թվականի
F3: ______________ ի ___Ն որոշման
A5: ՀԱՅԱՍՏԱՆԻ ՀԱՆՐԱՊԵՏՈՒԹՅԱՆ ԿԱՌԱՎԱՐՈՒԹՅԱՆ 2022 ԹՎԱԿԱՆԻ ԴԵԿՏԵՄԲԵՐԻ 29-Ի N 2111-Ն ՈՐՈՇՄԱՆ N 1 ՀԱՎԵԼՎԱԾԻ N 3 ԱՂՅՈՒՍԱԿՈՒՄ ԿԱՏԱՐՎՈՂ ՓՈՓՈԽՈՒԹՅՈՒՆՆԵՐԸ
F6: հազ. դրամ
A7: Ծրագրային դասիչ | C7: Բյուջետային գլխավոր կարգադրիչների, ծրագրերի և միջոցառումների անվանումները | D7: ='h4'!E7 -> Ցուցանիշների փոփոխությունը (նվազեցումները նշված են փակագծերում)
D8: Տարի
D9: Ընդամենը | E9: այդ թվում
A10: Ծրագիր | B10: Միջոցառում | E10: Վարկային միջոցներ | F10: Համաֆինանսավորում
C11: ԸՆԴԱՄԵՆԸ | D11: =D13 -> -20446425 | E11: =E13 -> -17542851 | F11: =F13 -> -2903574.1
C12: այդ թվում՝
C13: ՀՀ ՏԱՐԱԾՔԱՅԻՆ ԿԱՌԱՎԱՐՄԱՆ ԵՎ ԵՆԹԱԿԱՌՈՒՑՎԱԾՔՆԵՐԻ ՆԱԽԱՐԱՐՈՒԹՅՈՒՆ | D13: =E13+F13 -> -20446425 | E13: =E14+E24+E34+E59 -> -17542851 | F13: =F14+F24+F34+F59 -> -2903574.1
A14: 1040 | C14: Կոշտ թափոնների կառավարում | D14: =E14+F14 -> -1074000 | E14: =E16 -> -806000 | F14: =F16 -> -268000
C15: այդ թվում`
B16: 42001 | C16: Վերակառուցման և զարգացման եվրոպական բանկի աջակցությամբ իրականացվող Կոտայքի և Գեղարքունիքի մարզերի կոշտ թափոնների կառավարման ծրագրի շրջանակներում ենթավարկի տրամադրում «Կոտայքի և Գեղարքունիքի Կոշտ կենցաղային թափոնների կառավարում» ՍՊԸ-ին | D16: =D18 -> -1074000 | E16: =E18 -> -806000 | F16: =F18 -> -268000
C17: այդ թվում՝ ըստ կատարողների
C18: ՀՀ տարածքային կառավարման և ենթակառուցվածքների նախարարություն | D18: =F18+E18 -> -1074000 | E18: =E20 -> -806000 | F18: =F20 -> -268000
C19: այդ թվում՝ ըստ տնտեսագիտական դասակարգման հոդվածների՝
C20: ՀԻՄՆԱԿԱՆ ԳՈՒՄԱՐԻ ՄԱՐՄԱՆ ԵՎ ՖԻՆԱՆՍԱԿԱՆ ԱԿՏԻՎՆԵՐԻ ՁԵՌՔԲԵՐՄԱՆ ԳԾՈՎ ԾԱԽՍԵՐ, այդ թվում` | D20: =E20+F20 -> -1074000 | E20: =E21 -> -806000 | F20: =F21 -> -268000
C21: ՖԻՆԱՆՍԱԿԱՆ ԱԿՏԻՎՆԵՐԻ ՁԵՌՔԲԵՐՈՒՄ, այդ թվում | D21: =D22 -> -1074000 | E21: =E22 -> -806000 | F21: =F22 -> -268000
C22: ՆԵՐՔԻՆ ՖԻՆԱՆՍԱԿԱՆ ԱԿՏԻՎՆԵՐԻ ՁԵՌՔԲԵՐՈՒՄ, այդ թվում` | D22: =D23 -> -1074000 | E22: =E23 -> -806000 | F22: =F23 -> -268000
C23: Ներքին վարկեր և փոխատվություններ | D23: =E23+F23 -> -1074000 | E23: -806000 | F23: -268000
A24: 1157 | C24: Քաղաքային զարգացում | D24: =E24+F24 -> -2218233.2 | E24: =E26 -> 412959.4 | F24: =F26 -> -2631192.6
C25: այդ թվում`
B26: 42004 | C26: Վերակառուցման և զարգացման եվրոպական բանկի աջակցությամբ իրականացվող Երևան քաղաքի հանրային տրանսպորտի նոր երթուղային ցանցի շարժակազմերի ներդրման ֆինանսական աջակցության ծրագրի շրջանակներում ենթավարկի տրամադրում | D26: =D28 -> -2218233.2 | E26: =E28 -> 412959.4 | F26: =F28 -> -2631192.6
C27: այդ թվում՝ ըստ կատարողների
C28: ՀՀ տարածքային կառավարման և ենթակառուցվածքների նախարարություն | D28: =F28+E28 -> -2218233.2 | E28: =E30 -> 412959.4 | F28: =F30 -> -2631192.6
C29: այդ թվում՝ ըստ տնտեսագիտական դասակարգման հոդվածների՝
C30: ՀԻՄՆԱԿԱՆ ԳՈՒՄԱՐԻ ՄԱՐՄԱՆ ԵՎ ՖԻՆԱՆՍԱԿԱՆ ԱԿՏԻՎՆԵՐԻ ՁԵՌՔԲԵՐՄԱՆ ԳԾՈՎ ԾԱԽՍԵՐ, այդ թվում` | D30: =E30+F30 -> -2218233.2 | E30: =E31 -> 412959.4 | F30: =F31 -> -2631192.6
C31: ՖԻՆԱՆՍԱԿԱՆ ԱԿՏԻՎՆԵՐԻ ՁԵՌՔԲԵՐՈՒՄ, այդ թվում | D31: =D32 -> -2218233.2 | E31: =E32 -> 412959.4 | F31: =F32 -> -2631192.6
C32: ՆԵՐՔԻՆ ՖԻՆԱՆՍԱԿԱՆ ԱԿՏԻՎՆԵՐԻ ՁԵՌՔԲԵՐՈՒՄ, այդ թվում` | D32: =D33 -> -2218233.2 | E32: =E33 -> 412959.4 | F32: =F33 -> -2631192.6
C33: Ներքին վարկեր և փոխատվություններ | D33: =E33+F33 -> -2218233.2 | E33: 412959.4 | F33: -2631192.6
A34: 1167 | C34: Էլեկտրաէներգետիկ համակարգի զարգացման ծրագիր | D34: =D35+D51+D43 -> -15191292 | E34: =E35+E51+E43 -> -15186910 | F34: =F35+F51+F43 -> -4381.5
B35: 42003 | C35: Վերակառուցման և զարգացման միջազգային բանկի աջակցությամբ իրականացվող էլեկտրամատակարարման հուսալիության ծրագրի լրացուցիչ ֆինանսավորման ծրագրի շրջանակներում ենթավարկի տրամադրում «Բարձրավոլտ էլեկտրացանցեր» ՓԲԸ-ին | D35: =E35+F35 -> -199000 | E35: =+E37 -> -193000 | F35: =+F37 -> -6000
C36: այդ թվում՝ ըստ կատարողների
C37: ՀՀ տարածքային կառավարման և ենթակառուցվածքների նախարարություն | D37: =E37+F37 -> -199000 | E37: =E39 -> -193000 | F37: =F39 -> -6000
C38: այդ թվում՝ ըստ տնտեսագիտական դասակարգման հոդվածների՝
C39: ՀԻՄՆԱԿԱՆ ԳՈՒՄԱՐԻ ՄԱՐՄԱՆ ԵՎ ՖԻՆԱՆՍԱԿԱՆ ԱԿՏԻՎՆԵՐԻ ՁԵՌՔԲԵՐՄԱՆ ԳԾՈՎ ԾԱԽՍԵՐ, այդ թվում` | D39: =E39+F39 -> -199000 | E39: =E40 -> -193000 | F39: =F40 -> -6000
C40: ՖԻՆԱՆՍԱԿԱՆ ԱԿՏԻՎՆԵՐԻ ՁԵՌՔԲԵՐՈՒՄ, այդ թվում | D40: =E40+F40 -> -199000 | E40: =E41 -> -193000 | F40: =F41 -> -6000
C41: ՆԵՐՔԻՆ ՖԻՆԱՆՍԱԿԱՆ ԱԿՏԻՎՆԵՐԻ ՁԵՌՔԲԵՐՈՒՄ, այդ թվում` | D41: =E41+F41 -> -199000 | E41: =E42 -> -193000 | F41: =F42 -> -6000
...

Sheet h7
D1: Հավելված N 7
D2: ՀՀ կառավարության 2023 թվականի
D3: ______________ ի ___Ն որոշման
A4: ՀԱՅԱՍՏԱՆԻ ՀԱՆՐԱՊԵՏՈՒԹՅԱՆ ԿԱՌԱՎԱՐՈՒԹՅԱՆ 2022 ԹՎԱԿԱՆԻ ԴԵԿՏԵՄԲԵՐԻ 29-Ի N 2111-Ն ՈՐՈՇՄԱՆ N 1 ՀԱՎԵԼՎԱԾԻ N 5 ԱՂՅՈՒՍԱԿՈՒՄ ԿԱՏԱՐՎՈՂ ՓՈՓՈԽՈՒԹՅՈՒՆՆԵՐԸ
A6: Ծրագրի դասիչը | B6: Ծրագրի անվանումը
A7: 1040 | B7: Կոշտ թափոնների կառավարում
A9: Ծրագրի միջոցառումները
A10: Ծրագրի դասիչը՝ | B10: 1040 | C10: Ցուցանիշների փոփոխությունը (նվազեցումները նշված են փակագծերում)
A11: Միջոցառման դասիչը՝ | B11: 42001 | C11: Տարի
A12: Միջոցառման անվանումը՝ | B12: Վերակառուցման և զարգացման եվրոպական բանկի աջակցությամբ իրականացվող «Կոտայքի և Գեղարքունիքի մարզերի կոշտ թափոնների կառավարման» ծրագիր
A13: Նկարագրությունը՝ | B13: Կոշտ թափոննրի կառավարման համակարգի բարելավում և նոր աղբավայրի ստեղծում
A14: Միջոցառման տեսակը՝ | B14: Վարկերի տրամադրում
A15: Միջոցառումն իրականացնողի անվանումը՝ | B15: Մասնագիտացված միավոր
B16: Արդյունքի չափորոշիչներ
A17: Միջոցառման վրա կատարվող ծախսը (հազար դրամ) | C17: ='h6'!D16 -> -1074000
A19: Ծրագրի դասիչը | B19: Ծրագրի անվանումը
A20: 1157 | B20: Քաղաքային զարգացում
A22: Ծրագրի միջոցառումները
A23: Ծրագրի դասիչը՝ | B23: 1157 | C23: Ցուցանիշների փոփոխությունը (նվազեցումները նշված են փակագծերում)
A24: Միջոցառման դասիչը՝ | B24: 42004 | C24: Տարի
A25: Միջոցառման անվանումը՝ | B25: Վերակառուցման և զարգացման եվրոպական բանկի աջակցությամբ իրականացվող Երևան քաղաքի հանրային տրանսպորտի նոր երթուղային ցանցի շարժակազմերի ներդրման ֆինանսական աջակցության ծրագրի շրջանակներում ենթավարկի տրամադրում
A26: Նկարագրությունը՝ | B26: Երևան քաղաքի տրանսպորտի և երթևեկության բարելավման համար տրամադրվող աջակցություն
A27: Միջոցառման տեսակը՝ | B27: Վարկերի տրամադրում
A28: Միջոցառումն իրականացնողի անվանումը՝ | B28: Մասնագիտացված միավոր
B29: Արդյունքի չափորոշիչներ
A30: Միջոցառման վրա կատարվող ծախսը (հազար դրամ) | C30: ='h6'!D24 -> -2218233.2
A32: Ծրագրի դասիչը | B32: Ծրագրի անվանումը
A33: 1167 | B33: Էլեկտրաէներգետիկ համակարգի զարգացման ծրագիր
A35: Ծրագրի միջոցառումները
A36: Ծրագրի դասիչը՝ | B36: 1167 | C36: =C56 -> Ցուցանիշների փոփոխությունը (նվազեցումները նշված են փակագծերում)
A37: Միջոցառման դասիչը՝ | B37: 42003 | C37: Տարի
A38: Միջոցառման անվանումը՝ | B38: Վերակառուցման և զարգացման միջազգային բանկի աջակցությամբ իրականացվող էլեկտրամատակարարման հուսալիության ծրագրի լրացուցիչ ֆինանսավորման ծրագրի շրջանակներում ենթավարկի տրամադրում «Բարձրավոլտ էլեկտրացանցեր» ՓԲԸ-ին
A39: Նկարագրությունը՝ | B39: Էլեկտրամատակարարման հուսալիության ծրագրի լրացուցիչ ֆինանսավորման ծրագրի շրջանակներում նախատեսվում է փոխարինել 30 և ավելի տարիներ շահագործման մեջ գտնվող «Հաղթանակ» 220 կՎ, «Չարենցավան-3», «Վանաձոր-1» 110 կՎ ենթակայանների և 40 և ավելի և տարիներ շահագործման մեջ գտվող «Զովունի» 220 կՎ ենթակայանի ֆիզիկապես և բարոյապես մաշված սարքավորումները
A40: Միջոցառման տեսակը՝ | B40: Վարկերի տրամադրում
A41: Միջոցառումն իրականացնողի անվանումը՝ | B41: Մասնագիտացված միավոր
A42: Արդյունքի չափորոշիչներ
A43: Քանակական | B43: Վերակառուցվող ենթակայանների քանակ, հատ | C43: -1
A44: Միջոցառման վրա կատարվող ծախսը (հազար դրամ) | C44: ='h6'!D35 -> -199000
A46: Ծրագրի դասիչը՝ | B46: 1167 | C46: =C36 -> Ցուցանիշների փոփոխությունը (նվազեցումները նշված են փակագծերում)
A47: Միջոցառման դասիչը՝ | B47: 42005
...

Sheet h8
F1: Հավելված N8
F2: ՀՀ կառավարության 2023 թվականի
F3: ______________ ի ___Ն որոշման
C5: «ՀԱՅԱUՏԱՆԻ ՀԱՆՐԱՊԵՏՈՒԹՅԱՆ 2023 ԹՎԱԿԱՆԻ ՊԵՏԱԿԱՆ ԲՅՈՒՋԵԻ ՄԱUԻՆ» OՐԵՆՔԻ N 1 ՀԱՎԵԼՎԱԾԻ N 2 ԱՂՅՈՒՍԱԿՈՒՄ ԿԱՏԱՐՎՈՂ ՎԵՐԱԲԱՇԽՈՒՄԸ ԵՎ ՀԱՅԱՍՏԱՆԻ ՀԱՆՐԱՊԵՏՈՒԹՅԱՆ ԿԱՌԱՎԱՐՈՒԹՅԱՆ 2022 ԹՎԱԿԱՆԻ ԴԵԿՏԵՄԲԵՐԻ 29-Ի N 2111-Ն ՈՐՈՇՄԱՆ N 5 ՀԱՎԵԼՎԱԾԻ N 1 ԱՂՅՈՒՍԱԿՈՒՄ ԿԱՏԱՐՎՈՂ ՓՈՓՈԽՈՒԹՅՈՒՆՆԵՐԸ ԵՎ ԼՐԱՑՈՒՄՆԵՐԸ
F6: հազ. դրամ
C7: Ծրագրային դասիչը | E7: Բյուջետային հատկացումների գլխավոր կարգադրիչների, ծրագրերի և միջոցառումների անվանումները | F7: Ցուցանիշների փոփոխությունը (ավելացումները նշված են դրական նշանով, իսկ նվազեցումները` փակագծերում)
C8: Ծրագիր | D8: Միջոցառում | F8: Տարի
C9: 1192 | E9: ԸՆԴԱՄԵՆԸ | F9: =F11+F398 -> -14557465 | G9: =+F9-'h9'!H10 -> 0
E10: այդ թվում
E11: ՀՀ տարածքային կառավարման և ենթակառուցվածքների նախարարություն | F11: =F12+F121+F140+F165+F268+F323+F354+F373+F385 -> -15567657
C12: 1004 | E12: Ծրագրի անվանումը` | F12: =F19+F25+F31+F37+F43+F49+F55+F61+F67+F73+F79+F85+F91+F97+F103+F109+F115 -> -8030791.9
E13: Ոռոգման համակարգի առողջացում
E14: Ծրագրի նպատակը`
E15: Ոռոգման ծառայությունների հասանելիության և մատչելիության ապահովում
E16: Վերջնական արդյունքի նկարագրությունը`
E17: Ոռոգման ջրի մատակարարման արդյունավետության և հասանելիության բարելավում, կորուստների կրճատում
E18: Ծրագրի միջոցառումներ
D19: 11005 | E19: Միջոցառման անվանումը` | F19: =h11v!E19 -> -162175.6
E20: Եվրասիական զարգացման բանկի աջակցությամբ իրականացվող ոռոգման համակարգերի զարգացման ծրագրի խորհրդատվություն և կառավարում
E21: Միջոցառման նկարագրությունը`
E22: Եվրասիական զարգացման բանկի աջակցությամբ իրականացվող ոռոգման համակարգերի զարգացման ծրագրի համակարգում և ղեկավարում
E23: Միջոցառման տեսակը
E24: Ծառայությունների մատուցում
D25: 11007 | E25: Միջոցառման անվանումը` | F25: =h11v!E30 -> -172032.7
E26: Գերմանիայի զարգացման վարկերի բանկի աջակցությամբ իրականացվող Ախուրյան գետի ջրային ռեսուրսների ինտեգրացված կառավարում ծրագրի խորհրդատվություն և կառավարում
E27: Միջոցառման նկարագրությունը`
E28: Գերմանիայի զարգացման վարկերի բանկի աջակցությամբ իրականացվող Ախուրյան գետի ջրային ռեսուրսների ինտեգրացված կառավարում ծրագրի համակարգում և ղեկավարում
E29: Միջոցառման տեսակը
E30: Ծառայությունների մատուցում
D31: 11009 | E31: Միջոցառման անվանումը` | F31: =h12.d!H18 -> -9397.3
E32: Գերմանիայի զարգացման վարկերի բանկի աջակցությամբ իրականացվող Ախուրյան գետի ջրային ռեսուրսների ինտեգրացված կառավարման դրամաշնորհային ծրագիր
E33: Միջոցառման նկարագրությունը`
E34: Գերմանիայի զարգացման վարկերի բանկի աջակցությամբ իրականացվող Ախուրյան գետի ջրային ռեսուրսների ինտեգրացված կառավարման դրամաշնորհային ծրագրի համակարգում և ղեկավարում
E35: Միջոցառման տեսակը
E36: Ծառայությունների մատուցում
D37: 11010 | E37: Միջոցառման անվանումը` | F37: =h11v!E41 -> -152125
E38: Գերմանիայի զարգացման վարկերի բանկի աջակցությամբ իրականացվող Ախուրյան գետի ջրային ռեսուրսների ինտեգրացված կառավարում փուլ 1 ծրագրով Ջրաձոր գյուղի վերաբնակեցման գործողությունների խորհրդատվություն և կառավարում
E39: Միջոցառման նկարագրությունը`
E40: Գերմանիայի զարգացման վարկերի բանկի աջակցությամբ իրականացվող Ախուրյան գետի ջրային ռեսուրսների ինտեգրացված կառավարում փուլ 1 ծրագրով Ջրաձոր գյուղի վերաբնակեցման գործողությունների համակարգում և ղեկավարում
E41: Միջոցառման տեսակը
...

Sheet 3-1
B1: Հավելված N3
B2: ՀՀ կառավարության 2022 թվականի
B3: ______________ ի ___Ն որոշման
B5: ՀԱՅԱՍՏԱՆԻ ՀԱՆՐԱՊԵՏՈՒԹՅԱՆ ԿԱՌԱՎԱՐՈՒԹՅԱՆ 2021 ԹՎԱԿԱՆԻ ԴԵԿՏԵՄԲԵՐԻ 23-Ի N 2121-Ն ՈՐՈՇՄԱՆ N 3 ԵՎ N 4 ՀԱՎԵԼՎԱԾՆԵՐՈՒՄ ԿԱՏԱՐՎՈՂ ՓՈՓՈԽՈՒԹՅՈՒՆՆԵՐԸ ԵՎ ԼՐԱՑՈՒՄՆԵՐԸ
H7: հազ. դրամ
B8: Գործառական դասիչը | E8: Ծրագրային դասիչը | G8: Բյուջետային ծախսերի գործառական դասակարգման բաժինների, խմբերի և դասերի, բյուջետային հատկացումների գլխավոր կարգադրիչների, ծրագրերի, միջոցառումների և միջոցառումները կատարող պետական մարմինների անվանումները | H8: Ցուցանիշների փոփոխությունը (ավելացումները նշված են դրական նշանով, իսկ նվազեցումները` փակագծերում)
B9: Բաժին | C9: Խումբ | D9: Դաս | E9: Ծրագիր | F9: Միջոցառում | H9: Ինն ամիս | I9: Տարի
G10: ԸՆԴԱՄԵՆԸ ԾԱԽՍԵՐ | H10: =+H12+H13 -> 14976.427 | I10: =+I12+I13 -> -363431.87
G11: այդ թվում`
B12: 04 | C12: 03 | D12: 05 | E12: 1167 | F12: 11006 | G12: Գերմանիայի զարգացման վարկերի բանկի (KFW)) աջակցությամբ իրականացվող «Կովկասյան էլեկտրահաղորդման ցանց I» Հայաստան-Վրաստան հաղորդիչ գիծ/ենթակայանների դրամաշնորհային ծրագիր | H12: 14976.427 | I12: -25089.77
B13: 04 | C13: 03 | D13: 05 | E13: 1167 | F13: 32006 | G13: Գերմանիայի զարգացման վարկերի բանկի (KFW) աջակցությամբ իրականացվող Կովկասյան էլեկտրահաղորդման ցանց I Հայաստան-Վրաստան հաղորդիչ գիծ/ենթակայանների դրամաշնորհային ծրագրի շրջանակներում իրականացվող ներդրումներ | H13: 0 | I13: -338342.1

Sheet h9
B1: Հավելված N 9
B2: ՀՀ կառավարության 2023 թվականի
B3: ______________ ի ___Ն որոշման
B5: ՀԱՅԱՍՏԱՆԻ ՀԱՆՐԱՊԵՏՈՒԹՅԱՆ ԿԱՌԱՎԱՐՈՒԹՅԱՆ 2022 ԹՎԱԿԱՆԻ ԴԵԿՏԵՄԲԵՐԻ 29-Ի N 2111-Ն ՈՐՈՇՄԱՆ N 3 ԵՎ N 4 ՀԱՎԵԼՎԱԾՆԵՐՈՒՄ ԿԱՏԱՐՎՈՂ ՓՈՓՈԽՈՒԹՅՈՒՆՆԵՐԸ ԵՎ ԼՐԱՑՈՒՄՆԵՐԸ
B8: Գործառական դասիչը | E8: Ծրագրային դասիչը | G8: Բյուջետային ծախսերի գործառական դասակարգման բաժինների, խմբերի և դասերի, բյուջետային հատկացումների գլխավոր կարգադրիչների, ծրագրերի, միջոցառումների և միջոցառումները կատարող պետական մարմինների անվանումները | H8: Ցուցանիշների փոփոխությունը (ավելացումները նշված են դրական նշանով, իսկ նվազեցումները` փակագծերում)
B9: Բաժին | C9: Խումբ | D9: Դաս | E9: Ծրագիր | F9: Միջոցառում | H9: Տարի
G10: ԸՆԴԱՄԵՆԸ ԾԱԽՍԵՐ | H10: =H12+H680 -> -14557465
G11: այդ թվում`
G12: ՀՀ ՏԱՐԱԾՔԱՅԻՆ ԿԱՌԱՎԱՐՄԱՆ ԵՎ ԵՆԹԱԿԱՌՈՒՑՎԱԾՔՆԵՐԻ ՆԱԽԱՐԱՐՈՒԹՅՈՒՆ | H12: =H96+H557+H593+H14 -> -15567657
G13: այդ թվում`
B14: 01 | G14: ԸՆԴՀԱՆՈՒՐ ԲՆՈՒՅԹԻ ՀԱՆՐԱՅԻՆ ԾԱՌԱՅՈՒԹՅՈՒՆՆԵՐ | H14: =H16 -> 5712833.3
G15: այդ թվում՝
C16: 08 | G16: Կառավարության տարբեր մակարդակների միջև իրականացվող ընդհանուր բնույթի տրանսֆերտներ | H16: =H18 -> 5712833.3
G17: այդ թվում՝
D18: 01 | G18: Կառավարության տարբեր մակարդակների միջև իրականացվող ընդհանուր բնույթի տրանսֆերտներ | H18: =H22 -> 5712833.3
G19: այդ թվում՝
G20: ՀՀ տարածքային կառավարման և ենթակառուցվածքների նախարարություն | H20: =H22 -> 5712833.3
G21: այդ թվում՝
E22: 1212 | G22: Տարածքային զարգացում | H22: =H24 -> 5712833.3
G23: այդ թվում`
F24: 12007 | G24: ՀՀ մարզերին սուբվենցիաների տրամադրում՛ ենթակառուցվածքների զարգացման նպատակով_x000D_ | H24: =H26+H33+H40+H47+H54+H61+H68+H75+H82+H89 -> 5712833.3
G25: այդ թվում` ըստ կատարողների
G26: ՀՀ Արագածոտնի մարզպետի աշխատակազմ | H26: =H27 -> 176956.2
G27: այդ թվում` բյուջետային ծախսերի տնտեսագիտական դասակարգման հոդվածներ | H27: =H28 -> 176956.2
G28: ԸՆԴԱՄԵՆԸ ԾԱԽՍԵՐ | H28: =H29 -> 176956.2
G29: ԸՆԹԱՑԻԿ ԾԱԽՍԵՐ | H29: =H30 -> 176956.2
G30: ԴՐԱՄԱՇՆՈՐՀՆԵՐ | H30: =H31 -> 176956.2
G31: Կապիտալ դրամաշնորհներ պետական հատվածի այլ մակարդակներին | H31: =H32 -> 176956.2
G32: - Կապիտալ սուբվենցիաներ համայնքներին | H32: ='h14'!E19 -> 176956.2
G33: ՀՀ Արարատի մարզպետի աշխատակազմ | H33: =H35 -> 888262.3
G34: այդ թվում` բյուջետային ծախսերի տնտեսագիտական դասակարգման հոդվածներ
G35: ԸՆԴԱՄԵՆԸ ԾԱԽՍԵՐ | H35: =H36 -> 888262.3
G36: ԸՆԹԱՑԻԿ ԾԱԽՍԵՐ | H36: =H37 -> 888262.3
G37: ԴՐԱՄԱՇՆՈՐՀՆԵՐ | H37: =H38 -> 888262.3
G38: Կապիտալ դրամաշնորհներ պետական հատվածի այլ մակարդակներին | H38: =H39 -> 888262.3
G39: - Կապիտալ սուբվենցիաներ համայնքներին | H39: ='h14'!E24 -> 888262.3
G40: ՀՀ Արմավիրի մարզպետի աշխատակազմ | H40: =H42 -> 903456.5
G41: այդ թվում` բյուջետային ծախսերի տնտեսագիտական դասակարգման հոդվածներ
G42: ԸՆԴԱՄԵՆԸ ԾԱԽՍԵՐ | H42: =H43 -> 903456.5
G43: ԸՆԹԱՑԻԿ ԾԱԽՍԵՐ | H43: =H44 -> 903456.5
...

Sheet h10k
A1: Հավելված N 10
A2: ՀՀ կառավարության 2023 թվականի
A3: -ի N -Ն որոշման
A5: «ՀԱՅԱՍՏԱՆԻ ՀԱՆՐԱՊԵՏՈՒԹՅԱՆ 2023 ԹՎԱԿԱՆԻ ՊԵՏԱԿԱՆ ԲՅՈՒՋԵԻ ՄԱՍԻՆ» ՀԱՅԱՍՏԱՆԻ ՀԱՆՐԱՊԵՏՈՒԹՅԱՆ ՕՐԵՆՔԻ N 1 ՀԱՎԵԼՎԱԾԻ N 3 ԱՂՅՈՒՍԱԿՈՒՄ ԿԱՏԱՐՎՈՂ ՓՈՓՈԽՈՒԹՅՈՒՆՆԵՐԸ ԵՎ ԼՐԱՑՈՒՄԸ
G6: (հազ. դրամ)
A7: Ծրագրային դասիչ | C7: Բյուջետային գլխավոր կարգադրիչների, ծրագրերի, միջոցառումների և ուղղությունների անվանումները | D7: Ցուցանիշների փոփոխությունը (ավելացումները նշված են դրական նշանով, իսկ նվազեցումները` փակագծերում)
D8: Ընդամենը | E8: այդ թվում՝
A9: Ծրագիր | B9: Միջոցառում | E9: Կառուցման աշխատանքներ | F9: Վերակառուցման, վերանորոգման և վերականգնման աշխատանքներ | G9: Նախագծահե- տազոտական, գեոդեզիա- քարտեզագրա- կան աշխա- տանքներ | H9: Ոչ ֆինանսական այլ ակտիվների ձեռքբերում
C10: ԸՆԴԱՄԵՆԸ | D10: =SUM(E10:H10) -> -2902867.5 | E10: =E12 -> -270333.5 | F10: =F12 -> -1430162.9 | G10: =G12 -> -379525 | H10: =H12 -> -822846.1
C11: այդ թվում՝
C12: ՀՀ ՏԱՐԱԾՔԱՅԻՆ ԿԱՌԱՎԱՐՄԱՆ ԵՎ ԵՆԹԱԿԱՌՈՒՑՎԱԾՔՆԵՐԻ ՆԱԽԱՐԱՐՈՒԹՅՈՒՆ | D12: =SUM(E12:H12) -> -2902867.5 | E12: =E14+E15+E18+E22+E23+E27 -> -270333.5 | F12: =F14+F15+F18+F22+F23+F27+F30 -> -1430162.9 | G12: =G14+G15+G18+G22+G23+G27 -> -379525 | H12: =H14+H15+H18+H22+H23+H27+H44+H45 -> -822846.1
C13: այդ թվում`
A14: 1004 | B14: 31009 | C14: Օրվա կարգավորման ջրավազանների կառուցում և վերակառուցում | D14: =SUM(E14:H14) -> -266809.6 | E14: -266809.6 | F14: 0 | G14: 0 | H14: 0
A15: 1004 | B15: 31011 | C15: Խորքային հորերի վերականգնում | D15: =SUM(E15:H15) -> -206427.9 | E15: =E17 -> 0 | F15: =F17 -> 0 | G15: =G17 -> 0 | H15: =H17 -> -206427.9
C16: այդ թվում`
C17: Տվյալների առցանց փոխանցմամբ ջրահաշվիչ (ջրաչափիչ) սարքերի ձեռքբերում | D17: =SUM(E17:H17) -> -206427.9 | H17: -206427.9
A18: 1004 | B18: 31012 | C18: Գետերի և հեղեղատարների տեղամասերի ամրացման և մաքրման աշխատանքներ | D18: =SUM(E18:H18) -> -180651.8 | E18: =E20+E21 -> 0 | F18: =F20+F21 -> -180651.8 | G18: =G20+G21 -> 0 | H18: =H20+H21 -> 0
C19: այդ թվում`
C20: Նարեկի սելավատարի հունի մաքրում 2945 մ և ափերի ամրացում 380 մ | D20: =SUM(E20:H20) -> -30651.8 | F20: =h13ka!D25 -> -30651.8
C21: ՀՀ Արարատի մարզի Արաքսավան և Բուրաստան համայնքների Արաքս գետի N16-ից մինչև N14 սահմանների միջակայքում Արաքս գետի նախկին հունի վերականգման և N16 սահմանանշանի մոտակայքում Արաքս գետի հայկական կողմի մոտ 130 մ երկարությամբ և 8 մ խորությամբ ողողված պատնեշի վերականգնման աշխատանքների, նախագծանախահաշվային փաստաթղթերի և փորձաքննության ձեռքբերում | D21: =SUM(E21:H21) -> -150000 | F21: =h13ka!D26 -> -150000
A22: 1004 | B22: 31013 | C22: Փոքր և միջին ջրամբարների կառուցում | D22: =SUM(E22:H22) -> -374025 | F22: =SUM(F14:F14) -> 0 | G22: ='h9'!H250 -> -374025 | H22: =SUM(H14:H14) -> 0
A23: 1004 | B23: 31014 | C23: Ջրամբարների վերականգնման և վերազինման աշխատանքներ | D23: =SUM(E23:H23) -> -64813.1 | E23: =E25+E26 -> 0 | F23: =F25+F26 -> -59313.1 | G23: =G26 -> -5500 | H23: =H25+H26 -> 0
C24: այդ թվում`
C25: Ապարանի ջրամբարի վերանորոգում | D25: =SUM(E25:H25) -> -59313.1 | F25: ='h9'!H266 -> -59313.1
C26: ՀՀ Գեղարքունիքի մարզի Գեղարքունի 2 ջրամբարի վերականգնման աշխատանքներ | D26: =SUM(E26:H26) -> -5500 | G26: ='h9'!H269 -> -5500
A27: 1004 | B27: 31020 | C27: Ոռոգման համակարգերի կառուցում | D27: =SUM(E27:H27) -> -3523.9 | E27: =E29 -> -3523.9 | F27: =F29 -> 0 | G27: =G29 -> 0 | H27: =H29 -> 0
C28: այդ թվում`
C29: Բուսաբանական այգու ոռոգման ցանցի կառուցում՝ Սարկավագի փողոցի ջրանցքից մինչ Բուսաբանական այգու պարսպի հատված | D29: =SUM(E29:H29) -> -3523.9 | E29: =h13ka!D40 -> -3523.9 | G29: 0
A30: 1049 | B30: 21001 | C30: Պետական նշանակության ավտոճանապարհների հիմնանորոգում | D30: =F30 -> -1190198 | F30: =F32+F36+F38 -> -1190198
C31: այդ թվում`
B32: 1 | C32: Միջպետական նշանակության ավտոճանապարհներ, այդ թվում | D32: =F32 -> -1062654.1 | F32: =F33+F34+F35 -> -1062654.1
C33: Մ-2, Երևան-Երասխ-Գորիս-Մեղրի-Իրանի սահման միջպետական նշանակության ավտոճանապարհի կմ77+350 - կմ82+000 հատվածի հիմնանորոգում | D33: =F33 -> -21704.451 | F33: -21704.451
C34: Մ-2, (Սյունիք) /Մ-2/ - Աղվանի- Տաթև - /Մ-2/ միջպետական նշանակության ավտոճանապարհի Վերին Խոտանանը շրջանցող ճանապարհահատվածի կառուցում (II փուլ) | D34: =F34 -> -902909.79 | F34: -902909.79
C35: Մ-2, Երևան-Երասխ-Գորիս-Մեղրի-Իրանի սահման միջպետական նշանակության ավտոճանապարհի կմ297+800-կմ311+250 հատվածի հիմնանորոգման աշխատանքների (2-րդ տեղամաս՝ կմ301+820 - կմ311+250 հատված) | D35: =F35 -> -138039.88 | F35: -138039.88
B36: 2 | C36: Հանրապետական նշանակության ավտոճանապարհներ, այդ թվում | D36: =F36 -> 160465.49 | F36: =F37 -> 160465.49
C37: Հ-4, Երևան - Եղվարդ - Արագյուղ - Հարթավան - /Մ-3/ հանրապետական նշանակության ավտոճանապարհի կմ0+000-կմ15+600 հատվածի հիմնանորոգում | D37: =F37 -> 160465.49 | F37: 160465.49
B38: 3 | C38: Մարզային նշանակության ավտոճանապարհներ, այդ թվում | D38: =F38 -> -288009.4 | F38: =F39+F40+F41+F42+F43 -> -288009.4
C39: Տ-5-23, /Մ-3/ - Սարամեջ ավտոճանապարհի կմ0+000-կմ4+300 հատվածի հիմնանորոգում | D39: =F39 -> -1074.872 | F39: -1074.872
C40: Տ-5-24,/Մ-3/ (Ստեփանավան) – Արմանիս – Ուրասար – Կաթնաղբյուր տեղական նշանակության ավտոճանապարհի կմ 6+600-կմ 15+200 հատվածի և Կաթնաղբյուր համայնքի 8-րդ և 9-րդ փողոցների հիմնանորոգում | D40: =F40 -> -258512.2 | F40: -258512.2
C41: Վանաձոր քաղաքային համայնքի Գրիգոր Լուսավորիչ փողոցի հիմնանորոգում | D41: =F41 -> -189.575 | F41: -189.575
...

Sheet h11v
G1: Հավելված N11
G2: ՀՀ կառավարության 2023 թվականի
G3: ______________ ի ___Ն որոշման
B5: «ՀԱՅԱUՏԱՆԻ ՀԱՆՐԱՊԵՏՈՒԹՅԱՆ 2023 ԹՎԱԿԱՆԻ ՊԵՏԱԿԱՆ ԲՅՈՒՋԵԻ ՄԱUԻՆ» OՐԵՆՔԻ N 1 ՀԱՎԵԼՎԱԾԻ N 4 ԱՂՅՈՒՍԱԿՈՒՄ ԵՎ ՀԱՅԱՍՏԱՆԻ ՀԱՆՐԱՊԵՏՈՒԹՅԱՆ ԿԱՌԱՎԱՐՈՒԹՅԱՆ 2022 ԹՎԱԿԱՆԻ ԴԵԿՏԵՄԲԵՐԻ 29-Ի N 2111-Ն ՈՐՈՇՄԱՆ N 5 ՀԱՎԵԼՎԱԾԻ N 3 ԱՂՅՈՒՍԱԿՈՒՄ ԿԱՏԱՐՎՈՂ ՓՈՓՈԽՈՒԹՅՈՒՆՆԵՐԸ ԵՎ ԼՐԱՑՈՒՄՆԵՐԸ
G6: հազ. դրամ
B7: Ծրագրային դասիչը | D7: Բյուջետային գլխավոր կարգադրիչների, ծրագրերի և միջոցառումների անվանումները | E7: Ցուցանիշների փոփոխությունը (ավելացումները նշված են դրական նշանով, իսկ նվազեցումները` փակագծերում)
E8: Տարի
E9: Ընդամենը | F9: այդ թվում`
B10: Ծրագիր | C10: Միջոցառում | F10: Վարկային միջոցներ | G10: Համաֆինան սավորում
D11: ԸՆԴԱՄԵՆԸ_x000D_ | E11: =E13+E14 -> -13897016 | F11: =F13+F14 -> -10163184 | G11: =G13+G14 -> -3733832.2
D12: այդ թվում`
D13: ԸՆԹԱՑԻԿ ԾԱԽՍԵՐ | E13: =E24+E35+E46+E136+E145+E154+E171+E181 -> -732471.8 | F13: =F24+F35+F46+F136+F145+F154+F171+F181 -> -326314 | G13: =G24+G35+G46+G136+G145+G154+G171+G181 -> -406157.8
D14: - ՈՉ ՖԻՆԱՆՍԱԿԱՆ ԱԿՏԻՎՆԵՐԻ ԳԾՈՎ ԾԱԽՍԵՐ | E14: =E61+E72+E81+E90+E101+E112+E125+E190+E201+E212+E221+E232+E246+E257+E268+E279+E288+E299 -> -13164545 | F14: =F61+F72+F81+F90+F101+F112+F125+F190+F201+F212+F221+F232+F246+F257+F268+F279+F288+F299 -> -9836870.2 | G14: =G61+G72+G81+G90+G101+G112+G125+G190+G201+G212+G221+G232+G246+G257+G268+G279+G288+G299 -> -3327674.4
D15: ՀՀ ՏԱՐԱԾՔԱՅԻՆ ԿԱՌԱՎԱՐՄԱՆ ԵՎ ԵՆԹԱԿԱՌՈՒՑՎԱԾՔՆԵՐԻ ՆԱԽԱՐԱՐՈՒԹՅՈՒՆ_x000D_ | E15: =E17+E105+E118+E129+E250+E292 -> -13897016 | F15: =F17+F105+F118+F129+F250+F292 -> -10163184 | G15: =G17+G105+G118+G129+G250+G292 -> -3733832.2
D16: այդ թվում`
B17: 1004 | D17: Ոռոգման համակարգի առողջացում | E17: =+E19+E30+E41+E56+E67+E76+E85+E96 -> -6851779.3 | F17: =+F19+F30+F67+F76+F85+F96 -> -3960228.3 | G17: =+G19+G30+G41+G56+G67+G76+G85+G96 -> -2891551
D18: այդ թվում`
C19: 11005 | D19: Եվրասիական զարգացման բանկի աջակցությամբ իրականացվող ոռոգման համակարգերի զարգացման ծրագրի խորհրդատվություն և կառավարում | E19: =G19+F19 -> -162175.6 | F19: =+F21 -> -151812.8 | G19: =G21 -> -10362.8
D20: այդ թվում` ըստ կատարողների
D21: ՀՀ տարածքային կառավարման և ենթակառուցվածքների նախարարության ջրային կոմիտե | E21: =G21+F21 -> -162175.6 | F21: =+F23 -> -151812.8 | G21: =G23 -> -10362.8
D22: այդ թվում` բյուջետային ծախսերի տնտեսագիտական դասակարգման հոդվածներ
D23: ԸՆԴԱՄԵՆԸ ԾԱԽՍԵՐ | E23: =G23+F23 -> -162175.6 | F23: =+F24 -> -151812.8 | G23: =G24 -> -10362.8
D24: ԸՆԹԱՑԻԿ ԾԱԽՍԵՐ | E24: =G24+F24 -> -162175.6 | F24: =F25+F28 -> -151812.8 | G24: =G25+G28 -> -10362.8
D25: ԾԱՌԱՅՈՒԹՅՈՒՆՆԵՐԻ ԵՎ ԱՊՐԱՆՔՆԵՐԻ ՁԵՌՔԲԵՐՈՒՄ | E25: =+F25+G25 -> -2175.6 | F25: =+F26 -> -1812.8 | G25: =+G26 -> -362.8
D26: Ծառայողական գործուղումների գծով ծախսեր | E26: =+F26+G26 -> -2175.6 | F26: =+F27 -> -1812.8 | G26: =+G27 -> -362.8
D27: - Արտասահմանյան գործուղումների գծով ծախսեր | E27: =+F27+G27 -> -2175.6 | F27: -1812.8 | G27: -362.8
D28: ԱՅԼ ԾԱԽՍԵՐ | E28: =G28+F28 -> -160000 | F28: =+F29 -> -150000 | G28: =G29 -> -10000
D29: Այլ ծախսեր | E29: =G29+F29 -> -160000 | F29: -150000 | G29: -10000
C30: 11007 | D30: Գերմանիայի զարգացման վարկերի բանկի աջակցությամբ իրականացվող Ախուրյան գետի ջրային ռեսուրսների ինտեգրացված կառավարում ծրագրի խորհրդատվություն և կառավարում | E30: =F30+G30 -> -172032.7 | F30: =+F32 -> -87532.7 | G30: =G32 -> -84500
D31: այդ թվում` ըստ կատարողների
D32: ՀՀ տարածքային կառավարման և ենթակառուցվածքների նախարարության ջրային կոմիտե | E32: =F32+G32 -> -172032.7 | F32: =+F34 -> -87532.7 | G32: =G34 -> -84500
D33: այդ թվում` բյուջետային ծախսերի տնտեսագիտական դասակարգման հոդվածներ
D34: ԸՆԴԱՄԵՆԸ ԾԱԽՍԵՐ | E34: =F34+G34 -> -172032.7 | F34: =+F35 -> -87532.7 | G34: =G35 -> -84500
D35: ԸՆԹԱՑԻԿ ԾԱԽՍԵՐ | E35: =F35+G35 -> -172032.7 | F35: =F36+F39 -> -87532.7 | G35: =G36+G39 -> -84500
D36: ԱՇԽԱՏԱՆՔԻ ՎԱՐՁԱՏՐՈՒԹՅՈՒՆ | E36: =F36+G36 -> -9500 | F36: =F37 -> 0 | G36: =G37 -> -9500
D37: Դրամով վճարվող աշխատավարձեր և հավելավճարներ | E37: =F37+G37 -> -9500 | F37: =F38 -> 0 | G37: =G38 -> -9500
D38: - Աշխատողների աշխատավարձեր և հավելավճարներ | E38: =F38+G38 -> -9500 | F38: 0 | G38: -9500
D39: ԱՅԼ ԾԱԽՍԵՐ | E39: =F39+G39 -> -162532.7 | F39: =+F40 -> -87532.7 | G39: =G40 -> -75000
D40: Այլ ծախսեր | E40: =F40+G40 -> -162532.7 | F40: -87532.7 | G40: -75000
C41: 11010 | D41: Գերմանիայի զարգացման վարկերի բանկի աջակցությամբ իրականացվող Ախուրյան գետի ջրային ռեսուրսների ինտեգրացված կառավարում փուլ 1 ծրագրով Ջրաձոր գյուղի վերաբնակեցման գործողությունների խորհրդատվություն և կառավարում | E41: =E43 -> -152125 | F41: =F43 -> 0 | G41: =G43 -> -152125
...

Sheet h12.d
J1: Հավելված N12
J2: ՀՀ կառավարության 2023 թվականի
J3: ______________ ի ___Ն որոշման
B5: «ՀԱՅԱUՏԱՆԻ ՀԱՆՐԱՊԵՏՈՒԹՅԱՆ 2023 ԹՎԱԿԱՆԻ ՊԵՏԱԿԱՆ ԲՅՈՒՋԵԻ ՄԱUԻՆ» OՐԵՆՔԻ N 1 ՀԱՎԵԼՎԱԾԻ N 5 ԱՂՅՈՒՍԱԿՈՒՄ ԵՎ ՀԱՅԱՍՏԱՆԻ ՀԱՆՐԱՊԵՏՈՒԹՅԱՆ ԿԱՌԱՎԱՐՈՒԹՅԱՆ 2022 ԹՎԱԿԱՆԻ ԴԵԿՏԵՄԲԵՐԻ 29-Ի N 2111-Ն ՈՐՈՇՄԱՆ N 5 ՀԱՎԵԼՎԱԾԻ N 4 ԱՂՅՈՒՍԱԿՈՒՄ ԿԱՏԱՐՎՈՂ ՓՈՓՈԽՈՒԹՅՈՒՆՆԵՐԸ ԵՎ ԼՐԱՑՈՒՄՆԵՐԸ
J6: հազ. դրամ
B7: Ծրագրային դասիչը | D7: Բյուջետային գլխավոր կարգադրիչների, ծրագրերի և միջոցառումների անվանումները | E7: Ցուցանիշների փոփոխությունը (ավելացումները նշված են դրական նշանով, իսկ նվազեցումները` փակագծերում)
E8: Ինն ամիս | H8: Տարի
E9: Ընդամենը | F9: այդ թվում` | H9: Ընդամենը | I9: այդ թվում`
B10: Ծրագիր | C10: Միջոցառում | F10: Դրամաշնորհային միջոցներ | G10: Համաֆինան սավորում | I10: Դրամաշնորհային միջոցներ | J10: Համաֆինան սավորում
D11: ԸՆԴԱՄԵՆԸ | E11: =+F11+G11 -> #REF! | F11: =F13+F14 -> #REF! | G11: =G13+G14 -> #REF! | H11: =+I11+J11 -> -4354959 | I11: =I13+I14 -> -4394281.2 | J11: =J13+J14 -> 39322.2
D12: այդ թվում` | E12: =+F12+G12 -> 0
D13: ԸՆԹԱՑԻԿ ԾԱԽՍԵՐ | E13: =+F13+G13 -> #REF! | F13: =+#REF!+#REF!+#REF!+#REF!+#REF!+#REF!+#REF!+#REF!+F147 -> #REF! | G13: =+#REF!+#REF!+#REF!+#REF!+#REF!+#REF!+#REF!+#REF!+G147 -> #REF! | H13: =H23+H31+H41+H56+H78+H119+H146 -> -377561.4 | I13: =I23+I31+I41+I56+I78+I119+I146 -> -353387.6 | J13: =J23+J31+J41+J56+J78+J119+J146 -> -24173.8
D14: ՈՉ ՖԻՆԱՆՍԱԿԱՆ ԱԿՏԻՎՆԵՐԻ ԳԾՈՎ ԾԱԽՍԵՐ | E14: =+F14+G14 -> #REF! | F14: =+#REF!+#REF!+#REF!+#REF!+#REF!+#REF!+#REF!+#REF!+#REF!+#REF!+#REF!+F155 -> #REF! | G14: =+#REF!+#REF!+#REF!+#REF!+#REF!+#REF!+#REF!+#REF!+#REF!+#REF!+#REF!+G155 -> #REF! | H14: =H65+H86+H97+H108+H127+H136+H155+H168 -> -3977397.6 | I14: =I65+I86+I97+I108+I127+I136+I155+I168 -> -4040893.6 | J14: =J65+J86+J97+J108+J127+J136+J155+J168 -> 63496
D15: ՀՀ ՏԱՐԱԾՔԱՅԻՆ ԿԱՌԱՎԱՐՄԱՆ ԵՎ ԵՆԹԱԿԱՌՈՒՑՎԱԾՔՆԵՐԻ ՆԱԽԱՐԱՐՈՒԹՅՈՒՆ | E15: =+F15+G15 -> #REF! | F15: =+#REF!+#REF!+#REF!+#REF!+#REF!+F140 -> #REF! | G15: =+#REF!+#REF!+#REF!+#REF!+#REF!+G140 -> #REF! | H15: =H16+H34+H51+H71++H101+H112+H140+H161 -> -4354959 | I15: =I16+I34+I51+I71++I101+I112+I140+I161 -> -4394281.2 | J15: =J16+J34+J51+J71++J101+J112+J140+J161 -> 39322.2
B16: 1004 | D16: Ոռոգման համակարգի առողջացում | E16: =+F16+G16 -> -126562.6 | F16: =+F18+F26 -> -108368.1 | G16: =+G18+G26 -> -18194.5 | H16: =H18+H26 -> -53891.3 | I16: =+I18+I26 -> -52858.1 | J16: =+J18+J26 -> -1033.2
D17: այդ թվում`
C18: 11009 | D18: Գերմանիայի զարգացման վարկերի բանկի աջակցությամբ իրականացվող Ախուրյան գետի ջրային ռեսուրսների ինտեգրված կառավարման դրամաշնորհային ծրագիր | E18: =+F18+G18 -> -8864.1 | F18: =+F20 -> -8364.1 | G18: =+G20 -> -500 | H18: =+I18+J18 -> -9397.3 | I18: =+I20 -> -8364.1 | J18: =+J20 -> -1033.2
D19: այդ թվում` ըստ կատարողների
D20: ՀՀ տարածքային կառավարման և ենթակառուցվածքների նախարարության ջրային կոմիտե | E20: =F20+G20 -> -8864.1 | F20: =+F22 -> -8364.1 | G20: =+G22 -> -500 | H20: =I20+J20 -> -9397.3 | I20: =+I22 -> -8364.1 | J20: =+J22 -> -1033.2
D21: այդ թվում` բյուջետային ծախսերի տնտեսագիտական դասակարգման հոդվածներ
D22: ԸՆԴԱՄԵՆԸ ԾԱԽՍԵՐ | E22: =+E23 -> -8864.1 | F22: =+F23 -> -8364.1 | G22: =+G23 -> -500 | H22: =+H23 -> -9397.3 | I22: =+I23 -> -8364.1 | J22: =+J23 -> -1033.2
D23: ԸՆԹԱՑԻԿ ԾԱԽՍԵՐ | E23: =+F23+G23 -> -8864.1 | F23: =+F24 -> -8364.1 | G23: =+G24 -> -500 | H23: =+I23+J23 -> -9397.3 | I23: =+I24 -> -8364.1 | J23: =+J24 -> -1033.2
D24: ԱՅԼ ԾԱԽՍԵՐ | E24: =+F24+G24 -> -8864.1 | F24: =+F25 -> -8364.1 | G24: =+G25 -> -500 | H24: =+I24+J24 -> -9397.3 | I24: =+I25 -> -8364.1 | J24: =+J25 -> -1033.2
D25: Այլ ծախսեր | E25: =+F25+G25 -> -8864.1 | F25: -8364.1 | G25: -500 | H25: =+I25+J25 -> -9397.3 | I25: -8364.1 | J25: -1033.2
C26: 11011 | D26: Զարգացման ֆրանսիական գործակալության աջակցությամբ իրականացվող ոռոգման ոլորտի ֆինանսական կայունության և ոռոգման կառավարման կարողությունների բարելավման դրամաշնորհային ծրագրի խորհրդատվություն և կառավարում | E26: =+F26+G26 -> -117698.5 | F26: =+F28 -> -100004 | G26: =+G28 -> -17694.5 | H26: =+I26+J26 -> -44494 | I26: =+I28 -> -44494 | J26: =+J28 -> 0
D27: այդ թվում` ըստ կատարողների
D28: ՀՀ տարածքային կառավարման և ենթակառուցվածքների նախարարության ջրային կոմիտե | E28: =F28+G28 -> -117698.5 | F28: =+F30 -> -100004 | G28: =+G30 -> -17694.5 | H28: =I28+J28 -> -44494 | I28: =+I30 -> -44494 | J28: =+J30 -> 0
D29: այդ թվում` բյուջետային ծախսերի տնտեսագիտական դասակարգման հոդվածներ
D30: ԸՆԴԱՄԵՆԸ ԾԱԽՍԵՐ | E30: =+E31 -> -117698.5 | F30: =+F31 -> -100004 | G30: =+G31 -> -17694.5 | H30: =+H31 -> -44494 | I30: =+I31 -> -44494 | J30: =+J31 -> 0
D31: ԸՆԹԱՑԻԿ ԾԱԽՍԵՐ | E31: =+F31+G31 -> -117698.5 | F31: =+F32 -> -100004 | G31: =+G32 -> -17694.5 | H31: =+I31+J31 -> -44494 | I31: =+I32 -> -44494 | J31: =+J32 -> 0
D32: ԱՅԼ ԾԱԽՍԵՐ | E32: =+F32+G32 -> -117698.5 | F32: =+F33 -> -100004 | G32: =+G33 -> -17694.5 | H32: =+I32+J32 -> -44494 | I32: =+I33 -> -44494 | J32: =+J33 -> 0
D33: Այլ ծախսեր | E33: =+F33+G33 -> -117698.5 | F33: -100004 | G33: -17694.5 | H33: =+I33+J33 -> -44494 | I33: -44494
B34: 1019 | D34: Սոցիալական ներդրումների և տեղական զարգացման ծրագիր | E34: =+E36+#REF! -> #REF! | F34: =+F36+#REF! -> #REF! | G34: =+G36+#REF! -> #REF! | H34: =+H36 -> -45642.3 | I34: =+I36 -> -45642.3 | J34: =+J36 -> 0
D35: այդ թվում`
C36: 11004 | D36: ԱՄՆ ՄԶԳ աջակցությամբ իրականացվող Տեղական ինքնակառավարման և ապակենտրոնացման բարեփոխումների դրամաշնորհային ծրագրի կառավարում | E36: =+F36+G36 -> #REF! | F36: =+F38 -> #REF! | G36: =+G38 -> #REF! | H36: =+I36+J36 -> -45642.3 | I36: =+I38 -> -45642.3 | J36: =+J38 -> 0
D37: այդ թվում` ըստ կատարողների
D38: ՀՀ տարածքային կառավարման և ենթակառուցվածքների նախարարություն | E38: =F38+G38 -> #REF! | F38: =+F40 -> #REF! | G38: =+G40 -> #REF! | H38: =I38+J38 -> -45642.3 | I38: =+I40 -> -45642.3 | J38: =+J40 -> 0
D39: այդ թվում` բյուջետային ծախսերի տնտեսագիտական դասակարգման հոդվածներ
D40: ԸՆԴԱՄԵՆԸ ԾԱԽՍԵՐ | E40: =+F40+G40 -> #REF! | F40: =+F41 -> #REF! | G40: =+G41 -> #REF! | H40: =+I40+J40 -> -45642.3 | I40: =+I41 -> -45642.3 | J40: =+J41 -> 0
D41: ԸՆԹԱՑԻԿ ԾԱԽՍԵՐ | E41: =+F41+G41 -> #REF! | F41: =+F42+F49 -> #REF! | G41: =+G42 -> #REF! | H41: =+I41+J41 -> -45642.3 | I41: =+I42+I49 -> -45642.3 | J41: =+J42 -> 0
...

Sheet h13ka
D1: Հավելված N13
D2: ՀՀ կառավարության 2023 թվականի
D3: ______________ ի ___Ն որոշման
A5: ՀԱՅԱUՏԱՆԻ ՀԱՆՐԱՊԵՏՈՒԹՅԱՆ ԿԱՌԱՎԱՐՈՒԹՅԱՆ 2022 ԹՎԱԿԱՆԻ ԴԵԿՏԵՄԲԵՐԻ 29-Ի N 2111-Ն ՈՐՈՇՄԱՆ N 5 ՀԱՎԵԼՎԱԾԻ N 2 ԱՂՅՈՒՍԱԿՈՒՄ ԿԱՏԱՐՎՈՂ ՓՈՓՈԽՈՒԹՅՈՒՆՆԵՐԸ ԵՎ ԼՐԱՑՈՒՄԸ
D6: հազար դրամներով
A7: Ծրագրային դասիչը | C7: Բյուջետային գլխավոր կարգադրիչների, ծրագրերի, միջոցառումների և ուղղությունների անվանումները | D7: Ցուցանիշների փոփոխությունը (ավելացումները նշված են դրական նշանով, իսկ նվազեցումները` փակագծերում)
A8: Ծրագիր | B8: Միջոց_x000D_առում | D8: Տարի
C9: ԸՆԴԱՄԵՆԸ | D9: =+D11 -> -2902867.5
C10: այդ թվում`
C11: ՀՀ տարածքային կառավարման և ենթակառուցվածքների նախարարություն | D11: =D13+D16+D21+D27+D30+D36+D57+D60+D41 -> -2902867.5
C12: այդ թվում՝
A13: 1004 | B13: 31009 | C13: Օրվա կարգավորման ջրավազանների կառուցում և վերակառուցում | D13: =D15 -> -266809.6
C14: այդ թվում` ըստ կատարողների
C15: ՀՀ կառավարություն | D15: ='h9'!H231 -> -266809.6
A16: 1004 | B16: 31011 | C16: Խորքային հորերի վերականգնում | D16: =D18 -> -206427.9
C17: այդ թվում` ըստ կատարողների
C18: ՀՀ տարածքային կառավարման և ենթակառուցվածքների նախարարության ջրային կոմիտե | D18: =D20 -> -206427.9
C19: այդ թվում` ըստ ուղղությունների
C20: Տվյալների առցանց փոխանցմամբ ջրահաշվիչ (ջրաչափիչ) սարքերի ձեռքբերում | D20: ='h9'!H240 -> -206427.9
A21: 1004 | B21: 31012 | C21: Գետերի և հեղեղատարների տեղամասերի ամրացման և մաքրման աշխատանքներ | D21: =D23 -> -180651.8
C22: այդ թվում` ըստ կատարողների
C23: ՀՀ տարածքային կառավարման և ենթակառուցվածքների նախարարության ջրային կոմիտե | D23: =D25+D26 -> -180651.8
C24: այդ թվում` ըստ ուղղությունների
C25: Նարեկի սելավատարի հունի մաքրում 2945 մ և ափերի ամրացում 380 մ | D25: -30651.8
C26: ՀՀ Արարատի մարզի Արաքսավան և Բուրաստան համայնքների Արաքս գետի N16-ից մինչև N14 սահմանների միջակայքում Արաքս գետի նախկին հունի վերականգման և N16 սահմանանշանի մոտակայքում Արաքս գետի հայկական կողմի մոտ 130 մ երկարությամբ և 8 մ խորությամբ ողողված պատնեշի վերականգնման աշխատանքների, նախագծանախահաշվային փաստաթղթերի և փորձաքննության ձեռքբերում | D26: -150000
A27: 1004 | B27: 31013 | C27: Փոքր և միջին ջրամբարների կառուցում | D27: =D29 -> -374025
C28: այդ թվում` ըստ կատարողների
C29: ՀՀ տարածքային կառավարման և ենթակառուցվածքների նախարարության ջրային կոմիտե | D29: ='h9'!H258 -> -374025
A30: 1004 | B30: 31014 | C30: Ջրամբարների վերականգնման և վերազինման աշխատանքներ | D30: =D32 -> -64813.1
C31: այդ թվում` ըստ կատարողների
C32: ՀՀ տարածքային կառավարման և ենթակառուցվածքների նախարարության ջրային կոմիտե | D32: =D34+D35 -> -64813.1
C33: այդ թվում` ըստ ուղղությունների
C34: Ապարանի ջրամբարի վերանորոգում | D34: ='h9'!H267 -> -59313.1
C35: ՀՀ Գեղարքունիքի մարզի Գեղարքունի 2 ջրամբարի վերականգնման աշխատանքներ | D35: ='h9'!H269 -> -5500
A36: 1004 | B36: 31020 | C36: Ոռոգման համակարգերի կառուցում | D36: =D38 -> -3523.9
C37: այդ թվում` ըստ կատարողների
C38: ՀՀ տարածքային կառավարման և ենթակառուցվածքների նախարարության ջրային կոմիտե | D38: =D40 -> -3523.9
C39: այդ թվում` ըստ ուղղությունների
C40: Բուսաբանական այգու ոռոգման ցանցի կառուցում՝ Սարկավագի փողոցի ջրանցքից մինչ Բուսաբանական այգու պարսպի հատված | D40: -3523.9
A41: 1049 | B41: 21001 | C41: Պետական նշանակության ավտոճանապարհների հիմնանորոգում | D41: =D43 -> -1190198
...

Sheet h14
E1: Հավելված № 14
E2: ՀՀ կառավարության 2023 թվականի
E3: -------------- ի № ---- -Ն որոշման
B5: «ՀԱՅԱՍՏԱՆԻ ՀԱՆՐԱՊԵՏՈՒԹՅԱՆ 2023 ԹՎԱԿԱՆԻ ՊԵՏԱԿԱՆ ԲՅՈՒՋԵԻ ՄԱՍԻՆ» ՕՐԵՆՔԻ N 1 ՀԱՎԵԼՎԱԾԻ N 7 ԱՂՅՈՒՍԱԿՈՒՄ ԵՎ ՀԱՅԱՍՏԱՆԻ ՀԱՆՐԱՊԵՏՈՒԹՅԱՆ ԿԱՌԱՎԱՐՈՒԹՅԱՆ 2022 ԹՎԱԿԱՆԻ ԴԵԿՏԵՄԲԵՐԻ 29-Ի N 2111-Ն ՈՐՈՇՄԱՆ N 5 ՀԱՎԵԼՎԱԾԻ N 6 ԱՂՅՈՒՍԱԿՈՒՄ ԿԱՏԱՐՎՈՂ ԼՐԱՑՈՒՄՆԵՐԸ
E6: հազար դրամ
B7: Ծրագրային դասիչը | D7: Բյուջետային հատկացումների գլխավոր կարգադրիչների, ծրագրերի, միջոցառումների և միջոցառումները կատարող պետական մարմինների անվանումները | E7: Ցուցանիշների փոփոխությունը (ավելացումները նշված են դրական նշանով, իսկ նվազեցումները` փակագծերում)
B8: Ծրագիր | C8: Միջոցառում | E8: Տարի
D9: ԸՆԴԱՄԵՆԸ | E9: =E11 -> 5712833.3
D10: այդ թվում
D11: Կապիտալ սուբվենցիաներ համայնքներին | E11: =E13 -> 5712833.3
D12: այդ թվում`
D13: ՀՀ տարածքային կառավարման և ենթակառուցվածքների նախարարություն | E13: =+E15 -> 5712833.3
D14: այդ թվում`
B15: 1212 | D15: Տարածքային զարգացում | E15: =+E17 -> 5712833.3
D16: այդ թվում`
C17: 12007 | D17: ՀՀ մարզերին սուբվենցիաների տրամադրում՝ ենթակառուցվածքների զարգացման նպատակով | E17: =E19+E24+E33+E48+E65+E74+E89+E96+E114+E106 -> 5712833.3
D18: այդ թվում` ըստ կատարողների
D19: ՀՀ Արագածոտնի մարզպետի աշխատակազմ | E19: =SUM(E21:E23) -> 176956.2
D20: այդ թվում` ըստ ուղղությունների
D21: Աշտարակ համայնքի Աշտարակ, Աղձք, Բյուրական, Արագածոտն և Օրգով բն․ գազիֆիկացում | E21: 105433.2
D22: Ալագյազ համայնքի Ճարճակիս բն․ գազիֆիկացում | E22: 49708.9
D23: Ալագյազ համայնքի Ալագյազ, Ջամշլու, Սադունց և Շենկանի բն․ գերեզմանատների ցանկապատում | E23: 21814.1
D24: ՀՀ Արարատի մարզպետի աշխատակազմ | E24: =SUM(E26:E32) -> 888262.3
D25: այդ թվում` ըստ ուղղությունների
D26: Մասիս համայնքի բնակավայրերում փողոցային լուսավորության համակարգի կառուցում և նորոգում /1.Նիզամի, Դաշտավան, Ազատաշեն,Ռանչպար, Գետափնյա, 3․ Մարմարաշեն, Արևաբույր,, Այնթապ, Ջրահովիտ, Նոր Խարբերդ, 5․ Արբաթ, Զորակ, Դաշտավան, , Դարակերտ, Նորամարգ, Խաչփար, , Այնթապ, Սիս,Դարբնիկ | E26: 302850.9
D27: Մասիս համայնքի Ազատաշեն, Արբաթ, Արևաբույր, Գետափնյա, Գեղանիստ, Դաշտավան, Դարակերտ, Դարբնիկ, Զորակ, Խաչփար, Հայանիստ, Մարմարաշեն, Նորաբաց, Նոր Կյուրին, Ջրահովիտ և Սայաթ-Նովա բնակավայրերում ոռոգման համակարգի կառուցում և նորոգում /Արևաբույր, Ջրահովիտ, Նոր Կյուրին/ | E27: 280099
D28: Արտաշատ համայնքի Բարձրաշեն, Դեղձուտ, Դիմիտրով, Մրգանուշ, Մրգավետ, Քաղցրաշեն, Աբովյան, Այգեզարդ, Արաքսավան, Դիտակ, Դվին, Մխչյան, Մրգավան, Ոստան բնակավայրերի գազաֆիկացման աշխատանքներ | E28: 41751.9
D29: Արարատ համայնքի Արարատ քաղաքի, Զանգակատուն, Երասխ, Ավշար, Նոյակերտ և Ուրցալանջ բնակավայրերի ճանապարհների վերանորոգում ասֆալտապատմամբ /ք․ Արարատ, ՈԿՖ բանավան, Երասխ/ | E29: 89647.9
D30: Մասիս համայնքում բնակավայրերի գազաֆիկացում /Այնթապ, Արբաթ, Դաշտավան, Դարակերտ, Նորաբաց, Սայաթ - Նովա/ | E30: 60750
D31: Արարատ համայնքի բնակավայրերի մանկապաևտեզների համար գույքի ձեռքբերում | E31: 61091
D32: Արարատ համայնքի Արարատ քաղաքային, Պարույր Սևակ, Ուրցալանջ, Զանգակատուն, Ավշար, Արմաշ, Նոյակերտ և Սուրենավան բնակավայրերի փողոցային լուսավորության համակարգի կառուցում և վերակառուցում արևային և լեդ լուսատուներով | E32: 52071.6
D33: ՀՀ Արմավիրի մարզպետի աշխատակազմ | E33: =SUM(E35:E47) -> 903456.5
D34: այդ թվում` ըստ ուղղությունների
D35: Արմավիր համայնքի Արմավիր քաղաքի թիվ 2 մանկապարտեզ ՀՈԱԿ-ի հիմնանորոգում, թիվ 3 և թիվ 7 մանկապարտեզ ՀՈԱԿ-ների ջեռուցման համակարգերի կառուցում, գազաֆիկացում, հին դռների և պատուհանների նորով փոխարինում, Արաքս գյուղի մանկապարտեզի շենքի հիմնանորոգում, Մյասնիկյան գյուղի մանկապարտեզ ՀՈԱԿ-ի ջեռուցման համակարգի կառուցում և սանհանգույցի վերանորոգում, Լուկաշին գյուղի մանկապարտեզ ՀՈԱԿ-ի ջեռուցման համակարգի կառուցում, Սարդարապատ գյուղի մանկապարտեզ ՀՈԱԿ-ի հիմնանորոգում, գազաֆիկացում և ջեռուցման համակարգի կառուցում /Արաքս գյուղի մանկապարտեզի շենքի հիմնանորոգում/ | E35: 195951.3
D36: Մեծամոր համայնքի ք.Մեծամորի թիվ 2, թիվ 3 մանկապարտեզների հիմնանորոգման և հարակից տարածքների բարեկարգման, Տարոնիկ և Տանձուտ բնակավայրերի մանկապարտեզների հիմնանորոգման աշխատանքներ | E36: 244585.2
D37: Խոյ համայնքի խորքային հորերի հիմնանորոգում (Արագած N-1, N-2, Արշալույս N-1, N-2, N-3, N-4, N-5, N-6, N-7, N-8, Գեղակերտ N-1, Հայթաղ N-1, N-2, N-3, Մրգաստան N-1, Ծաղկունք N-1, N-2, Ծաղկալանջ N-2, Ծիածան N-1) և Ծիածան բնակավայրի ներտնտեսային ոռոգման ջրագծերի կառուցում /Արշալույս N-և N-3, Հայթաղ N-1/ | E37: 33805.8
D38: Մեծամոր համայնքի նախկին պոլիկլինիկայի շենքը Մեծամորի համայնքապետարանի վարչական շենք դարձնելու նպատակով վերանորոգման աշխատանքներ | E38: 88348.8
D39: Փարաքար համայնքի Բաղրամյան բնակավայրիԱյգեգործներիփողոցի,Թումանյան փողոցի Շիրազի փողոցի, Պտղունք բնակավայրի Ագաթանգեղոս փողոցի, Մուսալեռ բնակավայրի Տիգրան Մեծ փողոցի, Մերձավան բնակավայրի 1-ին, 2-րդ, 3-րդ և 4-րդ փողոցների և Այգեկ բնակավայրի 2-րդ և 3-րդ փողոցների, Փարաքար բնակավայրի Արցախի թաղամասի և Մհեր Մկրտչյան փողոցի գազաֆիկացում/Մուսալեռ գյուղի Տիգրան Մեծ թաղամասի 1-ին, 2-րդ, 3-րդ, 4-րդ, 5-րդ, 6-րդ և 7-րդ փողոցների գազիֆիկացում/ | E39: 19717.3
D40: Արգինա բնակավայրի Տիգրան Մեծ և Աբովյան փողոցների ասֆալտապատում, Արտամետ բնակավայրի Գ. Նժդեհ փ. ասֆալտապատում, Բագարան բնակավայրի Գ.Մարզպետունի կենտրոնական փողոցի շարունակության ասֆալտապատում, Բաղրամյան բնակավայրի Սարի Թաղ փողոցի ասֆալտապատում, Դալարիկ բնակավայրի Մյասնիկյան և Օրջոնիկիձե փողոցների ասֆալտապատում, Երվանդաշատ բնակավայրի Սահմանապահների փողոցի ասֆալտապատում, Բերդակ փողոցի ասֆալտապատում, Խաչին Տակ փողոցի ասֆալտապատում, Լեռնագոգ բնակավայրի Ա.Խաչատրյան փողոցի ասֆալտապատում, Հուշակերտ բնակավայրի 5-րդ փողոցի շարունակության ասֆալտապատում, 4-րդ փողոցի սկզբնամաս, 5-րդ և 4-րդ փողոցների միացվող հատվածի ասֆալտապատում, Շենիկ բնակավայրի Տերյան փողոցի ասֆալտապատում, Վանանդ բնակավայրի Ա. Մարտիրոսյան և Պ. Սևակ փողոցների, Պ. Սևակ փողոցի մի հատվածի և Հ Քոչարի, Զ. Սահակյան փողոցիասֆալտապատում, Տալվորիկ բնակավայրի Գ. Չաուշ, Անդրանիկ, Արաբո, Նժդեհ փողոցների ասֆալտապատում, Քարակերտ բնակավայրի Երկաթուղայիններ փողոցի ասֆալտապատում, Բաբաջանյան փողոցի ասֆալտապատում, գերեզմանատուն տանող ճանապարհի և Սարյան փողոցի ասֆալտապատում / Երվանդաշատ բնակավայրի Բերդակի փողոցի,Լեռնագոգ բնակավայրի 1-ին,Լեռնագոգ բնակավայրի 12-րդ,Վանանդ բնակավայրի Պ․Սևակ փողոցի և Վանանդ բնակավայրի Զ.Սահակյան փողոցի ասֆալտապատում, Արգինա բնակավայրի Տիգրան Մեծ,Քարակերտ բնակավայրի Բաբաջանյան փողոցի,գերեզմանատուն տանող ճանապարհի և Սարյան փողոցի ասֆալտապատում/ | E40: 65269.5
D41: Փարաքար համայնքի Փարաքար բնակավայրի Է. Թևոսյան և Րաֆֆու փողոցների կոյուղագծի կառուցում | E41: 16764.8
...

Sheet h15
D1: Հավելված N 15
A2: ՀՀ կառավարության 2023 թվականի
A3: ______________ ի ___Ն որոշման
A5: ՀԱՅԱՍՏԱՆԻ ՀԱՆՐԱՊԵՏՈՒԹՅԱՆ ԿԱՌԱՎԱՐՈՒԹՅԱՆ 2022 ԹՎԱԿԱՆԻ ԴԵԿՏԵՄԲԵՐԻ 29-Ի N 2111-Ն ՈՐՈՇՄԱՆ N 9 ՀԱՎԵԼՎԱԾԻ N 9.7 ԵՎ N 9.47 ԱՂՅՈՒՍԱԿՆԵՐՈՒՄ ԿԱՏԱՐՎՈՂ ՓՈՓՈԽՈՒԹՅՈՒՆՆԵՐԸ ԵՎ ԼՐԱՑՈՒՄՆԵՐԸ
D6: Աղյուսակ 9.7
A7: ՀՀ ՏԱՐԱԾՔԱՅԻՆ ԿԱՌԱՎԱՐՄԱՆ ԵՎ ԵՆԹԱԿԱՌՈՒՑՎԱԾՔՆԵՐԻ ՆԱԽԱՐԱՐՈՒԹՅՈՒՆ
A8: ՄԱՍ 2. ՊԵՏԱԿԱՆ ՄԱՐՄՆԻ ԳԾՈՎ ԱՐԴՅՈՒՆՔԱՅԻՆ (ԿԱՏԱՐՈՂԱԿԱՆ) ՑՈՒՑԱՆԻՇՆԵՐԸ
B10: Ծրագրի անվանումը
A11: 1004 | B11: =+'[2]4'!D16 -> Ոռոգման համակարգի առողջացում
A13: Ծրագրի միջոցառումները
A14: Ծրագրի դասիչը` | B14: 1004 | C14: Ցուցանիշների փոփոխությունը (նվազեցումները նշված են փակագծերում)
A15: Միջոցառման դասիչը` | B15: 11005 | C15: Տարի
A16: Միջոցառման անվանումը` | B16: Եվրասիական զարգացման բանկի աջակցությամբ իրականացվող ոռոգման համակարգերի զարգացման ծրագրի խորհրդատվություն և կառավարում
A17: Նկարագրությունը` | B17: Եվրասիական զարգացման բանկի աջակցությամբ իրականացվող ոռոգման համակարգերի զարգացման ծրագրի համակարգում և ղեկավարում
A18: Միջոցառման տեսակը` | B18: Ծառայությունների մատուցում
A19: Ակտիվն օգտագործող կազմակերպության(ների) անվանում(ները)՛ | B19: Մասնագիտացված միավոր
A20: Արդյունքի չափորոշիչներ
A21: Կառավարվող/վերահսկվող խորհրդատվական պայմանագրերի քանակը, հատ | C21: -2
A22: Միջոցառման վրա կատարվող ծախսը (հազար դրամ) | C22: =h11v!E19 -> -162175.6
A24: Ծրագրի դասիչը` | B24: 1004 | C24: Ցուցանիշների փոփոխությունը (նվազեցումները նշված են փակագծերում)
A25: Միջոցառման դասիչը` | B25: 11007 | C25: Տարի
A26: Միջոցառման անվանումը` | B26: Գերմանիայի զարգացման վարկերի բանկի աջակցությամբ իրականացվող Ախուրյան գետի ջրային ռեսուրսների ինտեգրացված կառավարում ծրագրի խորհրդատվություն և կառավարում
A27: Նկարագրությունը` | B27: Գերմանիայի զարգացման վարկերի բանկի աջակցությամբ իրականացվող Ախուրյան գետի ջրային ռեսուրսների ինտեգրացված կառավարում ծրագրի համակարգում և ղեկավարում
A28: Միջոցառման տեսակը` | B28: Ծառայությունների մատուցում
A29: Ակտիվն օգտագործող կազմակերպության(ների) անվանում(ները)՛ | B29: Մասնագիտացված միավոր
A30: Արդյունքի չափորոշիչներ
A31: Միջոցառման վրա կատարվող ծախսը (հազար դրամ) | C31: =h11v!E30 -> -172032.7
A34: Ծրագրի դասիչը` | B34: 1004 | C34: Ցուցանիշների փոփոխությունը (նվազեցումները նշված են փակագծերում)
A35: Միջոցառման դասիչը` | B35: 11009 | C35: Տարի
A36: Միջոցառման անվանումը` | B36: Գերմանիայի զարգացման վարկերի բանկի աջակցությամբ իրականացվող Ախուրյան գետի ջրային ռեսուրսների ինտեգրված կառավարման դրամաշնորհային ծրագիր
A37: Նկարագրությունը` | B37: Գերմանիայի զարգացման վարկերի բանկի աջակցությամբ իրականացվող Ախուրյան գետի ջրային ռեսուրսների ինտեգրացված կառավարման դրամաշնորհային ծրագրի համակարգում և ղեկավարում
A38: Միջոցառման տեսակը` | B38: Ծառայությունների մատուցում
A39: Ակտիվն օգտագործող կազմակերպության(ների) անվանում(ները)՛ | B39: Մասնագիտացված միավոր
A40: Արդյունքի չափորոշիչներ
A41: Կառավարվող/վերահսկվող խորհրդատվական պայմանագրերի քանակը, հատ | C41: -1
A42: Միջոցառման վրա կատարվող ծախսը (հազար դրամ) | C42: ='h8'!F31 -> -9397.3
A44: Ծրագրի դասիչը` | B44: 1004 | C44: Ցուցանիշների փոփոխությունը (նվազեցումները նշված են փակագծերում)
A45: Միջոցառման դասիչը` | B45: 11010 | C45: Տարի
A46: Միջոցառման անվանումը` | B46: Գերմանիայի զարգացման վարկերի բանկի աջակցությամբ իրականացվող Ախուրյան գետի ջրային ռեսուրսների ինտեգրացված կառավարում փուլ 1 ծրագրով Ջրաձոր գյուղի վերաբնակեցման գործողությունների խորհրդատվություն և կառավարում
A47: Նկարագրությունը` | B47: Գերմանիայի զարգացման վարկերի բանկի աջակցությամբ իրականացվող Ախուրյան գետի ջրային ռեսուրսների ինտեգրացված կառավարում փուլ 1 ծրագրով Ջրաձոր գյուղի վերաբնակեցման գործողությունների համակարգում և ղեկավարում
...

Sheet h16
D1: Հավելված N 16
A2: ՀՀ կառավարության 2023թվականի
A3: ______________ ի ___Ն որոշման
A5: ՀԱՅԱՍՏԱՆԻ ՀԱՆՐԱՊԵՏՈՒԹՅԱՆ ԿԱՌԱՎԱՐՈՒԹՅԱՆ 2022 ԹՎԱԿԱՆԻ ԴԵԿՏԵՄԲԵՐԻ 21-Ի N 2111-Ն ՈՐՈՇՄԱՆ N 9.1 ՀԱՎԵԼՎԱԾԻ NN 9.1.7,9.1.25, 9.1.48, 9.1.49, 9.1.50, 9.1.51, 9.1.52, 9.1.53, 9.1.54, 9.1.55, 9.1.56 , 9.1.57 ԵՎ 9.1.58 ԱՂՅՈՒՍԱԿՆԵՐՈՒՄ ԿԱՏԱՐՎՈՂ ՓՈՓՈԽՈՒԹՅՈՒՆՆԵՐԸ ԵՎ ԼՐԱՑՈՒՄՆԵՐԸ
D6: Աղյուսակ 9.1.7
A7: ՀՀ ՏԱՐԱԾՔԱՅԻՆ ԿԱՌԱՎԱՐՄԱՆ ԵՎ ԵՆԹԱԿԱՌՈՒՑՎԱԾՔՆԵՐԻ ՆԱԽԱՐԱՐՈՒԹՅՈՒՆ
A8: ՄԱՍ 1. ՊԵՏԱԿԱՆ ՄԱՐՄՆԻ ԳԾՈՎ ԱՐԴՅՈՒՆՔԱՅԻՆ (ԿԱՏԱՐՈՂԱԿԱՆ) ՑՈՒՑԱՆԻՇՆԵՐԸ
A9: Ծրագրի դասիչը | B9: Ծրագրի անվանումը
A10: 1019 | B10: Սոցիալական ներդրումների և տեղական զարգացման ծրագիր
A12: Ծրագրի միջոցառումները
A13: Ծրագրի դասիչը` | B13: 1019 | C13: Ցուցանիշների փոփոխությունը (նվազեցումները նշված են փակագծերում)
A14: Միջոցառման դասիչը` | B14: 11004 | C14: Տարի
A15: Միջոցառման անվանումը` | B15: ԱՄՆ ՄԶԳ աջակցությամբ իրականացվող Տեղական ինքնակառավարման և ապակենտրոնացման բարեփոխումների դրամաշնորհային ծրագրի կառավարում
A16: Նկարագրությունը` | B16: ԱՄՆ ՄԶԳ աջակցությամբ իրականացվող Տեղական ինքնա կառավարման և ապակենտրոնացման բարեփոխումների դրամաշնորհային ծրագրի իրականացման նպատակով ծրագրի կառավարման ծախսեր և Տեղական կառավարման համակարգերի հզորացման, ապակենտրոնացման գործընթաց ներին աջակցության նպատակով խորհրդատվություններ և ուսուցումներ
A17: Միջոցառման տեսակը` | B17: Տրանսֆերտների տրամադրում
A18: Շահառուների ընտրության չափանիշները` | B18: Համաձայն ՏԶՀ Ղեկավար ձեռնարկի, որը ֆինանսավորման համաձայնագրի մաս է կազմում
A19: Արդյունքի չափորոշիչներ
A20: Քանակական | B20: Տեղական ինքնակառավարման մարմինների ուսուցում՝ հաշվետվողականության ամրապնդման համար (տեղական ինքնակառավարման սուբյեկտներ, հատ) | C20: -4
A21: Քանակական | B21: Հաշվետվողականության ամրապնդման վերաբերյալ սեմինարներին և թրեյնինգներին համայնքային ծառա յողների մասնակցություն (մասնակիցների թիվ, անձ) | C21: -20
A22: Քանակական | B22: Համայնքներում հասարակական կարծիքի ուսումնա սիրություներ՝ հանրային ծառայությունների մակար դակից գոհունակության աստիճանը պարզելու համար (համայնքների թիվ, հատ) | C22: -4
A23: Քանակական | B23: Արտակարգ իրավիճակների արձագանքման / ռիսկերի նվազեցման քաղաքականության և ընթացակարգերի մշակում և փորձարկում (համայնքների թիվ, հատ) | C23: -4
A24: Միջոցառման վրա կատարված ծախսը (հազար դրամ) | C24: ='h15'!C209 -> -45642.3
A26: Ծրագրի դասիչը` | B26: 1019 | C26: Ցուցանիշների փոփոխությունը (նվազեցումները նշված են փակագծերում)
A27: Միջոցառման դասիչը` | B27: 12004 | C27: Տարի
A28: Միջոցառման անվանումը` | B28: Համաշխարհային բանկի աջակցությամբ իրականացվող Սոցիալական ներդրումների և տեղական զարգացման ծրագրի լրացուցիչ ֆինանսավորման վարկի շրջանակներում ՀՀ համայնքային և միջհամայնքային ենթակառուցվածքների որակի, օգտագործման և հասանելիության բարելավում
A29: Նկարագրությունը` | B29: Ջրագծերի, առողջապահության, կրթության օբյեկտների, մշակույթային տների, ծերանոցների, մանկատների, հատուկ դպրոցների, մանկապարտզների և կոյուղու օբյեկտնրի հիմն. և շինարարություն., գույքի և սարքավորումների տրամադրում շահառու ենթածրագրերի համար
A30: Միջոցառման տեսակը` | B30: Տրանսֆերտների տրամադրում
A31: Շահառուների ընտրության չափանիշները` | B31: Համաձայն ՏԶՀ Ղեկավար ձեռնարկի, որը ֆինանսավորման համաձայնագրի մաս է կազմում
A32: Արդյունքի չափորոշիչներ
A33: Հիմնանորոգված և նոր կառուցված ջրագծերի, առողջապահության, կրթության, մշակույթի, հատուկ խնամքի և ենթակառուցվածքների ոլորտի օբյեկտներից օգտվող համայնքներ, համայնքների թիվ, հատ | C33: -3
A34: Ավարտման ենթակա միկրոծրագրերի թիվ, հատ | C34: -3
A35: Ծրագրի շահառուների թիվ | C35: -219000
A36: Միջոցառման վրա կատարված ծախսը (հազար դրամ) | C36: ='h15'!C222 -> -149780
A38: Ծրագրի դասիչը | B38: Ծրագրի անվանումը
A39: 1040 | B39: Կոշտ թափոնների կառավարում
A41: Ծրագրի միջոցառումները
A42: Ծրագրի դասիչը` | B42: 1040 | C42: Ցուցանիշների փոփոխությունը (նվազեցումները նշված են փակագծերում)
A43: Միջոցառման դասիչը` | B43: 12002 | C43: Տարի
A44: Միջոցառման անվանումը` | B44: Վերակառուցման և զարգացման եվրոպական բանկի աջակցությամբ իրականացվող «Կոտայքի և Գեղարքունիքի մարզի կոշտ թափոնների կառավարման խորհրդատվության համար» դրամաշնորհային ծրագիր
A45: Նկարագրությունը` | B45: Կոշտ թափոննրի կառավարման համակարգի բարելավում և նոր աղբավայրի ստեղծում
...

Sheet h17
F1: Հավելված N17
G2: ՀՀ կառավարության 2023 թվականի
F3: ______________ ի ___Ն որոշման
A6: ՀԱՅԱՍՏԱՆԻ ՀԱՆՐԱՊԵՏՈՒԹՅԱՆ ԿԱՌԱՎԱՐՈՒԹՅԱՆ 2022 ԹՎԱԿԱՆԻ ԴԵԿՏԵՄԲԵՐԻ 29-Ի N 2111-Ն ՈՐՈՇՄԱՆ N 10 ՀԱՎԵԼՎԱԾՈՒՄ ԿԱՏԱՐՎՈՂ ՓՈՓՈԽՈՒԹՅՈՒՆՆԵՐԸ
A8: Կոդը | B8: Անվանումը | C8: Գնման ձևը | D8: Չափման միավորը | E8: Միավորի գինը | F8: Քանակը | G8: Ցուցանիշների փոփոխությունը (նվազեցումները նշված են փակագծերում)
G9: Գումարը (հազար դրամ)
A10: 1 | B10: 2 | C10: 3 | D10: 4 | E10: 5 | F10: 6 | G10: 7
B11: Ընդամենը | G11: =G12+G54 -> -2676705
A12: ՀՀ տարածքային կառավարման և ենթակառուցվածքների նախարարության ջրային կոմիտե | G12: =G13 -> -858311.81
A13: Բաժին N 04 | B13: Խումբ N 02 | C13: Դաս N 04 | D13: Ոռոգում | G13: =G14+G26+G34+G40+G45+G51 -> -858311.81
A14: 1004-11013 | B14: Փոքր և միջին ջրամբարների կառուցման խորհրդատվություն և կառավարում | G14: =G15 -> -28870
B15: ՄԱՍ III ԾԱՌԱՅՈՒԹՅՈՒՆՆԵՐ | G15: =SUM(G16:G25) -> -28870
A16: 85311210/1 | B16: խորհրդատվության ծառայություններ | C16: ԳՀ | D16: դրամ | G16: -120
A17: 85311210/2 | B17: խորհրդատվության ծառայություններ | C17: ԳՀ | D17: դրամ | E17: -7800000 | F17: -1 | G17: -7800
A18: 85311210/3 | B18: խորհրդատվության ծառայություններ | C18: ԳՀ | D18: դրամ | E18: -7200000 | F18: -1 | G18: -7200
A19: 85311210/4 | B19: խորհրդատվության ծառայություններ | C19: ԳՀ | D19: դրամ | G19: -6600
A20: 85311210/5 | B20: խորհրդատվության ծառայություններ | C20: ԳՀ | D20: դրամ | G20: -240
A21: 85311210/6 | B21: խորհրդատվության ծառայություններ | C21: ԳՀ | D21: դրամ | G21: -60
A22: 85311210/7 | B22: խորհրդատվության ծառայություններ | C22: ԳՀ | D22: դրամ | G22: -120
A23: 85311210/8 | B23: խորհրդատվության ծառայություններ | C23: ԳՀ | D23: դրամ | G23: -120
A24: 85311210/9 | B24: խորհրդատվության ծառայություններ | C24: ԳՀ | D24: դրամ | G24: -120
A25: 85311210/10 | B25: խորհրդատվության ծառայություններ | C25: ԳՀ | D25: դրամ | E25: -6490000 | F25: =F18 -> -1 | G25: -6490
A26: 1004 -31011 | B26: Խորքային հորերի վերականգնում | G26: =SUM(G27:G33) -> -206427.9
A27: 38421120/501 | B27: հոսքաչափեր | C27: ՀԲՄ | D27: հատ | G27: -176703
A28: 38421120/502 | B28: հոսքաչափեր | C28: ՀԲՄ | D28: հատ | G28: -12390
A29: 38421120/503 | B29: հոսքաչափեր | C29: ՀԲՄ | D29: հատ | G29: -15314
A30: 38421120/504 | B30: հոսքաչափեր | C30: ՀԲՄ | D30: հատ | G30: -508.8
A31: 38421120/505 | B31: հոսքաչափեր | C31: ՀԲՄ | D31: հատ | G31: -284.9
A32: 38421120/506 | B32: հոսքաչափեր | C32: ՀԲՄ | D32: հատ | G32: -882
A33: 38421120/507 | B33: հոսքաչափեր | C33: ՀԲՄ | D33: հատ | G33: -345.2
A34: 1004 -31012 | B34: Գետերի և հեղեղատարների տեղամասերի ամրացման և մաքրման աշխատանքներ | G34: =G35+G38 -> -180651.87
B35: ՄԱՍ II ԱՇԽԱՏԱՆՔՆԵՐ | G35: =G36+G37 -> -180413.87
A36: 45241133/2 | B36: Գետերի ափերի պաշտպանության աշխատանքներ | C36: ԲՄ | D36: դրամ | G36: -30413.872
A37: 45241133/501 | B37: Գետերի ափերի պաշտպանության աշխատանքներ | C37: ԲՄ | D37: դրամ | E37: -150000000 | F37: =F25 -> -1 | G37: =h10k!D21 -> -150000
B38: ՄԱՍ III ԾԱՌԱՅՈՒԹՅՈՒՆՆԵՐ | G38: =G39 -> -238
