Workbook
Name AgencyCode: #REF!
Name AgencyCode: #REF!
Name AgencyCode: #REF!
Name AgencyCode: #REF!
Name AgencyCode: #REF!
Name AgencyCode: #REF!
Name AgencyCode: #REF!
Name AgencyCode: #REF!
Name AgencyName: #REF!
Name AgencyName: #REF!
Name AgencyName: #REF!
Name AgencyName: #REF!
Name AgencyName: #REF!
Name åû: #REF!
Name åû: #REF!
Name åû: #REF!
Name davit: #REF!
Name davit: #REF!
Name davit: #REF!
Name Functional1: #REF!
Name Functional1: #REF!
Name Functional1: #REF!
Name Functional1: #REF!
Name Functional1: #REF!
Name ggg: #REF!
Name ggg: #REF!
Name ggg: #REF!
Name mas: #REF!
Name mas: #REF!
Name mas: #REF!
Name mass: #REF!
Name mass: #REF!
Name mass: #REF!
Name PANature: #REF!
Name PANature: #REF!
Name PANature: #REF!
Name PANature: #REF!
Name PANature: #REF!
Name PAType: #REF!
Name PAType: #REF!
Name PAType: #REF!
Name PAType: #REF!
Name PAType: #REF!
Name Performance2: #REF!
Name Performance2: #REF!
Name Performance2: #REF!
Name Performance2: #REF!
Name Performance2: #REF!
Name PerformanceType: #REF!
Name PerformanceType: #REF!
Name PerformanceType: #REF!
Name PerformanceType: #REF!
Name PerformanceType: #REF!
Name x: #REF!
Name x: #REF!
Name x: #REF!
Name x: #REF!
Name Հավելված: #REF!
Name Հավելված: #REF!
Name Հավելված: #REF!

Sheet h1
B1: Հավելված N 1
B2: ՀՀ կառավարության 2023 թվականի
B3: ______________ ի ___Ն որոշման
A5: «ՀԱՅԱՍՏԱՆԻ ՀԱՆՐԱՊԵՏՈՒԹՅԱՆ 2023 ԹՎԱԿԱՆԻ ՊԵՏԱԿԱՆ ԲՅՈՒՋԵԻ ՄԱՍԻՆ» ՕՐԵՆՔԻ N 2 ՀՈԴՎԱԾԻ ԱՂՅՈՒՍԱԿՈՒՄ ԿԱՏԱՐՎՈՂ ՓՈՓՈԽՈՒԹՅՈՒՆՆԵՐԸ
B7: հազար դրամներով
B8: Ցուցանիշների փոփոխությունը (նվազեցումները նշված են փակագծերում)
A9: 1. Եկամուտների գծով | B9: =+'h2'!B10 -> -4394281.2
A10: 2. Ծախսերի գծով | B10: ='h9'!H10 -> -14557465
A11: 3. Դեֆիցիտը (պակասուրդը) | B11: =-B9+B10 -> -10163184

Sheet h2
C1: Հավելված N 2
C2: ՀՀ կառավարության 2023 թվականի
C3: ______________ ի ___Ն որոշման
A5: «ՀԱՅԱՍՏԱՆԻ ՀԱՆՐԱՊԵՏՈՒԹՅԱՆ 2023 ,ԹՎԱԿԱՆԻ ՊԵՏԱԿԱՆ ԲՅՈՒՋԵԻ ՄԱՍԻՆ» ՕՐԵՆՔԻ N 6 ՀՈԴՎԱԾԻ ԱՂՅՈՒՍԱԿՈՒՄ ԵՎ ՀԱՅԱՍՏԱՆԻ ՀԱՆՐԱՊԵՏՈՒԹՅԱՆ ԿԱՌԱՎԱՐՈՒԹՅԱՆ 2022 ԹՎԱԿԱՆԻ ԴԵԿՏԵՄԲԵՐԻ 29-Ի N 2111-Ն ՈՐՈՇՄԱՆ N 2 ՀԱՎԵԼՎԱԾՈՒՄ ԿԱՏԱՐՎՈՂ ՓՈՓՈԽՈՒԹՅՈՒՆՆԵՐԸ
B7: հազար դրամներով
A8: Եկամտատեսակ | B8: Ցուցանիշների փոփոխությունը (նվազեցումները նշված են փակագծերում)
B9: Տարի
A10: ՊԵՏԱԿԱՆ ԲՅՈՒՋԵԻ ԵԿԱՄՈՒՏՆԵՐ | B10: =+B12 -> -4394281.2
A11: այդ թվում`
A12: Պաշտոնական դրամաշնորհներ | B12: =+h12.d!I11 -> -4394281.2

Sheet h3
C1: Հավելված N 3
C2: ՀՀ կառավարության 2023թվականի
C3: ______________ ի ___Ն որոշման
A5: ՀԱՅԱՍՏԱՆԻ ՀԱՆՐԱՊԵՏՈՒԹՅԱՆ ԿԱՌԱՎԱՐՈՒԹՅԱՆ 2022 ԹՎԱԿԱՆԻ ԴԵԿՏԵՄԲԵՐԻ 29-Ի N 2111-Ն ՈՐՈՇՄԱՆ N 1 ՀԱՎԵԼՎԱԾԻ N 1 ԱՂՅՈՒՍԱԿՈՒՄ ԿԱՏԱՐՎՈՂ ՓՈՓՈԽՈՒԹՅՈՒՆՆԵՐԸ
B7: հազ. դրամ
A8: Պետական բյուջեի դեֆիցիտի ֆինանսավորման աղբյուրներն ու դրանց տարրերի անվանումները | B8: Ցուցանիշների փոփոխությունը (ավելացումները նշված են դրական նշանով, իսկ նվազեցումները` փակագծերում)
B9: Տարի
A10: ԸՆԴԱՄԵՆԸ | B10: =+B12+B22 -> -10163184
A11: այդ թվում՝
A12: Ա.Ներքին աղբյուրներ-ընդամենը | B12: =+B14 -> 17542851
A13: այդ թվում՝
A14: 2. Ֆինանսական զուտ ակտիվներ | B14: =+B16+B17+B20 -> 17542851
A15: այդ թվում՝
A16: 2.3. Ելքերի ֆինանսավորմանն ուղղվող ՀՀ 2023 թվականի պետական բյուջեի տարեսկզբի ազատ մնացորդի միջոցներ | B16: =+'h6'!F11 -> -2903574.1
A17: 2.4. Վարկերի և փոխատվությունների տրամադրում | B17: =+B18+B19 -> 24946425
A18: - Արտաքին աղբյուրների աջակցությամբ իրականացվող նպատակային ծրագրերի շրջանակներում ենթավարկերի տրամադրում այդ ծրագրերում ներգրաված տնտեսվարող սուբյեկտներին | B18: =-'h6'!D11 -> 20446425
A19: - Բյուջետային վարկերի տրամադրում տնտեսվարող սուբյեկտներին | B19: =-h5.!E9 -> 4500000
A20: 2.6.Այլ | B20: =+B21 -> -4500000
A21: Պետական բյուջեի միջոցների փոփոխություն | B21: -4500000
A22: Բ. Արտաքին աղբյուրներ - ընդամենը | B22: =+B24 -> -27706035
A23: այդ թվում
A24: 1. Փոխառու զուտ միջոցներ | B24: =B26 -> -27706035
A25: այդ թվում՝
A26: 1.1. Վարկերի և փոխատվությունների ստացում | B26: =+B28 -> -27706035
A27: որից`
A28: նպատակային վարկերի գծով | B28: =+h11v!F11+'h6'!E11 -> -27706035

Sheet h4
E1: Հավելված N 4
E2: ՀՀ կառավարության 2023 թվականի
E3: ______________ ի ___Ն որոշման
B5: ՀԱՅԱՍՏԱՆԻ ՀԱՆՐԱՊԵՏՈՒԹՅԱՆ ԿԱՌԱՎԱՐՈՒԹՅԱՆ 2022 ԹՎԱԿԱՆԻ ԴԵԿՏԵՄԲԵՐԻ 29-Ի N 2111-Ն ՈՐՈՇՄԱՆ N 1 ՀԱՎԵԼՎԱԾԻ N 2 ԱՂՅՈՒՍԱԿՈՒՄ ԿԱՏԱՐՎՈՂ ՓՈՓՈԽՈՒԹՅՈՒՆՆԵՐԸ
E6: հազ. դրամ
B7: Ծրագրային դասիչ | D7: Բյուջետային գլխավոր կարգադրիչների, ծրագրերի և միջոցառումների անվանումները | E7: Ցուցանիշների փոփոխությունը (նվազեցումները նշված են փակագծերում)
B8: Ծրագիր | C8: Միջոցառում | E8: Տարի
D9: ԸՆԴԱՄԵՆԸ այդ թվում | E9: =+E10 -> -24946425
D10: ՀՀ տարածքային կառավարման և ենթակառուցվածքների նախարարություն | E10: =E11+E19+E27+E49 -> -24946425
B11: 1040 | D11: Ծրագրի անվանումը՝ Կոշտ թափոնների կառավարում | E11: =E15 -> -1074000
D12: Ծրագրի նպատակը՝ Կենցաղային թափոնների արդյունավետ կառավարում սոցիալական և բնապահպանական խնդիրների լուծում
D13: Վերջնական արդյունքի նկարագրությունը՝ Կենցաղային թափոնների արդյունավետ կառավարում
B14: Ֆինանսական ակտիվների կառավարման միջոցառումներ
C15: 42001 | D15: Միջոցառման անվանումը՝ Վերակառուցման և զարգացման եվրոպական բանկի աջակցությամբ իրականացվող Կոտայքի և Գեղարքունիքի մարզերի կոշտ թափոնների կառավարման ծրագրի շրջանակներում ենթավարկի տրամադրում «Կոտայքի և Գեղարքունիքի Կոշտ կենցաղային թափոնների կառավարում» ՍՊԸ-ին | E15: ='h6'!D16 -> -1074000
D16: Միջոցառման նկարագրությունը՝ Կոշտ թափոնների կառավարման համակարգի բարելավում և նոր աղբավայրի ստեղծում
D17: Միջոցառման տեսակը՝
D18: Վարկերի տրամադրում
B19: 1157 | D19: Ծրագրի անվանումը՝ Քաղաքային զարգացում | E19: =E23 -> -2218233.2
D20: Ծրագրի նպատակը՝ Քաղաքային ենթակառուցվածքների զարգացում
D21: Վերջնական արդյունքի նկարագրությունը՝ Քաղաքային ենթակառուցվածքների արդիականացում և բարելավում
B22: Ֆինանսական ակտիվների կառավարման միջոցառումներ
C23: 42004 | D23: Միջոցառման անվանումը՝ Վերակառուցման և զարգացման եվրոպական բանկի աջակցությամբ իրականացվող Երևան քաղաքի հանրային տրանսպորտի նոր երթուղային ցանցի շարժակազմերի ներդրման ֆինանսական աջակցության ծրագրի շրջանակներում ենթավարկի տրամադրում | E23: ='h6'!D26 -> -2218233.2
D24: Միջոցառման նկարագրությունը՝ Երևան քաղաքի տրանսպորտի և երթևեկության բարելավման համար տրամադրվող աջակցություն
D25: Միջոցառման տեսակը՝
D26: Վարկերի տրամադրում
B27: 1167 | D27: Ծրագրի անվանումը՝ Էլեկտրաէներգետիկ համակարգի զարգացման ծրագիր | E27: =E31+E39+E35+E44 -> -19691292
D28: Ծրագրի նպատակը՝ Նպաստել էլեկտրաէներգետիկ համակարգի հուսալիության բարձրացմանը և էլեկտրաէներգիայի անխափան մատակարարման ապահովմանը
D29: Վերջնական արդյունքի նկարագրությունը՝ Հուսալի և անվտանգ էլեկտրամատակարարման ապահովում
B30: Ֆինանսական ակտիվների կառավարման միջոցառումներ
C31: 42003 | D31: Միջոցառման անվանումը՝ Վերակառուցման և զարգացման միջազգային բանկի աջակցությամբ իրականացվող էլեկտրամատակարարման հուսալիության ծրագրի լրացուցիչ ֆինանսավորման ծրագրի շրջանակներում ենթավարկի տրամադրում «Բարձրավոլտ էլեկտրացանցեր» ՓԲԸ-ին | E31: ='h6'!D35 -> -199000
D32: Միջոցառման նկարագրությունը՝ Էլեկտրամատակարարման հուսալիության ծրագրի լրացուցիչ ֆինանսավորման ծրագրի շրջանակներում «Հաղթանակ» 220կՎ, «Չարենցավան-3», «Վանաձոր-1» 110կՎ, «Զովունի» 220կՎ ենթակայանների ֆիզիկապես և բարոյապես մաշված սարքավորումների փոխարինում
D33: Միջոցառման տեսակը՝
D34: Վարկերի տրամադրում
C35: 42005 | D35: Միջոցառման անվանումը՝ Վերակառուցման և զարգացման միջազգային բանկի աջակցությամբ իրականացվող «Աշնակ» և «Արարատ» ենթակայանների վերակառուցման ծրագրի շրջանակներում ենթավարկի տրամադրում «Բարձրավոլտ էլեկտրացանցեր» ՓԲԸ- ին | E35: ='h6'!D43 -> 164000
D36: Միջոցառման նկարագրությունը՝ Էլեկտրահաղորդման ցանցի բարելավման ծրագրի շրջանակներում 30 և ավելի տարիներ շահագործման մեջ գտնվող 220 կՎ «Աշնակ» և 40 և ավելի տարիներ շահագործման մեջ գտնվող 220 կՎ «Արարատ-2» ենթակայանների վերակառուցում
D37: Միջոցառման տեսակը՝
D38: Վարկերի տրամադրում
C39: 42008 | D39: Միջոցառման անվանումը՝ Գերմանիայի զարգացման վարկերի բանկի (KFW) աջակցությամբ իրականացվող «Կովկասյան էլեկտրահաղորդման ցանց I» Հայաստան-Վրաստան հաղորդիչ գիծ/ենթակայանների վարկային ծրագրի շրջանակներում ենթավարկի տրամադրում «Բարձրավոլտ էլեկտրացանցեր» ՓԲԸ- ին | E39: ='h6'!D51 -> -15156292
D41: Միջոցառման նկարագրությունը՝ Հայաստան-Վրաստան 400 կՎ լարման էլեկտրահաղորդման օդային գծի և համապատասխան ենթակայանների կառուցում
D42: Միջոցառման տեսակը՝
D43: Վարկերի տրամադրում
C44: 42009 | D44: Միջոցառման անվանումը՝ «Հայկական ատոմային էլեկտրակայան» ՓԲԸ-ին տրամադրվող բյուջետային վարկ | E44: -4500000
D46: Միջոցառման նկարագրությունը՝ Բյուջետային վարկի տրամադրում
D47: Միջոցառման տեսակը՝
D48: Վարկերի տրամադրում
B49: 1232 | D49: Ծրագրի անվանումը՝ Էներգաարդյունավետության ծրագիր | E49: =E52 -> -1962900
D50: Ծրագրի նպատակը՝ Էներգախնայողության և վերականգնվող էներգետիկայի ներուժի առավելագույն իրացում
D51: Վերջնական արդյունքի նկարագրությունը՝ Էներգախնայողության մակարդակի բարձրացում և վերականգնվող էներգետիկայի մասնաբաժնի աճ
C52: 42001 | D52: Միջոցառման անվանումը՝ Արևելյան Եվրոպայի էներգախնայողության և շրջակա միջավայրի գործընկերության տարածաշրջանային հիմնադրամի աջակցությամբ իրականացվող Երևանի էներգաարդյունավետության ծրագրի երկրորդ փուլի վարկային ծրագրի շրջանակներում ենթավարկի տրամադրում | E52: ='h6'!D61 -> -1962900
D53: Միջոցառման նկարագրությունը՝ Էներգաարդյունավետության և էներգախնայողությանն ուղղված միջոցառումների իրականացում սեյսմիկ նշանակության հանրային շենքերում
D54: Միջոցառման տեսակը՝
D55: Վարկերի տրամադրում

Sheet h5.
F1: Հավելված N 5
F2: ՀՀ կառավարության 2023 թվականի
F3: ______________ ի ___Ն որոշման
B5: ՀԱՅԱՍՏԱՆԻ ՀԱՆՐԱՊԵՏՈՒԹՅԱՆ ԿԱՌԱՎԱՐՈՒԹՅԱՆ 2022 ԹՎԱԿԱՆԻ ԴԵԿՏԵՄԲԵՐԻ 29-Ի N 2111-Ն ՈՐՈՇՄԱՆ N 1 ՀԱՎԵԼՎԱԾԻ N 4 ԱՂՅՈՒՍԱԿՈՒՄ ԿԱՏԱՐՎՈՂ ՓՈՓՈԽՈՒԹՅՈՒՆՆԵՐԸ
E6: հազ. դրամ
B7: Ծրագրային դասիչ | D7: Պետական բյուջեի դեֆիցիտի ֆինանսավորման աղբյուրներն ու դրանց տարրերի անվանումները | E7: Ցուցանիշների փոփոխությունը (նվազեցումները նշված են փակագծերում)
E8: Տարի
B9: Ծրագիր | C9: Միջոցառում | D9: ԸՆԴԱՄԵՆԸ | E9: =+E11 -> -4500000
D10: այդ թվում՝
D11: ՀՀ տարածքային կառավարման և ենթակառուցվածքների նախարարություն | E11: =+E12 -> -4500000
B12: 1167 | D12: Էլեկտրաէներգետիկ համակարգի զարգացման ծրագիր | E12: =+E13 -> -4500000
C13: 42009 | D13: «Հայկական ատոմային էլեկտրակայան» ՓԲԸ-ին տրամադրվող բյուջետային վարկ | E13: =+E17 -> -4500000
D14: այդ թվում՝ ըստ կատարողների
D15: ՀՀ ֆինանսների նախարարություն | E15: =+E13 -> -4500000
D16: այդ թվում՝ ըստ տնտեսագիտական դասակարգման հոդվածների՝
D17: ՀԻՄՆԱԿԱՆ ԳՈՒՄԱՐԻ ՄԱՐՄԱՆ ԵՎ ՖԻՆԱՆՍԱԿԱՆ ԱԿՏԻՎՆԵՐԻ ՁԵՌՔԲԵՐՄԱՆ ԳԾՈՎ ԾԱԽՍԵՐ, այդ թվում` | E17: =+E18 -> -4500000
D18: ՖԻՆԱՆՍԱԿԱՆ ԱԿՏԻՎՆԵՐԻ ՁԵՌՔԲԵՐՈՒՄ, այդ թվում | E18: =+E19 -> -4500000
D19: ՆԵՐՔԻՆ ՖԻՆԱՆՍԱԿԱՆ ԱԿՏԻՎՆԵՐԻ ՁԵՌՔԲԵՐՈՒՄ, այդ թվում` | E19: =+E20 -> -4500000
D20: Ներքին վարկեր և փոխատվություններ | E20: -4500000

Sheet h6
F1: Հավելված N 6
F2: ՀՀ կառավարության 2023 թվականի
F3: ______________ ի ___Ն որոշման
A5: ՀԱՅԱՍՏԱՆԻ ՀԱՆՐԱՊԵՏՈՒԹՅԱՆ ԿԱՌԱՎԱՐՈՒԹՅԱՆ 2022 ԹՎԱԿԱՆԻ ԴԵԿՏԵՄԲԵՐԻ 29-Ի N 2111-Ն ՈՐՈՇՄԱՆ N 1 ՀԱՎԵԼՎԱԾԻ N 3 ԱՂՅՈՒՍԱԿՈՒՄ ԿԱՏԱՐՎՈՂ ՓՈՓՈԽՈՒԹՅՈՒՆՆԵՐԸ
F6: հազ. դրամ
A7: Ծրագրային դասիչ | C7: Բյուջետային գլխավոր կարգադրիչների, ծրագրերի և միջոցառումների անվանումները | D7: ='h4'!E7 -> Ցուցանիշների փոփոխությունը (նվազեցումները նշված են փակագծերում)
D8: Տարի
D9: Ընդամենը | E9: այդ թվում
A10: Ծրագիր | B10: Միջոցառում | E10: Վարկային միջոցներ | F10: Համաֆինանսավորում
C11: ԸՆԴԱՄԵՆԸ | D11: =D13 -> -20446425 | E11: =E13 -> -17542851 | F11: =F13 -> -2903574.1
C12: այդ թվում՝
C13: ՀՀ ՏԱՐԱԾՔԱՅԻՆ ԿԱՌԱՎԱՐՄԱՆ ԵՎ ԵՆԹԱԿԱՌՈՒՑՎԱԾՔՆԵՐԻ ՆԱԽԱՐԱՐՈՒԹՅՈՒՆ | D13: =E13+F13 -> -20446425 | E13: =E14+E24+E34+E59 -> -17542851 | F13: =F14+F24+F34+F59 -> -2903574.1
A14: 1040 | C14: Կոշտ թափոնների կառավարում | D14: =E14+F14 -> -1074000 | E14: =E16 -> -806000 | F14: =F16 -> -268000
C15: այդ թվում`
B16: 42001 | C16: Վերակառուցման և զարգացման եվրոպական բանկի աջակցությամբ իրականացվող Կոտայքի և Գեղարքունիքի մարզերի կոշտ թափոնների կառավարման ծրագրի շրջանակներում ենթավարկի տրամադրում «Կոտայքի և Գեղարքունիքի Կոշտ կենցաղային թափոնների կառավարում» ՍՊԸ-ին | D16: =D18 -> -1074000 | E16: =E18 -> -806000 | F16: =F18 -> -268000
C17: այդ թվում՝ ըստ կատարողների
C18: ՀՀ տարածքային կառավարման և ենթակառուցվածքների նախարարություն | D18: =F18+E18 -> -1074000 | E18: =E20 -> -806000 | F18: =F20 -> -268000
C19: այդ թվում՝ ըստ տնտեսագիտական դասակարգման հոդվածների՝
C20: ՀԻՄՆԱԿԱՆ ԳՈՒՄԱՐԻ ՄԱՐՄԱՆ ԵՎ ՖԻՆԱՆՍԱԿԱՆ ԱԿՏԻՎՆԵՐԻ ՁԵՌՔԲԵՐՄԱՆ ԳԾՈՎ ԾԱԽՍԵՐ, այդ թվում` | D20: =E20+F20 -> -1074000 | E20: =E21 -> -806000 | F20: =F21 -> -268000
C21: ՖԻՆԱՆՍԱԿԱՆ ԱԿՏԻՎՆԵՐԻ ՁԵՌՔԲԵՐՈՒՄ, այդ թվում | D21: =D22 -> -1074000 | E21: =E22 -> -806000 | F21: =F22 -> -268000
C22: ՆԵՐՔԻՆ ՖԻՆԱՆՍԱԿԱՆ ԱԿՏԻՎՆԵՐԻ ՁԵՌՔԲԵՐՈՒՄ, այդ թվում` | D22: =D23 -> -1074000 | E22: =E23 -> -806000 | F22: =F23 -> -268000
C23: Ներքին վարկեր և փոխատվություններ | D23: =E23+F23 -> -1074000 | E23: -806000 | F23: -268000
A24: 1157 | C24: Քաղաքային զարգացում | D24: =E24+F24 -> -2218233.2 | E24: =E26 -> 412959.4 | F24: =F26 -> -2631192.6
C25: այդ թվում`
B26: 42004 | C26: Վերակառուցման և զարգացման եվրոպական բանկի աջակցությամբ իրականացվող Երևան քաղաքի հանրային տրանսպորտի նոր երթուղային ցանցի շարժակազմերի ներդրման ֆինանսական աջակցության ծրագրի շրջանակներում ենթավարկի տրամադրում | D26: =D28 -> -2218233.2 | E26: =E28 -> 412959.4 | F26: =F28 -> -2631192.6
C27: այդ թվում՝ ըստ կատարողների
C28: ՀՀ տարածքային կառավարման և ենթակառուցվածքների նախարարություն | D28: =F28+E28 -> -2218233.2 | E28: =E30 -> 412959.4 | F28: =F30 -> -2631192.6
C29: այդ թվում՝ ըստ տնտեսագիտական դասակարգման հոդվածների՝
C30: ՀԻՄՆԱԿԱՆ ԳՈՒՄԱՐԻ ՄԱՐՄԱՆ ԵՎ ՖԻՆԱՆՍԱԿԱՆ ԱԿՏԻՎՆԵՐԻ ՁԵՌՔԲԵՐՄԱՆ ԳԾՈՎ ԾԱԽՍԵՐ, այդ թվում` | D30: =E30+F30 -> -2218233.2 | E30: =E31 -> 412959.4 | F30: =F31 -> -2631192.6
C31: ՖԻՆԱՆՍԱԿԱՆ ԱԿՏԻՎՆԵՐԻ ՁԵՌՔԲԵՐՈՒՄ, այդ թվում | D31: =D32 -> -2218233.2 | E31: =E32 -> 412959.4 | F31: =F32 -> -2631192.6
C32: ՆԵՐՔԻՆ ՖԻՆԱՆՍԱԿԱՆ ԱԿՏԻՎՆԵՐԻ ՁԵՌՔԲԵՐՈՒՄ, այդ թվում` | D32: =D33 -> -2218233.2 | E32: =E33 -> 412959.4 | F32: =F33 -> -2631192.6
C33: Ներքին վարկեր և փոխատվություններ | D33: =E33+F33 -> -2218233.2 | E33: 412959.4 | F33: -2631192.6
A34: 1167 | C34: Էլեկտրաէներգետիկ համակարգի զարգացման ծրագիր | D34: =D35+D51+D43 -> -15191292 | E34: =E35+E51+E43 -> -15186910 | F34: =F35+F51+F43 -> -4381.5
B35: 42003 | C35: Վերակառուցման և զարգացման միջազգային բանկի աջակցությամբ իրականացվող էլեկտրամատակարարման հուսալիության ծրագրի լրացուցիչ ֆինանսավորման ծրագրի շրջանակներում ենթավարկի տրամադրում «Բարձրավոլտ էլեկտրացանցեր» ՓԲԸ-ին | D35: =E35+F35 -> -199000 | E35: =+E37 -> -193000 | F35: =+F37 -> -6000
C36: այդ թվում՝ ըստ կատարողների
C37: ՀՀ տարածքային կառավարման և ենթակառուցվածքների նախարարություն | D37: =E37+F37 -> -199000 | E37: =E39 -> -193000 | F37: =F39 -> -6000
C38: այդ թվում՝ ըստ տնտեսագիտական դասակարգման հոդվածների՝
C39: ՀԻՄՆԱԿԱՆ ԳՈՒՄԱՐԻ ՄԱՐՄԱՆ ԵՎ ՖԻՆԱՆՍԱԿԱՆ ԱԿՏԻՎՆԵՐԻ ՁԵՌՔԲԵՐՄԱՆ ԳԾՈՎ ԾԱԽՍԵՐ, այդ թվում` | D39: =E39+F39 -> -199000 | E39: =E40 -> -193000 | F39: =F40 -> -6000
C40: ՖԻՆԱՆՍԱԿԱՆ ԱԿՏԻՎՆԵՐԻ ՁԵՌՔԲԵՐՈՒՄ, այդ թվում | D40: =E40+F40 -> -199000 | E40: =E41 -> -193000 | F40: =F41 -> -6000
C41: ՆԵՐՔԻՆ ՖԻՆԱՆՍԱԿԱՆ ԱԿՏԻՎՆԵՐԻ ՁԵՌՔԲԵՐՈՒՄ, այդ թվում` | D41: =E41+F41 -> -199000 | E41: =E42 -> -193000 | F41: =F42 -> -6000
C42: Ներքին վարկեր և փոխատվություններ | D42: =E42+F42 -> -199000 | E42: -193000 | F42: -6000
B43: 42005 | C43: Վերակառուցման և զարգացման միջազգային բանկի աջակցությամբ իրականացվող «Աշնակ»_x000D_ և «Արարատ 2» ենթակայանների վերակառուցման ծրագրի շրջանակներում ենթավարկի տրամադրում «Բարձրավոլտ էլեկտրացանցեր» ՓԲԸ- ին | D43: =E43+F43 -> 164000 | E43: =E45 -> 145000 | F43: =F45 -> 19000
C44: այդ թվում՝ ըստ կատարողների
C45: ՀՀ տարածքային կառավարման և ենթակառուցվածքների նախարարություն | D45: =E45+F45 -> 164000 | E45: =E46 -> 145000 | F45: =F46 -> 19000
C46: այդ թվում՝ ըստ տնտեսագիտական դասակարգման հոդվածների՝ | D46: =E46+F46 -> 164000 | E46: =E47 -> 145000 | F46: =F47 -> 19000
C47: ՀԻՄՆԱԿԱՆ ԳՈՒՄԱՐԻ ՄԱՐՄԱՆ ԵՎ ՖԻՆԱՆՍԱԿԱՆ ԱԿՏԻՎՆԵՐԻ ՁԵՌՔԲԵՐՄԱՆ ԳԾՈՎ ԾԱԽՍԵՐ, այդ թվում` | D47: =E47+F47 -> 164000 | E47: =E48 -> 145000 | F47: =F48 -> 19000
C48: ՖԻՆԱՆՍԱԿԱՆ ԱԿՏԻՎՆԵՐԻ ՁԵՌՔԲԵՐՈՒՄ, այդ թվում | D48: =E48+F48 -> 164000 | E48: =E49 -> 145000 | F48: =F49 -> 19000
C49: ՆԵՐՔԻՆ ՖԻՆԱՆՍԱԿԱՆ ԱԿՏԻՎՆԵՐԻ ՁԵՌՔԲԵՐՈՒՄ, այդ թվում` | D49: =E49+F49 -> 164000 | E49: =E50 -> 145000 | F49: =F50 -> 19000
C50: Ներքին վարկեր և փոխատվություններ | D50: =E50+F50 -> 164000 | E50: 145000 | F50: 19000
B51: 42008 | C51: Գերմանիայի զարգացման վարկերի բանկի (KFW) աջակցությամբ իրականացվող «Կովկասյան էլեկտրահաղորդման ցանց I» Հայաստան-Վրաստան հաղորդիչ գիծ/ենթակայանների վարկային ծրագրի շրջանակներում ենթավարկի տրամադրում «Բարձրավոլտ էլեկտրացանցեր» ՓԲԸ- ին | D51: =E51+F51 -> -15156292 | E51: =E53 -> -15138910 | F51: =F53 -> -17381.5
C52: այդ թվում՝ ըստ կատարողների
C53: ՀՀ տարածքային կառավարման և ենթակառուցվածքների նախարարություն | D53: =E53+F53 -> -15156292 | E53: =E55 -> -15138910 | F53: =F55 -> -17381.5
C54: այդ թվում՝ ըստ տնտեսագիտական դասակարգման հոդվածների՝
C55: ՀԻՄՆԱԿԱՆ ԳՈՒՄԱՐԻ ՄԱՐՄԱՆ ԵՎ ՖԻՆԱՆՍԱԿԱՆ ԱԿՏԻՎՆԵՐԻ ՁԵՌՔԲԵՐՄԱՆ ԳԾՈՎ ԾԱԽՍԵՐ, այդ թվում` | D55: =E55+F55 -> -15156292 | E55: =E56 -> -15138910 | F55: =F56 -> -17381.5
C56: ՖԻՆԱՆՍԱԿԱՆ ԱԿՏԻՎՆԵՐԻ ՁԵՌՔԲԵՐՈՒՄ, այդ թվում | D56: =E56+F56 -> -15156292 | E56: =E57 -> -15138910 | F56: =F57 -> -17381.5
C57: ՆԵՐՔԻՆ ՖԻՆԱՆՍԱԿԱՆ ԱԿՏԻՎՆԵՐԻ ՁԵՌՔԲԵՐՈՒՄ, այդ թվում` | D57: =E57+F57 -> -15156292 | E57: =E58 -> -15138910 | F57: =F58 -> -17381.5
C58: Ներքին վարկեր և փոխատվություններ | D58: =E58+F58 -> -15156292 | E58: -15138910 | F58: -17381.5
A59: 1232 | C59: Էներգաարդյունավետության ծրագիր | D59: =E59+F59 -> -1962900 | E59: =E61 -> -1962900 | F59: =F61 -> 0
C60: այդ թվում`
B61: 42001 | C61: Արևելյան Եվրոպայի էներգախնայողության և շրջակա միջավայրի գործընկերության տարածաշրջանային հիմնադրամի աջակցությամբ իրականացվող Երևանի էներգաարդյունավետության ծրագրի երկրորդ փուլի վարկային ծրագրի շրջանակներում ենթավարկի տրամադրում | D61: =D63 -> -1962900 | E61: =E63 -> -1962900 | F61: =F63 -> 0
C62: այդ թվում՝ ըստ կատարողների
C63: ՀՀ տարածքային կառավարման և ենթակառուցվածքների նախարարություն | D63: =F63+E63 -> -1962900 | E63: =E65 -> -1962900 | F63: =F65 -> 0
C64: այդ թվում՝ ըստ տնտեսագիտական դասակարգման հոդվածների՝
C65: ՀԻՄՆԱԿԱՆ ԳՈՒՄԱՐԻ ՄԱՐՄԱՆ ԵՎ ՖԻՆԱՆՍԱԿԱՆ ԱԿՏԻՎՆԵՐԻ ՁԵՌՔԲԵՐՄԱՆ ԳԾՈՎ ԾԱԽՍԵՐ, այդ թվում` | D65: =E65+F65 -> -1962900 | E65: =E66 -> -1962900 | F65: =F66 -> 0
C66: ՖԻՆԱՆՍԱԿԱՆ ԱԿՏԻՎՆԵՐԻ ՁԵՌՔԲԵՐՈՒՄ, այդ թվում | D66: =D67 -> -1962900 | E66: =E67 -> -1962900 | F66: =F67 -> 0
C67: ՆԵՐՔԻՆ ՖԻՆԱՆՍԱԿԱՆ ԱԿՏԻՎՆԵՐԻ ՁԵՌՔԲԵՐՈՒՄ, այդ թվում` | D67: =D68 -> -1962900 | E67: =E68 -> -1962900 | F67: =F68 -> 0
C68: Ներքին վարկեր և փոխատվություններ | D68: =E68+F68 -> -1962900 | E68: -1962900 | F68: 0

Sheet h7
D1: Հավելված N 7
D2: ՀՀ կառավարության 2023 թվականի
D3: ______________ ի ___Ն որոշման
A4: ՀԱՅԱՍՏԱՆԻ ՀԱՆՐԱՊԵՏՈՒԹՅԱՆ ԿԱՌԱՎԱՐՈՒԹՅԱՆ 2022 ԹՎԱԿԱՆԻ ԴԵԿՏԵՄԲԵՐԻ 29-Ի N 2111-Ն ՈՐՈՇՄԱՆ N 1 ՀԱՎԵԼՎԱԾԻ N 5 ԱՂՅՈՒՍԱԿՈՒՄ ԿԱՏԱՐՎՈՂ ՓՈՓՈԽՈՒԹՅՈՒՆՆԵՐԸ
A6: Ծրագրի դասիչը | B6: Ծրագրի անվանումը
A7: 1040 | B7: Կոշտ թափոնների կառավարում
A9: Ծրագրի միջոցառումները
A10: Ծրագրի դասիչը՝ | B10: 1040 | C10: Ցուցանիշների փոփոխությունը (նվազեցումները նշված են փակագծերում)
A11: Միջոցառման դասիչը՝ | B11: 42001 | C11: Տարի
A12: Միջոցառման անվանումը՝ | B12: Վերակառուցման և զարգացման եվրոպական բանկի աջակցությամբ իրականացվող «Կոտայքի և Գեղարքունիքի մարզերի կոշտ թափոնների կառավարման» ծրագիր
A13: Նկարագրությունը՝ | B13: Կոշտ թափոննրի կառավարման համակարգի բարելավում և նոր աղբավայրի ստեղծում
A14: Միջոցառման տեսակը՝ | B14: Վարկերի տրամադրում
A15: Միջոցառումն իրականացնողի անվանումը՝ | B15: Մասնագիտացված միավոր
B16: Արդյունքի չափորոշիչներ
A17: Միջոցառման վրա կատարվող ծախսը (հազար դրամ) | C17: ='h6'!D16 -> -1074000
A19: Ծրագրի դասիչը | B19: Ծրագրի անվանումը
A20: 1157 | B20: Քաղաքային զարգացում
A22: Ծրագրի միջոցառումները
A23: Ծրագրի դասիչը՝ | B23: 1157 | C23: Ցուցանիշների փոփոխությունը (նվազեցումները նշված են փակագծերում)
A24: Միջոցառման դասիչը՝ | B24: 42004 | C24: Տարի
A25: Միջոցառման անվանումը՝ | B25: Վերակառուցման և զարգացման եվրոպական բանկի աջակցությամբ իրականացվող Երևան քաղաքի հանրային տրանսպորտի նոր երթուղային ցանցի շարժակազմերի ներդրման ֆինանսական աջակցության ծրագրի շրջանակներում ենթավարկի տրամադրում
A26: Նկարագրությունը՝ | B26: Երևան քաղաքի տրանսպորտի և երթևեկության բարելավման համար տրամադրվող աջակցություն
A27: Միջոցառման տեսակը՝ | B27: Վարկերի տրամադրում
A28: Միջոցառումն իրականացնողի անվանումը՝ | B28: Մասնագիտացված միավոր
B29: Արդյունքի չափորոշիչներ
A30: Միջոցառման վրա կատարվող ծախսը (հազար դրամ) | C30: ='h6'!D24 -> -2218233.2
A32: Ծրագրի դասիչը | B32: Ծրագրի անվանումը
A33: 1167 | B33: Էլեկտրաէներգետիկ համակարգի զարգացման ծրագիր
A35: Ծրագրի միջոցառումները
A36: Ծրագրի դասիչը՝ | B36: 1167 | C36: =C56 -> Ցուցանիշների փոփոխությունը (նվազեցումները նշված են փակագծերում)
A37: Միջոցառման դասիչը՝ | B37: 42003 | C37: Տարի
A38: Միջոցառման անվանումը՝ | B38: Վերակառուցման և զարգացման միջազգային բանկի աջակցությամբ իրականացվող էլեկտրամատակարարման հուսալիության ծրագրի լրացուցիչ ֆինանսավորման ծրագրի շրջանակներում ենթավարկի տրամադրում «Բարձրավոլտ էլեկտրացանցեր» ՓԲԸ-ին
A39: Նկարագրությունը՝ | B39: Էլեկտրամատակարարման հուսալիության ծրագրի լրացուցիչ ֆինանսավորման ծրագրի շրջանակներում նախատեսվում է փոխարինել 30 և ավելի տարիներ շահագործման մեջ գտնվող «Հաղթանակ» 220 կՎ, «Չարենցավան-3», «Վանաձոր-1» 110 կՎ ենթակայանների և 40 և ավելի և տարիներ շահագործման մեջ գտվող «Զովունի» 220 կՎ ենթակայանի ֆիզիկապես և բարոյապես մաշված սարքավորումները
A40: Միջոցառման տեսակը՝ | B40: Վարկերի տրամադրում
A41: Միջոցառումն իրականացնողի անվանումը՝ | B41: Մասնագիտացված միավոր
A42: Արդյունքի չափորոշիչներ
A43: Քանակական | B43: Վերակառուցվող ենթակայանների քանակ, հատ | C43: -1
A44: Միջոցառման վրա կատարվող ծախսը (հազար դրամ) | C44: ='h6'!D35 -> -199000
A46: Ծրագրի դասիչը՝ | B46: 1167 | C46: =C36 -> Ցուցանիշների փոփոխությունը (նվազեցումները նշված են փակագծերում)
A47: Միջոցառման դասիչը՝ | B47: 42005
A48: Միջոցառման անվանումը՝ | B48: Վերակառուցման և զարգացման միջազգային բանկի աջակցությամբ իրականացվող «Աշնակ» և «Արարատ-2» ենթակայանների վերակառուցման ծրագրի շրջանակներում ենթավարկի տրամադրում «Բարձրավոլտ էլեկտրացանցեր» ՓԲԸ- ին
A49: Նկարագրությունը՝ | B49: Էլեկտրահաղորդման ցանցի բարելավման ծրագրի շրջանակներում նախատեսվում է վերակառուցել 30 և ավելի տարիներ շահագործման մեջ գտնվող 220 կՎ «Աշնակ» ենթակայանը և 40 և ավելի տարիներ շահագործման մեջ գտնվող 220 կՎ «Արարատ-2» ենթակայանը
A50: Միջոցառման տեսակը՝ | B50: Վարկերի տրամադրում
A51: Միջոցառումն իրականացնողի անվանումը՝ | B51: «Բարձրավոլտ էլեկտրացանցեր» ՓԲԸ
A52: Արդյունքի չափորոշիչներ
A53: Միջոցառման վրա կատարվող ծախսը (հազար դրամ) | C53: ='h6'!D43 -> 164000
A56: Ծրագրի դասիչը՝ | B56: 1167 | C56: Ցուցանիշների փոփոխությունը (նվազեցումները նշված են փակագծերում)
A57: Միջոցառման դասիչը՝ | B57: 42008 | C57: Տարի
A58: Միջոցառման անվանումը՝ | B58: Գերմանիայի զարգացման վարկերի բանկի (KFW) աջակցությամբ իրականացվող «Կովկասյան էլեկտրահաղորդման ցանց I» Հայաստան-Վրաստան հաղորդիչ գիծ/ենթակայանների վարկային ծրագրի շրջանակներում ենթավարկի տրամադրում «Բարձրավոլտ էլեկտրացանցեր» ՓԲԸ-ին
A59: Նկարագրությունը՝ | B59: Հայաստան-Վրաստան 400 կՎ լարման էլեկտրահաղորդման օդային գծի և համապատասխան ենթակայանների կառուցում
A60: Միջոցառման տեսակը՝ | B60: Վարկերի տրամադրում
A61: Միջոցառումն իրականացնողի անվանումը՝ | B61: «Բարձրավոլտ էլեկտրացանցեր» ՓԲԸ
B62: Արդյունքի չափորոշիչներ
A63: Քանակական | B63: Տրամադրվող ենթավարկերի քանակ, հատ | C63: -3
A64: Միջոցառման վրա կատարվող ծախսը (հազար դրամ) | C64: ='h6'!D51 -> -15156292
A67: Ծրագրի դասիչը՝ | B67: 1167 | C67: =C56 -> Ցուցանիշների փոփոխությունը (նվազեցումները նշված են փակագծերում)
A68: Միջոցառման դասիչը՝ | B68: 42009 | C68: Տարի
A69: Միջոցառման անվանումը՝ | B69: «Հայկական ատոմային էլեկտրակայան» ՓԲԸ-ին տրամադրվող բյուջետային վարկ
A70: Նկարագրությունը՝ | B70: Բյուջետային վարկի տրամադրում
A71: Միջոցառման տեսակը՝ | B71: Վարկի տրամադրում
A72: Միջոցառումն իրականացնողի անվանումը՝ | B72: ՀՀ ֆինանսների նախարարություն
B73: Արդյունքի չափորոշիչներ
A74: Քանակական | B74: Տրամադրվող ենթավարկերի քանակ, հատ | C74: -1
A75: Միջոցառման վրա կատարվող ծախսը (հազար դրամ) | C75: =h5.!E13 -> -4500000
A78: Ծրագրի դասիչը | B78: Ծրագրի անվանումը
A79: 1232 | B79: Էներգաարդյունավետության ծրագիր
A80: Ծրագրի միջոցառումները
A82: Ծրագրի դասիչը՝ | B82: 1232 | C82: =C36 -> Ցուցանիշների փոփոխությունը (նվազեցումները նշված են փակագծերում)
A83: Միջոցառման դասիչը՝ | B83: 42001 | C83: Տարի
A84: Միջոցառման անվանումը՝ | B84: Արևելյան Եվրոպայի էներգախնայողության և շրջակա միջավայրի գործընկերության տարածաշրջանային հիմնադրամի աջակցությամբ իրականացվող Երևանի էներգաարդյունավետության ծրագրի երկրորդ փուլի վարկային ծրագրի շրջանակներում ենթավարկի տրամադրում
A85: Նկարագրությունը՝ | B85: Էներգաարդյունավետության և էներգախնայողությանն ուղղված միջոցառումների իրականացում սեյսմիկ նշանակության հանրային շենքերում
A86: Միջոցառման տեսակը՝ | B86: Վարկերի տրամադրում
A87: Միջոցառումն իրականացնողի անվանումը՝ | B87: Մասնագիտացված միավոր
B88: Արդյունքի չափորոշիչներ
A89: Քանակական | B89: Մանկապարտեզների և պոլիկլինիկաների շինարարական աշխատանքներ, (կանխավճար) տոկոս | C89: -20
A90: Միջոցառման վրա կատարվող ծախսը (հազար դրամ) | C90: -1962900
A94: ՀԱՅԱՍՏԱՆԻ ՀԱՆՐԱՊԵՏՈՒԹՅԱՆ ՎԱՐՉԱՊԵՏԻ ԱՇԽԱՏԱԿԱԶՄԻ
B95: ՂԵԿԱՎԱՐ | C95: Ա.ՀԱՐՈՒԹՅՈՒՆՅԱՆ

Sheet h8
F1: Հավելված N8
F2: ՀՀ կառավարության 2023 թվականի
F3: ______________ ի ___Ն որոշման
C5: «ՀԱՅԱUՏԱՆԻ ՀԱՆՐԱՊԵՏՈՒԹՅԱՆ 2023 ԹՎԱԿԱՆԻ ՊԵՏԱԿԱՆ ԲՅՈՒՋԵԻ ՄԱUԻՆ» OՐԵՆՔԻ N 1 ՀԱՎԵԼՎԱԾԻ N 2 ԱՂՅՈՒՍԱԿՈՒՄ ԿԱՏԱՐՎՈՂ ՎԵՐԱԲԱՇԽՈՒՄԸ ԵՎ ՀԱՅԱՍՏԱՆԻ ՀԱՆՐԱՊԵՏՈՒԹՅԱՆ ԿԱՌԱՎԱՐՈՒԹՅԱՆ 2022 ԹՎԱԿԱՆԻ ԴԵԿՏԵՄԲԵՐԻ 29-Ի N 2111-Ն ՈՐՈՇՄԱՆ N 5 ՀԱՎԵԼՎԱԾԻ N 1 ԱՂՅՈՒՍԱԿՈՒՄ ԿԱՏԱՐՎՈՂ ՓՈՓՈԽՈՒԹՅՈՒՆՆԵՐԸ ԵՎ ԼՐԱՑՈՒՄՆԵՐԸ
F6: հազ. դրամ
C7: Ծրագրային դասիչը | E7: Բյուջետային հատկացումների գլխավոր կարգադրիչների, ծրագրերի և միջոցառումների անվանումները | F7: Ցուցանիշների փոփոխությունը (ավելացումները նշված են դրական նշանով, իսկ նվազեցումները` փակագծերում)
C8: Ծրագիր | D8: Միջոցառում | F8: Տարի
C9: 1192 | E9: ԸՆԴԱՄԵՆԸ | F9: =F11+F398 -> -14557465 | G9: =+F9-'h9'!H10 -> 0
E10: այդ թվում
E11: ՀՀ տարածքային կառավարման և ենթակառուցվածքների նախարարություն | F11: =F12+F121+F140+F165+F268+F323+F354+F373+F385 -> -15567657
C12: 1004 | E12: Ծրագրի անվանումը` | F12: =F19+F25+F31+F37+F43+F49+F55+F61+F67+F73+F79+F85+F91+F97+F103+F109+F115 -> -8030791.9
E13: Ոռոգման համակարգի առողջացում
E14: Ծրագրի նպատակը`
E15: Ոռոգման ծառայությունների հասանելիության և մատչելիության ապահովում
E16: Վերջնական արդյունքի նկարագրությունը`
E17: Ոռոգման ջրի մատակարարման արդյունավետության և հասանելիության բարելավում, կորուստների կրճատում
E18: Ծրագրի միջոցառումներ
D19: 11005 | E19: Միջոցառման անվանումը` | F19: =h11v!E19 -> -162175.6
E20: Եվրասիական զարգացման բանկի աջակցությամբ իրականացվող ոռոգման համակարգերի զարգացման ծրագրի խորհրդատվություն և կառավարում
E21: Միջոցառման նկարագրությունը`
E22: Եվրասիական զարգացման բանկի աջակցությամբ իրականացվող ոռոգման համակարգերի զարգացման ծրագրի համակարգում և ղեկավարում
E23: Միջոցառման տեսակը
E24: Ծառայությունների մատուցում
D25: 11007 | E25: Միջոցառման անվանումը` | F25: =h11v!E30 -> -172032.7
E26: Գերմանիայի զարգացման վարկերի բանկի աջակցությամբ իրականացվող Ախուրյան գետի ջրային ռեսուրսների ինտեգրացված կառավարում ծրագրի խորհրդատվություն և կառավարում
E27: Միջոցառման նկարագրությունը`
E28: Գերմանիայի զարգացման վարկերի բանկի աջակցությամբ իրականացվող Ախուրյան գետի ջրային ռեսուրսների ինտեգրացված կառավարում ծրագրի համակարգում և ղեկավարում
E29: Միջոցառման տեսակը
E30: Ծառայությունների մատուցում
D31: 11009 | E31: Միջոցառման անվանումը` | F31: =h12.d!H18 -> -9397.3
E32: Գերմանիայի զարգացման վարկերի բանկի աջակցությամբ իրականացվող Ախուրյան գետի ջրային ռեսուրսների ինտեգրացված կառավարման դրամաշնորհային ծրագիր
E33: Միջոցառման նկարագրությունը`
E34: Գերմանիայի զարգացման վարկերի բանկի աջակցությամբ իրականացվող Ախուրյան գետի ջրային ռեսուրսների ինտեգրացված կառավարման դրամաշնորհային ծրագրի համակարգում և ղեկավարում
E35: Միջոցառման տեսակը
E36: Ծառայությունների մատուցում
D37: 11010 | E37: Միջոցառման անվանումը` | F37: =h11v!E41 -> -152125
E38: Գերմանիայի զարգացման վարկերի բանկի աջակցությամբ իրականացվող Ախուրյան գետի ջրային ռեսուրսների ինտեգրացված կառավարում փուլ 1 ծրագրով Ջրաձոր գյուղի վերաբնակեցման գործողությունների խորհրդատվություն և կառավարում
E39: Միջոցառման նկարագրությունը`
E40: Գերմանիայի զարգացման վարկերի բանկի աջակցությամբ իրականացվող Ախուրյան գետի ջրային ռեսուրսների ինտեգրացված կառավարում փուլ 1 ծրագրով Ջրաձոր գյուղի վերաբնակեցման գործողությունների համակարգում և ղեկավարում
E41: Միջոցառման տեսակը
E42: Ծառայությունների մատուցում
D43: 11011 | E43: Միջոցառման անվանումը` | F43: =h12.d!H26 -> -44494
E44: Զարգացման ֆրանսիական գործակալության աջակցությամբ իրականացվող ոռոգման ոլորտի ֆինանսական կայունության և ոռոգման կառավարման կարողությունների բարելավման դրամաշնորհային ծրագրի խորհրդատվություն և կառավարում
E45: Միջոցառման նկարագրությունը`
E46: Զարգացման ֆրանսիական գործակալության աջակցությամբ իրականացվող ոռոգման ոլորտի ֆինանսական կայունության և ոռոգման կառավարման կարողությունն»րի բար»լավման ծրագրի համակարգում և ղ»կավարում
E47: Միջոցառման տեսակը
E48: Ծառայությունների մատուցում
D49: 11013 | E49: Միջոցառման անվանումը` | F49: ='h9'!H174 -> -28870
E50: Փոքր և միջին ջրամբարների կառուցման խորհրդատվություն և կառավարում
E51: Միջոցառման նկարագրությունը`
E52: Փոքր և միջին ջրամբարների տեխնիկատնտեսական հիմնավորման ուսումնասիրությունների, նախագծման և կառուցման խորհրդատվություն և կառավարում
E53: Միջոցառման տեսակը
E54: Ծառայությունների մատուցում
D55: 12002 | E55: Միջոցառման անվանումը` | F55: =h11v!E56 -> -548165.1
E56: Գերմանիայի զարգացման բանկի աջակցությամբ իրականացվող Ախուրյան գետի ջրային ռեսուրսների ինտեգրված կառավարման փուլ 1 ծրագրով Ջրաձոր գյուղի վերաբնակեցման համար ենթակառուցվածքների և բնակելի տների կառուցում
E57: Միջոցառման նկարագրությունը`
E58: Գերմանիայի զարգացման բանկի աջակցությամբ իրականացվող Ախուրյան գետի ջրային ռեսուրսների ինտեգրված կառավարման փուլ 1 ծրագիր
E59: Միջոցառման տեսակը
E60: Տրանսֆերտների տրամադրում
D61: 31001 | E61: Միջոցառման անվանումը` | F61: =h11v!E67 -> -2522421.9
E62: Ֆրանսիայի Հանրապետության կառավարության աջակցությամբ իրականացվող Վեդու ջրամբարի և ոռոգման համակարգի կառուցում
E63: Միջոցառման նկարագրությունը`
E64: Ֆրանսիայի Հանրապետության կառավարության աջակցությամբ իրականացվող Վեդու ջրամբարի և ոռոգման համակարգի կառուցման ծրագիր
E65: Միջոցառման տեսակը
E66: Պետական մարմինների կողմից օգտագործվող ոչ ֆինանսական ակտիվների հետ գործառնություններ
D67: 31004 | E67: Միջոցառման անվանումը` | F67: =h11v!E76 -> -2714566.2
E68: Գերմանիայի զարգացման վարկերի բանկի աջակցությամբ իրականացվող Ախուրյան գետի ջրային ռեսուրսների ինտեգրված կառավարման ծրագրի շրջանակներում ջրային տնտեսության ենթակառուցվածքների հիմնանորոգում
E69: Միջոցառման նկարագրությունը`
E70: Գերմանիայի զարգացման վարկերի բանկի աջակցությամբ իրականացվող Ախուրյան գետի ջրային ռեսուրսների ինտեգրված կառավարման ծրագիր
E71: Միջոցառման տեսակը
E72: Պետական մարմինների կողմից օգտագործվող ոչ ֆինանսական ակտիվների հետ գործառնություններ
D73: 31005 | E73: Միջոցառման անվանումը` | F73: =h11v!E85 -> -454900
E74: Եվրասիական զարգացման բանկի աջակցությամբ իրականացվող ոռոգման համակարգերի զարգացման ծրագրի շրջանակներում ջրային տնտեսության ենթակառուցվածքների հիմնանորոգում
E75: Միջոցառման նկարագրությունը`
E76: Եվրասիական զարգացման բանկի աջակցությամբ իրականացվող ոռոգման համակարգերի զարգացման ծրագիր
E77: Միջոցառման տեսակը
E78: Պետական մարմինների կողմից օգտագործվող ոչ ֆինանսական ակտիվների հետ գործառնություններ
D79: 31009 | E79: Միջոցառման անվանումը` | F79: ='h9'!H223 -> -266809.6
E80: Օրվա կարգավորման ջրավազանների կառուցում և վերակառուցում
E81: Միջոցառման նկարագրությունը`
E82: Օրվա կարգավորման ջրավազանների կառուցման և վերակառուցման համար նախագծերի և աշխատանքների ձեռք բերում
E83: Միջոցառման տեսակը
E84: Պետական մարմինների կողմից օգտագործվող ոչ ֆինանսական ակտիվների հետ գործառնություններ
D85: 31011 | E85: Միջոցառման անվանումը` | F85: ='h9'!H232 -> -206427.9
E86: Խորքային հորերի վերականգնում
E87: Միջոցառման նկարագրությունը`
E88: Խորքային հորերի վերականգնման համար նախագծերի և աշխատանքների ձեռքբերում
E89: Միջոցառման տեսակը
E90: Պետական մարմինների կողմից օգտագործվող ոչ ֆինանսական ակտիվների հետ գործառնություններ
D91: 31012 | E91: Միջոցառման անվանումը` | F91: ='h9'!H241 -> -180651.8
E92: Գետերի և հեղեղատարների տեղամասերի ամրացման և մաքրման աշխատանքներ
E93: Միջոցառման նկարագրությունը`
E94: Գետերի և հեղեղատարների տեղամասերի ամրացման և մաքրման համար նախագծերի և աշխատանքների ձեռքբերում
E95: Միջոցառման տեսակը
E96: Պետական մարմինների կողմից օգտագործվող ոչ ֆինանսական ակտիվների հետ գործառնություններ
D97: 31013 | E97: Միջոցառման անվանումը` | F97: ='h9'!H250 -> -374025
E98: Փոքր և միջին ջրամբարների կառուցում
E99: Միջոցառման նկարագրությունը`
E100: Փոքր և միջին ջրամբարների կառուցման աշխատանքներ
E101: Միջոցառման տեսակը
...

Sheet 3-1
B1: Հավելված N3
B2: ՀՀ կառավարության 2022 թվականի
B3: ______________ ի ___Ն որոշման
B5: ՀԱՅԱՍՏԱՆԻ ՀԱՆՐԱՊԵՏՈՒԹՅԱՆ ԿԱՌԱՎԱՐՈՒԹՅԱՆ 2021 ԹՎԱԿԱՆԻ ԴԵԿՏԵՄԲԵՐԻ 23-Ի N 2121-Ն ՈՐՈՇՄԱՆ N 3 ԵՎ N 4 ՀԱՎԵԼՎԱԾՆԵՐՈՒՄ ԿԱՏԱՐՎՈՂ ՓՈՓՈԽՈՒԹՅՈՒՆՆԵՐԸ ԵՎ ԼՐԱՑՈՒՄՆԵՐԸ
H7: հազ. դրամ
B8: Գործառական դասիչը | E8: Ծրագրային դասիչը | G8: Բյուջետային ծախսերի գործառական դասակարգման բաժինների, խմբերի և դասերի, բյուջետային հատկացումների գլխավոր կարգադրիչների, ծրագրերի, միջոցառումների և միջոցառումները կատարող պետական մարմինների անվանումները | H8: Ցուցանիշների փոփոխությունը (ավելացումները նշված են դրական նշանով, իսկ նվազեցումները` փակագծերում)
B9: Բաժին | C9: Խումբ | D9: Դաս | E9: Ծրագիր | F9: Միջոցառում | H9: Ինն ամիս | I9: Տարի
G10: ԸՆԴԱՄԵՆԸ ԾԱԽՍԵՐ | H10: =+H12+H13 -> 14976.427 | I10: =+I12+I13 -> -363431.87
G11: այդ թվում`
B12: 04 | C12: 03 | D12: 05 | E12: 1167 | F12: 11006 | G12: Գերմանիայի զարգացման վարկերի բանկի (KFW)) աջակցությամբ իրականացվող «Կովկասյան էլեկտրահաղորդման ցանց I» Հայաստան-Վրաստան հաղորդիչ գիծ/ենթակայանների դրամաշնորհային ծրագիր | H12: 14976.427 | I12: -25089.77
B13: 04 | C13: 03 | D13: 05 | E13: 1167 | F13: 32006 | G13: Գերմանիայի զարգացման վարկերի բանկի (KFW) աջակցությամբ իրականացվող Կովկասյան էլեկտրահաղորդման ցանց I Հայաստան-Վրաստան հաղորդիչ գիծ/ենթակայանների դրամաշնորհային ծրագրի շրջանակներում իրականացվող ներդրումներ | H13: 0 | I13: -338342.1

Sheet h9
B1: Հավելված N 9
B2: ՀՀ կառավարության 2023 թվականի
B3: ______________ ի ___Ն որոշման
B5: ՀԱՅԱՍՏԱՆԻ ՀԱՆՐԱՊԵՏՈՒԹՅԱՆ ԿԱՌԱՎԱՐՈՒԹՅԱՆ 2022 ԹՎԱԿԱՆԻ ԴԵԿՏԵՄԲԵՐԻ 29-Ի N 2111-Ն ՈՐՈՇՄԱՆ N 3 ԵՎ N 4 ՀԱՎԵԼՎԱԾՆԵՐՈՒՄ ԿԱՏԱՐՎՈՂ ՓՈՓՈԽՈՒԹՅՈՒՆՆԵՐԸ ԵՎ ԼՐԱՑՈՒՄՆԵՐԸ
B8: Գործառական դասիչը | E8: Ծրագրային դասիչը | G8: Բյուջետային ծախսերի գործառական դասակարգման բաժինների, խմբերի և դասերի, բյուջետային հատկացումների գլխավոր կարգադրիչների, ծրագրերի, միջոցառումների և միջոցառումները կատարող պետական մարմինների անվանումները | H8: Ցուցանիշների փոփոխությունը (ավելացումները նշված են դրական նշանով, իսկ նվազեցումները` փակագծերում)
B9: Բաժին | C9: Խումբ | D9: Դաս | E9: Ծրագիր | F9: Միջոցառում | H9: Տարի
G10: ԸՆԴԱՄԵՆԸ ԾԱԽՍԵՐ | H10: =H12+H680 -> -14557465
G11: այդ թվում`
G12: ՀՀ ՏԱՐԱԾՔԱՅԻՆ ԿԱՌԱՎԱՐՄԱՆ ԵՎ ԵՆԹԱԿԱՌՈՒՑՎԱԾՔՆԵՐԻ ՆԱԽԱՐԱՐՈՒԹՅՈՒՆ | H12: =H96+H557+H593+H14 -> -15567657
G13: այդ թվում`
B14: 01 | G14: ԸՆԴՀԱՆՈՒՐ ԲՆՈՒՅԹԻ ՀԱՆՐԱՅԻՆ ԾԱՌԱՅՈՒԹՅՈՒՆՆԵՐ | H14: =H16 -> 5712833.3
G15: այդ թվում՝
C16: 08 | G16: Կառավարության տարբեր մակարդակների միջև իրականացվող ընդհանուր բնույթի տրանսֆերտներ | H16: =H18 -> 5712833.3
G17: այդ թվում՝
D18: 01 | G18: Կառավարության տարբեր մակարդակների միջև իրականացվող ընդհանուր բնույթի տրանսֆերտներ | H18: =H22 -> 5712833.3
G19: այդ թվում՝
G20: ՀՀ տարածքային կառավարման և ենթակառուցվածքների նախարարություն | H20: =H22 -> 5712833.3
G21: այդ թվում՝
E22: 1212 | G22: Տարածքային զարգացում | H22: =H24 -> 5712833.3
G23: այդ թվում`
F24: 12007 | G24: ՀՀ մարզերին սուբվենցիաների տրամադրում՛ ենթակառուցվածքների զարգացման նպատակով_x000D_ | H24: =H26+H33+H40+H47+H54+H61+H68+H75+H82+H89 -> 5712833.3
G25: այդ թվում` ըստ կատարողների
G26: ՀՀ Արագածոտնի մարզպետի աշխատակազմ | H26: =H27 -> 176956.2
G27: այդ թվում` բյուջետային ծախսերի տնտեսագիտական դասակարգման հոդվածներ | H27: =H28 -> 176956.2
G28: ԸՆԴԱՄԵՆԸ ԾԱԽՍԵՐ | H28: =H29 -> 176956.2
G29: ԸՆԹԱՑԻԿ ԾԱԽՍԵՐ | H29: =H30 -> 176956.2
G30: ԴՐԱՄԱՇՆՈՐՀՆԵՐ | H30: =H31 -> 176956.2
G31: Կապիտալ դրամաշնորհներ պետական հատվածի այլ մակարդակներին | H31: =H32 -> 176956.2
G32: - Կապիտալ սուբվենցիաներ համայնքներին | H32: ='h14'!E19 -> 176956.2
G33: ՀՀ Արարատի մարզպետի աշխատակազմ | H33: =H35 -> 888262.3
G34: այդ թվում` բյուջետային ծախսերի տնտեսագիտական դասակարգման հոդվածներ
G35: ԸՆԴԱՄԵՆԸ ԾԱԽՍԵՐ | H35: =H36 -> 888262.3
G36: ԸՆԹԱՑԻԿ ԾԱԽՍԵՐ | H36: =H37 -> 888262.3
G37: ԴՐԱՄԱՇՆՈՐՀՆԵՐ | H37: =H38 -> 888262.3
G38: Կապիտալ դրամաշնորհներ պետական հատվածի այլ մակարդակներին | H38: =H39 -> 888262.3
G39: - Կապիտալ սուբվենցիաներ համայնքներին | H39: ='h14'!E24 -> 888262.3
G40: ՀՀ Արմավիրի մարզպետի աշխատակազմ | H40: =H42 -> 903456.5
G41: այդ թվում` բյուջետային ծախսերի տնտեսագիտական դասակարգման հոդվածներ
G42: ԸՆԴԱՄԵՆԸ ԾԱԽՍԵՐ | H42: =H43 -> 903456.5
G43: ԸՆԹԱՑԻԿ ԾԱԽՍԵՐ | H43: =H44 -> 903456.5
G44: ԴՐԱՄԱՇՆՈՐՀՆԵՐ | H44: =H45 -> 903456.5
G45: Կապիտալ դրամաշնորհներ պետական հատվածի այլ մակարդակներին | H45: =H46 -> 903456.5
G46: - Կապիտալ սուբվենցիաներ համայնքներին | H46: ='h14'!E33 -> 903456.5
G47: ՀՀ Գեղարքունիքի մարզպետի աշխատակազմ | H47: =H49 -> 1249457.5
G48: այդ թվում` բյուջետային ծախսերի տնտեսագիտական դասակարգման հոդվածներ
G49: ԸՆԴԱՄԵՆԸ ԾԱԽՍԵՐ | H49: =H50 -> 1249457.5
G50: ԸՆԹԱՑԻԿ ԾԱԽՍԵՐ | H50: =H51 -> 1249457.5
G51: ԴՐԱՄԱՇՆՈՐՀՆԵՐ | H51: =H52 -> 1249457.5
G52: Կապիտալ դրամաշնորհներ պետական հատվածի այլ մակարդակներին | H52: =H53 -> 1249457.5
G53: - Կապիտալ սուբվենցիաներ համայնքներին | H53: ='h14'!E48 -> 1249457.5
G54: ՀՀ Լոռու մարզպետի աշխատակազմ | H54: =H56 -> 363094.4
G55: այդ թվում` բյուջետային ծախսերի տնտեսագիտական դասակարգման հոդվածներ
G56: ԸՆԴԱՄԵՆԸ ԾԱԽՍԵՐ | H56: =H57 -> 363094.4
G57: ԸՆԹԱՑԻԿ ԾԱԽՍԵՐ | H57: =H58 -> 363094.4
G58: ԴՐԱՄԱՇՆՈՐՀՆԵՐ | H58: =H59 -> 363094.4
G59: Կապիտալ դրամաշնորհներ պետական հատվածի այլ մակարդակներին | H59: =H60 -> 363094.4
G60: - Կապիտալ սուբվենցիաներ համայնքներին | H60: ='h14'!E65 -> 363094.4
G61: ՀՀ Կոտայքի մարզպետի աշխատակազմ | H61: =H63 -> 928951.8
G62: այդ թվում` բյուջետային ծախսերի տնտեսագիտական դասակարգման հոդվածներ
G63: ԸՆԴԱՄԵՆԸ ԾԱԽՍԵՐ | H63: =H64 -> 928951.8
G64: ԸՆԹԱՑԻԿ ԾԱԽՍԵՐ | H64: =H65 -> 928951.8
G65: ԴՐԱՄԱՇՆՈՐՀՆԵՐ | H65: =H66 -> 928951.8
G66: Կապիտալ դրամաշնորհներ պետական հատվածի այլ մակարդակներին | H66: =H67 -> 928951.8
G67: - Կապիտալ սուբվենցիաներ համայնքներին | H67: ='h14'!E74 -> 928951.8
G68: ՀՀ Շիրակի մարզպետի աշխատակազմ | H68: =H69 -> 196891.9
G69: այդ թվում` բյուջետային ծախսերի տնտեսագիտական դասակարգման հոդվածներ | H69: =H70 -> 196891.9
G70: ԸՆԴԱՄԵՆԸ ԾԱԽՍԵՐ | H70: =H71 -> 196891.9
G71: ԸՆԹԱՑԻԿ ԾԱԽՍԵՐ | H71: =H72 -> 196891.9
G72: ԴՐԱՄԱՇՆՈՐՀՆԵՐ | H72: =H73 -> 196891.9
G73: Կապիտալ դրամաշնորհներ պետական հատվածի այլ մակարդակներին | H73: =H74 -> 196891.9
G74: - Կապիտալ սուբվենցիաներ համայնքներին | H74: ='h14'!E89 -> 196891.9
G75: ՀՀ Սյունիքի մարզպետի աշխատակազմ | H75: =H77 -> 585909.9
G76: այդ թվում` բյուջետային ծախսերի տնտեսագիտական դասակարգման հոդվածներ
G77: ԸՆԴԱՄԵՆԸ ԾԱԽՍԵՐ | H77: =H78 -> 585909.9
G78: ԸՆԹԱՑԻԿ ԾԱԽՍԵՐ | H78: =H79 -> 585909.9
G79: ԴՐԱՄԱՇՆՈՐՀՆԵՐ | H79: =H80 -> 585909.9
G80: Կապիտալ դրամաշնորհներ պետական հատվածի այլ մակարդակներին | H80: =H81 -> 585909.9
G81: - Կապիտալ սուբվենցիաներ համայնքներին | H81: ='h14'!E96 -> 585909.9
G82: ՀՀ Վայոց ձորի մարզպետի աշխատակազմ | H82: =H84 -> 186348.5
G83: այդ թվում` բյուջետային ծախսերի տնտեսագիտական դասակարգման հոդվածներ
G84: ԸՆԴԱՄԵՆԸ ԾԱԽՍԵՐ | H84: =H85 -> 186348.5
G85: ԸՆԹԱՑԻԿ ԾԱԽՍԵՐ | H85: =H86 -> 186348.5
G86: ԴՐԱՄԱՇՆՈՐՀՆԵՐ | H86: =H87 -> 186348.5
G87: Կապիտալ դրամաշնորհներ պետական հատվածի այլ մակարդակներին | H87: =H88 -> 186348.5
G88: - Կապիտալ սուբվենցիաներ համայնքներին | H88: ='h14'!E106 -> 186348.5
G89: ՀՀ Տավուշի մարզպետի աշխատակազմ | H89: =H91 -> 233504.3
G90: այդ թվում` բյուջետային ծախսերի տնտեսագիտական դասակարգման հոդվածներ
G91: ԸՆԴԱՄԵՆԸ ԾԱԽՍԵՐ | H91: =H92 -> 233504.3
G92: ԸՆԹԱՑԻԿ ԾԱԽՍԵՐ | H92: =H93 -> 233504.3
G93: ԴՐԱՄԱՇՆՈՐՀՆԵՐ | H93: =H94 -> 233504.3
G94: Կապիտալ դրամաշնորհներ պետական հատվածի այլ մակարդակներին | H94: =H95 -> 233504.3
G95: - Կապիտալ սուբվենցիաներ համայնքներին | H95: ='h14'!E114 -> 233504.3
B96: 04 | G96: ՏՆՏԵՍԱԿԱՆ ՀԱՐԱԲԵՐՈՒԹՅՈՒՆՆԵՐ | H96: =H98+H113+H287+H312+H523 -> -16097818
G97: այդ թվում`
C98: 01 | G98: Ընդհանուր բնույթի տնտեսական, առևտրային և աշխատանքի գծով հարաբերություններ | H98: =H100 -> -785160
G99: այդ թվում`
D100: 01 | G100: Ընդհանուր բնույթի տնտեսական և առևտրային հարաբերություններ | H100: =H102 -> -785160
G101: =G99 -> այդ թվում`
E102: 1232 | G102: Էներգաարդյունավետության ծրագիր | H102: =H104 -> -785160
G103: այդ թվում`
...

Sheet h10k
A1: Հավելված N 10
A2: ՀՀ կառավարության 2023 թվականի
A3: -ի N -Ն որոշման
A5: «ՀԱՅԱՍՏԱՆԻ ՀԱՆՐԱՊԵՏՈՒԹՅԱՆ 2023 ԹՎԱԿԱՆԻ ՊԵՏԱԿԱՆ ԲՅՈՒՋԵԻ ՄԱՍԻՆ» ՀԱՅԱՍՏԱՆԻ ՀԱՆՐԱՊԵՏՈՒԹՅԱՆ ՕՐԵՆՔԻ N 1 ՀԱՎԵԼՎԱԾԻ N 3 ԱՂՅՈՒՍԱԿՈՒՄ ԿԱՏԱՐՎՈՂ ՓՈՓՈԽՈՒԹՅՈՒՆՆԵՐԸ ԵՎ ԼՐԱՑՈՒՄԸ
G6: (հազ. դրամ)
A7: Ծրագրային դասիչ | C7: Բյուջետային գլխավոր կարգադրիչների, ծրագրերի, միջոցառումների և ուղղությունների անվանումները | D7: Ցուցանիշների փոփոխությունը (ավելացումները նշված են դրական նշանով, իսկ նվազեցումները` փակագծերում)
D8: Ընդամենը | E8: այդ թվում՝
A9: Ծրագիր | B9: Միջոցառում | E9: Կառուցման աշխատանքներ | F9: Վերակառուցման, վերանորոգման և վերականգնման աշխատանքներ | G9: Նախագծահե- տազոտական, գեոդեզիա- քարտեզագրա- կան աշխա- տանքներ | H9: Ոչ ֆինանսական այլ ակտիվների ձեռքբերում
C10: ԸՆԴԱՄԵՆԸ | D10: =SUM(E10:H10) -> -2902867.5 | E10: =E12 -> -270333.5 | F10: =F12 -> -1430162.9 | G10: =G12 -> -379525 | H10: =H12 -> -822846.1
C11: այդ թվում՝
C12: ՀՀ ՏԱՐԱԾՔԱՅԻՆ ԿԱՌԱՎԱՐՄԱՆ ԵՎ ԵՆԹԱԿԱՌՈՒՑՎԱԾՔՆԵՐԻ ՆԱԽԱՐԱՐՈՒԹՅՈՒՆ | D12: =SUM(E12:H12) -> -2902867.5 | E12: =E14+E15+E18+E22+E23+E27 -> -270333.5 | F12: =F14+F15+F18+F22+F23+F27+F30 -> -1430162.9 | G12: =G14+G15+G18+G22+G23+G27 -> -379525 | H12: =H14+H15+H18+H22+H23+H27+H44+H45 -> -822846.1
C13: այդ թվում`
A14: 1004 | B14: 31009 | C14: Օրվա կարգավորման ջրավազանների կառուցում և վերակառուցում | D14: =SUM(E14:H14) -> -266809.6 | E14: -266809.6 | F14: 0 | G14: 0 | H14: 0
A15: 1004 | B15: 31011 | C15: Խորքային հորերի վերականգնում | D15: =SUM(E15:H15) -> -206427.9 | E15: =E17 -> 0 | F15: =F17 -> 0 | G15: =G17 -> 0 | H15: =H17 -> -206427.9
C16: այդ թվում`
C17: Տվյալների առցանց փոխանցմամբ ջրահաշվիչ (ջրաչափիչ) սարքերի ձեռքբերում | D17: =SUM(E17:H17) -> -206427.9 | H17: -206427.9
A18: 1004 | B18: 31012 | C18: Գետերի և հեղեղատարների տեղամասերի ամրացման և մաքրման աշխատանքներ | D18: =SUM(E18:H18) -> -180651.8 | E18: =E20+E21 -> 0 | F18: =F20+F21 -> -180651.8 | G18: =G20+G21 -> 0 | H18: =H20+H21 -> 0
C19: այդ թվում`
C20: Նարեկի սելավատարի հունի մաքրում 2945 մ և ափերի ամրացում 380 մ | D20: =SUM(E20:H20) -> -30651.8 | F20: =h13ka!D25 -> -30651.8
C21: ՀՀ Արարատի մարզի Արաքսավան և Բուրաստան համայնքների Արաքս գետի N16-ից մինչև N14 սահմանների միջակայքում Արաքս գետի նախկին հունի վերականգման և N16 սահմանանշանի մոտակայքում Արաքս գետի հայկական կողմի մոտ 130 մ երկարությամբ և 8 մ խորությամբ ողողված պատնեշի վերականգնման աշխատանքների, նախագծանախահաշվային փաստաթղթերի և փորձաքննության ձեռքբերում | D21: =SUM(E21:H21) -> -150000 | F21: =h13ka!D26 -> -150000
A22: 1004 | B22: 31013 | C22: Փոքր և միջին ջրամբարների կառուցում | D22: =SUM(E22:H22) -> -374025 | F22: =SUM(F14:F14) -> 0 | G22: ='h9'!H250 -> -374025 | H22: =SUM(H14:H14) -> 0
A23: 1004 | B23: 31014 | C23: Ջրամբարների վերականգնման և վերազինման աշխատանքներ | D23: =SUM(E23:H23) -> -64813.1 | E23: =E25+E26 -> 0 | F23: =F25+F26 -> -59313.1 | G23: =G26 -> -5500 | H23: =H25+H26 -> 0
C24: այդ թվում`
C25: Ապարանի ջրամբարի վերանորոգում | D25: =SUM(E25:H25) -> -59313.1 | F25: ='h9'!H266 -> -59313.1
C26: ՀՀ Գեղարքունիքի մարզի Գեղարքունի 2 ջրամբարի վերականգնման աշխատանքներ | D26: =SUM(E26:H26) -> -5500 | G26: ='h9'!H269 -> -5500
A27: 1004 | B27: 31020 | C27: Ոռոգման համակարգերի կառուցում | D27: =SUM(E27:H27) -> -3523.9 | E27: =E29 -> -3523.9 | F27: =F29 -> 0 | G27: =G29 -> 0 | H27: =H29 -> 0
C28: այդ թվում`
C29: Բուսաբանական այգու ոռոգման ցանցի կառուցում՝ Սարկավագի փողոցի ջրանցքից մինչ Բուսաբանական այգու պարսպի հատված | D29: =SUM(E29:H29) -> -3523.9 | E29: =h13ka!D40 -> -3523.9 | G29: 0
A30: 1049 | B30: 21001 | C30: Պետական նշանակության ավտոճանապարհների հիմնանորոգում | D30: =F30 -> -1190198 | F30: =F32+F36+F38 -> -1190198
C31: այդ թվում`
B32: 1 | C32: Միջպետական նշանակության ավտոճանապարհներ, այդ թվում | D32: =F32 -> -1062654.1 | F32: =F33+F34+F35 -> -1062654.1
C33: Մ-2, Երևան-Երասխ-Գորիս-Մեղրի-Իրանի սահման միջպետական նշանակության ավտոճանապարհի կմ77+350 - կմ82+000 հատվածի հիմնանորոգում | D33: =F33 -> -21704.451 | F33: -21704.451
C34: Մ-2, (Սյունիք) /Մ-2/ - Աղվանի- Տաթև - /Մ-2/ միջպետական նշանակության ավտոճանապարհի Վերին Խոտանանը շրջանցող ճանապարհահատվածի կառուցում (II փուլ) | D34: =F34 -> -902909.79 | F34: -902909.79
C35: Մ-2, Երևան-Երասխ-Գորիս-Մեղրի-Իրանի սահման միջպետական նշանակության ավտոճանապարհի կմ297+800-կմ311+250 հատվածի հիմնանորոգման աշխատանքների (2-րդ տեղամաս՝ կմ301+820 - կմ311+250 հատված) | D35: =F35 -> -138039.88 | F35: -138039.88
B36: 2 | C36: Հանրապետական նշանակության ավտոճանապարհներ, այդ թվում | D36: =F36 -> 160465.49 | F36: =F37 -> 160465.49
C37: Հ-4, Երևան - Եղվարդ - Արագյուղ - Հարթավան - /Մ-3/ հանրապետական նշանակության ավտոճանապարհի կմ0+000-կմ15+600 հատվածի հիմնանորոգում | D37: =F37 -> 160465.49 | F37: 160465.49
B38: 3 | C38: Մարզային նշանակության ավտոճանապարհներ, այդ թվում | D38: =F38 -> -288009.4 | F38: =F39+F40+F41+F42+F43 -> -288009.4
C39: Տ-5-23, /Մ-3/ - Սարամեջ ավտոճանապարհի կմ0+000-կմ4+300 հատվածի հիմնանորոգում | D39: =F39 -> -1074.872 | F39: -1074.872
C40: Տ-5-24,/Մ-3/ (Ստեփանավան) – Արմանիս – Ուրասար – Կաթնաղբյուր տեղական նշանակության ավտոճանապարհի կմ 6+600-կմ 15+200 հատվածի և Կաթնաղբյուր համայնքի 8-րդ և 9-րդ փողոցների հիմնանորոգում | D40: =F40 -> -258512.2 | F40: -258512.2
C41: Վանաձոր քաղաքային համայնքի Գրիգոր Լուսավորիչ փողոցի հիմնանորոգում | D41: =F41 -> -189.575 | F41: -189.575
C42: Գյումրի համայնքի օղակային փողոցի կմ0+000 - կմ2+500 (Մ-7-ի հետ հատման կետ) հատվածի հիմնանորոգում | D42: =F42 -> -5266.327 | F42: -5266.327
C43: /Մ-12/-Կոռնիձոր-ՀՀ սահման ավտոճանապարհի կմ4+000-կմ 9+000 հատվածի վերակառուցում | D43: =F43 -> -22966.418 | F43: -22966.418
A44: 1049 | B44: 21019 | C44: Վթարային իրավիճակներում արտակարգ օպերատիվ ծառայությունների կանչի ավտոմատացված համակարգերի ներդրում | D44: =H44 -> -566418.2 | E44: 0 | F44: 0 | G44: 0 | H44: ='h17'!G75 -> -566418.2
A45: 1049 | B45: 31002 | C45: Տրանսպորտային միջոցների տեխնիկական զննության գործընթացի ավտոմատացված համակարգի ներդրում | D45: =H45 -> -50000 | E45: 0 | F45: 0 | G45: 0 | H45: ='h17'!G79 -> -50000

Sheet h11v
G1: Հավելված N11
G2: ՀՀ կառավարության 2023 թվականի
G3: ______________ ի ___Ն որոշման
B5: «ՀԱՅԱUՏԱՆԻ ՀԱՆՐԱՊԵՏՈՒԹՅԱՆ 2023 ԹՎԱԿԱՆԻ ՊԵՏԱԿԱՆ ԲՅՈՒՋԵԻ ՄԱUԻՆ» OՐԵՆՔԻ N 1 ՀԱՎԵԼՎԱԾԻ N 4 ԱՂՅՈՒՍԱԿՈՒՄ ԵՎ ՀԱՅԱՍՏԱՆԻ ՀԱՆՐԱՊԵՏՈՒԹՅԱՆ ԿԱՌԱՎԱՐՈՒԹՅԱՆ 2022 ԹՎԱԿԱՆԻ ԴԵԿՏԵՄԲԵՐԻ 29-Ի N 2111-Ն ՈՐՈՇՄԱՆ N 5 ՀԱՎԵԼՎԱԾԻ N 3 ԱՂՅՈՒՍԱԿՈՒՄ ԿԱՏԱՐՎՈՂ ՓՈՓՈԽՈՒԹՅՈՒՆՆԵՐԸ ԵՎ ԼՐԱՑՈՒՄՆԵՐԸ
G6: հազ. դրամ
B7: Ծրագրային դասիչը | D7: Բյուջետային գլխավոր կարգադրիչների, ծրագրերի և միջոցառումների անվանումները | E7: Ցուցանիշների փոփոխությունը (ավելացումները նշված են դրական նշանով, իսկ նվազեցումները` փակագծերում)
E8: Տարի
E9: Ընդամենը | F9: այդ թվում`
B10: Ծրագիր | C10: Միջոցառում | F10: Վարկային միջոցներ | G10: Համաֆինան սավորում
D11: ԸՆԴԱՄԵՆԸ_x000D_ | E11: =E13+E14 -> -13897016 | F11: =F13+F14 -> -10163184 | G11: =G13+G14 -> -3733832.2
D12: այդ թվում`
D13: ԸՆԹԱՑԻԿ ԾԱԽՍԵՐ | E13: =E24+E35+E46+E136+E145+E154+E171+E181 -> -732471.8 | F13: =F24+F35+F46+F136+F145+F154+F171+F181 -> -326314 | G13: =G24+G35+G46+G136+G145+G154+G171+G181 -> -406157.8
D14: - ՈՉ ՖԻՆԱՆՍԱԿԱՆ ԱԿՏԻՎՆԵՐԻ ԳԾՈՎ ԾԱԽՍԵՐ | E14: =E61+E72+E81+E90+E101+E112+E125+E190+E201+E212+E221+E232+E246+E257+E268+E279+E288+E299 -> -13164545 | F14: =F61+F72+F81+F90+F101+F112+F125+F190+F201+F212+F221+F232+F246+F257+F268+F279+F288+F299 -> -9836870.2 | G14: =G61+G72+G81+G90+G101+G112+G125+G190+G201+G212+G221+G232+G246+G257+G268+G279+G288+G299 -> -3327674.4
D15: ՀՀ ՏԱՐԱԾՔԱՅԻՆ ԿԱՌԱՎԱՐՄԱՆ ԵՎ ԵՆԹԱԿԱՌՈՒՑՎԱԾՔՆԵՐԻ ՆԱԽԱՐԱՐՈՒԹՅՈՒՆ_x000D_ | E15: =E17+E105+E118+E129+E250+E292 -> -13897016 | F15: =F17+F105+F118+F129+F250+F292 -> -10163184 | G15: =G17+G105+G118+G129+G250+G292 -> -3733832.2
D16: այդ թվում`
B17: 1004 | D17: Ոռոգման համակարգի առողջացում | E17: =+E19+E30+E41+E56+E67+E76+E85+E96 -> -6851779.3 | F17: =+F19+F30+F67+F76+F85+F96 -> -3960228.3 | G17: =+G19+G30+G41+G56+G67+G76+G85+G96 -> -2891551
D18: այդ թվում`
C19: 11005 | D19: Եվրասիական զարգացման բանկի աջակցությամբ իրականացվող ոռոգման համակարգերի զարգացման ծրագրի խորհրդատվություն և կառավարում | E19: =G19+F19 -> -162175.6 | F19: =+F21 -> -151812.8 | G19: =G21 -> -10362.8
D20: այդ թվում` ըստ կատարողների
D21: ՀՀ տարածքային կառավարման և ենթակառուցվածքների նախարարության ջրային կոմիտե | E21: =G21+F21 -> -162175.6 | F21: =+F23 -> -151812.8 | G21: =G23 -> -10362.8
D22: այդ թվում` բյուջետային ծախսերի տնտեսագիտական դասակարգման հոդվածներ
D23: ԸՆԴԱՄԵՆԸ ԾԱԽՍԵՐ | E23: =G23+F23 -> -162175.6 | F23: =+F24 -> -151812.8 | G23: =G24 -> -10362.8
D24: ԸՆԹԱՑԻԿ ԾԱԽՍԵՐ | E24: =G24+F24 -> -162175.6 | F24: =F25+F28 -> -151812.8 | G24: =G25+G28 -> -10362.8
D25: ԾԱՌԱՅՈՒԹՅՈՒՆՆԵՐԻ ԵՎ ԱՊՐԱՆՔՆԵՐԻ ՁԵՌՔԲԵՐՈՒՄ | E25: =+F25+G25 -> -2175.6 | F25: =+F26 -> -1812.8 | G25: =+G26 -> -362.8
D26: Ծառայողական գործուղումների գծով ծախսեր | E26: =+F26+G26 -> -2175.6 | F26: =+F27 -> -1812.8 | G26: =+G27 -> -362.8
D27: - Արտասահմանյան գործուղումների գծով ծախսեր | E27: =+F27+G27 -> -2175.6 | F27: -1812.8 | G27: -362.8
D28: ԱՅԼ ԾԱԽՍԵՐ | E28: =G28+F28 -> -160000 | F28: =+F29 -> -150000 | G28: =G29 -> -10000
D29: Այլ ծախսեր | E29: =G29+F29 -> -160000 | F29: -150000 | G29: -10000
C30: 11007 | D30: Գերմանիայի զարգացման վարկերի բանկի աջակցությամբ իրականացվող Ախուրյան գետի ջրային ռեսուրսների ինտեգրացված կառավարում ծրագրի խորհրդատվություն և կառավարում | E30: =F30+G30 -> -172032.7 | F30: =+F32 -> -87532.7 | G30: =G32 -> -84500
D31: այդ թվում` ըստ կատարողների
D32: ՀՀ տարածքային կառավարման և ենթակառուցվածքների նախարարության ջրային կոմիտե | E32: =F32+G32 -> -172032.7 | F32: =+F34 -> -87532.7 | G32: =G34 -> -84500
D33: այդ թվում` բյուջետային ծախսերի տնտեսագիտական դասակարգման հոդվածներ
D34: ԸՆԴԱՄԵՆԸ ԾԱԽՍԵՐ | E34: =F34+G34 -> -172032.7 | F34: =+F35 -> -87532.7 | G34: =G35 -> -84500
D35: ԸՆԹԱՑԻԿ ԾԱԽՍԵՐ | E35: =F35+G35 -> -172032.7 | F35: =F36+F39 -> -87532.7 | G35: =G36+G39 -> -84500
D36: ԱՇԽԱՏԱՆՔԻ ՎԱՐՁԱՏՐՈՒԹՅՈՒՆ | E36: =F36+G36 -> -9500 | F36: =F37 -> 0 | G36: =G37 -> -9500
D37: Դրամով վճարվող աշխատավարձեր և հավելավճարներ | E37: =F37+G37 -> -9500 | F37: =F38 -> 0 | G37: =G38 -> -9500
D38: - Աշխատողների աշխատավարձեր և հավելավճարներ | E38: =F38+G38 -> -9500 | F38: 0 | G38: -9500
D39: ԱՅԼ ԾԱԽՍԵՐ | E39: =F39+G39 -> -162532.7 | F39: =+F40 -> -87532.7 | G39: =G40 -> -75000
D40: Այլ ծախսեր | E40: =F40+G40 -> -162532.7 | F40: -87532.7 | G40: -75000
C41: 11010 | D41: Գերմանիայի զարգացման վարկերի բանկի աջակցությամբ իրականացվող Ախուրյան գետի ջրային ռեսուրսների ինտեգրացված կառավարում փուլ 1 ծրագրով Ջրաձոր գյուղի վերաբնակեցման գործողությունների խորհրդատվություն և կառավարում | E41: =E43 -> -152125 | F41: =F43 -> 0 | G41: =G43 -> -152125
D42: այդ թվում` ըստ կատարողների
D43: ՀՀ տարածքային կառավարման և ենթակառուցվածքների նախարարության ջրային կոմիտե | E43: =E45 -> -152125 | F43: =F45 -> 0 | G43: =G45 -> -152125
D44: այդ թվում` բյուջետային ծախսերի տնտեսագիտական դասակարգման հոդվածներ
D45: ԸՆԴԱՄԵՆԸ ԾԱԽՍԵՐ | E45: =E46 -> -152125 | F45: =F46 -> 0 | G45: =G46 -> -152125
D46: ԸՆԹԱՑԻԿ ԾԱԽՍԵՐ | E46: =E47+E50+E53 -> -152125 | F46: =F47+F50+F53 -> 0 | G46: =G47+G50+G53 -> -152125
D47: ԴՐԱՄԱՇՆՈՐՀՆԵՐ | E47: =E48 -> -76850 | F47: =F48 -> 0 | G47: =G48 -> -76850
D48: Ընթացիկ դրամաշնորհներ պետական հատվածի այլ մակարդակներին | E48: =E49 -> -76850 | F48: =F49 -> 0 | G48: =G49 -> -76850
D49: -Այլ ընթացիկ դրամաշնորհներ | E49: =F49+G49 -> -76850 | F49: 0 | G49: -76850
D50: ԱՇԽԱՏԱՆՔԻ ՎԱՐՁԱՏՐՈՒԹՅՈՒՆ | E50: =+F50+G50 -> -9000 | F50: =+F51 -> 0 | G50: =+G51 -> -9000
D51: Դրամով վճարվող աշխատավարձեր և հավելավճարներ | E51: =+F51+G51 -> -9000 | F51: =+F52 -> 0 | G51: =+G52 -> -9000
D52: - Աշխատողների աշխատավարձեր և հավելավճարներ | E52: =+F52+G52 -> -9000 | G52: -9000
D53: ԱՅԼ ԾԱԽՍԵՐ | E53: =F53+G53 -> -66275 | F53: =+F54+F55 -> 0 | G53: =+G54+G55 -> -66275
D54: Հարկեր, պարտադիր վճարներ և տույժեր, որոնք կառավարման տարբեր մակարդակների կողմից կիրառվում են միմյանց նկատմամբ | E54: =F54+G54 -> -6800 | G54: -6800
D55: Այլ ծախսեր | E55: =F55+G55 -> -59475 | F55: 0 | G55: -59475
C56: 12002 | D56: Գերմանիայի զարգացման բանկի աջակցությամբ իրականացվող Ախուրյան գետի ջրային ռեսուրսների ինտեգրված կառավարման փուլ 1 ծրագրով Ջրաձոր գյուղի վերաբնակեցման համար ենթակառուցվածքների և բնակելի տների կառուցում | E56: =G56+F56 -> -548165.1 | F56: =F58 -> 0 | G56: =G58 -> -548165.1
D57: այդ թվում` ըստ կատարողների
D58: ՀՀ տարածքային կառավարման և ենթակառուցվածքների նախարարության ջրային կոմիտե | E58: =G58+F58 -> -548165.1 | F58: =F60 -> 0 | G58: =G60 -> -548165.1
D59: այդ թվում` բյուջետային ծախսերի տնտեսագիտական դասակարգման հոդվածներ
D60: ԸՆԴԱՄԵՆԸ ԾԱԽՍԵՐ | E60: =G60+F60 -> -548165.1 | F60: =F61 -> 0 | G60: =G61 -> -548165.1
D61: ՈՉ ՖԻՆԱՆՍԱԿԱՆ ԱԿՏԻՎՆԵՐԻ ԳԾՈՎ ԾԱԽՍԵՐ | E61: =G61+F61 -> -548165.1 | F61: =F62 -> 0 | G61: =G62 -> -548165.1
D62: ՀԻՄՆԱԿԱՆ ՄԻՋՈՑՆԵՐ | E62: =G62+F62 -> -548165.1 | F62: =F63 -> 0 | G62: =G63+G66 -> -548165.1
D63: ՇԵՆՔԵՐ ԵՎ ՇԻՆՈՒԹՅՈՒՆՆԵՐ | E63: =G63+F63 -> -462847.6 | F63: =F64 -> 0 | G63: =G64 -> -462847.6
D64: - Շենքերի և շինությունների շինարարություն | E64: =G64+F64 -> -462847.6 | F64: =F65 -> 0 | G64: -462847.6
D65: ՉԱՐՏԱԴՐՎԱԾ ԱԿՏԻՎՆԵՐ | E65: =G65+F65 -> -85317.5 | F65: =F66 -> 0 | G65: =G66 -> -85317.5
D66: ՀՈՂ | E66: =G66+F66 -> -85317.5 | F66: 0 | G66: -85317.5
C67: 31001 | D67: Ֆրանսիայի Հանրապետության կառավարության աջակցությամբ իրականացվող Վեդու ջրամբարի և ոռոգման համակարգի կառուցում | E67: =+F67+G67 -> -2522421.9 | F67: =+F69 -> -1981000 | G67: =G69 -> -541421.9
D68: այդ թվում` ըստ կատարողների
D69: ՀՀ տարածքային կառավարման և ենթակառուցվածքների նախարարության ջրային կոմիտե | E69: =F69+G69 -> -2522421.9 | F69: =+F71 -> -1981000 | G69: =G71 -> -541421.9
D70: այդ թվում` բյուջետային ծախսերի տնտեսագիտական դասակարգման հոդվածներ
D71: ԸՆԴԱՄԵՆԸ ԾԱԽՍԵՐ | E71: =+E72 -> -2522421.9 | F71: =+F72 -> -1981000 | G71: =G72 -> -541421.9
D72: ՈՉ ՖԻՆԱՆՍԱԿԱՆ ԱԿՏԻՎՆԵՐԻ ԳԾՈՎ ԾԱԽՍԵՐ | E72: =F72+G72 -> -2522421.9 | F72: =+F73 -> -1981000 | G72: =G73 -> -541421.9
D73: ՀԻՄՆԱԿԱՆ ՄԻՋՈՑՆԵՐ | E73: =+F73+G73 -> -2522421.9 | F73: =+F74 -> -1981000 | G73: =G74 -> -541421.9
D74: ՇԵՆՔԵՐ ԵՎ ՇԻՆՈՒԹՅՈՒՆՆԵՐ | E74: =+F74+G74 -> -2522421.9 | F74: =+F75 -> -1981000 | G74: =G75 -> -541421.9
D75: - Շենքերի և շինությունների շինարարություն | E75: =+F75+G75 -> -2522421.9 | F75: -1981000 | G75: -541421.9
C76: 31004 | D76: Գերմանիայի զարգացման վարկերի բանկի աջակցությամբ իրականացվող Ախուրյան գետի ջրային ռեսուրսների ինտեգրված կառավարման ծրագրի շրջանակներում ջրային տնտեսության ենթակառուցվածքների հիմնանորոգում | E76: =F76+G76 -> -2714566.2 | F76: =+F78 -> -1286190 | G76: =G78 -> -1428376.2
D77: այդ թվում` ըստ կատարողների
D78: ՀՀ տարածքային կառավարման և ենթակառուցվածքների նախարարության ջրային կոմիտե | E78: =F78+G78 -> -2714566.2 | F78: =+F80 -> -1286190 | G78: =G80 -> -1428376.2
D79: այդ թվում` բյուջետային ծախսերի տնտեսագիտական դասակարգման հոդվածներ
D80: ԸՆԴԱՄԵՆԸ ԾԱԽՍԵՐ | E80: =F80+G80 -> -2714566.2 | F80: =+F81 -> -1286190 | G80: =G81 -> -1428376.2
D81: ՈՉ ՖԻՆԱՆՍԱԿԱՆ ԱԿՏԻՎՆԵՐԻ ԳԾՈՎ ԾԱԽՍԵՐ | E81: =F81+G81 -> -2714566.2 | F81: =+F82 -> -1286190 | G81: =G82 -> -1428376.2
D82: ՀԻՄՆԱԿԱՆ ՄԻՋՈՑՆԵՐ | E82: =F82+G82 -> -2714566.2 | F82: =+F83 -> -1286190 | G82: =G83 -> -1428376.2
D83: ՇԵՆՔԵՐ ԵՎ ՇԻՆՈՒԹՅՈՒՆՆԵՐ | E83: =F83+G83 -> -2714566.2 | F83: =+F84 -> -1286190 | G83: =G84 -> -1428376.2
D84: - Շենքերի և շինությունների շինարարություն | E84: =F84+G84 -> -2714566.2 | F84: -1286190 | G84: -1428376.2
C85: 31005 | D85: Եվրասիական զարգացման բանկի աջակցությամբ իրականացվող ոռոգման համակարգերի զարգացման ծրագրի շրջանակներում ջրային տնտեսության ենթակառուցվածքների հիմնանորոգում | E85: =F85+G85 -> -454900 | F85: =+F87 -> -328300 | G85: =G87 -> -126600
D86: այդ թվում` ըստ կատարողների
D87: ՀՀ տարածքային կառավարման և ենթակառուցվածքների նախարարության ջրային կոմիտե | E87: =F87+G87 -> -454900 | F87: =+F89 -> -328300 | G87: =G89 -> -126600
D88: այդ թվում` բյուջետային ծախսերի տնտեսագիտական դասակարգման հոդվածներ
D89: ԸՆԴԱՄԵՆԸ ԾԱԽՍԵՐ | E89: =F89+G89 -> -454900 | F89: =+F90 -> -328300 | G89: =G90 -> -126600
D90: ՈՉ ՖԻՆԱՆՍԱԿԱՆ ԱԿՏԻՎՆԵՐԻ ԳԾՈՎ ԾԱԽՍԵՐ | E90: =F90+G90 -> -454900 | F90: =+F91 -> -328300 | G90: =G91 -> -126600
D91: ՀԻՄՆԱԿԱՆ ՄԻՋՈՑՆԵՐ | E91: =F91+G91 -> -454900 | F91: =F94+F92 -> -328300 | G91: =G94+G92 -> -126600
D92: ՇԵՆՔԵՐ ԵՎ ՇԻՆՈՒԹՅՈՒՆՆԵՐ | E92: =F92+G92 -> -200000 | F92: =+F93 -> -200000 | G92: =G93 -> 0
D93: - Շենքերի և շինությունների շինարարություն | E93: =F93+G93 -> -200000 | F93: -200000 | G93: 0
D94: ՄԵՔԵՆԱՆԵՐ ԵՎ ՍԱՐՔԱՎՈՐՈՒՄՆԵՐ | E94: =F94+G94 -> -254900 | F94: =F95 -> -128300 | G94: =G95 -> -126600
D95: - Այլ մեքենաներ և սարքավորումներ | E95: =F95+G95 -> -254900 | F95: -128300 | G95: -126600
C96: 31016 | D96: Եմ աջակցությամբ իրականացվող վարկային ծրագրի շրջանակներում ոռոգման համակարգի կառուցում | E96: =F96+G96 -> -125392.8 | F96: =F98 -> -125392.8 | G96: 0
D97: այդ թվում` ըստ կատարողների
D98: ՀՀ տարածքային կառավարման և ենթակառուցվածքների նախարարության ջրային կոմիտե | E98: =F98+G98 -> -125392.8 | F98: =F100 -> -125392.8 | G98: 0
D99: այդ թվում` բյուջետային ծախսերի տնտեսագիտական դասակարգման հոդվածներ
D100: ԸՆԴԱՄԵՆԸ ԾԱԽՍԵՐ | E100: =F100+G100 -> -125392.8 | F100: =F101 -> -125392.8 | G100: 0
D101: ՈՉ ՖԻՆԱՆՍԱԿԱՆ ԱԿՏԻՎՆԵՐԻ ԳԾՈՎ ԾԱԽՍԵՐ | E101: =F101+G101 -> -125392.8 | F101: =F102 -> -125392.8 | G101: 0
...

Sheet h12.d
J1: Հավելված N12
J2: ՀՀ կառավարության 2023 թվականի
J3: ______________ ի ___Ն որոշման
B5: «ՀԱՅԱUՏԱՆԻ ՀԱՆՐԱՊԵՏՈՒԹՅԱՆ 2023 ԹՎԱԿԱՆԻ ՊԵՏԱԿԱՆ ԲՅՈՒՋԵԻ ՄԱUԻՆ» OՐԵՆՔԻ N 1 ՀԱՎԵԼՎԱԾԻ N 5 ԱՂՅՈՒՍԱԿՈՒՄ ԵՎ ՀԱՅԱՍՏԱՆԻ ՀԱՆՐԱՊԵՏՈՒԹՅԱՆ ԿԱՌԱՎԱՐՈՒԹՅԱՆ 2022 ԹՎԱԿԱՆԻ ԴԵԿՏԵՄԲԵՐԻ 29-Ի N 2111-Ն ՈՐՈՇՄԱՆ N 5 ՀԱՎԵԼՎԱԾԻ N 4 ԱՂՅՈՒՍԱԿՈՒՄ ԿԱՏԱՐՎՈՂ ՓՈՓՈԽՈՒԹՅՈՒՆՆԵՐԸ ԵՎ ԼՐԱՑՈՒՄՆԵՐԸ
J6: հազ. դրամ
B7: Ծրագրային դասիչը | D7: Բյուջետային գլխավոր կարգադրիչների, ծրագրերի և միջոցառումների անվանումները | E7: Ցուցանիշների փոփոխությունը (ավելացումները նշված են դրական նշանով, իսկ նվազեցումները` փակագծերում)
E8: Ինն ամիս | H8: Տարի
E9: Ընդամենը | F9: այդ թվում` | H9: Ընդամենը | I9: այդ թվում`
B10: Ծրագիր | C10: Միջոցառում | F10: Դրամաշնորհային միջոցներ | G10: Համաֆինան սավորում | I10: Դրամաշնորհային միջոցներ | J10: Համաֆինան սավորում
D11: ԸՆԴԱՄԵՆԸ | E11: =+F11+G11 -> #REF! | F11: =F13+F14 -> #REF! | G11: =G13+G14 -> #REF! | H11: =+I11+J11 -> -4354959 | I11: =I13+I14 -> -4394281.2 | J11: =J13+J14 -> 39322.2
D12: այդ թվում` | E12: =+F12+G12 -> 0
D13: ԸՆԹԱՑԻԿ ԾԱԽՍԵՐ | E13: =+F13+G13 -> #REF! | F13: =+#REF!+#REF!+#REF!+#REF!+#REF!+#REF!+#REF!+#REF!+F147 -> #REF! | G13: =+#REF!+#REF!+#REF!+#REF!+#REF!+#REF!+#REF!+#REF!+G147 -> #REF! | H13: =H23+H31+H41+H56+H78+H119+H146 -> -377561.4 | I13: =I23+I31+I41+I56+I78+I119+I146 -> -353387.6 | J13: =J23+J31+J41+J56+J78+J119+J146 -> -24173.8
D14: ՈՉ ՖԻՆԱՆՍԱԿԱՆ ԱԿՏԻՎՆԵՐԻ ԳԾՈՎ ԾԱԽՍԵՐ | E14: =+F14+G14 -> #REF! | F14: =+#REF!+#REF!+#REF!+#REF!+#REF!+#REF!+#REF!+#REF!+#REF!+#REF!+#REF!+F155 -> #REF! | G14: =+#REF!+#REF!+#REF!+#REF!+#REF!+#REF!+#REF!+#REF!+#REF!+#REF!+#REF!+G155 -> #REF! | H14: =H65+H86+H97+H108+H127+H136+H155+H168 -> -3977397.6 | I14: =I65+I86+I97+I108+I127+I136+I155+I168 -> -4040893.6 | J14: =J65+J86+J97+J108+J127+J136+J155+J168 -> 63496
D15: ՀՀ ՏԱՐԱԾՔԱՅԻՆ ԿԱՌԱՎԱՐՄԱՆ ԵՎ ԵՆԹԱԿԱՌՈՒՑՎԱԾՔՆԵՐԻ ՆԱԽԱՐԱՐՈՒԹՅՈՒՆ | E15: =+F15+G15 -> #REF! | F15: =+#REF!+#REF!+#REF!+#REF!+#REF!+F140 -> #REF! | G15: =+#REF!+#REF!+#REF!+#REF!+#REF!+G140 -> #REF! | H15: =H16+H34+H51+H71++H101+H112+H140+H161 -> -4354959 | I15: =I16+I34+I51+I71++I101+I112+I140+I161 -> -4394281.2 | J15: =J16+J34+J51+J71++J101+J112+J140+J161 -> 39322.2
B16: 1004 | D16: Ոռոգման համակարգի առողջացում | E16: =+F16+G16 -> -126562.6 | F16: =+F18+F26 -> -108368.1 | G16: =+G18+G26 -> -18194.5 | H16: =H18+H26 -> -53891.3 | I16: =+I18+I26 -> -52858.1 | J16: =+J18+J26 -> -1033.2
D17: այդ թվում`
C18: 11009 | D18: Գերմանիայի զարգացման վարկերի բանկի աջակցությամբ իրականացվող Ախուրյան գետի ջրային ռեսուրսների ինտեգրված կառավարման դրամաշնորհային ծրագիր | E18: =+F18+G18 -> -8864.1 | F18: =+F20 -> -8364.1 | G18: =+G20 -> -500 | H18: =+I18+J18 -> -9397.3 | I18: =+I20 -> -8364.1 | J18: =+J20 -> -1033.2
D19: այդ թվում` ըստ կատարողների
D20: ՀՀ տարածքային կառավարման և ենթակառուցվածքների նախարարության ջրային կոմիտե | E20: =F20+G20 -> -8864.1 | F20: =+F22 -> -8364.1 | G20: =+G22 -> -500 | H20: =I20+J20 -> -9397.3 | I20: =+I22 -> -8364.1 | J20: =+J22 -> -1033.2
D21: այդ թվում` բյուջետային ծախսերի տնտեսագիտական դասակարգման հոդվածներ
D22: ԸՆԴԱՄԵՆԸ ԾԱԽՍԵՐ | E22: =+E23 -> -8864.1 | F22: =+F23 -> -8364.1 | G22: =+G23 -> -500 | H22: =+H23 -> -9397.3 | I22: =+I23 -> -8364.1 | J22: =+J23 -> -1033.2
D23: ԸՆԹԱՑԻԿ ԾԱԽՍԵՐ | E23: =+F23+G23 -> -8864.1 | F23: =+F24 -> -8364.1 | G23: =+G24 -> -500 | H23: =+I23+J23 -> -9397.3 | I23: =+I24 -> -8364.1 | J23: =+J24 -> -1033.2
D24: ԱՅԼ ԾԱԽՍԵՐ | E24: =+F24+G24 -> -8864.1 | F24: =+F25 -> -8364.1 | G24: =+G25 -> -500 | H24: =+I24+J24 -> -9397.3 | I24: =+I25 -> -8364.1 | J24: =+J25 -> -1033.2
D25: Այլ ծախսեր | E25: =+F25+G25 -> -8864.1 | F25: -8364.1 | G25: -500 | H25: =+I25+J25 -> -9397.3 | I25: -8364.1 | J25: -1033.2
C26: 11011 | D26: Զարգացման ֆրանսիական գործակալության աջակցությամբ իրականացվող ոռոգման ոլորտի ֆինանսական կայունության և ոռոգման կառավարման կարողությունների բարելավման դրամաշնորհային ծրագրի խորհրդատվություն և կառավարում | E26: =+F26+G26 -> -117698.5 | F26: =+F28 -> -100004 | G26: =+G28 -> -17694.5 | H26: =+I26+J26 -> -44494 | I26: =+I28 -> -44494 | J26: =+J28 -> 0
D27: այդ թվում` ըստ կատարողների
D28: ՀՀ տարածքային կառավարման և ենթակառուցվածքների նախարարության ջրային կոմիտե | E28: =F28+G28 -> -117698.5 | F28: =+F30 -> -100004 | G28: =+G30 -> -17694.5 | H28: =I28+J28 -> -44494 | I28: =+I30 -> -44494 | J28: =+J30 -> 0
D29: այդ թվում` բյուջետային ծախսերի տնտեսագիտական դասակարգման հոդվածներ
D30: ԸՆԴԱՄԵՆԸ ԾԱԽՍԵՐ | E30: =+E31 -> -117698.5 | F30: =+F31 -> -100004 | G30: =+G31 -> -17694.5 | H30: =+H31 -> -44494 | I30: =+I31 -> -44494 | J30: =+J31 -> 0
D31: ԸՆԹԱՑԻԿ ԾԱԽՍԵՐ | E31: =+F31+G31 -> -117698.5 | F31: =+F32 -> -100004 | G31: =+G32 -> -17694.5 | H31: =+I31+J31 -> -44494 | I31: =+I32 -> -44494 | J31: =+J32 -> 0
D32: ԱՅԼ ԾԱԽՍԵՐ | E32: =+F32+G32 -> -117698.5 | F32: =+F33 -> -100004 | G32: =+G33 -> -17694.5 | H32: =+I32+J32 -> -44494 | I32: =+I33 -> -44494 | J32: =+J33 -> 0
D33: Այլ ծախսեր | E33: =+F33+G33 -> -117698.5 | F33: -100004 | G33: -17694.5 | H33: =+I33+J33 -> -44494 | I33: -44494
B34: 1019 | D34: Սոցիալական ներդրումների և տեղական զարգացման ծրագիր | E34: =+E36+#REF! -> #REF! | F34: =+F36+#REF! -> #REF! | G34: =+G36+#REF! -> #REF! | H34: =+H36 -> -45642.3 | I34: =+I36 -> -45642.3 | J34: =+J36 -> 0
D35: այդ թվում`
C36: 11004 | D36: ԱՄՆ ՄԶԳ աջակցությամբ իրականացվող Տեղական ինքնակառավարման և ապակենտրոնացման բարեփոխումների դրամաշնորհային ծրագրի կառավարում | E36: =+F36+G36 -> #REF! | F36: =+F38 -> #REF! | G36: =+G38 -> #REF! | H36: =+I36+J36 -> -45642.3 | I36: =+I38 -> -45642.3 | J36: =+J38 -> 0
D37: այդ թվում` ըստ կատարողների
D38: ՀՀ տարածքային կառավարման և ենթակառուցվածքների նախարարություն | E38: =F38+G38 -> #REF! | F38: =+F40 -> #REF! | G38: =+G40 -> #REF! | H38: =I38+J38 -> -45642.3 | I38: =+I40 -> -45642.3 | J38: =+J40 -> 0
D39: այդ թվում` բյուջետային ծախսերի տնտեսագիտական դասակարգման հոդվածներ
D40: ԸՆԴԱՄԵՆԸ ԾԱԽՍԵՐ | E40: =+F40+G40 -> #REF! | F40: =+F41 -> #REF! | G40: =+G41 -> #REF! | H40: =+I40+J40 -> -45642.3 | I40: =+I41 -> -45642.3 | J40: =+J41 -> 0
D41: ԸՆԹԱՑԻԿ ԾԱԽՍԵՐ | E41: =+F41+G41 -> #REF! | F41: =+F42+F49 -> #REF! | G41: =+G42 -> #REF! | H41: =+I41+J41 -> -45642.3 | I41: =+I42+I49 -> -45642.3 | J41: =+J42 -> 0
D42: ԾԱՌԱՅՈՒԹՅՈՒՆՆԵՐԻ ԵՎ ԱՊՐԱՆՔՆԵՐԻ ՁԵՌՔԲԵՐՈՒՄ | E42: =+F42+G42 -> #REF! | F42: =+F43+F45+F47 -> #REF! | G42: =G43+G45+G49 -> #REF! | H42: =+I42+J42 -> -29337 | I42: =+I43+I45+I47 -> -29337 | J42: =J43+J45+J49 -> 0
D43: Շարունակական ծախսեր | E43: =+F43+G43 -> -337 | F43: =F44 -> -337 | G43: =G44 -> 0 | H43: =+I43+J43 -> -337 | I43: =I44 -> -337 | J43: =J44 -> 0
D44: - Ապահովագրական ծախսեր | E44: =+F44+G44 -> -337 | F44: -337 | H44: =+I44+J44 -> -337 | I44: -337
D45: Պայմանագրային այլ ծառայությունների ձեռքբերում | E45: =+F45+G45 -> #REF! | F45: =#REF!+F46 -> #REF! | G45: =#REF!+G46 -> #REF! | H45: =I45 -> -24000 | I45: =I46 -> -24000
D46: - Կառավարչական ծառայություններ | E46: =+F46+G46 -> -24000 | F46: -24000 | H46: =+I46+J46 -> -24000 | I46: -24000
D47: Ընթացիկ նորոգում և պահպանում (ծառայություններ և նյութեր) | E47: =+F47+G47 -> -5000 | F47: =+F48 -> -5000 | G47: =+G48 -> 0 | H47: =+I47+J47 -> -5000 | I47: =+I48 -> -5000 | J47: =+J48 -> 0
D48: - Շենքերի և կառույցների ընթացիկ նորոգում և պահպանում | E48: =+F48+G48 -> -5000 | F48: -5000 | H48: =+I48+J48 -> -5000 | I48: -5000 | J48: =J50 -> 0
D49: ԱՅԼ ԾԱԽՍԵՐ | E49: =+F49+G49 -> -22485.3 | F49: =F50 -> -22485.3 | G49: =+G50 -> 0 | H49: =I49+J49 -> -16305.3 | I49: =I50 -> -16305.3 | J49: =+J50 -> 0
D50: Այլ ծախսեր | E50: =+F50+G50 -> -22485.3 | F50: =+-92404+68618.7+1300 -> -22485.3 | H50: =I50+J50 -> -16305.3 | I50: -16305.3 | J50: 0
B51: 1040 | D51: Կոշտ թափոնների կառավարում | H51: =H52+H60 -> -941600 | I51: =I52+I60 -> -909800 | J51: =J52+J60 -> -31800
C52: 12002 | D52: Վերակառուցման և զարգացման եվրոպական բանկի աջակցությամբ իրականացվող «Կոտայքի և Գեղարքունիքի մարզի կոշտ թափոնների կառավարման խորհրդատվության համար» դրամաշնորհային ծրագիր | H52: =H54 -> -60600 | I52: =I54 -> -51800 | J52: =J54 -> -8800
D53: այդ թվում` ըստ կատարողների
D54: ՀՀ տարածքային կառավարման և ենթակառուցվածքների նախարարություն | H54: =I54+J54 -> -60600 | I54: =I56 -> -51800 | J54: =J55 -> -8800
D55: այդ թվում` բյուջետային ծախսերի տնտեսագիտական դասակարգման հոդվածներ | H55: =I55+J55 -> -60600 | I55: =I57 -> -51800 | J55: =J56 -> -8800
D56: ԸՆԴԱՄԵՆԸ ԾԱԽՍԵՐ | H56: =I56+J56 -> -60600 | I56: =I58 -> -51800 | J56: =J57 -> -8800
D57: ԸՆԹԱՑԻԿ ԾԱԽՍԵՐ | H57: =I57+J57 -> -60600 | I57: =I59 -> -51800 | J57: =J58 -> -8800
D58: ԱՅԼ ԾԱԽՍԵՐ | H58: =I58+J58 -> -60600 | I58: =I59 -> -51800 | J58: =J59 -> -8800
D59: Այլ ծախսեր | H59: =I59+J59 -> -60600 | I59: -51800 | J59: -8800
C60: 32004 | D60: Վերակառուցման և զարգացման եվրոպական բանկի աջակցությամբ իրականացվող «Կոտայքի և Գեղարքունիքի մարզի կոշտ թափոնների կառավարման» դրամաշնորհային ծրագիր | H60: =I60+J60 -> -881000 | I60: =I62 -> -858000 | J60: =J62 -> -23000
D61: այդ թվում` ըստ կատարողների | I61: ='h9'!H574 -> 0
D62: ՀՀ տարածքային կառավարման և ենթակառուցվածքների նախարարություն | H62: =H64 -> -881000 | I62: =I64 -> -858000 | J62: =J64 -> -23000
D63: այդ թվում` բյուջետային ծախսերի տնտեսագիտական դասակարգման հոդվածներ | I63: ='h9'!H576 -> 0
D64: ԸՆԴԱՄԵՆԸ ԾԱԽՍԵՐ | H64: =I64+J64 -> -881000 | I64: =I65 -> -858000 | J64: =J65 -> -23000
D65: ՈՉ ՖԻՆԱՆՍԱԿԱՆ ԱԿՏԻՎՆԵՐԻ ԳԾՈՎ ԾԱԽՍԵՐ | H65: =I65+J65 -> -881000 | I65: =I66 -> -858000 | J65: =J66 -> -23000
D66: ՀԻՄՆԱԿԱՆ ՄԻՋՈՑՆԵՐ | H66: =I66+J66 -> -881000 | I66: =I67+I69 -> -858000 | J66: =J67+J69 -> -23000
D67: ՇԵՆՔԵՐ ԵՎ ՇԻՆՈՒԹՅՈՒՆՆԵՐ | H67: =I67+J67 -> -893300 | I67: =I68 -> -870300 | J67: =J68 -> -23000
D68: - Շենքերի և շինությունների շինարարություն | H68: =I68+J68 -> -893300 | I68: =-858000-I69 -> -870300 | J68: -23000
D69: ՄԵՔԵՆԱՆԵՐ ԵՎ ՍԱՐՔԱՎՈՐՈՒՄՆԵՐ | H69: =I69+J69 -> 12300 | I69: =I70 -> 12300 | J69: 0
D70: - Տրանսպորտային սարքավորումներ | H70: =I70+J70 -> 12300 | I70: 12300 | J70: 0
B71: 1072 | D71: Ջրամատակարարաման և ջրահեռացման բարելավում | E71: =+E73+E81+E92 -> #REF! | F71: =+F73+F81+F92 -> #REF! | G71: =+G73+G81+G92 -> #REF! | H71: =+H73+H81+H92 -> -1964956.6 | I71: =+I73+I81+I92 -> -1936452.6 | J71: =+J73+J81+J92 -> -28504
D72: այդ թվում`
C73: 11004 | D73: Եվրոպական միության հարևանության ներդրումային ծրագրի աջակցությամբ իրականացվող_x000D_ Երևանի ջրամատակարարման բարելավման դրամաշնորհային ծրագիր | E73: =+F73+G73 -> -7444.2 | F73: =+F75 -> -6187.3 | G73: =+G75 -> -1256.9 | H73: =+I73+J73 -> -6187.3 | I73: =+I75 -> -6187.3 | J73: =+J75 -> 0
D74: այդ թվում` ըստ կատարողների
D75: ՀՀ տարածքային կառավարման և ենթակառուցվածքների նախարարության ջրային կոմիտե | E75: =F75+G75 -> -7444.2 | F75: =+F77 -> -6187.3 | G75: =+G77 -> -1256.9 | H75: =I75+J75 -> -6187.3 | I75: =+I77 -> -6187.3 | J75: =+J77 -> 0
D76: այդ թվում` բյուջետային ծախսերի տնտեսագիտական դասակարգման հոդվածներ
D77: ԸՆԴԱՄԵՆԸ ԾԱԽՍԵՐ | E77: =+E78 -> -7444.2 | F77: =+F78 -> -6187.3 | G77: =+G78 -> -1256.9 | H77: =+H78 -> -6187.3 | I77: =+I78 -> -6187.3 | J77: =+J78 -> 0
D78: ԸՆԹԱՑԻԿ ԾԱԽՍԵՐ | E78: =+F78+G78 -> -7444.2 | F78: =+F79 -> -6187.3 | G78: =+G79 -> -1256.9 | H78: =+I78+J78 -> -6187.3 | I78: =+I79 -> -6187.3 | J78: =+J79 -> 0
D79: ԱՅԼ ԾԱԽՍԵՐ | E79: =+F79+G79 -> -7444.2 | F79: =+F80 -> -6187.3 | G79: =+G80 -> -1256.9 | H79: =+I79+J79 -> -6187.3 | I79: =+I80 -> -6187.3 | J79: =+J80 -> 0
D80: Այլ ծախսեր | E80: =+F80+G80 -> -7444.2 | F80: -6187.3 | G80: -1256.9 | H80: =+I80+J80 -> -6187.3 | I80: -6187.3 | J80: 0
C81: 12001 | D81: Գերմանիայի զարգացման և Եվրոպական միության հարևանության ներդրումային բանկի աջակցությամբ իրականացվող ջրամատակարարման և ջրահեռացման ենթակառուցվածքների դրամաշնորհային ծրագիր` երրորդ փուլ | E81: =+F81+G81 -> #REF! | F81: =+F83 -> #REF! | G81: =+G83 -> #REF! | H81: =+I81+J81 -> -1605169.3 | I81: =+I83 -> -1582265.3 | J81: =+J83 -> -22904
D82: այդ թվում` ըստ կատարողների
D83: ՀՀ տարածքային կառավարման և ենթակառուցվածքների նախարարության ջրային կոմիտե | E83: =F83+G83 -> #REF! | F83: =+F85 -> #REF! | G83: =+G85 -> #REF! | H83: =I83+J83 -> -1605169.3 | I83: =+I85 -> -1582265.3 | J83: =+J85 -> -22904
D84: այդ թվում` բյուջետային ծախսերի տնտեսագիտական դասակարգման հոդվածներ
D85: ԸՆԴԱՄԵՆԸ ԾԱԽՍԵՐ | E85: =+E86 -> #REF! | F85: =+F86 -> #REF! | G85: =+G86 -> #REF! | H85: =+H86 -> -1605169.3 | I85: =+I86 -> -1582265.3 | J85: =+J86 -> -22904
D86: ՈՉ ՖԻՆԱՆՍԱԿԱՆ ԱԿՏԻՎՆԵՐԻ ԳԾՈՎ ԾԱԽՍԵՐ | E86: =F86+G86 -> #REF! | F86: =+F87 -> #REF! | G86: =+G87 -> #REF! | H86: =I86+J86 -> -1605169.3 | I86: =+I87 -> -1582265.3 | J86: =+J87 -> -22904
D87: ՀԻՄՆԱԿԱՆ ՄԻՋՈՑՆԵՐ | E87: =+F87+G87 -> #REF! | F87: =+F88+#REF! -> #REF! | G87: =+G88+#REF! -> #REF! | H87: =+I87+J87 -> -1605169.3 | I87: =I88+I90 -> -1582265.3 | J87: =J88+J90 -> -22904
D88: ՇԵՆՔԵՐ ԵՎ ՇԻՆՈՒԹՅՈՒՆՆԵՐ | E88: =+F88+G88 -> -1764914.2 | F88: =+F89 -> -1466507.3 | G88: =+G89 -> -298406.9 | H88: =+I88+J88 -> -1494507.3 | I88: =+I89 -> -1494507.3 | J88: =+J89 -> 0
D89: - Շենքերի և շինությունների շինարարություն | E89: =+F89+G89 -> -1764914.2 | F89: =+-1494507.3+28000 -> -1466507.3 | G89: -298406.9 | H89: =+I89+J89 -> -1494507.3 | I89: -1494507.3 | J89: 0
D90: ԱՅԼ ՀԻՄՆԱԿԱՆ ՄԻՋՈՑՆԵՐ | H90: =I90+J90 -> -110662 | I90: =I91 -> -87758 | J90: =J91 -> -22904
D91: - Նախագծահետազոտական ծախսեր | H91: =I91+J91 -> -110662 | I91: -87758 | J91: -22904
C92: 31004 | D92: Եվրոպական միության հարևանության ներդրումային ծրագրի աջակցությամբ իրականացվող Երևանի ջրամատակարարման բարելավման դրամաշնորհային ծրագրի շրջանակներում Ջրամատակարարման և ջրահեռացման ենթակառուցվածքների հիմնանորոգում | E92: =+F92+G92 -> -513000 | F92: =+F94 -> -329000 | G92: =+G94 -> -184000 | H92: =+I92+J92 -> -353600 | I92: =+I94 -> -348000 | J92: =+J94 -> -5600
D93: այդ թվում` ըստ կատարողների
D94: ՀՀ տարածքային կառավարման և ենթակառուցվածքների նախարարության ջրային կոմիտե | E94: =F94+G94 -> -513000 | F94: =+F96 -> -329000 | G94: =+G96 -> -184000 | H94: =I94+J94 -> -353600 | I94: =+I96 -> -348000 | J94: =+J96 -> -5600
D95: այդ թվում` բյուջետային ծախսերի տնտեսագիտական դասակարգման հոդվածներ
D96: ԸՆԴԱՄԵՆԸ ԾԱԽՍԵՐ | E96: =+E97 -> -513000 | F96: =+F97 -> -329000 | G96: =+G97 -> -184000 | H96: =+H97 -> -353600 | I96: =+I97 -> -348000 | J96: =+J97 -> -5600
D97: ՈՉ ՖԻՆԱՆՍԱԿԱՆ ԱԿՏԻՎՆԵՐԻ ԳԾՈՎ ԾԱԽՍԵՐ | E97: =F97+G97 -> -513000 | F97: =+F98 -> -329000 | G97: =+G98 -> -184000 | H97: =I97+J97 -> -353600 | I97: =+I98 -> -348000 | J97: =+J98 -> -5600
D98: ՀԻՄՆԱԿԱՆ ՄԻՋՈՑՆԵՐ | E98: =+F98+G98 -> -513000 | F98: =+F99 -> -329000 | G98: =+G99 -> -184000 | H98: =+I98+J98 -> -353600 | I98: =+I99 -> -348000 | J98: =+J99 -> -5600
D99: ՇԵՆՔԵՐ ԵՎ ՇԻՆՈՒԹՅՈՒՆՆԵՐ | E99: =+F99+G99 -> -513000 | F99: =+F100 -> -329000 | G99: =+G100 -> -184000 | H99: =+I99+J99 -> -353600 | I99: =+I100 -> -348000 | J99: =+J100 -> -5600
D100: - Շենքերի և շինությունների կապիտալ վերանորոգում | E100: =+F100+G100 -> -513000 | F100: -329000 | G100: -184000 | H100: =+I100+J100 -> -353600 | I100: -348000 | J100: -5600
B101: 1049 | D101: Ճանապարհային ցանցի բարելավում | H101: =I101+J101 -> 115000 | I101: 0 | J101: =J103 -> 115000
...

Sheet h13ka
D1: Հավելված N13
D2: ՀՀ կառավարության 2023 թվականի
D3: ______________ ի ___Ն որոշման
A5: ՀԱՅԱUՏԱՆԻ ՀԱՆՐԱՊԵՏՈՒԹՅԱՆ ԿԱՌԱՎԱՐՈՒԹՅԱՆ 2022 ԹՎԱԿԱՆԻ ԴԵԿՏԵՄԲԵՐԻ 29-Ի N 2111-Ն ՈՐՈՇՄԱՆ N 5 ՀԱՎԵԼՎԱԾԻ N 2 ԱՂՅՈՒՍԱԿՈՒՄ ԿԱՏԱՐՎՈՂ ՓՈՓՈԽՈՒԹՅՈՒՆՆԵՐԸ ԵՎ ԼՐԱՑՈՒՄԸ
D6: հազար դրամներով
A7: Ծրագրային դասիչը | C7: Բյուջետային գլխավոր կարգադրիչների, ծրագրերի, միջոցառումների և ուղղությունների անվանումները | D7: Ցուցանիշների փոփոխությունը (ավելացումները նշված են դրական նշանով, իսկ նվազեցումները` փակագծերում)
A8: Ծրագիր | B8: Միջոց_x000D_առում | D8: Տարի
C9: ԸՆԴԱՄԵՆԸ | D9: =+D11 -> -2902867.5
C10: այդ թվում`
C11: ՀՀ տարածքային կառավարման և ենթակառուցվածքների նախարարություն | D11: =D13+D16+D21+D27+D30+D36+D57+D60+D41 -> -2902867.5
C12: այդ թվում՝
A13: 1004 | B13: 31009 | C13: Օրվա կարգավորման ջրավազանների կառուցում և վերակառուցում | D13: =D15 -> -266809.6
C14: այդ թվում` ըստ կատարողների
C15: ՀՀ կառավարություն | D15: ='h9'!H231 -> -266809.6
A16: 1004 | B16: 31011 | C16: Խորքային հորերի վերականգնում | D16: =D18 -> -206427.9
C17: այդ թվում` ըստ կատարողների
C18: ՀՀ տարածքային կառավարման և ենթակառուցվածքների նախարարության ջրային կոմիտե | D18: =D20 -> -206427.9
C19: այդ թվում` ըստ ուղղությունների
C20: Տվյալների առցանց փոխանցմամբ ջրահաշվիչ (ջրաչափիչ) սարքերի ձեռքբերում | D20: ='h9'!H240 -> -206427.9
A21: 1004 | B21: 31012 | C21: Գետերի և հեղեղատարների տեղամասերի ամրացման և մաքրման աշխատանքներ | D21: =D23 -> -180651.8
C22: այդ թվում` ըստ կատարողների
C23: ՀՀ տարածքային կառավարման և ենթակառուցվածքների նախարարության ջրային կոմիտե | D23: =D25+D26 -> -180651.8
C24: այդ թվում` ըստ ուղղությունների
C25: Նարեկի սելավատարի հունի մաքրում 2945 մ և ափերի ամրացում 380 մ | D25: -30651.8
C26: ՀՀ Արարատի մարզի Արաքսավան և Բուրաստան համայնքների Արաքս գետի N16-ից մինչև N14 սահմանների միջակայքում Արաքս գետի նախկին հունի վերականգման և N16 սահմանանշանի մոտակայքում Արաքս գետի հայկական կողմի մոտ 130 մ երկարությամբ և 8 մ խորությամբ ողողված պատնեշի վերականգնման աշխատանքների, նախագծանախահաշվային փաստաթղթերի և փորձաքննության ձեռքբերում | D26: -150000
A27: 1004 | B27: 31013 | C27: Փոքր և միջին ջրամբարների կառուցում | D27: =D29 -> -374025
C28: այդ թվում` ըստ կատարողների
C29: ՀՀ տարածքային կառավարման և ենթակառուցվածքների նախարարության ջրային կոմիտե | D29: ='h9'!H258 -> -374025
A30: 1004 | B30: 31014 | C30: Ջրամբարների վերականգնման և վերազինման աշխատանքներ | D30: =D32 -> -64813.1
C31: այդ թվում` ըստ կատարողների
C32: ՀՀ տարածքային կառավարման և ենթակառուցվածքների նախարարության ջրային կոմիտե | D32: =D34+D35 -> -64813.1
C33: այդ թվում` ըստ ուղղությունների
C34: Ապարանի ջրամբարի վերանորոգում | D34: ='h9'!H267 -> -59313.1
C35: ՀՀ Գեղարքունիքի մարզի Գեղարքունի 2 ջրամբարի վերականգնման աշխատանքներ | D35: ='h9'!H269 -> -5500
A36: 1004 | B36: 31020 | C36: Ոռոգման համակարգերի կառուցում | D36: =D38 -> -3523.9
C37: այդ թվում` ըստ կատարողների
C38: ՀՀ տարածքային կառավարման և ենթակառուցվածքների նախարարության ջրային կոմիտե | D38: =D40 -> -3523.9
C39: այդ թվում` ըստ ուղղությունների
C40: Բուսաբանական այգու ոռոգման ցանցի կառուցում՝ Սարկավագի փողոցի ջրանցքից մինչ Բուսաբանական այգու պարսպի հատված | D40: -3523.9
A41: 1049 | B41: 21001 | C41: Պետական նշանակության ավտոճանապարհների հիմնանորոգում | D41: =D43 -> -1190198
C42: այդ թվում` ըստ կատարողների
C43: ՀՀ տարածքային կառավարման և ենթակառուցվածքների նախարարություն | D43: =D45+D49+D51 -> -1190198
C44: այդ թվում՝ ըստ ուղղությունների
B45: 1 | C45: Միջպետական նշանակության ավտոճանապարհներ, այդ թվում | D45: =D46+D47+D48 -> -1062654.1
C46: Մ-2, Երևան-Երասխ-Գորիս-Մեղրի-Իրանի սահման միջպետական նշանակության ավտոճանապարհի կմ77+350 - կմ82+000 հատվածի հիմնանորոգում | D46: =h10k!D33 -> -21704.451
C47: Մ-2, (Սյունիք) /Մ-2/ - Աղվանի- Տաթև - /Մ-2/ միջպետական նշանակության ավտոճանապարհի Վերին Խոտանանը շրջանցող ճանապարհահատվածի կառուցում (II փուլ) | D47: =h10k!D34 -> -902909.79
C48: Մ-2, Երևան-Երասխ-Գորիս-Մեղրի-Իրանի սահման միջպետական նշանակության ավտոճանապարհի կմ297+800-կմ311+250 հատվածի հիմնանորոգման աշխատանքների (2-րդ տեղամաս՝ կմ301+820 - կմ311+250 հատված) | D48: =h10k!D35 -> -138039.88
B49: 2 | C49: Հանրապետական նշանակության ավտոճանապարհներ, այդ թվում | D49: =D50 -> 160465.49
C50: Հ-4, Երևան - Եղվարդ - Արագյուղ - Հարթավան - /Մ-3/ հանրապետական նշանակության ավտոճանապարհի կմ0+000-կմ15+600 հատվածի հիմնանորոգում | D50: =h10k!D37 -> 160465.49
B51: 3 | C51: Մարզային նշանակության ավտոճանապարհներ, այդ թվում | D51: =D52+D53+D54+D55+D56 -> -288009.4
C52: Տ-5-23, /Մ-3/ - Սարամեջ ավտոճանապարհի կմ0+000-կմ4+300 հատվածի հիմնանորոգում | D52: =h10k!D39 -> -1074.872
C53: Տ-5-24,/Մ-3/ (Ստեփանավան) – Արմանիս – Ուրասար – Կաթնաղբյուր տեղական նշանակության ավտոճանապարհի կմ 6+600-կմ 15+200 հատվածի և Կաթնաղբյուր համայնքի 8-րդ և 9-րդ փողոցների հիմնանորոգում | D53: =h10k!D40 -> -258512.2
C54: Վանաձոր քաղաքային համայնքի Գրիգոր Լուսավորիչ փողոցի հիմնանորոգում | D54: =h10k!D41 -> -189.575
C55: Գյումրի համայնքի օղակային փողոցի կմ0+000 - կմ2+500 (Մ-7-ի հետ հատման կետ) հատվածի հիմնանորոգում | D55: =h10k!D42 -> -5266.327
C56: /Մ-12/-Կոռնիձոր-ՀՀ սահման ավտոճանապարհի կմ4+000-կմ 9+000 հատվածի վերակառուցում | D56: =h10k!D43 -> -22966.418
A57: 1049 | B57: 21019 | C57: Վթարային իրավիճակներում արտակարգ օպերատիվ ծառայությունների կանչի ավտոմատացված համակարգերի ներդրում | D57: =D59 -> -566418.2
C58: այդ թվում` ըստ կատարողների
C59: ՀՀ տարածքային կառավարման և ենթակառուցվածքների նախարարություն | D59: ='h17'!G76 -> -566418.2
A60: 1049 | B60: 31002 | C60: Տրանսպորտային միջոցների տեխնիկական զննության գործընթացի ավտոմատացված համակարգի ներդրում | D60: =D62 -> -50000
C61: այդ թվում` ըստ կատարողների
C62: ՀՀ տարածքային կառավարման և ենթակառուցվածքների նախարարություն | D62: ='h17'!G79 -> -50000
C108: ՀԱՅԱՍՏԱՆԻ ՀԱՆՐԱՊԵՏՈՒԹՅԱՆ
C109: ՎԱՐՉԱՊԵՏԻ ԱՇԽԱՏԱԿԱԶՄԻ
C110: ՂԵԿԱՎԱՐ ՝

Sheet h14
E1: Հավելված № 14
E2: ՀՀ կառավարության 2023 թվականի
E3: -------------- ի № ---- -Ն որոշման
B5: «ՀԱՅԱՍՏԱՆԻ ՀԱՆՐԱՊԵՏՈՒԹՅԱՆ 2023 ԹՎԱԿԱՆԻ ՊԵՏԱԿԱՆ ԲՅՈՒՋԵԻ ՄԱՍԻՆ» ՕՐԵՆՔԻ N 1 ՀԱՎԵԼՎԱԾԻ N 7 ԱՂՅՈՒՍԱԿՈՒՄ ԵՎ ՀԱՅԱՍՏԱՆԻ ՀԱՆՐԱՊԵՏՈՒԹՅԱՆ ԿԱՌԱՎԱՐՈՒԹՅԱՆ 2022 ԹՎԱԿԱՆԻ ԴԵԿՏԵՄԲԵՐԻ 29-Ի N 2111-Ն ՈՐՈՇՄԱՆ N 5 ՀԱՎԵԼՎԱԾԻ N 6 ԱՂՅՈՒՍԱԿՈՒՄ ԿԱՏԱՐՎՈՂ ԼՐԱՑՈՒՄՆԵՐԸ
E6: հազար դրամ
B7: Ծրագրային դասիչը | D7: Բյուջետային հատկացումների գլխավոր կարգադրիչների, ծրագրերի, միջոցառումների և միջոցառումները կատարող պետական մարմինների անվանումները | E7: Ցուցանիշների փոփոխությունը (ավելացումները նշված են դրական նշանով, իսկ նվազեցումները` փակագծերում)
B8: Ծրագիր | C8: Միջոցառում | E8: Տարի
D9: ԸՆԴԱՄԵՆԸ | E9: =E11 -> 5712833.3
D10: այդ թվում
D11: Կապիտալ սուբվենցիաներ համայնքներին | E11: =E13 -> 5712833.3
D12: այդ թվում`
D13: ՀՀ տարածքային կառավարման և ենթակառուցվածքների նախարարություն | E13: =+E15 -> 5712833.3
D14: այդ թվում`
B15: 1212 | D15: Տարածքային զարգացում | E15: =+E17 -> 5712833.3
D16: այդ թվում`
C17: 12007 | D17: ՀՀ մարզերին սուբվենցիաների տրամադրում՝ ենթակառուցվածքների զարգացման նպատակով | E17: =E19+E24+E33+E48+E65+E74+E89+E96+E114+E106 -> 5712833.3
D18: այդ թվում` ըստ կատարողների
D19: ՀՀ Արագածոտնի մարզպետի աշխատակազմ | E19: =SUM(E21:E23) -> 176956.2
D20: այդ թվում` ըստ ուղղությունների
D21: Աշտարակ համայնքի Աշտարակ, Աղձք, Բյուրական, Արագածոտն և Օրգով բն․ գազիֆիկացում | E21: 105433.2
D22: Ալագյազ համայնքի Ճարճակիս բն․ գազիֆիկացում | E22: 49708.9
D23: Ալագյազ համայնքի Ալագյազ, Ջամշլու, Սադունց և Շենկանի բն․ գերեզմանատների ցանկապատում | E23: 21814.1
D24: ՀՀ Արարատի մարզպետի աշխատակազմ | E24: =SUM(E26:E32) -> 888262.3
D25: այդ թվում` ըստ ուղղությունների
D26: Մասիս համայնքի բնակավայրերում փողոցային լուսավորության համակարգի կառուցում և նորոգում /1.Նիզամի, Դաշտավան, Ազատաշեն,Ռանչպար, Գետափնյա, 3․ Մարմարաշեն, Արևաբույր,, Այնթապ, Ջրահովիտ, Նոր Խարբերդ, 5․ Արբաթ, Զորակ, Դաշտավան, , Դարակերտ, Նորամարգ, Խաչփար, , Այնթապ, Սիս,Դարբնիկ | E26: 302850.9
D27: Մասիս համայնքի Ազատաշեն, Արբաթ, Արևաբույր, Գետափնյա, Գեղանիստ, Դաշտավան, Դարակերտ, Դարբնիկ, Զորակ, Խաչփար, Հայանիստ, Մարմարաշեն, Նորաբաց, Նոր Կյուրին, Ջրահովիտ և Սայաթ-Նովա բնակավայրերում ոռոգման համակարգի կառուցում և նորոգում /Արևաբույր, Ջրահովիտ, Նոր Կյուրին/ | E27: 280099
D28: Արտաշատ համայնքի Բարձրաշեն, Դեղձուտ, Դիմիտրով, Մրգանուշ, Մրգավետ, Քաղցրաշեն, Աբովյան, Այգեզարդ, Արաքսավան, Դիտակ, Դվին, Մխչյան, Մրգավան, Ոստան բնակավայրերի գազաֆիկացման աշխատանքներ | E28: 41751.9
D29: Արարատ համայնքի Արարատ քաղաքի, Զանգակատուն, Երասխ, Ավշար, Նոյակերտ և Ուրցալանջ բնակավայրերի ճանապարհների վերանորոգում ասֆալտապատմամբ /ք․ Արարատ, ՈԿՖ բանավան, Երասխ/ | E29: 89647.9
D30: Մասիս համայնքում բնակավայրերի գազաֆիկացում /Այնթապ, Արբաթ, Դաշտավան, Դարակերտ, Նորաբաց, Սայաթ - Նովա/ | E30: 60750
D31: Արարատ համայնքի բնակավայրերի մանկապաևտեզների համար գույքի ձեռքբերում | E31: 61091
D32: Արարատ համայնքի Արարատ քաղաքային, Պարույր Սևակ, Ուրցալանջ, Զանգակատուն, Ավշար, Արմաշ, Նոյակերտ և Սուրենավան բնակավայրերի փողոցային լուսավորության համակարգի կառուցում և վերակառուցում արևային և լեդ լուսատուներով | E32: 52071.6
D33: ՀՀ Արմավիրի մարզպետի աշխատակազմ | E33: =SUM(E35:E47) -> 903456.5
D34: այդ թվում` ըստ ուղղությունների
D35: Արմավիր համայնքի Արմավիր քաղաքի թիվ 2 մանկապարտեզ ՀՈԱԿ-ի հիմնանորոգում, թիվ 3 և թիվ 7 մանկապարտեզ ՀՈԱԿ-ների ջեռուցման համակարգերի կառուցում, գազաֆիկացում, հին դռների և պատուհանների նորով փոխարինում, Արաքս գյուղի մանկապարտեզի շենքի հիմնանորոգում, Մյասնիկյան գյուղի մանկապարտեզ ՀՈԱԿ-ի ջեռուցման համակարգի կառուցում և սանհանգույցի վերանորոգում, Լուկաշին գյուղի մանկապարտեզ ՀՈԱԿ-ի ջեռուցման համակարգի կառուցում, Սարդարապատ գյուղի մանկապարտեզ ՀՈԱԿ-ի հիմնանորոգում, գազաֆիկացում և ջեռուցման համակարգի կառուցում /Արաքս գյուղի մանկապարտեզի շենքի հիմնանորոգում/ | E35: 195951.3
D36: Մեծամոր համայնքի ք.Մեծամորի թիվ 2, թիվ 3 մանկապարտեզների հիմնանորոգման և հարակից տարածքների բարեկարգման, Տարոնիկ և Տանձուտ բնակավայրերի մանկապարտեզների հիմնանորոգման աշխատանքներ | E36: 244585.2
D37: Խոյ համայնքի խորքային հորերի հիմնանորոգում (Արագած N-1, N-2, Արշալույս N-1, N-2, N-3, N-4, N-5, N-6, N-7, N-8, Գեղակերտ N-1, Հայթաղ N-1, N-2, N-3, Մրգաստան N-1, Ծաղկունք N-1, N-2, Ծաղկալանջ N-2, Ծիածան N-1) և Ծիածան բնակավայրի ներտնտեսային ոռոգման ջրագծերի կառուցում /Արշալույս N-և N-3, Հայթաղ N-1/ | E37: 33805.8
D38: Մեծամոր համայնքի նախկին պոլիկլինիկայի շենքը Մեծամորի համայնքապետարանի վարչական շենք դարձնելու նպատակով վերանորոգման աշխատանքներ | E38: 88348.8
D39: Փարաքար համայնքի Բաղրամյան բնակավայրիԱյգեգործներիփողոցի,Թումանյան փողոցի Շիրազի փողոցի, Պտղունք բնակավայրի Ագաթանգեղոս փողոցի, Մուսալեռ բնակավայրի Տիգրան Մեծ փողոցի, Մերձավան բնակավայրի 1-ին, 2-րդ, 3-րդ և 4-րդ փողոցների և Այգեկ բնակավայրի 2-րդ և 3-րդ փողոցների, Փարաքար բնակավայրի Արցախի թաղամասի և Մհեր Մկրտչյան փողոցի գազաֆիկացում/Մուսալեռ գյուղի Տիգրան Մեծ թաղամասի 1-ին, 2-րդ, 3-րդ, 4-րդ, 5-րդ, 6-րդ և 7-րդ փողոցների գազիֆիկացում/ | E39: 19717.3
D40: Արգինա բնակավայրի Տիգրան Մեծ և Աբովյան փողոցների ասֆալտապատում, Արտամետ բնակավայրի Գ. Նժդեհ փ. ասֆալտապատում, Բագարան բնակավայրի Գ.Մարզպետունի կենտրոնական փողոցի շարունակության ասֆալտապատում, Բաղրամյան բնակավայրի Սարի Թաղ փողոցի ասֆալտապատում, Դալարիկ բնակավայրի Մյասնիկյան և Օրջոնիկիձե փողոցների ասֆալտապատում, Երվանդաշատ բնակավայրի Սահմանապահների փողոցի ասֆալտապատում, Բերդակ փողոցի ասֆալտապատում, Խաչին Տակ փողոցի ասֆալտապատում, Լեռնագոգ բնակավայրի Ա.Խաչատրյան փողոցի ասֆալտապատում, Հուշակերտ բնակավայրի 5-րդ փողոցի շարունակության ասֆալտապատում, 4-րդ փողոցի սկզբնամաս, 5-րդ և 4-րդ փողոցների միացվող հատվածի ասֆալտապատում, Շենիկ բնակավայրի Տերյան փողոցի ասֆալտապատում, Վանանդ բնակավայրի Ա. Մարտիրոսյան և Պ. Սևակ փողոցների, Պ. Սևակ փողոցի մի հատվածի և Հ Քոչարի, Զ. Սահակյան փողոցիասֆալտապատում, Տալվորիկ բնակավայրի Գ. Չաուշ, Անդրանիկ, Արաբո, Նժդեհ փողոցների ասֆալտապատում, Քարակերտ բնակավայրի Երկաթուղայիններ փողոցի ասֆալտապատում, Բաբաջանյան փողոցի ասֆալտապատում, գերեզմանատուն տանող ճանապարհի և Սարյան փողոցի ասֆալտապատում / Երվանդաշատ բնակավայրի Բերդակի փողոցի,Լեռնագոգ բնակավայրի 1-ին,Լեռնագոգ բնակավայրի 12-րդ,Վանանդ բնակավայրի Պ․Սևակ փողոցի և Վանանդ բնակավայրի Զ.Սահակյան փողոցի ասֆալտապատում, Արգինա բնակավայրի Տիգրան Մեծ,Քարակերտ բնակավայրի Բաբաջանյան փողոցի,գերեզմանատուն տանող ճանապարհի և Սարյան փողոցի ասֆալտապատում/ | E40: 65269.5
D41: Փարաքար համայնքի Փարաքար բնակավայրի Է. Թևոսյան և Րաֆֆու փողոցների կոյուղագծի կառուցում | E41: 16764.8
D42: ՀՀ Արմավիրի մարզի Արմավիր համայնքի Արմավիր քաղաքի Շահումյան փողոցի Արարատյան-Ջիվանի և Չարենց-Բաղրամյան հատվածների ջրամատակարարման համակարգերի վերակառուցում, Հացիկ գյուղի ջրամատակարարման համակարգի վերակառուցում, | E42: 17953.5
D43: Արմավիր համայնքի Արմավիր քաղաքի Սահմանապահների փողոցի Հանրապետություն -Աբովյան և Երևանյան-Շահումյան հատվածների հիմնանորոգում,Թումանյան փողոցի Երևանյան-Շահումյան հատվածի հիմնանորոգում, Հ․Ավետիսյան փողոցի Երևանյան- Շահումյան հատվածի հիմնանորոգում, Շահումյան փողոցի Արարատյան-Ջիվանի և Չարենց-Բաղրամյան հատվածների հիմնանորոգում, Նորավան գյուղի կենտրոնական փողոցի կառուցում, Այգեվան գյուղի կենտրոնական փողոցի հիմնանորոգում, կառուցում, Մյասնիկյան գյուղի Բաղրամյան փողոցի կառուցում, Լուկաշին գյուղի Թամանյան փողոցի հիմնանորոգում /Այգեվան գյուղի կենտրոնական փողոցի հիմնանորոգում, կառուցում,Նորավան գյուղի կենտրոնական փողոցի կառուցում, Լուկաշին գյուղի Թամանյան փողոցի հիմնանորոգում/ | E43: 78802.9
D44: Մեծամոր համայնքի Եղեգնուտ բնակավայրի «Ակադեմիայի», «Վարդանի», Արտաշար բնակավայրի «Ախթամար», Վարդանաշեն բնակավայրի «Գյուղի սկզբի», Արազափ բնակավայրի «Զաստավի», Արևիկ բնակավայրի «Հովիկի», Մրգաշատ բնակավայրի «Ճլլիկներ 2-րդ», Մարգարա բնակավայրի «3-րդ փողոցի», Արմավիր բնակավայրի «Գագիկի տան մոտ», Տարոնիկ բնակավայրի «Տրուբի», Արգավանդ բնակավայրի «Վալոդի», Բամբակաշատ բնակավայրի «Բաշնիայի», Փշատավան բնակավայրի «Ամարի գոմի մոտ», Ջրաշեն բնակավայրի «Սարի տակի», Ակնալիճ բնակավայրի «Կրակակետի», Երասխահուն բնակավայրի «Ղաչաղի», Նոր Արմավիր բնակավայրի «Ստյոպի հողի տակի», Այգեշատ բնակավայրի «Կոկոյի» խորքային հորերի վերականգնում/ Վարդանաշեն, բնակավայրի խմելու ջրամատակարարման ցանցերի կառուցում/ | E44: 82787.2
D45: Մեծամոր համայնքի Ալաշկերտ, Ամասիա, Արգավանդ, Արևիկ, Բամբակաշատ, Գետաշեն, Հայկավան, Նալբանդյան, Նոր Արմավիր, Նոր Արտագերս, Նոր Կեսարիա, Շենավան, Ջանֆիդա, Ջրաշեն, Վարդանաշեն, Փշատավան, Տարոնիկ և Մրգաշատ բնակավայրերի խմելու ջրամատակարարման ցանցերի կառուցում/ Վարդանաշեն, բնակավայրի խմելու ջրամատակարարման ցանցերի կառուցում/ | E45: 17812.7
D46: Բաղրամյան համայնքի Դալարիկ բնակավայրի Օրջոնիկիձե 6 և Օրջոնիկիձե 8 հասցեների բազմաբնակարան բնակելի շենքերի տանիքների վերակառուցում /Օրջոնիկիձե 8 բազմաբնակարան բնակելի շենքի տանիքների հիմնանորոգում/ | E46: 15617.5
D47: Մեծամոր համայնքի Մեծամոր քաղաքի 1-ին թաղամասի 2Բ1, 3Բ, 4Բ2, 5Բ, 6Բ2 և 2-րդ թաղամասի 1Բ, 2Բ, 3Բ շենքերի վերելակների փոխարինում | E47: 26040
D48: ՀՀ Գեղարքունիքի մարզպետի աշխատակազմ | E48: =SUM(E50:E64) -> 1249457.5
D49: այդ թվում` ըստ ուղղությունների
D50: Ճամբարակ համայնքի Ճամբարակ քաղաքի ջրամբարի արտաքին ջրագծի և ջրընդունիչի վերակառուցման, Վերին Ճամբարակ թաղամասի «Զնգզնգան աղբյուր» ջրագծի վերակառուցման, Վահան բնակավայրի արտաքին ջրագծի վերանորոգման, Այգուտ բնակավայրի արտաքին ջրագծի վերակառուցման աշխատանքներ/Վահան, Այգուտ/ | E50: 51427.7
D51: Վարդենիս համայնքի Ռոմանի փողոցի ասֆալտապատում և կահավորում | E51: 14689.8
D52: Գավառ համայնքում եւ Ծովազարդ, Լճափ, Հայրավանք, Նորատուս, Կարմիրգյուղ, Գեղարքունիք, Լանջաղբյուր, Սարուխան, Գանձակ և Ծաղկաշեն գյուղերում խաղահրապարակների եւ պուրակների կառուցում / Գավառ բն․ Արծվաքար թաղամաս,Գեղարքունիք,Լանջաղբյուր/ | E52: 20096.9
D53: Գավառ քաղաքում և Նորատուս գյուղում ասֆատապատման աշխատանքների իրականացում | E53: 153252
D54: Ճամբարակ համայնքի Վերին Ճամբարակ թաղամասում նոր խաղահրապարակի կառուցման, Ճամբարակի կենտրոնական զբոսայգու բարեկարգման, ցանկապատի վերանորոգման, 44-օրյա պատերազմում Ճամբարակ համայնքից զոհված զինծառայողներին հարգանքի տուրք մատուցելու համար հուշահամալիրի կառուցման և <<Տոռնադո>> պատկերով հուշարձան-քանդակի ձեռքբերման աշխատանքներ /Տոռնադո հուշարձան, Վերին Ճամբարակ թաղամասում նոր խաղահրապարակի կառուցման, Ճամբարակի կենտրոնական զբոսայգու բարեկարգման, ցանկապատի վերանորոգման / | E54: 24259.2
D55: Մարտունի համայնքի «Մարտունի քաղաքում և համայնքի Արծվանիստ, Ծովինար, Վարդենիկ, Զոլաքար, Աստղաձոր, Վաղաշեն, Գեղհովիտ, Լեռնակերտ, Մադինա, Վ Գետաշեն և Ձորագյուղ բնակավայրերում ոռոգման ջրատարների կառուցում և վերանորոգում» /ք․ Մարտունի, Գեղհովիտ, Լեռնակերտ/ | E55: 156821.1
D56: Մարտունի համայնքի «Մարտունի համայնքի Արծվանիստ, Ծովինար, Զոլաքար, Աստղաձոր, Լիճք, Ծակքար, Ձորագյուղ, Վարդաձոր, Վարդենիկ և Երանոս բնակավայրերում խմելու նոր ջրագծերի կառուցում և Վարդաձոր, Վարդենիկ և Ծովինար բնակավայրերում խմելու ջրի կապտաժիների կառուցում» /Զոլաքար,Ձորագյուղ / | E56: 114844.9
D57: Մարտունի համայնքի «Մարտունի քաղաքում և համայնքի Արծվանիստ, Ծովինար, Վարդենիկ, Զոլաքար, Աստղաձոր, Վաղաշեն, Գեղհովիտ, Լեռնակերտ, Մադինա, Վ Գետաշեն և Ձորագյուղ բնակավայրերում ոռոգման ջրատարների կառուցում և վերանորոգում» /Արծվանիստ, Ծովինար/ | E57: 102368.1
D58: Վարդենիս համայնքի Վարդենիս քաղաքի 6 հատ բազմաբնակարան բնակելի շենքների տանիքների հիմնանորոգում` Խ Ստեփանյան 5, Խ Ստեփանյան 7, Երիտասարդության 3,Երիտասարդության 12 , Ա․ Սեսմանուկյան 5, Լեռնագործների 1/2: /Խ․ Ստեփանյան 5 և 7, Երիտասարդության 3 և 12, / | E58: 44045.7
D59: Վարդենիս համայնքի Ախպրաձոր, Ակունք, Արփունք, Լուսակունք, Խաչաղբյուր, Մաքենիս, Շատջրեք, Տրետուք, Մեծ Մասրիկ, Նորաբակ բնակավայրերում ոռոգման ջրի գրագծերի կառուցում կամ վերակառուցում /Շատջրեք/ | E59: 72479
D60: Վարդենիս համայնքի 4 հատ բազմաբնակարան շենքերի տանիքների հիմնանորոգում (Խ. Ստեփանյան3, Երիտասարդության 6, Սեսմանուկյան 1 և Սեսմանուկյան 1նրբ 14 շենքեր/ | E60: 41515.4
D61: Մարտունի համայնքի Մարտունի համայնքային կենտրոնի Գարեգին Նժդեհ, Կոմիտաս, Գետափնյա 2, Կարապետյան փողոցների, Արծվանիստ, Ծովինար, Վարդենիկ, Զոլաքար, Գեղհովիտ, Գեղհովիտ բնակավայրի Լեռնակերտ տարածքի,Ն. Գետաշեն, Վ. Գետաշեն, Լիճք, Ծակքար, Ձորագյուղ, Վարդաձոր, Երանոս բնակավայրերում տարբեր փողոցների երթևեկելի հատվածների ասֆալտապատում, ինչպես նաև Ծակքար բնակավայրի 6-րդ և 10-րդ փողոցները միացնող կամրիջի կառուցում/Կարապետյան, Գարեգին Նժդեհ, Կոմիտաս, Գետափնյա 2, Գեղհովիտ բն․, Զոլաքար, Ն․ Գետաշեն,Լիճք, Վարդաձոր, Երանոս / | E61: 258021.4
... D64: Մարտունի համայնքի Մարտունի քաղաքի Պռոշյան 2, Երևանյան 36, 42, 43 և 51 բազմաբնակարան բնակելի շենքերի տանիքների վերանորոգում /Երևանյան 36, 42/ | E64: 23756.1
D65: ՀՀ Լոռու մարզպետի աշխատակազմ | E65: =SUM(E67:E73) -> 363094.4
D66: այդ թվում` ըստ ուղղությունների
D67: Վանաձոր համայնքի Դարպաս բն․ 3-րդ և 4-րդ փողոցների հիմնանորոգում | E67: 26922.6
D68: Սպիտակ համայնքի Սպիտակ բնակավայրի Էստոնական և Տաշիր թաղամասերի գլխավոր ճանապարհների, Ծաղկաբեր բն․ 3-րդ փող, Լեռնանցք բն․ «Նոր գյուղի» կենտրոնական ճանապարհի սալարկում տուֆով և ջրահեռացման համակարգի կառուցում /Լեռնանցք/ | E68: 22428.1
D69: Վանաձոր համայնքի Ավետիք Իսահակյան փողոցի ասֆալտապատում | E69: 49288.9
D70: Սպիտակ համայնքի Կաթնաջուր բն ոռոգման ջրագծի պոմպակայանի տեղադրում, Լեռնավան, Գեղասար և Արջահովիտ բն․ ոռոգման ցանցի ընդլայնում, Շենավան և Գոգարան բն․ ոռոգման ցանցի կառուցում, Սարամեջ բն․ ոռոգման ջրամբարների վերանորոգում, Սարահարթ բն ոռոգման համակարգի ընդլայնում և պոմպակայանի վերանորոգում, | E70: 150047.5
D71: Ալավերդի համայնքի Մեծ Այրում և Ճոճկան բն․ ոռոգման համակարգերի ներքին ցանցի և Ճոճկան բն․ ՕԿՋ-ի կառուցում | E71: 69169.6
D72: Տաշիր համայնքում աղբավայրի կոնսերվացման/փակման/ ծրագիր | E72: 13239.2
D73: Լոռի Բերդ համայնքի Ագարակ, Լեջան, Կողես, Յաղդան և Սվերդլով բն․ գիշերային լուսավորության համակարգերի կառուցում | E73: 31998.5
D74: ՀՀ Կոտայքի մարզպետի աշխատակազմ | E74: =SUM(E76:E88) -> 928951.8
D75: այդ թվում` ըստ ուղղությունների
D76: Նաիրի համայնքի Զովունի բնակավայրի խմելու ջրի ներհամայնքային ցանցի կառուցման աշխատանքներ | E76: 152765.2
D77: Բալահովիտ բնակավայրում նոր մանկապարտեզի շենքի կառուցում | E77: 44240
D78: Գառնի համայնքի Ս Շահումյան 4 հասցեում գտնվող համայնքապետարանի շենքի նկուղի նորոգման աշխատանքներ | E78: 8305.8
D79: Նոր Հաճըն համայնքի Արգել բնակավայրի մանկապարտեզի հիմնանորոգման աշխատանքներ | E79: 92186.8
D80: Նոր Հաճն համայնքի Քարաշամբ, Նոր Արտամետ, Նոր Գեղի, Արգել, Գետամեջ և Թեղենիք բնակավայրերի արտաքին լուսավորության անցկացում /Նոր Գեղի, Քարաշամբ/ | E80: 23395.5
D81: Ակունք համայնքի Կոտայք բնակավայրի ջրամատակարարման համակարգերի բարելավում | E81: 35935.5
D82: Ակունք համայնքի Ակունք բնակավայրի 4-րդ և 19-րդ, փողոցների ասֆալտապատում | E82: 13299.3
D83: Ակունք համայնքի Էքսկավատոր-բեռնիչի ձեռքբերում | E83: 24305
D84: Նաիրի համայնքի Արագյուղ, Բուժական, Սարալանջ, Զորավան, Զովունի, Քասախ, Պռոշյան և Եղվարդ բնակավայրերի ճանապարհների ասֆալտապատման աշխատանքներ/Քասախ և Պռոշյան/ | E84: 72203
D85: Նաիրի համայնքի Եղվարդ, Արագյուղ, Սարալանջ և Զորավան բնակավայրերի և Եղվարդ բնակավայրի Երևանյան թաղամասի խմելու ջրագծերի բարելավում | E85: 33072.6
D86: Նաիրի համայնքի Պռոշյան, Քասախ , Բուժական և Արագյուղ բնակավայրերի ոռոգման համակարգի կառուցում | E86: 71033.8
D87: Նաիրի համայնքի Եղվարդ, Քասախ, Բուժական բնակավայրերում կոյուղու ցանցի կառուցում | E87: 115233.9
D88: Աբովյան համայնքի Աբովյան քաղաքի Նաիրյան փողոցի Ս․ Մնացականյան փողոցի, 2-րդ միկրոշրջանի 7-րդ դպրոց տանող ճանապարհների, Առինջ գյուղի Ստեփան Առինջեցու փողոցի 1-ին փակուղու, Պ Դուրյան թաղամասի 4-րդ և 7-րդ փողոցները կապող հատվածի , Պ Սևակի 3-րդ փողոցի, Ա թաղամասի 2-րդ և 3-րդ փողոցների,Դ Խաչատրյան փողոցի 2-րդ նրբանցքի, Ձագավանքի փողոցի՝ Արամուս գյուղի կենտրոնական փողոցի , Ջրմուղ փողոցից մինչև գյուղի վերջ, 3-րդ փողոցի, 1-ին փողոցի, 2-րդ փողոցի, Մայակովսկի գյուղի 12-րդ փողոցի 1-ին փակուղու,13-րդ փողոցի , 2-րդ փողոցի 1-ին և 2-րդ փակուղիների, 1-ին փողոցի 1-ին փակուղու,Կաթնաղբյուր գյուղի 5-րդ փողոցի , Գետարգել գյուղի Վերդյան փողոցի ասֆալտապատման և եզրաքարերի փոխարինման, Վերին Պտղնի Նորավան թաղամասի 2-րդ փողոցի , Բալահովիտ գյուղի Ծաղկունք թաղամասի 3-րդ փողոցի 2-րդ և 3-րդ նրբանցքների, Պտղնի գյուղի 1-ին փողոցի 1-ին նրբանցքի, 4-րդ փողոցի , Գեղաշեն գյուղի 3-րդ թաղամասի 3-րդ և 4-րդ փողոցների և դրանց միացումների, 1-ին փողոցի 5-րդ փակուղու, 6-րդ փողոց 2-րդ փակուղու,, Կամարիս գյուղի 2-րդ փողոցի, 3-րդ փողոցի 1-ին նրբանցքի, 1-ին փողոցի 1-ին նրբանցքի ասֆալտապատմանն աշխատանքներ /Աբովյան քաղաքի Նաիրյան փողոցի Ս․ Մնացականյան փողոցի, 2-րդ միկրոշրջանի 7-րդ դպրոց տանող ճանապարհների, Առինջ գյուղի Ստեփան Առինջեցու փողոցի 1-ին փակուղու, Պ Դուրյան թաղամասի 4-րդ և 7-րդ փողոցները կապող հատվածի , Պ Սևակի 3-րդ փողոցի, Ա թաղամասի 2-րդ և 3-րդ փողոցների,Դ Խաչատրյան փողոցի 2-րդ նրբանցքի, Ձագավանքի փողոցի, Գետարգել գյուղի Վերդյան փողոցի ասֆալտապատման և եզրաքարերի փոխարինման/ | E88: 242975.4
D89: ՀՀ Շիրակի մարզպետի աշխատակազմ | E89: =SUM(E91:E95) -> 196891.9
D90: այդ թվում` ըստ ուղղությունների
D91: Հայաստանի Հանրապետության Շիրակի մարզի Ախուրյան համայնքի՝ Բենիամին, Ազատան, Երազգավորս, և Ախուրյան բնակավայրերի ներբնակավայրային ճանապարհների ասֆալտապատման աշխատանքներ/Ազատան/ | E91: 52744
D92: Ամասիա համայնքի Ամասիա բն․ 2-րդ փողոցից մինչև 24-րդ փողոց ընկած հատվածի ասֆալտապատման աշխատանքներ | E92: 38309.5
D93: Արթիկ համայնքի Արթիկ, Արևշատ, Նահապետավան, Պեմզաշեն, Սարալանջ և Հառիճ բն․ ճանապարհների տուֆ քարով սալապատում | E93: 25052.8
D94: Արթիկ համայնքի Արթիկ բնակավայրի թվով 15 բազմաբնակարան շենքերի տանիքների վերանորոգում | E94: 54397.5
D95: Անի համայնքի կարիքների համար բազմաֆունկցիոնալ տեխնիկաների ձեռքբերում /էքսկավատոր բեռնիչ/ | E95: 26388.1
D96: ՀՀ Սյունիքի մարզպետի աշխատակազմ | E96: =SUM(E98:E105) -> 585909.9
D97: այդ թվում` ըստ ուղղությունների
D98: Կապան համայնքի «Կապանի թիվ 2 ՆՈՒՀ» ՀՈԱԿ-ի շենքի հիմնանորոգում և տարածքի բարեկարգում, «Արծվանիկ»ՆՈՒՀ ՀՈԱԿ-ի հարևանությամբ տարածքի բարեկարգում /Արծվանիկ/ | E98: 30919.1
D99: «Կապանի թիվ 9 ՆՈՒՀ» ՀՈԱԿ-ի շենքի վերակառուցում և տարածքի բարեկարգում, «Կապանի թիվ 10 ՆՈՒՀ» ՀՈԱԿ-ի շենքի վերանորոգում /«Կապանի թիվ 9 ՆՈՒՀ» ՀՈԱԿ-ի շենքի վերակառուցում և տարածքի բարեկարգում/ | E99: 95000
D100: Մեղրի համայնքի «Կենտրոնական փողոցի ասֆալտապատում Լեհվազ բնակավայրում և Վարդանիձոր բնակավայրում Վանք-Կալեր անավարտ կամրջի վերանորոգում՝ հետիոտնային և գյուղատնտեսական հաղորդակցության ապահովման ժամանակավոր միջոցառումների իրականացում», | E100: 48108.3
D101: Կապան համայնքի «Կապան քաղաքի փողոցների և բակերի հիմնանորոգում՝ 1.Կապան քաղաքի Գ․ Նժդեհ փողոցի, 1-ին և 2-րդ նրբանցքների հիմնանորոգում,2.Կապան քաղաքի Ա․ Մանուկյանի արձանի և Կապան-Մոլի միջանկյալ հատվածի հիմնանորոգում, 3.Կապան քաղաքի Դավիթ Բեկ փողոցի հիմնանորոգում, 4.Կապան քաղաքի Ռ․ Մինասյան փողոցի թիվ 11, 12, 13 շենքերի բակերի հիմնանորոգում,5.Կապան քաղաքի Ռ․ Մինասյան փողոցի թիվ 15, 16, 17, 18, 19, 20 շենքերի բակերի հիմնանորոգում, 6.Կապան քաղաքի Ռ․ Մինասյան փողոցի թիվ 25Ա, 25Բ շենքերի բակերի հիմնանորոգում,7.Կապան քաղաքի Լեռնագործների փողոցի 3-րդ նրբանցքի հիմնանորոգում,8.Կապան քաղաքի Սպանդարյան փողոցի թիվ 6, 7 շենքերի բակերի հիմնանորոգում, 9.Կապան քաղաքի Սպանդարյան փողոցի 4-րդ նրբանցքի հիմնանորոգում, 10.Կապան քաղաքի Գր․ Արզումանյան փողոցի հիմնանորոգում,11.Կապան քաղաքի Գր․ Արզումանյան փողոցի 3-րդ նրբանցքի հիմնանորոգում, 12.Կապան քաղաքի Հալիձոր թաղամասի բակային տարածքների հիմնանորոգում,13.Կապան քաղաքի Ավետիսյան փողոցի N 2, 4, 6, 28, 30, 32, 34 և Պապյան փողոցի N 5, 6, 7, 8, 9, 15, 16, 17, 18, 19, 20, 22, 24 և 26 շենքերի բակերի ասֆալտապատում, 14.Կապան քաղաքի Երկաթուղայինների փողոցի թիվ 7, 9, 11, 13, 15 շենքերի բակերի հիմնանորոգում,15.Կապան քաղաքի Երկաթուղայինների փողոցի 3-րդ նրբանցքի հիմնանորոգում և Կապան քաղաքի Մ․ Հարությունյան փողոցի թիվ 1, 2, 3, 4, 5, 6, 8 շենքերի բակերի և Շահումյան փողոցի թիվ 37, 38 շենքերի բակերի հիմնանորոգում», /Կապան քաղաքի Ավետիսյան փողոցի N 2, 4, 6, 28, 30, 32, 34 և Պապյան փողոցի N 5, 6, 7, 8, 9, 15, 16, 17, 18, 19, 20, 22, 24 և 26 շենքերի բակերի ասֆալտապատում, / | E101: 34865.6
D102: Կապան համայնքի «Կապան քաղաքի Գարեգին Նժդեհ փողոցի աջակողմյան մայթի նորոգում, Արամ Մանուկյան փողոցի N 1 և Չարենցի փողոցի N 2, 4 շենքերի բակերի վերանորոգում, Ռ.Մելիքյան փողոցի N 6 շենքի բակի և Արվեստի պետական քոլեջի հետնամասի հիմնանորոգում» | E102: 26093.7
D103: ՀՀ Սյունիքի մարզ Քաջարան խոշորացված համայնքի Քաջարան, Ձագիկավան և Գետիշեն գյուղերի խմելու ջրամատակարարման համակարգերի կառուցման աշխատանքների» | E103: 121294.1
...

Sheet h15
D1: Հավելված N 15
A2: ՀՀ կառավարության 2023 թվականի
A3: ______________ ի ___Ն որոշման
A5: ՀԱՅԱՍՏԱՆԻ ՀԱՆՐԱՊԵՏՈՒԹՅԱՆ ԿԱՌԱՎԱՐՈՒԹՅԱՆ 2022 ԹՎԱԿԱՆԻ ԴԵԿՏԵՄԲԵՐԻ 29-Ի N 2111-Ն ՈՐՈՇՄԱՆ N 9 ՀԱՎԵԼՎԱԾԻ N 9.7 ԵՎ N 9.47 ԱՂՅՈՒՍԱԿՆԵՐՈՒՄ ԿԱՏԱՐՎՈՂ ՓՈՓՈԽՈՒԹՅՈՒՆՆԵՐԸ ԵՎ ԼՐԱՑՈՒՄՆԵՐԸ
D6: Աղյուսակ 9.7
A7: ՀՀ ՏԱՐԱԾՔԱՅԻՆ ԿԱՌԱՎԱՐՄԱՆ ԵՎ ԵՆԹԱԿԱՌՈՒՑՎԱԾՔՆԵՐԻ ՆԱԽԱՐԱՐՈՒԹՅՈՒՆ
A8: ՄԱՍ 2. ՊԵՏԱԿԱՆ ՄԱՐՄՆԻ ԳԾՈՎ ԱՐԴՅՈՒՆՔԱՅԻՆ (ԿԱՏԱՐՈՂԱԿԱՆ) ՑՈՒՑԱՆԻՇՆԵՐԸ
B10: Ծրագրի անվանումը
A11: 1004 | B11: =+'[2]4'!D16 -> Ոռոգման համակարգի առողջացում
A13: Ծրագրի միջոցառումները
A14: Ծրագրի դասիչը` | B14: 1004 | C14: Ցուցանիշների փոփոխությունը (նվազեցումները նշված են փակագծերում)
A15: Միջոցառման դասիչը` | B15: 11005 | C15: Տարի
A16: Միջոցառման անվանումը` | B16: Եվրասիական զարգացման բանկի աջակցությամբ իրականացվող ոռոգման համակարգերի զարգացման ծրագրի խորհրդատվություն և կառավարում
A17: Նկարագրությունը` | B17: Եվրասիական զարգացման բանկի աջակցությամբ իրականացվող ոռոգման համակարգերի զարգացման ծրագրի համակարգում և ղեկավարում
A18: Միջոցառման տեսակը` | B18: Ծառայությունների մատուցում
A19: Ակտիվն օգտագործող կազմակերպության(ների) անվանում(ները)՛ | B19: Մասնագիտացված միավոր
A20: Արդյունքի չափորոշիչներ
A21: Կառավարվող/վերահսկվող խորհրդատվական պայմանագրերի քանակը, հատ | C21: -2
A22: Միջոցառման վրա կատարվող ծախսը (հազար դրամ) | C22: =h11v!E19 -> -162175.6
A24: Ծրագրի դասիչը` | B24: 1004 | C24: Ցուցանիշների փոփոխությունը (նվազեցումները նշված են փակագծերում)
A25: Միջոցառման դասիչը` | B25: 11007 | C25: Տարի
A26: Միջոցառման անվանումը` | B26: Գերմանիայի զարգացման վարկերի բանկի աջակցությամբ իրականացվող Ախուրյան գետի ջրային ռեսուրսների ինտեգրացված կառավարում ծրագրի խորհրդատվություն և կառավարում
A27: Նկարագրությունը` | B27: Գերմանիայի զարգացման վարկերի բանկի աջակցությամբ իրականացվող Ախուրյան գետի ջրային ռեսուրսների ինտեգրացված կառավարում ծրագրի համակարգում և ղեկավարում
A28: Միջոցառման տեսակը` | B28: Ծառայությունների մատուցում
A29: Ակտիվն օգտագործող կազմակերպության(ների) անվանում(ները)՛ | B29: Մասնագիտացված միավոր
A30: Արդյունքի չափորոշիչներ
A31: Միջոցառման վրա կատարվող ծախսը (հազար դրամ) | C31: =h11v!E30 -> -172032.7
A34: Ծրագրի դասիչը` | B34: 1004 | C34: Ցուցանիշների փոփոխությունը (նվազեցումները նշված են փակագծերում)
A35: Միջոցառման դասիչը` | B35: 11009 | C35: Տարի
A36: Միջոցառման անվանումը` | B36: Գերմանիայի զարգացման վարկերի բանկի աջակցությամբ իրականացվող Ախուրյան գետի ջրային ռեսուրսների ինտեգրված կառավարման դրամաշնորհային ծրագիր
A37: Նկարագրությունը` | B37: Գերմանիայի զարգացման վարկերի բանկի աջակցությամբ իրականացվող Ախուրյան գետի ջրային ռեսուրսների ինտեգրացված կառավարման դրամաշնորհային ծրագրի համակարգում և ղեկավարում
A38: Միջոցառման տեսակը` | B38: Ծառայությունների մատուցում
A39: Ակտիվն օգտագործող կազմակերպության(ների) անվանում(ները)՛ | B39: Մասնագիտացված միավոր
A40: Արդյունքի չափորոշիչներ
A41: Կառավարվող/վերահսկվող խորհրդատվական պայմանագրերի քանակը, հատ | C41: -1
A42: Միջոցառման վրա կատարվող ծախսը (հազար դրամ) | C42: ='h8'!F31 -> -9397.3
A44: Ծրագրի դասիչը` | B44: 1004 | C44: Ցուցանիշների փոփոխությունը (նվազեցումները նշված են փակագծերում)
A45: Միջոցառման դասիչը` | B45: 11010 | C45: Տարի
A46: Միջոցառման անվանումը` | B46: Գերմանիայի զարգացման վարկերի բանկի աջակցությամբ իրականացվող Ախուրյան գետի ջրային ռեսուրսների ինտեգրացված կառավարում փուլ 1 ծրագրով Ջրաձոր գյուղի վերաբնակեցման գործողությունների խորհրդատվություն և կառավարում
A47: Նկարագրությունը` | B47: Գերմանիայի զարգացման վարկերի բանկի աջակցությամբ իրականացվող Ախուրյան գետի ջրային ռեսուրսների ինտեգրացված կառավարում փուլ 1 ծրագրով Ջրաձոր գյուղի վերաբնակեցման գործողությունների համակարգում և ղեկավարում
A48: Միջոցառման տեսակը` | B48: Ծառայությունների մատուցում
A49: Ակտիվն օգտագործող կազմակերպության(ների) անվանում(ները)՛ | B49: Մասնագիտացված միավոր
A50: Արդյունքի չափորոշիչներ
A51: Միջոցառման վրա կատարվող ծախսը (հազար դրամ) | C51: =h11v!E41 -> -152125
A54: Ծրագրի դասիչը` | B54: 1004 | C54: Ցուցանիշների փոփոխությունը (նվազեցումները նշված են փակագծերում)
A55: Միջոցառման դասիչը` | B55: 11011 | C55: Տարի
A56: Միջոցառման անվանումը` | B56: Զարգացման ֆրանսիական գործակալության աջակցությամբ իրականացվող ոռոգման ոլորտի ֆինանսական կայունության և ոռոգման կառավարման կարողությունների բարելավման դրամաշնորհային ծրագրի խորհրդատվություն և կառավարում
A57: Նկարագրությունը` | B57: Զարգացման ֆրանսիական գործակալության աջակցությամբ իրականացվող ոռոգման ոլորտի ֆինանսական կայունության և ոռոգման կառավարման կարողությունն»րի բար»լավման ծրագրի համակարգում և ղեկավարում
A58: Միջոցառման տեսակը` | B58: Ծառայությունների մատուցում
A59: Ակտիվն օգտագործող կազմակերպության(ների) անվանում(ները)՛ | B59: Մասնագիտացված միավոր
A60: Արդյունքի չափորոշիչներ
A61: Կառավարվող/վերահսկվող խորհրդատվական պայմանագրերի քանակը, հատ | C61: -1
A62: Միջոցառման վրա կատարվող ծախսը (հազար դրամ) | C62: ='h8'!F43 -> -44494
A64: Ծրագրի դասիչը` | B64: 1004 | C64: Ցուցանիշների փոփոխությունը (նվազեցումները նշված են փակագծերում)
A66: Միջոցառման դասիչը` | B66: 11013 | C66: Տարի
A67: Միջոցառման անվանումը` | B67: Փոքր և միջին ջրամբարների կառուցման խորհրդատվություն և կառավարում
A68: Նկարագրությունը` | B68: Փոքր և միջին ջրամբարների տեխնիկատնտեսական հիմնավորման ուսումնասիրությունների, նախագծման և կառուցման խորհրդատվություն և կառավարում
A69: Միջոցառման տեսակը` | B69: Ծառայությունների մատուցում
A70: Միջոցառումն իրականացնողի անվանումը | B70: ՀՀ ՏԿԵՆ ջրային կոմիտե
A71: Արդյունքի չափորոշիչներ
A72: Միջոցառման վրա կատարվող ծախսը (հազար դրամ) | C72: ='h9'!H174 -> -28870
A75: Ծրագրի դասիչը` | B75: 1004 | C75: Ցուցանիշների փոփոխությունը (նվազեցումները նշված են փակագծերում)
A76: Միջոցառման դասիչը` | B76: 12002 | C76: Տարի
A77: Միջոցառման անվանումը` | B77: Գերմանիայի զարգացման բանկի աջակցությամբ իրականացվող Ախուրյան գետի ջրային ռեսուրսների ինտեգրված կառավարման փուլ 1 ծրագրով Ջրաձոր գյուղի վերաբնակեցման համար ենթակառուցվածքների և բնակելի տների կառուցում
A78: Նկարագրությունը` | B78: Գերմանիայի զարգացման բանկի աջակցությամբ իրականացվող Ախուրյան գետի ջրային ռեսուրսների ինտեգրված կառավարման փուլ 1 ծրագիր
A79: Միջոցառման տեսակը` | B79: Տրանսֆերտների տրամադրում
A80: Ակտիվն օգտագործող կազմակերպության(ների) անվանում(ները)՛ | B80: Մասնագիտացված միավոր
A81: Արդյունքի չափորոշիչներ
A82: Նոր կառուցվող բնակելի տներ, /կանխավճար/
A83: Միջոցառման վրա կատարվող ծախսը (հազար դրամ) | C83: =h11v!E56 -> -548165.1
A87: Ծրագրի դասիչը` | B87: 1004 | C87: Ցուցանիշների փոփոխությունը (նվազեցումները նշված են փակագծերում)
A88: Միջոցառման դասիչը` | B88: 31001 | C88: Տարի
A89: Միջոցառման անվանումը` | B89: Ֆրանսիայի Հանրապետության կառավարության աջակցությամբ իրականացվող Վեդու ջրամբարի կառուցում
A90: Նկարագրությունը` | B90: Ֆրանսիայի Հանրապետության կառավարության աջակցությամբ իրականացվող Վեդու ջրամբարի կառուցման ծրագիր
A91: Միջոցառման տեսակը` | B91: Պետական մարմինների կողմից օգտագործվող ոչ ֆինանսական ակտիվների հետ գործառնություններ
A92: Ակտիվն օգտագործող կազմակերպության(ների) անվանում(ները)՛ | B92: Մասնագիտացված միավոր
A93: Արդյունքի չափորոշիչներ
A94: Պատվարի կառուցում, մ | C94: -3
A95: Ոռոգման ներտնտեսային ցանցի նորոգում, կմ | C95: -70
A96: Միջոցառման վրա կատարվող ծախսը (հազար դրամ) | C96: ='h8'!F61 -> -2522421.9
A98: Ծրագրի դասիչը` | B98: 1004 | C98: Ցուցանիշների փոփոխությունը (նվազեցումները նշված են փակագծերում)
A99: Միջոցառման դասիչը` | B99: 31004 | C99: Տարի
A100: Միջոցառման անվանումը` | B100: Գերմանիայի զարգացման վարկերի բանկի աջակցությամբ իրականացվող Ախուրյան գետի ջրային ռեսուրսների ինտեգրված կառավարման ծրագրի շրջանակներում ջրային տնտեսության ենթակառուցվածքների հիմնանորոգում
A101: Նկարագրությունը` | B101: Գերմանիայի զարգացման վարկերի բանկի աջակցությամբ իրականացվող Ախուրյան գետի ջրային ռեսուրսների ինտեգրված կառավարման ծրագիր
A102: Միջոցառման տեսակը` | B102: Պետական մարմինների կողմից օգտագործվող ոչ ֆինանսական ակտիվների հետ գործառնություններ
A103: Ակտիվն օգտագործող կազմակերպության(ների) անվանում(ները)՛ | B103: Մասնագիտացված միավոր
A104: Արդյունքի չափորոշիչներ
A105: Նոր կառուցվող պատվարի երկարություն, մ | C105: -3
A106: Միջոցառման վրա կատարվող ծախսը (հազար դրամ) | C106: =h11v!E76 -> -2714566.2
A108: Ծրագրի դասիչը` | B108: 1004 | C108: Ցուցանիշների փոփոխությունը (ավելացումները նշված են դրական նշանով)
A109: Միջոցառման դասիչը` | B109: 31005 | C109: Տարի
A110: Միջոցառման անվանումը` | B110: Եվրասիական զարգացման բանկի աջակցությամբ իրականացվող ոռոգման համակարգերի զարգացման ծրագրի շրջանակներում ջրային տնտեսության ենթակառուցվածքների հիմնանորոգում
A111: Նկարագրությունը` | B111: Եվրասիական զարգացման բանկի աջակցությամբ իրականացվող ոռոգման համակարգերի զարգացման ծրագիր
A112: Միջոցառման տեսակը` | B112: Պետական մարմինների կողմից օգտագործվող ոչ ֆինանսական ակտիվների հետ գործառնություններ
A113: Ակտիվն օգտագործող կազմակերպության(ների) անվանում(ները)՛ | B113: Մասնագիտացված միավոր
A114: Արդյունքի չափորոշիչներ
A115: Հիմնանորոգվող ոռոգման ցանցերի երկարություն, կմ | C115: -20.9
A116: Միջոցառման վրա կատարվող ծախսը (հազար դրամ) | C116: =h11v!E85 -> -454900
A118: Ծրագրի դասիչը` | B118: 1004 | C118: Ցուցանիշների փոփոխությունը (նվազեցումները նշված են փակագծերում)
A120: Միջոցառման դասիչը` | B120: 31009 | C120: Տարի
...

Sheet h16
D1: Հավելված N 16
A2: ՀՀ կառավարության 2023թվականի
A3: ______________ ի ___Ն որոշման
A5: ՀԱՅԱՍՏԱՆԻ ՀԱՆՐԱՊԵՏՈՒԹՅԱՆ ԿԱՌԱՎԱՐՈՒԹՅԱՆ 2022 ԹՎԱԿԱՆԻ ԴԵԿՏԵՄԲԵՐԻ 21-Ի N 2111-Ն ՈՐՈՇՄԱՆ N 9.1 ՀԱՎԵԼՎԱԾԻ NN 9.1.7,9.1.25, 9.1.48, 9.1.49, 9.1.50, 9.1.51, 9.1.52, 9.1.53, 9.1.54, 9.1.55, 9.1.56 , 9.1.57 ԵՎ 9.1.58 ԱՂՅՈՒՍԱԿՆԵՐՈՒՄ ԿԱՏԱՐՎՈՂ ՓՈՓՈԽՈՒԹՅՈՒՆՆԵՐԸ ԵՎ ԼՐԱՑՈՒՄՆԵՐԸ
D6: Աղյուսակ 9.1.7
A7: ՀՀ ՏԱՐԱԾՔԱՅԻՆ ԿԱՌԱՎԱՐՄԱՆ ԵՎ ԵՆԹԱԿԱՌՈՒՑՎԱԾՔՆԵՐԻ ՆԱԽԱՐԱՐՈՒԹՅՈՒՆ
A8: ՄԱՍ 1. ՊԵՏԱԿԱՆ ՄԱՐՄՆԻ ԳԾՈՎ ԱՐԴՅՈՒՆՔԱՅԻՆ (ԿԱՏԱՐՈՂԱԿԱՆ) ՑՈՒՑԱՆԻՇՆԵՐԸ
A9: Ծրագրի դասիչը | B9: Ծրագրի անվանումը
A10: 1019 | B10: Սոցիալական ներդրումների և տեղական զարգացման ծրագիր
A12: Ծրագրի միջոցառումները
A13: Ծրագրի դասիչը` | B13: 1019 | C13: Ցուցանիշների փոփոխությունը (նվազեցումները նշված են փակագծերում)
A14: Միջոցառման դասիչը` | B14: 11004 | C14: Տարի
A15: Միջոցառման անվանումը` | B15: ԱՄՆ ՄԶԳ աջակցությամբ իրականացվող Տեղական ինքնակառավարման և ապակենտրոնացման բարեփոխումների դրամաշնորհային ծրագրի կառավարում
A16: Նկարագրությունը` | B16: ԱՄՆ ՄԶԳ աջակցությամբ իրականացվող Տեղական ինքնա կառավարման և ապակենտրոնացման բարեփոխումների դրամաշնորհային ծրագրի իրականացման նպատակով ծրագրի կառավարման ծախսեր և Տեղական կառավարման համակարգերի հզորացման, ապակենտրոնացման գործընթաց ներին աջակցության նպատակով խորհրդատվություններ և ուսուցումներ
A17: Միջոցառման տեսակը` | B17: Տրանսֆերտների տրամադրում
A18: Շահառուների ընտրության չափանիշները` | B18: Համաձայն ՏԶՀ Ղեկավար ձեռնարկի, որը ֆինանսավորման համաձայնագրի մաս է կազմում
A19: Արդյունքի չափորոշիչներ
A20: Քանակական | B20: Տեղական ինքնակառավարման մարմինների ուսուցում՝ հաշվետվողականության ամրապնդման համար (տեղական ինքնակառավարման սուբյեկտներ, հատ) | C20: -4
A21: Քանակական | B21: Հաշվետվողականության ամրապնդման վերաբերյալ սեմինարներին և թրեյնինգներին համայնքային ծառա յողների մասնակցություն (մասնակիցների թիվ, անձ) | C21: -20
A22: Քանակական | B22: Համայնքներում հասարակական կարծիքի ուսումնա սիրություներ՝ հանրային ծառայությունների մակար դակից գոհունակության աստիճանը պարզելու համար (համայնքների թիվ, հատ) | C22: -4
A23: Քանակական | B23: Արտակարգ իրավիճակների արձագանքման / ռիսկերի նվազեցման քաղաքականության և ընթացակարգերի մշակում և փորձարկում (համայնքների թիվ, հատ) | C23: -4
A24: Միջոցառման վրա կատարված ծախսը (հազար դրամ) | C24: ='h15'!C209 -> -45642.3
A26: Ծրագրի դասիչը` | B26: 1019 | C26: Ցուցանիշների փոփոխությունը (նվազեցումները նշված են փակագծերում)
A27: Միջոցառման դասիչը` | B27: 12004 | C27: Տարի
A28: Միջոցառման անվանումը` | B28: Համաշխարհային բանկի աջակցությամբ իրականացվող Սոցիալական ներդրումների և տեղական զարգացման ծրագրի լրացուցիչ ֆինանսավորման վարկի շրջանակներում ՀՀ համայնքային և միջհամայնքային ենթակառուցվածքների որակի, օգտագործման և հասանելիության բարելավում
A29: Նկարագրությունը` | B29: Ջրագծերի, առողջապահության, կրթության օբյեկտների, մշակույթային տների, ծերանոցների, մանկատների, հատուկ դպրոցների, մանկապարտզների և կոյուղու օբյեկտնրի հիմն. և շինարարություն., գույքի և սարքավորումների տրամադրում շահառու ենթածրագրերի համար
A30: Միջոցառման տեսակը` | B30: Տրանսֆերտների տրամադրում
A31: Շահառուների ընտրության չափանիշները` | B31: Համաձայն ՏԶՀ Ղեկավար ձեռնարկի, որը ֆինանսավորման համաձայնագրի մաս է կազմում
A32: Արդյունքի չափորոշիչներ
A33: Հիմնանորոգված և նոր կառուցված ջրագծերի, առողջապահության, կրթության, մշակույթի, հատուկ խնամքի և ենթակառուցվածքների ոլորտի օբյեկտներից օգտվող համայնքներ, համայնքների թիվ, հատ | C33: -3
A34: Ավարտման ենթակա միկրոծրագրերի թիվ, հատ | C34: -3
A35: Ծրագրի շահառուների թիվ | C35: -219000
A36: Միջոցառման վրա կատարված ծախսը (հազար դրամ) | C36: ='h15'!C222 -> -149780
A38: Ծրագրի դասիչը | B38: Ծրագրի անվանումը
A39: 1040 | B39: Կոշտ թափոնների կառավարում
A41: Ծրագրի միջոցառումները
A42: Ծրագրի դասիչը` | B42: 1040 | C42: Ցուցանիշների փոփոխությունը (նվազեցումները նշված են փակագծերում)
A43: Միջոցառման դասիչը` | B43: 12002 | C43: Տարի
A44: Միջոցառման անվանումը` | B44: Վերակառուցման և զարգացման եվրոպական բանկի աջակցությամբ իրականացվող «Կոտայքի և Գեղարքունիքի մարզի կոշտ թափոնների կառավարման խորհրդատվության համար» դրամաշնորհային ծրագիր
A45: Նկարագրությունը` | B45: Կոշտ թափոննրի կառավարման համակարգի բարելավում և նոր աղբավայրի ստեղծում
A46: Միջոցառման տեսակը` | B46: Տրանսֆերտների տրամադրում
A47: Միջոցառումն իրականացնողի անվանումը՛ | B47: ՀՀ տարածքային կառավարման և ենթակառուցվածքների նախարարություն
A48: Արդյունքի չափորոշիչներ
A49: Միջոցառման վրա կատարվող ծախսը (հազար դրամ) | C49: =h12.d!H59 -> -60600
A51: Ծրագրի դասիչը` | B51: 1040 | C51: Ցուցանիշների փոփոխությունը (նվազեցումները նշված են փակագծերում)
A52: Միջոցառման դասիչը` | B52: 32004 | C52: Տարի
A53: Միջոցառման անվանումը` | B53: Վերակառուցման և զարգացման եվրոպական բանկի աջակցությամբ իրականացվող «Կոտայքի և Գեղարքունիքի մարզի կոշտ թափոնների կառավարման» դրամաշնորհային ծրագիր
A54: Նկարագրությունը` | B54: Կոշտ թափոնների կառավարման համակարգի բարելավում և նոր աղբավայրի ստեղծում
A55: Միջոցառման տեսակը` | B55: Այլ պետական կազմակերպությունների կողմից օգտագործվող ոչ ֆինանսական ակտիվների հետ գործառնություններ
A56: Միջոցառումն իրականացնողի անվանումը՛ | B56: ՀՀ տարածքային կառավարման և ենթակառուցվածքների նախարարություն
A57: Արդյունքի չափորոշիչներ
A58: Միջոցառման վրա կատարվող ծախսը (հազար դրամ) | C58: =h12.d!H60 -> -881000
A60: Ծրագրի դասիչը` | B60: 1040 | C60: Ցուցանիշների փոփոխությունը (նվազեցումները նշված են փակագծերում)
A61: Միջոցառման դասիչը` | B61: 32009 | C61: Տարի
A62: Միջոցառման անվանումը` | B62: Միջազգային կազմակերպությունների աջակցությամբ իրականացվող ՀՀ 8 մարզերում աղբահանության և կոշտ թափոնների ինտեգրված համակարգի կառուցում
A63: Նկարագրությունը` | B63: ՀՀ 8 մարզերում աղբահանության և կոշտ թափոնների ինտեգրված համակարգ (4 սանիտարական աղբավայր, 16 փոխբեռնման կայան)
A64: Միջոցառման տեսակը` | B64: Այլ պետական կազմակերպությունների կողմից օգտագործվող ոչ ֆինանսական ակտիվների հետ գործառնություններ
A65: Միջոցառումն իրականացնողի անվանումը՛ | B65: ՀՀ տարածքային կառավարման և ենթակառուցվածքների նախարարություն
A66: Արդյունքի չափորոշիչներ
A67: Միջոցառման վրա կատարվող ծախսը (հազար դրամ) | C67: ='h15'!C256 -> -386691.3
A69: Ծրագրի դասիչը | B69: Ծրագրի անվանումը
A70: 1049 | B70: Ճանապարհային ցանցի բարելավում
A72: Ծրագրի միջոցառումները
A73: Ծրագրի դասիչը` | B73: 1049 | C73: Ցուցանիշների փոփոխությունը (նվազեցումները նշված են փակագծերում)
A74: Միջոցառման դասիչը` | B74: 11003 | C74: Տարի
A75: Միջոցառման անվանումը` | B75: Հայաստանի Հանրապետությունում հսկիչ սարքերի (թվային տախոգրաֆի) համակարգի կարգավորում
A76: Նկարագրությունը` | B76: Հայաստանի Հանրապետությունում հսկիչ սարքերի (թվային տախոգրաֆի) համակարգի անընդհատ և անխափան աշխատանքի ապահովման նպատակով տախոնետ կապի ապահովում
A77: Միջոցառման տեսակը` | B77: Ծառայությունների մատուցում
A78: Միջոցառումն իրականացնողի անվանումը | B78: Մրցութային ընտրակարգով հաղթող ճանաչված ընկերություն
A79: Արդյունքի չափորոշիչներ
A80: Սպասարկվող կապերի քանակը, հատ | C80: -1
A81: Թվային տախոգրաֆի համակարգում գրանցված տախոքարտերի քանակը (ոչ կուտակային ցուցանիշ), հատ | C81: -500
A82: Միջոցառման վրա կատարվող ծախսը (հազար դրամ) | C82: ='h9'!H320 -> -11777
A85: Ծրագրի դասիչը` | B85: 1049 | C85: Ցուցանիշների փոփոխությունը (ավելացումները նշված են դրական նշանով, իսկ նվազեցումները` փակագծերում)
A86: Միջոցառման դասիչը` | B86: 11007 | C86: Տարի
A87: Միջոցառման անվանումը` | B87: Ասիական զարգացման բանկի աջակցությամբ իրականացվող Հայաստան-Վրաստան սահմանային տարածաշրջանային ճանապարհի (Մ6 Վանաձոր-Բագրատաշեն) բարելավման ծրագրի համակարգում և կառավարում
A88: Նկարագրությունը` | B88: Խորհրդատվական ծառայություններ և պահպանման ծախսեր
A89: Միջոցառման տեսակը` | B89: Ծառայությունների մատուցում
A90: Միջոցառումն իրականացնողի անվանումը՛ | B90: Մասնագիտացված միավոր
A91: Արդյունքի չափորոշիչներ
A92: Միջոցառման վրա կատարվող ծախսը (հազար դրամ) | C92: =h11v!E131 -> -28800
A94: Ծրագրի դասիչը` | B94: 1049 | C94: Ցուցանիշների փոփոխությունը (ավելացումները նշված են դրական նշանով, իսկ նվազեցումները` փակագծերում)
A95: Միջոցառման դասիչը` | B95: 11009 | C95: Տարի
A96: Միջոցառման անվանումը` | B96: Ասիական զարգացման բանկի աջակցությամբ իրականացվող Հյուսիս-հարավ միջանցքի զարգացման ծրագրի համակարգում և կառավարում ( Տրանշ 2)
A97: Նկարագրությունը` | B97: Խորհրդատվական ծառայություններ և պահպանման ծախսեր
A98: Միջոցառման տեսակը` | B98: Ծառայությունների մատուցում
A99: Միջոցառումն իրականացնողի անվանումը՛ | B99: Մասնագիտացված միավոր
A100: Արդյունքի չափորոշիչներ
A101: Միջոցառման վրա կատարվող ծախսը (հազար դրամ) | C101: =h11v!E140 -> -88900.5
A103: Ծրագրի դասիչը` | B103: 1049 | C103: Ցուցանիշների փոփոխությունը (ավելացումները նշված են դրական նշանով, իսկ նվազեցումները` փակագծերում)
A104: Միջոցառման դասիչը` | B104: 11011 | C104: Տարի
A105: Միջոցառման անվանումը` | B105: Ասիական զարգացման բանկի աջակցությամբ իրականացվող Հյուսիս-հարավ միջանցքի զարգացման ծրագրի համակարգում և կառավարում (Տրանշ 3)
A106: Նկարագրությունը` | B106: Խորհրդատվական ծառայություններ և պահպանման ծախսեր
A107: Միջոցառման տեսակը` | B107: Ծառայությունների մատուցում
A108: Միջոցառումն իրականացնողի անվանումը՛ | B108: Մասնագիտացված միավոր
A109: Արդյունքի չափորոշիչներ
A110: Միջոցառման վրա կատարվող ծախսը (հազար դրամ) | C110: =h11v!E149 -> -44538
A112: Ծրագրի դասիչը` | B112: 1049 | C112: Ցուցանիշների փոփոխությունը (ավելացումները նշված են դրական նշանով, իսկ նվազեցումները` փակագծերում)
A113: Միջոցառման դասիչը` | B113: 11012 | C113: Տարի
A114: Միջոցառման անվանումը` | B114: Եվրասիական զարգացման բանկի աջակցությամբ իրականացվող Հյուսիս-հարավ միջանցքի զարգացման ծրագրի համակարգում և կառավարում
...

Sheet h17
F1: Հավելված N17
G2: ՀՀ կառավարության 2023 թվականի
F3: ______________ ի ___Ն որոշման
A6: ՀԱՅԱՍՏԱՆԻ ՀԱՆՐԱՊԵՏՈՒԹՅԱՆ ԿԱՌԱՎԱՐՈՒԹՅԱՆ 2022 ԹՎԱԿԱՆԻ ԴԵԿՏԵՄԲԵՐԻ 29-Ի N 2111-Ն ՈՐՈՇՄԱՆ N 10 ՀԱՎԵԼՎԱԾՈՒՄ ԿԱՏԱՐՎՈՂ ՓՈՓՈԽՈՒԹՅՈՒՆՆԵՐԸ
A8: Կոդը | B8: Անվանումը | C8: Գնման ձևը | D8: Չափման միավորը | E8: Միավորի գինը | F8: Քանակը | G8: Ցուցանիշների փոփոխությունը (նվազեցումները նշված են փակագծերում)
G9: Գումարը (հազար դրամ)
A10: 1 | B10: 2 | C10: 3 | D10: 4 | E10: 5 | F10: 6 | G10: 7
B11: Ընդամենը | G11: =G12+G54 -> -2676705
A12: ՀՀ տարածքային կառավարման և ենթակառուցվածքների նախարարության ջրային կոմիտե | G12: =G13 -> -858311.81
A13: Բաժին N 04 | B13: Խումբ N 02 | C13: Դաս N 04 | D13: Ոռոգում | G13: =G14+G26+G34+G40+G45+G51 -> -858311.81
A14: 1004-11013 | B14: Փոքր և միջին ջրամբարների կառուցման խորհրդատվություն և կառավարում | G14: =G15 -> -28870
B15: ՄԱՍ III ԾԱՌԱՅՈՒԹՅՈՒՆՆԵՐ | G15: =SUM(G16:G25) -> -28870
A16: 85311210/1 | B16: խորհրդատվության ծառայություններ | C16: ԳՀ | D16: դրամ | G16: -120
A17: 85311210/2 | B17: խորհրդատվության ծառայություններ | C17: ԳՀ | D17: դրամ | E17: -7800000 | F17: -1 | G17: -7800
A18: 85311210/3 | B18: խորհրդատվության ծառայություններ | C18: ԳՀ | D18: դրամ | E18: -7200000 | F18: -1 | G18: -7200
A19: 85311210/4 | B19: խորհրդատվության ծառայություններ | C19: ԳՀ | D19: դրամ | G19: -6600
A20: 85311210/5 | B20: խորհրդատվության ծառայություններ | C20: ԳՀ | D20: դրամ | G20: -240
A21: 85311210/6 | B21: խորհրդատվության ծառայություններ | C21: ԳՀ | D21: դրամ | G21: -60
A22: 85311210/7 | B22: խորհրդատվության ծառայություններ | C22: ԳՀ | D22: դրամ | G22: -120
A23: 85311210/8 | B23: խորհրդատվության ծառայություններ | C23: ԳՀ | D23: դրամ | G23: -120
A24: 85311210/9 | B24: խորհրդատվության ծառայություններ | C24: ԳՀ | D24: դրամ | G24: -120
A25: 85311210/10 | B25: խորհրդատվության ծառայություններ | C25: ԳՀ | D25: դրամ | E25: -6490000 | F25: =F18 -> -1 | G25: -6490
A26: 1004 -31011 | B26: Խորքային հորերի վերականգնում | G26: =SUM(G27:G33) -> -206427.9
A27: 38421120/501 | B27: հոսքաչափեր | C27: ՀԲՄ | D27: հատ | G27: -176703
A28: 38421120/502 | B28: հոսքաչափեր | C28: ՀԲՄ | D28: հատ | G28: -12390
A29: 38421120/503 | B29: հոսքաչափեր | C29: ՀԲՄ | D29: հատ | G29: -15314
A30: 38421120/504 | B30: հոսքաչափեր | C30: ՀԲՄ | D30: հատ | G30: -508.8
A31: 38421120/505 | B31: հոսքաչափեր | C31: ՀԲՄ | D31: հատ | G31: -284.9
A32: 38421120/506 | B32: հոսքաչափեր | C32: ՀԲՄ | D32: հատ | G32: -882
A33: 38421120/507 | B33: հոսքաչափեր | C33: ՀԲՄ | D33: հատ | G33: -345.2
A34: 1004 -31012 | B34: Գետերի և հեղեղատարների տեղամասերի ամրացման և մաքրման աշխատանքներ | G34: =G35+G38 -> -180651.87
B35: ՄԱՍ II ԱՇԽԱՏԱՆՔՆԵՐ | G35: =G36+G37 -> -180413.87
A36: 45241133/2 | B36: Գետերի ափերի պաշտպանության աշխատանքներ | C36: ԲՄ | D36: դրամ | G36: -30413.872
A37: 45241133/501 | B37: Գետերի ափերի պաշտպանության աշխատանքներ | C37: ԲՄ | D37: դրամ | E37: -150000000 | F37: =F25 -> -1 | G37: =h10k!D21 -> -150000
B38: ՄԱՍ III ԾԱՌԱՅՈՒԹՅՈՒՆՆԵՐ | G38: =G39 -> -238
A39: 71351540/2 | B39: տեխնիկական հսկողության ծառայություններ | C39: ԳՀ | D39: դրամ | G39: -238
A40: 1004-31013 | B40: Փոքր և միջին ջրամբարների կառուցում | G40: =G41 -> -374025
B41: ՄԱՍ III ԾԱՌԱՅՈՒԹՅՈՒՆՆԵՐ | G41: =G42+G43+G44 -> -374025
A42: 71241200/1 | B42: Նախագծերի պատրաստում, ծախսերի գնահատում | C42: ԲՄ | D42: դրամ | G42: -209025
A43: 71241200/2 | B43: Նախագծերի պատրաստում, ծախսերի գնահատում | C43: ԲՄ | D43: դրամ | G43: -87000
A44: 71241200/3 | B44: Նախագծերի պատրաստում, ծախսերի գնահատում | C44: ԲՄ | D44: դրամ | G44: -78000
A45: 1004 -31014 | B45: Ջրամբարների վերականգնման և վերազինման աշխատանքներ | G45: =G46+G48 -> -64813.137
B46: ՄԱՍ II ԱՇԽԱՏԱՆՔՆԵՐ | G46: =G47 -> -59313.137
A47: 45611300/3 | B47: այլ շենքերի, շինությունների հիմնանորոգում | C47: ԳՀ | D47: դրամ | E47: -59313137 | F47: -1 | G47: -59313.137
B48: ՄԱՍ III ԾԱՌԱՅՈՒԹՅՈՒՆՆԵՐ | G48: =G49+G50 -> -5500
A49: 50531140/3 | B49: փորձաքննության ծառայություններ | C49: ԳՀ | D49: դրամ | E49: -500000 | F49: =F47 -> -1 | G49: -500
A50: 71241200/503 | B50: նախագծերի պատրաստում, ծախսերի գնահատում | C50: ԳՀ | D50: դրամ | E50: -5000000 | F50: =F49 -> -1 | G50: -5000
A51: 1004 -31020 | B51: Ոռոգման համակարգերի կառուցում | G51: =G52 -> -3523.9
B52: ՄԱՍ II ԱՇԽԱՏԱՆՔՆԵՐ | G52: =G53 -> -3523.9
A53: 45231126/1 | B53: ոռոգման խողովակաշարերի կառուցման աշխատանքներ | C53: ՀԲՄ | G53: -3523.9
A54: ՀՀ տարածքային կառավարման և ենթակառուցվածքների նախարարություն | G54: =G55 -> -1818393.2
A55: Բաժին N 04 | B55: Խումբ N 05 դաս N 01 | C55: Ճանապարհային տրանսպորտ | G55: =G56+G59+G75+G79 -> -1818393.2
A56: 1049-11003 | B56: Հայաստանի Հանրապետությունում հսկիչ սարքերի (թվային տախոգրաֆի) համակարգի կարգավորում | G56: =G58 -> -11777
A57: ՄԱՍ III. ԾԱՌԱՅՈՒԹՅՈՒՆՆԵՐ | G57: =G58 -> -11777
A58: 50411170-1 | B58: ստուգող սարքերի վերանորոգման և պահպանման ծառայություններ | C58: գհ | G58: ='h9'!H320 -> -11777
A59: 1049 21001 | B59: =h10k!C30 -> Պետական նշանակության ավտոճանապարհների հիմնանորոգում | G59: =G60+G70 -> -1190198
A60: ՄԱՍ II. ԱՇԽԱՏԱՆՔՆԵՐ | G60: =SUM(G61:G69) -> -1173037.9
A61: 45231177/627 | B61: ճանապարհների վերանորոգման աշխատանքներ | C61: ԲՄ | D61: դրամ | F61: 0 | G61: -21704.451
A62: 45231177/142 | B62: ճանապարհների վերանորոգման աշխատանքներ | C62: ՀԲՄ | D62: դրամ | F62: 0 | G62: -889981.93
A63: 45231177/516 | B63: ճանապարհների վերանորոգման աշխատանքներ | C63: ՀԲՄ | D63: դրամ | F63: 0 | G63: -138039.88
A64: 45231177/633 | B64: ճանապարհների վերանորոգման աշխատանքներ | C64: ԲՄ | D64: դրամ | E64: 160465489 | F64: 1 | G64: 160465.49
A65: 45231177/95 | B65: ճանապարհների վերանորոգման աշխատանքներ | C65: ՀԲՄ | D65: դրամ | F65: 0 | G65: -1074.872
A66: 45231177/98 | B66: ճանապարհների վերանորոգման աշխատանքներ | C66: ՀԲՄ | D66: դրամ | F66: 0 | G66: -254279.9
A67: 45231177/553 | B67: ճանապարհների վերանորոգման աշխատանքներ | C67: ՀԲՄ | D67: դրամ | F67: 0 | G67: -189.575
A68: 45231177/635 | B68: ճանապարհների վերանորոգման աշխատանքներ | C68: ԲՄ | D68: դրամ | F68: 0 | G68: -5266.327
A69: 45231177/30 | B69: ճանապարհների վերանորոգման աշխատանքներ | C69: ՀԲՄ | D69: դրամ | F69: 0 | G69: -22966.418
A70: ՄԱՍ III. ԾԱՌԱՅՈՒԹՅՈՒՆՆԵՐ | G70: =SUM(G71:G74) -> -17160.165
A71: 71351540/83 | B71: տեխնիկական հսկողության ծառայություններ | C71: ԳՀ | D71: դրամ | F71: - | G71: -7650.632
A72: 71351540/59 | B72: տեխնիկական հսկողության ծառայություններ | C72: ԳՀ | D72: դրամ | F72: 0 | G72: -2637.336
A73: 98111140/102 | B73: հեղինակային հսկողության ծառայություններ | C73: ՄԱ | D73: դրամ | F73: 0 | G73: -5277.229
A74: 98111140/48 | B74: հեղինակային հսկողության ծառայություններ | C74: ՄԱ | D74: դրամ | F74: 0 | G74: -1594.968
A75: 1049-21019 | B75: Վթարային իրավիճակներում արտակարգ օպերատիվ ծառայությունների կանչի ավտոմատացված համակարգերի ներդրում | G75: =G76 -> -566418.2
A76: ՄԱՍ III. ԾԱՌԱՅՈՒԹՅՈՒՆՆԵՐ | G76: =G77+G78 -> -566418.2
A77: 48211210-1 | B77: ցանցային զանազան համակարգչային ծրագրային փաթեթներ | C77: ԷԱՃ | D77: դրամ | G77: =[3]h2.!H258 -> -449050
A78: 48211210-2 | B78: ցանցային զանազան համակարգչային ծրագրային փաթեթներ | C78: ԷԱՃ | D78: դրամ | G78: -117368.2
A79: 1049 -31002 | B79: Տրանսպորտային միջոցների տեխնիկական զննության գործընթացի ավտոմատացված համակարգի ներդրում | G79: =G80 -> -50000
A80: ՄԱՍ III. ԾԱՌԱՅՈՒԹՅՈՒՆՆԵՐ | G80: =G81 -> -50000
A81: 48211210-1 | B81: ցանցային զանազան համակարգչային ծրագրային փաթեթներ | C81: ԷԱՃ | D81: դրամ | G81: -50000
B84: ՀԱՅԱՍՏԱՆԻ ՀԱՆՐԱՊԵՏՈՒԹՅԱՆ
B85: ՎԱՐՉԱՊԵՏԻ ԱՇԽԱՏԱԿԱԶՄԻ
B86: ՂԵԿԱՎԱՐ ՝ | D86: Ա. ՀԱՐՈՒԹՅՈՒՆՅԱՆ
