Workbook

Sheet 1
D1: Հավելված N 1
D2: ՀՀ կառավարության 2023 թվականի
D3: -ի N -Ն որոշման
A4: «ՀԱՅԱՍՏԱՆԻ ՀԱՆՐԱՊԵՏՈՒԹՅԱՆ 2023 ԹՎԱԿԱՆԻ ՊԵՏԱԿԱՆ ԲՅՈՒՋԵԻ ՄԱՍԻՆ» ՀԱՅԱՍՏԱՆԻ ՀԱՆՐԱՊԵՏՈՒԹՅԱՆ ՕՐԵՆՔԻ N 1 ՀԱՎԵԼՎԱԾԻ N 2 ԱՂՅՈՒՍԱԿՈՒՄ ԿԱՏԱՐՎՈՂ ՎԵՐԱԲԱՇԽՈՒՄԸ ԵՎ ՓՈՓՈԽՈՒԹՅՈՒՆՆԵՐԸ, ՀԱՅԱՍՏԱՆԻ ՀԱՆՐԱՊԵՏՈՒԹՅԱՆ ԿԱՌԱՎԱՐՈՒԹՅԱՆ 2022 ԹՎԱԿԱՆԻ ԴԵԿՏԵՄԲԵՐԻ 29-Ի N 2111-Ն ՈՐՈՇՄԱՆ N 5 ՀԱՎԵԼՎԱԾԻ N 1 ԱՂՅՈՒՍԱԿՈՒՄ ԿԱՏԱՐՎՈՂ ՓՈՓՈԽՈՒԹՅՈՒՆՆԵՐԸ
D6: (հազ. դրամ)
A7: Ծրագրային դասիչը | C7: Բյուջետային գլխավոր կարգադրիչների, ծրագրերի և միջոցառումների անվանումները | D7: Ցուցանիշների փոփոխությունը (ավելացումները նշված են դրական նշանով, իսկ նվազեցումները՝ փակագծերում)
A8: Ծրագիր | B8: Միջոցառում | D8: Տարի
C9: ԸՆԴԱՄԵՆԸ | D9: =D10 -> 0
C10: ՀՀ տարածքային կառավարման և ենթակառուցվածքների նախարարություն | D10: =D11+D42 -> 0
A11: 1004 | C11: Ծրագրի անվանումը` | D11: =D18+D24+D30+D36 -> 103445.1
C12: Ոռոգման համակարգի առողջացում
C13: Ծրագրի նպատակը`
C14: Ոռոգման ծառայությունների հասանելիության և մատչելիության ապահովում
C15: Վերջնական արդյունքի նկարագրությունը`
C16: Ոռոգման ջրի մատակարարման արդյունավետության և հասանելիության բարելավում՝ կորուստների կրճատում
A17: Ծրագրի միջոցառումներ
B18: 11002 | C18: Միջոցառման անվանումը` | D18: ='3'!G22 -> 774465.2
C19: Ոռոգման ծառայություններ մատուցող ընկերություններին ֆինանսական աջակցության տրամադրում
C20: Միջոցառման նկարագրությունը`
C21: Ոռոգման ոլորտի սուբսիդավորում ՋՕԸ-ների համար սահմանված ոռոգման ջրի սակագնի և նվազագույն շահավետ գնի տարբերության չափով
C22: Միջոցառման տեսակը
C23: Ծառայությունների մատուցում
B24: 11014 | C24: Միջոցառման անվանումը` | D24: ='3'!G31 -> -100000
C25: Արարատյան ջրավազանի ձկնաբուծական տնտեսությունների ելքային ջրերի վերաօգտագործման ծրագիր
C26: Միջոցառման նկարագրությունը`
C27: Արարատյան ջրավազանի ձկնաբուծական տնտեսությունների ելքային ջրերի վերաօգտագործման նպատակով հիդրոլոգիական և ինժեներական ուսունասիրություններ, մասնագիտական խորհրդատվական և նախագծային ծառայություններ
C28: Միջոցառման տեսակը
C29: Ծառայությունների մատուցում
B30: 31009 | C30: Միջոցառման անվանումը` | D30: ='3'!G40 -> -141981.7
C31: Օրվա կարգավորման ջրավազանների կառուցում և վերակառուցում
C32: Միջոցառման նկարագրությունը`
C33: Օրվա կարգավորման ջրավազանների կառուցման և վերակառուցման համար նախագծերի և աշխատանքների ձեռք բերում
C34: Միջոցառման տեսակը
C35: Պետական մարմինների կողմից օգտագործվող ոչ ֆինանսական ակտիվների հետ գործառնություններ
B36: 31012 | C36: Միջոցառման անվանումը` | D36: ='3'!G49 -> -429038.4
C37: Գետերի և հեղեղատարների տեղամասերի ամրացման և մաքրման աշխատանքներ
C38: Միջոցառման նկարագրությունը`
C39: Գետերի և հեղեղատարների տեղամասերի ամրացման և մաքրման համար նախագծերի և աշխատանքների ձեռքբերում
C40: Միջոցառման տեսակը
C41: Պետական մարմինների կողմից օգտագործվող ոչ ֆինանսական ակտիվների հետ գործառնություններ
A42: 1072 | C42: Ծրագրի անվանումը` | D42: =+D49 -> -103445.1
C43: Ջրամատակարարաման և ջրահեռացման բարելավում
C44: Ծրագրի նպատակը`
C45: Ջրամատակարարման ծառայությունների հասանելիության և մատչելիության ապահովում
C46: Վերջնական արդյունքի նկարագրությունը`
C47: Խմելու ջրի մատակարարման և ջրահեռացման համակարգի բարելավում, կորուստների կրճատում
A48: Ծրագրի միջոցառումներ
B49: 31008 | C49: Միջոցառման անվանումը` | D49: ='3'!G68 -> -103445.1
C50: Պարտադիր կապիտալ աշխատանքների ծրագրի շրջանակներում ջրամատակարարման և ջրահեռացման ենթակառուցվածքների հիմնանորոգում
C51: Միջոցառման նկարագրությունը`
C52: Մի շարք համայնքներում ջրամատակարարման և ջրահեռացման համակարգերի կառուցման և վերականգնման աշխատանքներ
C53: Միջոցառման տեսակը
C54: Պետական մարմինների կողմից օգտագործվող ոչ ֆինանսական ակտիվների հետ գործառնություններ

Sheet 2
A1: Հավելված N 2
A2: ՀՀ կառավարության 2023 թվականի
A3: -ի N -Ն որոշման
A4: «ՀԱՅԱՍՏԱՆԻ ՀԱՆՐԱՊԵՏՈՒԹՅԱՆ 2023 ԹՎԱԿԱՆԻ ՊԵՏԱԿԱՆ ԲՅՈՒՋԵԻ ՄԱՍԻՆ» ՀԱՅԱՍՏԱՆԻ ՀԱՆՐԱՊԵՏՈՒԹՅԱՆ ՕՐԵՆՔԻ N 1 ՀԱՎԵԼՎԱԾԻ N 3 ԱՂՅՈՒՍԱԿՈՒՄ ԿԱՏԱՐՎՈՂ ՓՈՓՈԽՈՒԹՅՈՒՆՆԵՐԸ
G5: (հազ. դրամ)
A6: Ծրագրային դասիչ | C6: Բյուջետային գլխավոր կարգադրիչների, ծրագրերի, միջոցառումների և ուղղությունների անվանումները | D6: Ցուցանիշների փոփոխությունը (նվազեցումները նշված են փակագծերում)
D7: Ընդամենը, | E7: այդ թվում՝
A8: Ծրագիր | B8: Միջոցառում | E8: Կառուցման աշխատանքներ | F8: Վերակառուցման, վերանորոգման և վերականգնման աշխատանքներ | G8: Նախագծահե- տազոտական, գեոդեզիա- քարտեզագրա- կան աշխա- տանքներ | H8: Ոչ ֆինանսական այլ ակտիվների ձեռքբերում
C9: ԸՆԴԱՄԵՆԸ | D9: =SUM(E9:H9) -> -774465.2 | E9: =E11 -> -245426.8 | F9: =F11 -> -429038.4 | G9: =G11 -> -100000 | H9: =H11 -> 0
C10: այդ թվում՝
C11: ՀՀ ՏԱՐԱԾՔԱՅԻՆ ԿԱՌԱՎԱՐՄԱՆ ԵՎ ԵՆԹԱԿԱՌՈՒՑՎԱԾՔՆԵՐԻ ՆԱԽԱՐԱՐՈՒԹՅՈՒՆ | D11: =SUM(E11:H11) -> -774465.2 | E11: =E13+E14+E15+E18 -> -245426.8 | F11: =F13+F14+F15+F18 -> -429038.4 | G11: =G13+G14+G15+G18 -> -100000 | H11: =H13+H14+H15+H18 -> 0
C12: այդ թվում`
A13: 1004 | B13: 11014 | C13: Արարատյան ջրավազանի ձկնաբուծական տնտեսությունների ելքային ջրերի վերաօգտագործման ծրագիր | D13: =SUM(E13:H13) -> -100000 | E13: 0 | F13: 0 | G13: -100000 | H13: 0
A14: 1004 | B14: 31009 | C14: Օրվա կարգավորման ջրավազանների կառուցում և վերակառուցում | D14: =SUM(E14:H14) -> -141981.7 | E14: -141981.7 | F14: 0 | G14: 0 | H14: 0
A15: 1004 | B15: 31012 | C15: Գետերի և հեղեղատարների տեղամասերի ամրացման և մաքրման աշխատանքներ | D15: =SUM(E15:H15) -> -429038.4 | E15: =E17 -> 0 | F15: =F17 -> -429038.4 | G15: =G17 -> 0 | H15: =H17 -> 0
C16: այդ թվում`
C17: ՀՀ Տավուշի մարզի Այրում համայնքի տարածքում Դեբեդ գետի ափի ամրացում և սահմանային ճանապարհի ստեղծում | D17: =SUM(E17:H17) -> -429038.4 | F17: -429038.4
A18: 1072 | B18: 31008 | C18: Պարտադիր կապիտալ աշխատանքների ծրագրի շրջանակներում ջրամատակարարման և ջրահեռացման ենթակառուցվածքների հիմնանորոգում | D18: =SUM(E18:H18) -> -103445.1 | E18: =SUM(E20:E20) -> -103445.1 | F18: =SUM(F20:F20) -> 0 | G18: =SUM(G20:G20) -> 0 | H18: =SUM(H20:H20) -> 0
C19: այդ թվում`
C20: Սառնակունք գյուղի մոտ Մուխութուրյանի ջրատարի ջրաքանակի համար քլորակայանի կառուցում | D20: =SUM(E20:H20) -> -103445.1 | E20: -103445.1

Sheet 3
G1: Հավելված N 3
A2: ՀՀ կառավարության 2023 թվականի
A3: -ի N -Ն որոշման
A4: ՀԱՅԱՍՏԱՆԻ ՀԱՆՐԱՊԵՏՈՒԹՅԱՆ ԿԱՌԱՎԱՐՈՒԹՅԱՆ 2022 ԹՎԱԿԱՆԻ ԴԵԿՏԵՄԲԵՐԻ 29-Ի N 2111-Ն ՈՐՈՇՄԱՆ N 3 ԵՎ N 4 ՀԱՎԵԼՎԱԾՆԵՐՈՒՄ ԿԱՏԱՐՎՈՂ ՓՈՓՈԽՈՒԹՅՈՒՆՆԵՐԸ
G6: (հազ. դրամ)
A7: Գործառական դասիչը | D7: Ծրագրային դասիչը | F7: Բյուջետային ծախսերի գործառական դասակարգման բաժինների, խմբերի և դասերի, բյուջետային ծրագրերի միջոցառումների, բյուջետային հատկացումների գլխավոր կարգադրիչների անվանումները | G7: Ցուցանիշների փոփոխությունը (ավելացումները նշված են դրական նշանով, իսկ նվազեցումները՝ փակագծերում)
A9: Բաժին | B9: Խումբ | C9: Դաս | D9: Ծրագիր | E9: Միջոցառում | G9: Տարի
F10: ԸՆԴԱՄԵՆԸ ԾԱԽՍԵՐ | G10: =G12+G58 -> 0
F11: այդ թվում`
A12: 04 | F12: ՏՆՏԵՍԱԿԱՆ ՀԱՐԱԲԵՐՈՒԹՅՈՒՆՆԵՐ | G12: =G14 -> 103445.1
F13: այդ թվում`
B14: 02 | F14: Գյուղատնտեսություն, անտառային տնտեսություն, ձկնորսություն և որսորդություն | G14: =G16 -> 103445.1
F15: այդ թվում`
C16: 04 | F16: Ոռոգում | G16: =G18 -> 103445.1
F17: այդ թվում`
F18: ՀՀ տարածքային կառավարման և ենթակառուցվածքների նախարարություն | G18: =G20 -> 103445.1
F19: այդ թվում`
D20: 1004 | F20: Ոռոգման համակարգի առողջացում | G20: =G22+G31+G40+G49 -> 103445.1
F21: այդ թվում`
E22: 11002 | F22: Ոռոգման ծառայություններ մատուցող ընկերություններին ֆինանսական աջակցության տրամադրում | G22: =G24 -> 774465.2
F23: այդ թվում` ըստ կատարողների
F24: ՀՀ տարածքային կառավարման և ենթակառուցվածքների նախարարության ջրային կոմիտե | G24: =G26 -> 774465.2
F25: այդ թվում` բյուջետային ծախսերի տնտեսագիտական դասակարգման հոդվածներ
F26: ԸՆԴԱՄԵՆԸ ԾԱԽՍԵՐ | G26: =G27 -> 774465.2
F27: ԸՆԹԱՑԻԿ ԾԱԽՍԵՐ | G27: =G28 -> 774465.2
F28: ՍՈՒԲՍԻԴԻԱՆԵՐ | G28: =G29 -> 774465.2
F29: Սուբսիդիաներ ոչ պետական կազմակերպություններին | G29: =G30 -> 774465.2
F30: - Սուբսիդիաներ ոչ պետական ոչ ֆինանսական կազմակերպություններին | G30: =-(+G31+G40+G66+G49) -> 774465.2
E31: 11014 | F31: Արարատյան ջրավազանի ձկնաբուծական տնտեսությունների ելքային ջրերի վերաօգտագործման ծրագիր | G31: =G33 -> -100000
F32: այդ թվում` ըստ կատարողների
F33: ՀՀ կառավարություն | G33: =G35 -> -100000
F34: այդ թվում` բյուջետային ծախսերի տնտեսագիտական դասակարգման հոդվածներ
F35: ԸՆԴԱՄԵՆԸ ԾԱԽՍԵՐ | G35: =G36 -> -100000
F36: ՈՉ ՖԻՆԱՆՍԱԿԱՆ ԱԿՏԻՎՆԵՐԻ ԳԾՈՎ ԾԱԽՍԵՐ | G36: =G37 -> -100000
F37: ՀԻՄՆԱԿԱՆ ՄԻՋՈՑՆԵՐ | G37: =G38 -> -100000
F38: ԱՅԼ ՀԻՄՆԱԿԱՆ ՄԻՋՈՑՆԵՐ | G38: =G39 -> -100000
F39: - Նախագծահետազոտական ծախսեր | G39: ='4'!D15 -> -100000
E40: 31009 | F40: Օրվա կարգավորման ջրավազանների կառուցում և վերակառուցում | G40: =G44 -> -141981.7
F41: այդ թվում` ըստ կատարողների
F42: ՀՀ կառավարություն | G42: =G44 -> -141981.7
F43: այդ թվում` բյուջետային ծախսերի տնտեսագիտական դասակարգման հոդվածներ
F44: ԸՆԴԱՄԵՆԸ ԾԱԽՍԵՐ | G44: =G45 -> -141981.7
F45: ՈՉ ՖԻՆԱՆՍԱԿԱՆ ԱԿՏԻՎՆԵՐԻ ԳԾՈՎ ԾԱԽՍԵՐ | G45: =G46 -> -141981.7
F46: ՀԻՄՆԱԿԱՆ ՄԻՋՈՑՆԵՐ | G46: =G47 -> -141981.7
F47: ՇԵՆՔԵՐ ԵՎ ՇԻՆՈՒԹՅՈՒՆՆԵՐ | G47: =G48 -> -141981.7
F48: - Շենքերի և շինությունների շինարարություն | G48: ='4'!D18 -> -141981.7
E49: 31012 | F49: Գետերի և հեղեղատարների տեղամասերի ամրացման և մաքրման աշխատանքներ | G49: =G51 -> -429038.4
F50: այդ թվում` ըստ կատարողների
F51: ՀՀ տարածքային կառավարման և ենթակառուցվածքների նախարարության ջրային կոմիտե | G51: =G53 -> -429038.4
F52: այդ թվում` բյուջետային ծախսերի տնտեսագիտական դասակարգման հոդվածներ
F53: ԸՆԴԱՄԵՆԸ ԾԱԽՍԵՐ | G53: =G54 -> -429038.4
F54: ՈՉ ՖԻՆԱՆՍԱԿԱՆ ԱԿՏԻՎՆԵՐԻ ԳԾՈՎ ԾԱԽՍԵՐ | G54: =G55 -> -429038.4
F55: ՀԻՄՆԱԿԱՆ ՄԻՋՈՑՆԵՐ | G55: =G56 -> -429038.4
F56: ՇԵՆՔԵՐ ԵՎ ՇԻՆՈՒԹՅՈՒՆՆԵՐ | G56: =G57 -> -429038.4
F57: - Շենքերի և շինությունների կապիտալ վերանորոգում | G57: ='4'!D23 -> -429038.4
A58: 06 | F58: ԲՆԱԿԱՐԱՆԱՅԻՆ ՇԻՆԱՐԱՐՈՒԹՅՈՒՆ ԵՎ ԿՈՄՈՒՆԱԼ ԾԱՌԱՅՈՒԹՅՈՒՆՆԵՐ | G58: =G60 -> -103445.1
F59: այդ թվում`
B60: 03 | F60: Ջրամատակարարում | G60: =G62 -> -103445.1
F61: այդ թվում`
C62: 01 | F62: Ջրամատակարարում | G62: =G64 -> -103445.1
F63: այդ թվում`
F64: ՀՀ տարածքային կառավարման և ենթակառուցվածքների նախարարություն | G64: =G66 -> -103445.1
F65: այդ թվում`
D66: 1072 | F66: Ջրամատակարարաման և ջրահեռացման բարելավում | G66: =G68 -> -103445.1
F67: այդ թվում`
E68: 31008 | F68: Պարտադիր կապիտալ աշխատանքների ծրագրի շրջանակներում ջրամատակարարման և ջրահեռացման ենթակառուցվածքների հիմնանորոգում | G68: =G70 -> -103445.1
F69: այդ թվում` ըստ կատարողների
F70: ՀՀ տարածքային կառավարման և ենթակառուցվածքների նախարարության ջրային կոմիտե | G70: =G72 -> -103445.1
F71: այդ թվում` բյուջետային ծախսերի տնտեսագիտական դասակարգման հոդվածներ
F72: ԸՆԴԱՄԵՆԸ ԾԱԽՍԵՐ | G72: =G73 -> -103445.1
F73: ՈՉ ՖԻՆԱՆՍԱԿԱՆ ԱԿՏԻՎՆԵՐԻ ԳԾՈՎ ԾԱԽՍԵՐ | G73: =G74 -> -103445.1
F74: ՀԻՄՆԱԿԱՆ ՄԻՋՈՑՆԵՐ | G74: =G75 -> -103445.1
F75: ՇԵՆՔԵՐ ԵՎ ՇԻՆՈՒԹՅՈՒՆՆԵՐ | G75: =G76 -> -103445.1
F76: - Շենքերի և շինությունների շինարարություն | G76: ='4'!D28 -> -103445.1

Sheet 4
A1: Հավելված N 4
A2: ՀՀ կառավարության 2023 թվականի
A3: -ի N -Ն որոշման
A4: ՀԱՅԱՍՏԱՆԻ ՀԱՆՐԱՊԵՏՈՒԹՅԱՆ ԿԱՌԱՎԱՐՈՒԹՅԱՆ 2022 ԹՎԱԿԱՆԻ ԴԵԿՏԵՄԲԵՐԻ 29-Ի N 2111-Ն ՈՐՈՇՄԱՆ N 5 ՀԱՎԵԼՎԱԾԻ N 2 ԱՂՅՈՒՍԱԿՈՒՄ ԿԱՏԱՐՎՈՂ ՓՈՓՈԽՈՒԹՅՈՒՆՆԵՐԸ
D5: (հազ. դրամ)
A6: Ծրագրային դասիչ | C6: Բյուջետային գլխավոր կարգադրիչների, ծրագրերի, միջոցառումների, միջոցառումները կատարող պետական մարմինների և ուղղությունների անվանումները | D6: Ցուցանիշների փոփոխությունը (նվազեցումները նշված են փակագծերում)
D7: Տարի
A8: Ծրագիր | B8: Միջոցառում
C9: ԸՆԴԱՄԵՆԸ | D9: =D11 -> -774465.2
C10: այդ թվում՝
C11: ՀՀ ՏԱՐԱԾՔԱՅԻՆ ԿԱՌԱՎԱՐՄԱՆ ԵՎ ԵՆԹԱԿԱՌՈՒՑՎԱԾՔՆԵՐԻ ՆԱԽԱՐԱՐՈՒԹՅՈՒՆ | D11: =D13+D16+D19++D24 -> -774465.2
C12: այդ թվում`
A13: 1004 | B13: 11014 | C13: Արարատյան ջրավազանի ձկնաբուծական տնտեսությունների ելքային ջրերի վերաօգտագործման ծրագիր | D13: =D15 -> -100000
C14: այդ թվում` ըստ կատարողների
C15: ՀՀ կառավարություն | D15: -100000
A16: 1004 | B16: 31009 | C16: Օրվա կարգավորման ջրավազանների կառուցում և վերակառուցում | D16: =D18 -> -141981.7
C17: այդ թվում` ըստ կատարողների
C18: ՀՀ կառավարություն | D18: ='2'!E14 -> -141981.7
A19: 1004 | B19: 31012 | C19: Գետերի և հեղեղատարների տեղամասերի ամրացման և մաքրման աշխատանքներ | D19: =D21 -> -429038.4
C20: այդ թվում` ըստ կատարողների
C21: ՀՀ տարածքային կառավարման և ենթակառուցվածքների նախարարության ջրային կոմիտե | D21: =D23 -> -429038.4
C22: այդ թվում` ըստ ուղղությունների
C23: ՀՀ Տավուշի մարզի Այրում համայնքի տարածքում Դեբեդ գետի ափի ամրացում և սահմանային ճանապարհի ստեղծում | D23: ='2'!F17 -> -429038.4
A24: 1072 | B24: 31008 | C24: Պարտադիր կապիտալ աշխատանքների ծրագրի շրջանակներում ջրամատակարարման և ջրահեռացման ենթակառուցվածքների հիմնանորոգում | D24: =D26 -> -103445.1
C25: այդ թվում` ըստ կատարողների
C26: ՀՀ տարածքային կառավարման և ենթակառուցվածքների նախարարության ջրային կոմիտե | D26: =D28 -> -103445.1
C27: այդ թվում` ըստ ուղղությունների
C28: Սառնակունք գյուղի մոտ Մուխութուրյանի ջրատարի ջրաքանակի համար քլորակայանի կառուցում | D28: ='2'!E20 -> -103445.1

Sheet 5-1
A1: Հավելված N 5
A2: ՀՀ կառավարության 2023 թվականի
A3: -ի N -Ն որոշման
A5: ՀԱՅԱՍՏԱՆԻ ՀԱՆՐԱՊԵՏՈՒԹՅԱՆ ԿԱՌԱՎԱՐՈՒԹՅԱՆ 2022 ԹՎԱԿԱՆԻ ԴԵԿՏԵՄԲԵՐԻ 29-Ի N 2111-Ն ՈՐՈՇՄԱՆ N 9 ՀԱՎԵԼՎԱԾԻ N 9.7 ԱՂՅՈՒՍԱԿՈՒՄ ԿԱՏԱՐՎՈՂ ՓՈՓՈԽՈՒԹՅՈՒՆՆԵՐԸ
A6: ՀՀ տարածքային կառավարման և ենթակառուցվածքների նախարարություն
A8: ՄԱՍ 2. ՊԵՏԱԿԱՆ ՄԱՐՄՆԻ ԳԾՈՎ ԱՐԴՅՈՒՆՔԱՅԻՆ (ԿԱՏԱՐՈՂԱԿԱՆ) ՑՈՒՑԱՆԻՇՆԵՐԸ | C8: Աղյուսակ 9.7
A10: Ծրագրի դասիչը | B10: Ծրագրի անվանումը
A11: 1004 | B11: Ոռոգման համակարգի առողջացում
A12: Ծրագրի միջոցառումները
A14: Ծրագրի դասիչը` | B14: 1004 | C14: Ցուցանիշների փոփոխությունը (ավելացումները նշված են դրական նշանով, իսկ նվազեցումները՝ փակագծերում)
A16: Միջոցառման դասիչը` | B16: 11002 | C16: Տարի
A17: Միջոցառման անվանումը` | B17: Ոռոգման ծառայություններ մատուցող ընկերություններին ֆինանսական աջակցության տրամադրում
A18: Նկարագրությունը` | B18: Ոռոգման ոլորտի սուբսիդավորում ՋՕԸ-ների համար սահմանված ոռոգման ջրի սակագնի և նվազագույն շահավետ գնի տարբերության չափով
A19: Միջոցառման տեսակը` | B19: Ծառայությունների մատուցում
A20: Միջոցառումն իրականացնողի անվանումը | B20: Ջրօգտագործողների ընկերություններ
A21: Արդյունքի չափորոշիչներ
A22: Ջրամատակարարման ծավալ, մլն խ մ | C22: -35
A23: Միջոցառման վրա կատարվող ծախսը (հազար դրամ) | C23: ='1'!D18 -> 774465.2
A26: Ծրագրի դասիչը` | B26: 1004 | C26: Ցուցանիշների փոփոխությունը (նվազեցումները նշված են փակագծերում)
A28: Միջոցառման դասիչը` | B28: 11014 | C28: Տարի
A29: Միջոցառման անվանումը` | B29: Արարատյան ջրավազանի ձկնաբուծական տնտեսությունների ելքային ջրերի վերաօգտագործման ծրագիր
A30: Նկարագրությունը` | B30: Արարատյան ջրավազանի ձկնաբուծական տնտեսությունների ելքային ջրերի վերաօգտագործման նպատակով հիդրոլոգիական և ինժեներական ուսունասիրություններ, մասնագիտական խորհրդատվական և նախագծային ծառայություններ
A31: Միջոցառման տեսակը` | B31: Ծառայությունների մատուցում
A32: Ակտիվն օգտագործող կազմակերպության(ների) անվանում(ները)՛ | B32: Մասնագիտացված միավոր
A33: Արդյունքի չափորոշիչներ
A34: Միջոցառման վրա կատարվող ծախսը (հազար դրամ) | C34: ='1'!D24 -> -100000
A37: Ծրագրի դասիչը` | B37: 1004 | C37: Ցուցանիշների փոփոխությունը (նվազեցումները նշված են փակագծերում)
A39: Միջոցառման դասիչը` | B39: 31009 | C39: Տարի
A40: Միջոցառման անվանումը` | B40: Օրվա կարգավորման ջրավազանների կառուցում և վերակառուցում
A41: Նկարագրությունը` | B41: Օրվա կարգավորման ջրավազանների կառուցման և վերակառուցման համար նախագծերի և աշխատանքների ձեռք բերում
A42: Միջոցառման տեսակը` | B42: Պետական մարմինների կողմից օգտագործվող ոչ ֆինանսական ակտիվների հետ գործառնություններ
A43: Ակտիվն օգտագործող կազմակերպության(ների) անվանում(ները)՛ | B43: ՀՀ ՏԿԵՆ ջրային կոմիտե
A44: Արդյունքի չափորոշիչներ
A45: Նախագծանախահաշվային փաստաթղթեր և փորձաքննության եզրակացություններ, հատ | C45: -6
A46: Օրվա կարգավորման ջրավազանների կառուցում, հատ | C46: -31
A47: Միջոցառման վրա կատարվող ծախսը (հազար դրամ) | C47: ='1'!D30 -> -141981.7
A51: Ծրագրի դասիչը` | B51: 1004 | C51: Ցուցանիշների փոփոխությունը (նվազեցումները նշված են փակագծերում)
A53: Միջոցառման դասիչը` | B53: 31012 | C53: Տարի
A54: Միջոցառման անվանումը` | B54: Գետերի և հեղեղատարների տեղամասերի ամրացման և մաքրման աշխատանքներ
A55: Նկարագրությունը` | B55: Գետերի և հեղեղատարների տեղամասերի ամրացման և մաքրման համար նախագծերի և աշխատանքների ձեռքբերում
A56: Միջոցառման տեսակը` | B56: Պետական մարմինների կողմից օգտագործվող ոչ ֆինանսական ակտիվների հետ գործառնություններ
A57: Ակտիվն օգտագործող կազմակերպության(ների) անվանում(ները)՛ | B57: ՀՀ ՏԿԵՆ ջրային կոմիտե
A58: Արդյունքի չափորոշիչներ
A59: Գետերի ափերի ամրացում և ափապատնեշների բարձրացում, մ | C59: -1500
A60: Միջոցառման վրա կատարվող ծախսը (հազար դրամ) | C60: ='1'!D36 -> -429038.4
A63: Ծրագրի դասիչը | B63: Ծրագրի անվանումը
A64: 1072 | B64: Ջրամատակարարաման և ջրահեռացման բարելավում
A65: Ծրագրի միջոցառումները
A67: Ծրագրի դասիչը` | B67: 1072 | C67: Ցուցանիշների փոփոխությունը (նվազեցումները նշված են փակագծերում)
A69: Միջոցառման դասիչը` | B69: 31008 | C69: Տարի
A70: Միջոցառման անվանումը` | B70: Պարտադիր կապիտալ աշխատանքների ծրագրի շրջանակներում ջրամատակարարման և ջրահեռացման ենթակառուցվածքների հիմնանորոգում
A71: Նկարագրությունը` | B71: Մի շարք համայնքներում ջրամատակարարման և ջրահեռացման համակարգերի կառուցման և վերականգնման աշխատանքներ
A72: Միջոցառման տեսակը` | B72: Պետական մարմինների կողմից օգտագործվող ոչ ֆինանսական ակտիվների հետ գործառնություններ
A73: Ակտիվն օգտագործող կազմակերպության(ների) անվանում(ները)՛ | B73: Մասնագիտացված միավոր
A74: Արդյունքի չափորոշիչներ
A75: Կառուցվող օբյեկտների թիվը, հատ | C75: -1
A76: Միջոցառման վրա կատարվող ծախսը (հազար դրամ) | C76: ='1'!D49 -> -103445.1

Sheet 5-2
A1: Աղյուսակ 2
A3: ՀԱՅԱՍՏԱՆԻ ՀԱՆՐԱՊԵՏՈՒԹՅԱՆ ԿԱՌԱՎԱՐՈՒԹՅԱՆ 2022 ԹՎԱԿԱՆԻ ԴԵԿՏԵՄԲԵՐԻ 29-Ի N 2111-Ն ՈՐՈՇՄԱՆ N 9.1 ՀԱՎԵԼՎԱԾԻ N 9.1.25 ԵՎ N 9.1.58 ԱՂՅՈՒՍԱԿՆԵՐՈՒՄ ԿԱՏԱՐՎՈՂ ՓՈՓՈԽՈՒԹՅՈՒՆՆԵՐԸ
C4: Աղյուսակ 9.1.25
A5: ՀՀ տարածքային կառավարման և ենթակառուցվածքների նախարարության ջրային կոմիտե
A6: ՄԱՍ 1. ՊԵՏԱԿԱՆ ՄԱՐՄՆԻ ԳԾՈՎ ԱՐԴՅՈՒՆՔԱՅԻՆ (ԿԱՏԱՐՈՂԱԿԱՆ) ՑՈՒՑԱՆԻՇՆԵՐԸ
A8: Ծրագրի դասիչը | B8: Ծրագրի անվանումը
A9: 1004 | B9: Ոռոգման համակարգի առողջացում
A10: Ծրագրի միջոցառումները
A12: Ծրագրի դասիչը` | B12: 1004 | C12: Ցուցանիշների փոփոխությունը (ավելացումները նշված են դրական նշանով, իսկ նվազեցումները՝ փակագծերում)
A14: Միջոցառման դասիչը` | B14: 11002 | C14: Տարի
A15: Միջոցառման անվանումը` | B15: Ոռոգման ծառայություններ մատուցող ընկերություններին ֆինանսական աջակցության տրամադրում
A16: Նկարագրությունը` | B16: Ոռոգման ոլորտի սուբսիդավորում ՋՕԸ-ների համար սահմանված ոռոգման ջրի սակագնի և նվազագույն շահավետ գնի տարբերության չափով
A17: Միջոցառման տեսակը` | B17: Ծառայությունների մատուցում
A18: Միջոցառումն իրականացնողի անվանումը | B18: Ջրօգտագործողների ընկերություններ
A19: Արդյունքի չափորոշիչներ
A20: Ջրամատակարարման ծավալ, մլն խ մ | C20: -35
A21: Միջոցառման վրա կատարվող ծախսը (հազար դրամ) | C21: ='5-1'!C23 -> 774465.2
A23: Ծրագրի դասիչը` | B23: 1004 | C23: Ցուցանիշների փոփոխությունը (նվազեցումները նշված են փակագծերում)
A25: Միջոցառման դասիչը` | B25: 31009 | C25: Տարի
A26: Միջոցառման անվանումը` | B26: Օրվա կարգավորման ջրավազանների կառուցում և վերակառուցում
A27: Նկարագրությունը` | B27: Օրվա կարգավորման ջրավազանների կառուցման և վերակառուցման համար նախագծերի և աշխատանքների ձեռք բերում
A28: Միջոցառման տեսակը` | B28: Պետական մարմինների կողմից օգտագործվող ոչ ֆինանսական ակտիվների հետ գործառնություններ
A29: Ակտիվն օգտագործող կազմակերպության(ների) անվանում(ները)՛ | B29: ՀՀ ՏԿԵՆ ջրային կոմիտե
A30: Արդյունքի չափորոշիչներ
A31: Նախագծանախահաշվային փաստաթղթեր և փորձաքննության եզրակացություններ, հատ | C31: -6
A32: Միջոցառման վրա կատարվող ծախսը (հազար դրամ) | C32: 0
A34: Ծրագրի դասիչը` | B34: 1004 | C34: Ցուցանիշների փոփոխությունը (նվազեցումները նշված են փակագծերում)
A36: Միջոցառման դասիչը` | B36: 31012 | C36: Տարի
A37: Միջոցառման անվանումը` | B37: Գետերի և հեղեղատարների տեղամասերի ամրացման և մաքրման աշխատանքներ
A38: Նկարագրությունը` | B38: Գետերի և հեղեղատարների տեղամասերի ամրացման և մաքրման համար նախագծերի և աշխատանքների ձեռքբերում
A39: Միջոցառման տեսակը` | B39: Պետական մարմինների կողմից օգտագործվող ոչ ֆինանսական ակտիվների հետ գործառնություններ
A40: Ակտիվն օգտագործող կազմակերպության(ների) անվանում(ները)՛ | B40: ՀՀ ՏԿԵՆ ջրային կոմիտե
A41: Արդյունքի չափորոշիչներ
A42: Գետերի ափերի ամրացում և ափապատնեշների բարձրացում, մ | C42: -1500
A43: Միջոցառման վրա կատարվող ծախսը (հազար դրամ) | C43: ='5-1'!C60 -> -429038.4
A46: Ծրագրի դասիչը | B46: Ծրագրի անվանումը
A47: 1072 | B47: Ջրամատակարարաման և ջրահեռացման բարելավում
A48: Ծրագրի միջոցառումները
A50: Ծրագրի դասիչը` | B50: 1072 | C50: Ցուցանիշների փոփոխությունը (նվազեցումները նշված են փակագծերում)
A52: Միջոցառման դասիչը` | B52: 31008 | C52: Տարի
A53: Միջոցառման անվանումը` | B53: Պարտադիր կապիտալ աշխատանքների ծրագրի շրջանակներում ջրամատակարարման և ջրահեռացման ենթակառուցվածքների հիմնանորոգում
A54: Նկարագրությունը` | B54: Մի շարք համայնքներում ջրամատակարարման և ջրահեռացման համակարգերի կառուցման և վերականգնման աշխատանքներ
A55: Միջոցառման տեսակը` | B55: Պետական մարմինների կողմից օգտագործվող ոչ ֆինանսական ակտիվների հետ գործառնություններ
A56: Ակտիվն օգտագործող կազմակերպության(ների) անվանում(ները)՛ | B56: Մասնագիտացված միավոր
A57: Արդյունքի չափորոշիչներ
A58: Կառուցվող օբյեկտների թիվը, հատ | C58: -1
A59: Միջոցառման վրա կատարվող ծախսը (հազար դրամ) | C59: ='4'!D24 -> -103445.1
A63: ՀՀ կառավարություն
A64: ՄԱՍ 1. ՊԵՏԱԿԱՆ ՄԱՐՄՆԻ ԳԾՈՎ ԱՐԴՅՈՒՆՔԱՅԻՆ (ԿԱՏԱՐՈՂԱԿԱՆ) ՑՈՒՑԱՆԻՇՆԵՐԸ
A66: Ծրագրի դասիչը | B66: Ծրագրի անվանումը
A67: 1004 | B67: Ոռոգման համակարգի առողջացում
A68: Ծրագրի միջոցառումները
A70: Ծրագրի դասիչը` | B70: 1004 | C70: Ցուցանիշների փոփոխությունը (նվազեցումները նշված են փակագծերում)
A72: Միջոցառման դասիչը` | B72: 11014 | C72: Տարի
A73: Միջոցառման անվանումը` | B73: Արարատյան ջրավազանի ձկնաբուծական տնտեսությունների ելքային ջրերի վերաօգտագործման ծրագիր
A74: Նկարագրությունը` | B74: Արարատյան ջրավազանի ձկնաբուծական տնտեսությունների ելքային ջրերի վերաօգտագործման նպատակով հիդրոլոգիական և ինժեներական ուսունասիրություններ, մասնագիտական խորհրդատվական և նախագծային ծառայություններ
A75: Միջոցառման տեսակը` | B75: Ծառայությունների մատուցում
A76: Ակտիվն օգտագործող կազմակերպության(ների) անվանում(ները)՛ | B76: Մասնագիտացված միավոր
A77: Արդյունքի չափորոշիչներ
A78: Միջոցառման վրա կատարվող ծախսը (հազար դրամ) | C78: ='4'!D15 -> -100000
A81: Ծրագրի դասիչը` | B81: 1004 | C81: Ցուցանիշների փոփոխությունը (նվազեցումները նշված են փակագծերում)
A83: Միջոցառման դասիչը` | B83: 31009 | C83: Տարի
A84: Միջոցառման անվանումը` | B84: Օրվա կարգավորման ջրավազանների կառուցում և վերակառուցում
A85: Նկարագրությունը` | B85: Օրվա կարգավորման ջրավազանների կառուցման և վերակառուցման համար նախագծերի և աշխատանքների ձեռք բերում
A86: Միջոցառման տեսակը` | B86: Պետական մարմինների կողմից օգտագործվող ոչ ֆինանսական ակտիվների հետ գործառնություններ
A87: Ակտիվն օգտագործող կազմակերպության(ների) անվանում(ները)՛ | B87: ՀՀ ՏԿԵՆ ջրային կոմիտե
A88: Արդյունքի չափորոշիչներ
A89: Օրվա կարգավորման ջրավազանների կառուցում, հատ | C89: -31
A90: Միջոցառման վրա կատարվող ծախսը (հազար դրամ) | C90: ='4'!D16 -> -141981.7

Sheet 6
A1: Հավելված N 6
A2: ՀՀ կառավարության 2023 թվականի
A3: -ի N -Ն որոշման
A5: ՀՀ ԿԱՌԱՎԱՐՈՒԹՅԱՆ 2022 ԹՎԱԿԱՆԻ ԴԵԿՏԵՄԲԵՐԻ 29-Ի N 2111-Ն ՈՐՈՇՄԱՆ N 10 ՀԱՎԵԼՎԱԾՈՒՄ ԿԱՏԱՐՎՈՂ ՓՈՓՈԽՈՒԹՅՈՒՆՆԵՐԸ
A7: Կոդը | B7: Անվանումը | C7: Գնման ձևը | D7: Չափի միավորը | E7: Ցուցանիշների փոփոխությունը (ավելացումները նշված են դրական նշանով, իսկ նվազեցումները՝ փակագծերում)
E8: Միավորի գինը | F8: քանակը | G8: գումարը (հազ. դրամ)
A9: ՀՀ տարածքային կառավարման և ենթակառուցվածքների նախարարության ջրային կոմիտե | G9: =G10+G17 -> -532483.5
A10: Բաժին N 04 | B10: Խումբ N 02 | C10: Դաս N 04 | D10: Ոռոգում | G10: =G11 -> -429038.4
A11: 1004 31012 | B11: Գետերի և հեղեղատարների տեղամասերի ամրացման և մաքրման աշխատանքներ | G11: =G12+G14 -> -429038.4
B12: ՄԱՍ II ԱՇԽԱՏԱՆՔՆԵՐ | G12: =G13 -> -419850.85
A13: 45241133/1 | B13: գետերի ափերի պաշտպանության աշխատանքներ | C13: ԲՄ | D13: դրամ | E13: 419850900 | F13: 1 | G13: -419850.85
B14: ՄԱՍ III ԾԱՌԱՅՈՒԹՅՈՒՆՆԵՐ | G14: =G16+G15 -> -9187.55
A15: 71351540/1 | B15: տեխնիկական հսկողության ծառայություններ | C15: ԳՀ | D15: դրամ | E15: 7519970 | F15: 1 | G15: -7519.97
A16: 98111140/1 | B16: հեղինակային հսկողության ծառայություններ | C16: ՄԱ | D16: դրամ | E16: 1667580 | F16: 1 | G16: -1667.58
A17: Բաժին N 06 | B17: Խումբ 03 | C17: Դաս 01 | D17: Ջրամատակարարում | G17: =G18 -> -103445.1
A18: 1072 31008 | B18: Պարտադիր կապիտալ աշխատանքների ծրագրի շրջանակներում ջրամատակարարման և ջրահեռացման ենթակառուցվածքների հիմնանորոգում | G18: =G19+G21 -> -103445.1
B19: ՄԱՍ II ԱՇԽԱՏԱՆՔՆԵՐ | G19: =G20 -> -102088.2
A20: 45251135/4 | B20: ջրի զտման կայանների կառուցման աշխատանքներ | C20: ՀԲՄ | D20: դրամ | E20: 102088200 | F20: 1 | G20: -102088.2
B21: ՄԱՍ III ԾԱՌԱՅՈՒԹՅՈՒՆՆԵՐ | G21: =G22+G23 -> -1356.9
A22: 71351540/31 | B22: տեխնիկական հսկողության ծառայություններ | C22: ԳՀ | D22: դրամ | E22: 1130700 | F22: 1 | G22: -1130.7
A23: 98111140/33 | B23: հեղինակային հսկողության ծառայություններ | C23: ՄԱ | D23: դրամ | E23: 226200 | F23: 1 | G23: -226.2
