Workbook
Name AgencyCode: #REF!
Name AgencyCode: #REF!
Name AgencyCode: #REF!
Name AgencyCode: #REF!
Name AgencyCode: #REF!
Name AgencyCode: #REF!
Name AgencyName: #REF!
Name AgencyName: #REF!
Name AgencyName: #REF!
Name AgencyName: #REF!
Name åû: #REF!
Name åû: #REF!
Name davit: #REF!
Name davit: #REF!
Name Functional1: #REF!
Name Functional1: #REF!
Name Functional1: #REF!
Name Functional1: #REF!
Name ggg: #REF!
Name ggg: #REF!
Name mas: #REF!
Name mas: #REF!
Name mass: #REF!
Name mass: #REF!
Name PANature: #REF!
Name PANature: #REF!
Name PANature: #REF!
Name PANature: #REF!
Name PAType: #REF!
Name PAType: #REF!
Name PAType: #REF!
Name PAType: #REF!
Name Performance2: #REF!
Name Performance2: #REF!
Name Performance2: #REF!
Name Performance2: #REF!
Name PerformanceType: #REF!
Name PerformanceType: #REF!
Name PerformanceType: #REF!
Name PerformanceType: #REF!
Name x: #REF!
Name x: #REF!
Name Հավելված: #REF!
Name Հավելված: #REF!
Name Հավելված: #REF!
Name Հավելված: #REF!
Name Մաս: #REF!
Name Մաս: #REF!
Name Մաս: #REF!
Name Մաս: #REF!
Name շախմատիստ: #REF!
Name շախմատիստ: #REF!
Name շախմատիստ: #REF!
Name շախմատիստ: #REF!

Sheet Հ1
H1: Հավելված N 1
H2: ՀՀ կառավարության 2023 թվականի
H3: ______________ ի ___Ն որոշման
A4: «ՀԱՅԱՍՏԱՆԻ ՀԱՆՐԱՊԵՏՈՒԹՅԱՆ 2023 ԹՎԱԿԱՆԻ ՊԵՏԱԿԱՆ ԲՅՈՒՋԵԻ ՄԱՍԻՆ» ՕՐԵՆՔԻ N 1 ՀԱՎԵԼՎԱԾԻ N 3 ԱՂՅՈՒՍԱԿՈՒՄ ԿԱՏԱՐՎՈՂ ՓՈՓՈԽՈՒԹՅՈՒՆՆԵՐԸ ԵՎ ԼՐԱՑՈՒՄՆԵՐԸ
G5: հազ. դրամ
A6: Ծրագրային դասիչ | C6: Բյուջետային գլխավոր կարգադրիչների, ծրագրերի, միջոցառումների և ուղղությունների անվանումները | D6: Ցուցանիշների փոփոխությունը (Ավելացումները նշված են դրական նշանով, իսկ նվազեցումները` փակագծերում)
D7: Ընդամենը, | E7: այդ թվում՝
A8: Ծրագիր | B8: Միջոցառում | E8: Կառուցման աշխատանքներ | F8: Վերակառուցման, վերանորոգման և վերականգնման աշխատանքներ | G8: Նախագծահե- տազոտական, գեոդեզիա- քարտեզագրա- կան աշխա- տանքներ | H8: Ոչ ֆինանսական այլ ակտիվների ձեռքբերում
C9: ԸՆԴԱՄԵՆԸ | D9: =+E9+F9+G9+H9 -> 0 | E9: =+E11 -> 0 | F9: =+F11 -> 0 | G9: =+G11 -> 0 | H9: =+H11 -> 0
C10: այդ թվում՝
C11: ՀՀ ՏԱՐԱԾՔԱՅԻՆ ԿԱՌԱՎԱՐՄԱՆ ԵՎ ԵՆԹԱԿԱՌՈՒՑՎԱԾՔՆԵՐԻ ՆԱԽԱՐԱՐՈՒԹՅՈՒՆ | D11: =+E11+F11+G11+H11 -> 0 | E11: =E13+E43 -> 0 | F11: =F13+F43 -> 0 | G11: =G13+G43 -> 0 | H11: =H13+H43 -> 0
C12: այդ թվում`
A13: 1049 | B13: 21001 | C13: Պետական նշանակության ավտոճանապարհների հիմնանորոգում | D13: =+E13+F13+G13+H13 -> -32464.1 | E13: =E15+E24+E32 -> 0 | F13: =F15+F24+F32 -> -32464.1 | G13: =G15+G24+G32 -> 0 | H13: 0
C14: այդ թվում`
B15: 1 | C15: =[1]Հ6!D18 -> Միջպետական նշանակության ավտոճանապարհներ, այդ թվում | D15: =+E15+F15+G15+H15 -> 947371 | E15: =SUM(E16:E23) -> 0 | F15: =SUM(F16:F23) -> 947371 | G15: =SUM(G16:G23) -> 0 | H15: =SUM(H16:H23) -> 0
C16: Մ-1, Երևան-Գյումրի-Վրաստանի սահման միջպետական նշանակության ավտոճանապարհի կմ113+200-կմ 118+900 հատվածի հիմնանորոգում | D16: =+E16+F16+G16+H16 -> -8644.3 | E16: 0 | F16: -8644.3 | G16: 0 | H16: 0
C17: Մ-1, Երևան-Գյումրի-Վրաստանի սահման միջպետական նշանակության ավտոճանապարհի կմ160+200-կմ171+700 հատվածի հիմնանորոգում | D17: =+E17+F17+G17+H17 -> 71451.1 | E17: 0 | F17: 71451.1 | G17: 0 | H17: 0
C18: Մ-3, Թուրքիայի սահման-Մարգարա-Վանաձոր-Տաշիր-Վրաստանի սահման միջպետական նշանակության ավտոճանապարհի կմ10+500 - կմ11+400 հատվածի հիմնանորոգում | D18: =+E18+F18+G18+H18 -> 194457.3 | E18: 0 | F18: 194457.3 | G18: 0 | H18: 0
C19: Մ-3, Թուրքիայի սահման-Մարգարա-Վանաձոր-Տաշիր-Վրաստանի սահման միջպետական նշանակության ավտոճանապարհի կմ154+000-կմ176+900 հատվածի հիմնանորոգում | D19: =+E19+F19+G19+H19 -> 86656.6 | E19: 0 | F19: 86656.6 | G19: 0 | H19: 0
C20: Մ-10, Սևան-Մարտունի-Գետափ միջպետական նշանակության ավտոճանապարհի կմ66+000-կմ80+000 հատվածի հիմնանորոգում | D20: =+E20+F20+G20+H20 -> 786770.5 | E20: 0 | F20: 786770.5 | G20: 0 | H20: 0
C21: Մ-11, Մարտունի - Վարդենիս - ԼՂՀ սահման միջպետական նշանակության ավտոճանապարհի կմ25+500-կմ29+200 հատվածի հիմնանորոգում | D21: =+E21+F21+G21+H21 -> -317993.1 | E21: 0 | F21: -317993.1 | G21: 0 | H21: 0
C22: Մ-14, Մ-4-Շորժա-Վարդենիս միջպետական նշանակության ավտոճանապարհի կմ39+400 - կմ60+300 հատվածի հիմնանորոգում | D22: =+E22+F22+G22+H22 -> 99760.5 | E22: 0 | F22: 99760.5 | G22: 0 | H22: 0
C23: Մ-15, /Մ-4/ (Վերին Պտղնի) - Մասիսի տրանսպորտային հանգույց (Երևանի շրջանց) միջպետական նշանակության ավտոճանապարհի կմ19+900-կմ29+400 հատվածի հիմնանորոգում | D23: =+E23+F23+G23+H23 -> 34912.4 | E23: 0 | F23: 34912.4 | G23: 0 | H23: 0
B24: 2 | C24: =[1]Հ6!D37 -> Հանրապետական նշանակության ավտոճանապարհներ, այդ թվում | D24: =+E24+F24+G24+H24 -> -381768.4 | E24: =SUM(E25:E31) -> 0 | F24: =SUM(F25:F31) -> -381768.4 | G24: =SUM(G25:G31) -> 0 | H24: =SUM(H25:H31) -> 0
C25: Հ-7, /Հ-5/ - Կարենիս - Չարենցավան /Հ-1/ (Ֆանտան)հանրապետական նշանակության ավտոճանապարհի կմ7+580 - կմ10+200 հատվածի հիմնանորոգում | D25: =+E25+F25+G25+H25 -> 180439.2 | E25: 0 | F25: 180439.2 | H25: 0
C26: Հ-21, /Հ-75/ - Հոռոմ-Արթիկ-Ալագյազ հանրապետական նշանակության ավտոճանապարհի կմ19+000 - կմ23+900 հատվածի հիմնանորոգում | D26: =+E26+F26+G26+H26 -> -7636.9 | F26: -7636.9
C27: Հ-30, /Մ-4/ - Ճամբարակ - /Մ-14/ հանրապետական նշանակության ավտոճանապարհի կմ 32+000-կմ 35+000 հատվածի հիմնանորոգում | D27: =+E27+F27+G27+H27 -> -34025.6 | F27: -34025.6
C28: Հ-30,Մոտեցում Արծվաշենին հանրապետական նշանակության ավտոճանապարհի կմ 0+000-կմ 5+000 և կմ5+000 -կմ5+720 հատվածների հիմնանորոգում | D28: =+E28+F28+G28+H28 -> 51459.6 | F28: 51459.6
C29: Հ-55, Հրազդանի տրանսպորտային հանգույց-Ծաղկաձորի մարզահամալիր հանրապետական նշանակության ավտոճանապարհի կմ0+000 - կմ10+500 հատվածի հիմնանորոգում | D29: =+E29+F29+G29+H29 -> 485786 | F29: 485786
C30: Հ-70, Մ-6 – Աթան հանրապետական նշանակության ավտոճանապարհի կմ0+000 - կմ27+500 հատվածի հիմնանորոգում | D30: =+E30+F30+G30+H30 -> -805776.3 | E30: 0 | F30: -805776.3 | G30: 0 | H30: 0
C31: Հ85, /Հ-1/ - Հրազդան - /Հ-55/ հանրապետական նշանակության ավտոճանապարհի կմ1+600 - կմ3+300 հատվածների հիմնանորոգում | D31: =+E31+F31+G31+H31 -> -252014.4 | E31: 0 | F31: -252014.4 | H31: 0
B32: 3 | C32: =[1]Հ6!D58 -> Մարզային նշանակության ավտոճանապարհներ, այդ թվում | D32: =+E32+F32+G32+H32 -> -598066.7 | E32: =SUM(E33:E42) -> 0 | F32: =SUM(F33:F42) -> -598066.7 | G32: =SUM(G33:G42) -> 0 | H32: =SUM(H33:H42) -> 0
C33: Տ-4-13,/Հ-39/ (Գավառ) – Գանձակ – Սարուխան – Գեղարքունիք ավտոճանապարհի կմ0+000-կմ12+900 հատվածի հիմնանորոգում | D33: =+E33+F33+G33+H33 -> 535779.3 | E33: 0 | F33: 535779.3 | H33: 0
C34: Տ-5-46,/Մ-6/(Ալավերդի)-Սանահին թաղամաս-Ակներ ավտոճանապարհի կմ0+000-կմ9+300 և Տ-5-46 դեպի Սանահին վանական համալիր տանող հատվածների հիմնանորգում | D34: =+E34+F34+G34+H34 -> -1367781.9 | E34: 0 | F34: -1367781.9 | H34: 0
C35: /Հ-70/ – Քարինջ մարզային նշանակության ավտոճանապարհի կմ0+000 - կմ3+500 հատվածի հիմնանորոգում | D35: =+E35+F35+G35+H35 -> -4811.5 | E35: 0 | F35: -4811.5 | H35: 0
C36: Տ-5-82, /Հ-70/ – Լորուտ մարզային նշանակության ավտոճանապարհի կմ0+000 - կմ1+600 հատվածի հիմնանորոգում | D36: =+E36+F36+G36+H36 -> -7288.5 | E36: 0 | F36: -7288.5 | H36: 0
C37: Տ-8-56, /Մ-2/ - Հարժիս ավտոճանապարհի կմ0+000 - կմ8+000 հատվածի հիմնանորոգում | D37: =+E37+F37+G37+H37 -> 54926.2 | E37: 0 | F37: 54926.2 | H37: 0
C38: Վանաձոր քաղաքային համայնքի Կ. Դեմիրճյան փողոցի հիմնանորոգում | D38: =+E38+F38+G38+H38 -> 95363.1 | E38: 0 | F38: 95363.1 | H38: 0
C39: Վանաձոր քաղաքային համայնքի Խորենացի փողոցի (երկու երթևեկելի գոիտիներ /0.4կմ+0.4կմ/) հիմնանորոգում | D39: =+E39+F39+G39+H39 -> -1953.8 | F39: -1953.8
C40: ՀՀ Լոռու մարզ Վանաձոր համայնքի Տ. Մեծի պողոտայի հիմնանորոգում | D40: =+E40+F40+G40+H40 -> 52478.9 | E40: 0 | F40: 52478.9 | H40: 0
C41: ՀՀ Լոռու մարզ Վանաձոր համայնքի Սանկտ - Պետերբուրգի փողոցի հիմնանորոգում | D41: =+E41+F41+G41+H41 -> 52195.7 | E41: 0 | F41: 52195.7 | H41: 0
C42: Հ-36, /Մ-4/ (Իջևան) - Նավուր - Բերդ – Այգեպար հանրապետական նշանակության ավտոճանապարհի 48-րդ կիլոմետրից դեպի զորամաս տանող ճանապարհի հիմնանորոգում | D42: =+E42+F42+G42+H42 -> -6974.2 | E42: 0 | F42: -6974.2 | H42: 0
A43: 1049 | B43: 21002 | C43: Տրանսպորտային օբյեկտների հիմնանորոգում, այդ թվում | D43: =+E43+F43+G43+H43 -> 32464.1 | E43: =SUM(E44:E47) -> 0 | F43: =SUM(F44:F47) -> 32464.1 | G43: =SUM(G44:G47) -> 0 | H43: =SUM(H44:H47) -> 0
C44: Մ- 3, Թուրքիայի սահման-Մարգարա-Վանաձոր-Տաշիր-Վրաստանի սահման կմ144+020-ում գտնվող կամրջի հիմնանորոգում | D44: =+E44+F44+G44+H44 -> 5664.7 | E44: 0 | F44: 5664.7 | H44: 0
C45: Մ-4, Երևան - Սևան - Իջևան - Ադրբեջանի սահման կմ103+900 հատվածում գտնվող կամուրջի վերանորոգում | D45: =+E45+F45+G45+H45 -> 1239 | E45: 0 | F45: 1239 | H45: 0
C46: Սևանի տրանսպորտային հանգույցի հիմնանորոգում | D46: =+E46+F46+G46+H46 -> 13856.8 | E46: 0 | F46: 13856.8 | H46: 0
C47: Հ-53, /Մ-4/ - Սեմյոնովկա - /Մ-4/ հանրապետական նշանակության ավտոճանապարհի կմ0+100 հատվածի կամրջի հիմնանորոգում | D47: =+E47+F47+G47+H47 -> 11703.6 | E47: 0 | F47: 11703.6 | H47: 0
C49: ՀԱՅԱՍՏԱՆԻ ՀԱՆՐԱՊԵՏՈՒԹՅԱՆ
C50: ՎԱՐՉԱՊԵՏԻ ԱՇԽԱՏԱԿԱԶՄԻ
C51: ՂԵԿԱՎԱՐ ՝ | D51: Ա. ՀԱՐՈՒԹՅՈՒՆՅԱՆ

Sheet Հ2
D2: Հավելված N 2
D3: ՀՀ կառավարության 2023 թվականի
D4: ______________ ի ___Ն որոշման
A6: «ՀԱՅԱՍՏԱՆԻ ՀԱՆՐԱՊԵՏՈՒԹՅԱՆ 2023 ԹՎԱԿԱՆԻ ՊԵՏԱԿԱՆ ԲՅՈՒՋԵԻ ՄԱՍԻՆ» ՕՐԵՆՔԻ N 1 ՀԱՎԵԼՎԱԾԻ N 2 ԱՂՅՈՒՍԱԿՈՒՄ ՎԵՐԱԲԱՇԽՈՒՄ ԵՎ ՀԱՅԱՍՏԱՆԻ ՀԱՆՐԱՊԵՏՈՒԹՅԱՆ ԿԱՌԱՎԱՐՈՒԹՅԱՆ 2022 ԹՎԱԿԱՆԻ ԴԵԿՏԵՄԲԵՐԻ 29-Ի N 2111-Ն ՈՐՈՇՄԱՆ N 5 ՀԱՎԵԼՎԱԾԻ N 1 ԱՂՅՈՒՍԱԿՈՒՄ ԿԱՏԱՐՎՈՂ ՓՈՓՈԽՈՒԹՅՈՒՆՆԵՐԸ ԵՎ ԼՐԱՑՈՒՄՆԵՐԸ
D8: հազար դրամ
A9: Ծրագրային դասիչը | C9: Բյուջետային հատկացումների գլխավոր կարգադրիչների, ծրագրերի և միջոցառումների անվանումները | D9: Ցուցանիշների փոփոխությունը (ավելացումները նշված են դրական նշանով, իսկ նվազեցումները` փակագծերում)
A10: Ծրագիր | B10: Միջոցառում | D10: Տարի
B11: ԸՆԴԱՄԵՆԸ | D11: =D12 -> 0
C12: ՀՀ տարածքային կառավարման և ենթակառուցվածքների նախարարություն | D12: =D14 -> 0
A13: 1049 | C13: Ծրագրի անվանումը՝
C14: Ճանապարհային ցանցի բարելավում | D14: =D20+D26 -> 0
C15: Ծրագրի նպատակը՝
C16: Ճանապարհային ցանցի բարելավում և անվտանգ երթևեկության ապահովում
C17: Վերջնական արդյունքի նկարագրությունը՝
C18: Ճանապարհների ծածկի որակի և փոխադրումների արդյունավետության բարելավում, ճանապարհների վիճակով պայմանավորված պատահարների նվազում
C19: Ծրագրի միջոցառումներ
B20: 21001 | C20: Միջոցառման անվանումը` | D20: ='Հ3 '!G22 -> -32464.1
C21: Պետական նշանակության ավտոճանապարհների հիմնանորոգում
C22: Միջոցառման նկարագրությունը`
C23: Միջպետական, հանրապետական և մարզային նշանակության ավտոճոնապարհների քայքայված ծածկի վերանորոգում, մաշված ծածկի փոխարինում
C24: Միջոցառման տեսակը
C25: Հանրության կողմից անմիջականորեն օգտագործվող ակտիվների հետ կապված միջոցառումներ
B26: 21002 | C26: Միջոցառման անվանումը` | D26: ='Հ3 '!G31 -> 32464.1
C27: Տրանսպորտային օբյեկտների հիմնանորոգում
C28: Միջոցառման նկարագրությունը`
C29: Ավտոմոբիլային ճանապարհների վրա գտնվող կամուրջների հիմնանորոգում
C30: Միջոցառման տեսակը
C31: Հանրության կողմից անմիջականորեն օգտագործվող ակտիվների հետ կապված միջոցառումներ
A34: ՀԱՅԱՍՏԱՆԻ ՀԱՆՐԱՊԵՏՈՒԹՅԱՆ
A35: ՎԱՐՉԱՊԵՏԻ ԱՇԽԱՏԱԿԱԶՄԻ
B36: ՂԵԿԱՎԱՐ ՝ Ա. ՀԱՐՈՒԹՅՈՒՆՅԱՆ

Sheet Հ3 
G1: Հավելված N 3
G2: ՀՀ կառավարության 2023 թվականի
G3: ______________ ի ___Ն որոշման
A5: ՀԱՅԱՍՏԱՆԻ ՀԱՆՐԱՊԵՏՈՒԹՅԱՆ ԿԱՌԱՎԱՐՈՒԹՅԱՆ 2022 ԹՎԱԿԱՆԻ ԴԵԿՏԵՄԲԵՐԻ 29-Ի N 2111-Ն ՈՐՈՇՄԱՆ N 3 ԵՎ N 4 ՀԱՎԵԼՎԱԾՆԵՐՈՒՄ ԿԱՏԱՐՎՈՂ ՓՈՓՈԽՈՒԹՅՈՒՆՆԵՐԸ ԵՎ ԼՐԱՑՈՒՄՆԵՐԸ
G7: հազար դրամներով
A8: Գործառական դասիչը | D8: Ծրագրային դասիչը | F8: Բյուջետային հատկացումների գլխավոր կարգադրիչների, ծրագրերի, միջոցառումների և միջոցառումները կատարող պետական մարմինների անվանումները | G8: Ցուցանիշների փոփոխությունը (ավելացումները նշված են դրական նշանով, իսկ նվազեցումները` փակագծերում)
A9: Բաժին | B9: Խումբ | C9: Դաս | D9: Ծրագիր | E9: Միջոցառում | G9: Տարի
F10: ԸՆԴԱՄԵՆԸ | G10: =G12 -> 0
F11: այդ թվում
F12: ՀՀ տարածքային կառավարման և ենթակառուցվածքների նախարարություն | G12: 0
A13: 04 | F13: ՏՆՏԵՍԱԿԱՆ ՀԱՐԱԲԵՐՈՒԹՅՈՒՆՆԵՐ | G13: 0
F14: այդ թվում`
B15: 05 | F15: Տրանսպորտ | G15: 0
F16: այդ թվում`
C17: 01 | F17: Ճանապարհային տրանսպորտ | G17: 0
F18: այդ թվում`
F19: ՀՀ տարածքային կառավարման և ենթակառուցվածքների նախարարություն | G19: 0
F20: այդ թվում`
D21: 1049 | F21: Ճանապարհային ցանցի բարելավում | G21: =G22+G31 -> 0
E22: 21001 | F22: Պետական նշանակության ավտոճանապարհների հիմնանորոգում | G22: =G24 -> -32464.1
F23: այդ թվում` ըստ կատարողների
F24: ՀՀ տարածքային կառավարման և ենթակառուցվածքների նախարարություն | G24: =G26 -> -32464.1
F25: այդ թվում`բյուջետային ծախսերի տնտեսագիտական դասակարգման հոդվածներ
F26: ԸՆԴԱՄԵՆԸ ԾԱԽՍԵՐ | G26: =+G27 -> -32464.1
F27: ՈՉ ՖԻՆԱՆՍԱԿԱՆ ԱԿՏԻՎՆԵՐԻ ԳԾՈՎ ԾԱԽՍԵՐ | G27: =G28 -> -32464.1
F28: ՀԻՄՆԱԿԱՆ ՄԻՋՈՑՆԵՐ | G28: =+G29 -> -32464.1
F29: ՇԵՆՔԵՐ ԵՎ ՇԻՆՈՒԹՅՈՒՆՆԵՐ | G29: =+G30 -> -32464.1
F30: - Շենքերի և շինությունների կապիտալ վերանորոգում | G30: =Հ1!F13 -> -32464.1
E31: 21002 | F31: Տրանսպորտային օբյեկտների հիմնանորոգում | G31: =+G33 -> 32464.1
F32: այդ թվում` ըստ կատարողների
F33: ՀՀ տարածքային կառավարման և ենթակառուցվածքների նախարարություն | G33: =G35 -> 32464.1
F34: այդ թվում`բյուջետային ծախսերի տնտեսագիտական դասակարգման հոդվածներ
F35: ԸՆԴԱՄԵՆԸ ԾԱԽՍԵՐ | G35: =+G36 -> 32464.1
F36: ՈՉ ՖԻՆԱՆՍԱԿԱՆ ԱԿՏԻՎՆԵՐԻ ԳԾՈՎ ԾԱԽՍԵՐ | G36: =G37 -> 32464.1
F37: ՀԻՄՆԱԿԱՆ ՄԻՋՈՑՆԵՐ | G37: =G38 -> 32464.1
F38: ՇԵՆՔԵՐ ԵՎ ՇԻՆՈՒԹՅՈՒՆՆԵՐ | G38: =+G39 -> 32464.1
F39: - Շենքերի և շինությունների կապիտալ վերանորոգում | G39: =Հ1!F43 -> 32464.1
A41: ՀԱՅԱՍՏԱՆԻ ՀԱՆՐԱՊԵՏՈՒԹՅԱՆ
A42: ՎԱՐՉԱՊԵՏԻ ԱՇԽԱՏԱԿԱԶՄԻ
B43: ՂԵԿԱՎԱՐ ՝ Ա. ՀԱՐՈՒԹՅՈՒՆՅԱՆ

Sheet Հ4
E1: Հավելված N 4
E2: ՀՀ կառավարության 2023 թվականի
E3: ______________ ի ___Ն որոշման
A5: ՀԱՅԱՍՏԱՆԻ ՀԱՆՐԱՊԵՏՈՒԹՅԱՆ ԿԱՌԱՎԱՐՈՒԹՅԱՆ 2022 ԹՎԱԿԱՆԻ ԴԵԿՏԵՄԲԵՐԻ 29-Ի N 2111-Ն ՈՐՈՇՄԱՆ N 5 ՀԱՎԵԼՎԱԾԻ N 2 ԱՂՅՈՒՍԱԿՈՒՄ ԿԱՏԱՐՎՈՂ ՓՈՓՈԽՈՒԹՅՈՒՆՆԵՐԸ ԵՎ ԼՐԱՑՈՒՄՆԵՐԸ
E7: հազար դրամներով
B8: Ծրագրային դասիչը | D8: Հատկացումների տրամադրման նպատակները և բյուջետային գլխավոր կարգադրիչների, ծրագրերի, միջոցառումների և կատարող պետական մարմնի անվանումները | E8: Ցուցանիշների փոփոխությունը (ավելացումները նշված են դրական նշանով, իսկ նվազեցումները` փակագծերում)
B9: Ծրագիր | C9: Միջոցառում | E9: Տարի
D10: ԸՆԴԱՄԵՆԸ | E10: =+E12 -> 0
D11: այդ թվում՝
D12: ՀՀ ՏԱՐԱԾՔԱՅԻՆ ԿԱՌԱՎԱՐՄԱՆ ԵՎ ԵՆԹԱԿԱՌՈՒՑՎԱԾՔՆԵՐԻ ՆԱԽԱՐԱՐՈՒԹՅՈՒՆ | E12: =E14+E46 -> 0
D13: այդ թվում`
B14: 1049 | C14: 21001 | D14: Պետական նշանակության ավտոճանապարհների հիմնանորոգում | E14: =+E16 -> -32464.1
D15: այդ թվում` ըստ կատարողների
D16: ՀՀ տարածքային կառավարման և ենթակառուցվածքների նախարարություն | E16: =+E18+E27+E35 -> -32464.1
D17: այդ թվում՝ ըստ ուղղությունների
C18: 1 | D18: Միջպետական նշանակության ավտոճանապարհներ, այդ թվում | E18: =SUM(E19:E26) -> 947371
D19: =Հ1!C16 -> Մ-1, Երևան-Գյումրի-Վրաստանի սահման միջպետական նշանակության ավտոճանապարհի կմ113+200-կմ 118+900 հատվածի հիմնանորոգում | E19: =Հ1!D16 -> -8644.3
D20: =Հ1!C17 -> Մ-1, Երևան-Գյումրի-Վրաստանի սահման միջպետական նշանակության ավտոճանապարհի կմ160+200-կմ171+700 հատվածի հիմնանորոգում | E20: =Հ1!D17 -> 71451.1
D21: =Հ1!C18 -> Մ-3, Թուրքիայի սահման-Մարգարա-Վանաձոր-Տաշիր-Վրաստանի սահման միջպետական նշանակության ավտոճանապարհի կմ10+500 - կմ11+400 հատվածի հիմնանորոգում | E21: =Հ1!D18 -> 194457.3
D22: =Հ1!C19 -> Մ-3, Թուրքիայի սահման-Մարգարա-Վանաձոր-Տաշիր-Վրաստանի սահման միջպետական նշանակության ավտոճանապարհի կմ154+000-կմ176+900 հատվածի հիմնանորոգում | E22: =Հ1!D19 -> 86656.6
D23: =Հ1!C20 -> Մ-10, Սևան-Մարտունի-Գետափ միջպետական նշանակության ավտոճանապարհի կմ66+000-կմ80+000 հատվածի հիմնանորոգում | E23: =Հ1!D20 -> 786770.5
D24: =Հ1!C21 -> Մ-11, Մարտունի - Վարդենիս - ԼՂՀ սահման միջպետական նշանակության ավտոճանապարհի կմ25+500-կմ29+200 հատվածի հիմնանորոգում | E24: =Հ1!D21 -> -317993.1
D25: =Հ1!C22 -> Մ-14, Մ-4-Շորժա-Վարդենիս միջպետական նշանակության ավտոճանապարհի կմ39+400 - կմ60+300 հատվածի հիմնանորոգում | E25: =Հ1!D22 -> 99760.5
D26: =Հ1!C23 -> Մ-15, /Մ-4/ (Վերին Պտղնի) - Մասիսի տրանսպորտային հանգույց (Երևանի շրջանց) միջպետական նշանակության ավտոճանապարհի կմ19+900-կմ29+400 հատվածի հիմնանորոգում | E26: =Հ1!D23 -> 34912.4
C27: 2 | D27: Հանրապետական նշանակության ավտոճանապարհներ, այդ թվում | E27: =SUM(E28:E34) -> -381768.4
D28: =Հ1!C25 -> Հ-7, /Հ-5/ - Կարենիս - Չարենցավան /Հ-1/ (Ֆանտան)հանրապետական նշանակության ավտոճանապարհի կմ7+580 - կմ10+200 հատվածի հիմնանորոգում | E28: =Հ1!D25 -> 180439.2
D29: =Հ1!C26 -> Հ-21, /Հ-75/ - Հոռոմ-Արթիկ-Ալագյազ հանրապետական նշանակության ավտոճանապարհի կմ19+000 - կմ23+900 հատվածի հիմնանորոգում | E29: =Հ1!D26 -> -7636.9
D30: =Հ1!C27 -> Հ-30, /Մ-4/ - Ճամբարակ - /Մ-14/ հանրապետական նշանակության ավտոճանապարհի կմ 32+000-կմ 35+000 հատվածի հիմնանորոգում | E30: =Հ1!D27 -> -34025.6
D31: =Հ1!C28 -> Հ-30,Մոտեցում Արծվաշենին հանրապետական նշանակության ավտոճանապարհի կմ 0+000-կմ 5+000 և կմ5+000 -կմ5+720 հատվածների հիմնանորոգում | E31: =Հ1!D28 -> 51459.6
D32: =Հ1!C29 -> Հ-55, Հրազդանի տրանսպորտային հանգույց-Ծաղկաձորի մարզահամալիր հանրապետական նշանակության ավտոճանապարհի կմ0+000 - կմ10+500 հատվածի հիմնանորոգում | E32: =Հ1!D29 -> 485786
D33: =Հ1!C30 -> Հ-70, Մ-6 – Աթան հանրապետական նշանակության ավտոճանապարհի կմ0+000 - կմ27+500 հատվածի հիմնանորոգում | E33: =Հ1!D30 -> -805776.3
D34: =Հ1!C31 -> Հ85, /Հ-1/ - Հրազդան - /Հ-55/ հանրապետական նշանակության ավտոճանապարհի կմ1+600 - կմ3+300 հատվածների հիմնանորոգում | E34: =Հ1!D31 -> -252014.4
C35: 3 | D35: Մարզային նշանակության ավտոճանապարհներ, այդ թվում | E35: =SUM(E36:E45) -> -598066.7
D36: =Հ1!C33 -> Տ-4-13,/Հ-39/ (Գավառ) – Գանձակ – Սարուխան – Գեղարքունիք ավտոճանապարհի կմ0+000-կմ12+900 հատվածի հիմնանորոգում | E36: =Հ1!D33 -> 535779.3
D37: =Հ1!C34 -> Տ-5-46,/Մ-6/(Ալավերդի)-Սանահին թաղամաս-Ակներ ավտոճանապարհի կմ0+000-կմ9+300 և Տ-5-46 դեպի Սանահին վանական համալիր տանող հատվածների հիմնանորգում | E37: =Հ1!D34 -> -1367781.9
D38: =Հ1!C35 -> /Հ-70/ – Քարինջ մարզային նշանակության ավտոճանապարհի կմ0+000 - կմ3+500 հատվածի հիմնանորոգում | E38: =Հ1!D35 -> -4811.5
D39: =Հ1!C36 -> Տ-5-82, /Հ-70/ – Լորուտ մարզային նշանակության ավտոճանապարհի կմ0+000 - կմ1+600 հատվածի հիմնանորոգում | E39: =Հ1!D36 -> -7288.5
D40: =Հ1!C37 -> Տ-8-56, /Մ-2/ - Հարժիս ավտոճանապարհի կմ0+000 - կմ8+000 հատվածի հիմնանորոգում | E40: =Հ1!D37 -> 54926.2
D41: =Հ1!C38 -> Վանաձոր քաղաքային համայնքի Կ. Դեմիրճյան փողոցի հիմնանորոգում | E41: =Հ1!D38 -> 95363.1
D42: =Հ1!C39 -> Վանաձոր քաղաքային համայնքի Խորենացի փողոցի (երկու երթևեկելի գոիտիներ /0.4կմ+0.4կմ/) հիմնանորոգում | E42: =Հ1!D39 -> -1953.8
D43: =Հ1!C40 -> ՀՀ Լոռու մարզ Վանաձոր համայնքի Տ. Մեծի պողոտայի հիմնանորոգում | E43: =Հ1!D40 -> 52478.9
D44: =Հ1!C41 -> ՀՀ Լոռու մարզ Վանաձոր համայնքի Սանկտ - Պետերբուրգի փողոցի հիմնանորոգում | E44: =Հ1!D41 -> 52195.7
D45: =Հ1!C42 -> Հ-36, /Մ-4/ (Իջևան) - Նավուր - Բերդ – Այգեպար հանրապետական նշանակության ավտոճանապարհի 48-րդ կիլոմետրից դեպի զորամաս տանող ճանապարհի հիմնանորոգում | E45: =Հ1!D42 -> -6974.2
B46: 1049 | C46: 21002 | D46: Տրանսպորտային օբյեկտների հիմնանորոգում | E46: =+E48 -> 32464.1
D47: այդ թվում` ըստ կատարողների
D48: ՀՀ տարածքային կառավարման և ենթակառուցվածքների նախարարություն | E48: =SUM(E50:E53) -> 32464.1
D49: այդ թվում՝ ըստ ուղղությունների
D50: =Հ1!C44 -> Մ- 3, Թուրքիայի սահման-Մարգարա-Վանաձոր-Տաշիր-Վրաստանի սահման կմ144+020-ում գտնվող կամրջի հիմնանորոգում | E50: =Հ1!D44 -> 5664.7
D51: =Հ1!C45 -> Մ-4, Երևան - Սևան - Իջևան - Ադրբեջանի սահման կմ103+900 հատվածում գտնվող կամուրջի վերանորոգում | E51: =Հ1!D45 -> 1239
D52: =Հ1!C46 -> Սևանի տրանսպորտային հանգույցի հիմնանորոգում | E52: =Հ1!D46 -> 13856.8
D53: =Հ1!C47 -> Հ-53, /Մ-4/ - Սեմյոնովկա - /Մ-4/ հանրապետական նշանակության ավտոճանապարհի կմ0+100 հատվածի կամրջի հիմնանորոգում | E53: =Հ1!D47 -> 11703.6
C56: ՀԱՅԱՍՏԱՆԻ ՀԱՆՐԱՊԵՏՈՒԹՅԱՆ
C57: ՎԱՐՉԱՊԵՏԻ ԱՇԽԱՏԱԿԱԶՄԻ
C58: ՂԵԿԱՎԱՐ ՝ | D58: Ա. ՀԱՐՈՒԹՅՈՒՆՅԱՆ

Sheet Հ5 
D1: Հավելված N 5
D2: ՀՀ կառավարության 2023 թվականի
D3: ______________ ի ___Ն որոշման
B5: ՀԱՅԱՍՏԱՆԻ ՀԱՆՐԱՊԵՏՈՒԹՅԱՆ ԿԱՌԱՎԱՐՈՒԹՅԱՆ 2022 ԹՎԱԿԱՆԻ ԴԵԿՏԵՄԲԵՐԻ 29-Ի N 2111-Ն ՈՐՈՇՄԱՆ N 9 ՀԱՎԵԼՎԱԾԻ N 9.7 և N 9․1 ՀԱՎԵԼՎԱԾԻ N 9.1․7 ԱՂՅՈՒՍԱԿՆԵՐՈՒՄ ԿԱՏԱՐՎՈՂ ՓՈՓՈԽՈՒԹՅՈՒՆՆԵՐԸ ԵՎ ԼՐԱՑՈՒՄՆԵՐԸ
D7: Աղյուսակ 9.7
D8: Աղյուսակ 9.1.7
B10: ՀՀ տարածքային կառավարման և ենթակառուցվածքների նախարարություն
B11: ՄԱՍ 1. ՊԵՏԱԿԱՆ ՄԱՐՄՆԻ ԳԾՈՎ ԱՐԴՅՈՒՆՔԱՅԻՆ (ԿԱՏԱՐՈՂԱԿԱՆ) ՑՈՒՑԱՆԻՇՆԵՐԸ
B13: Ծրագրի դասիչը | C13: Ծրագրի անվանումը
B14: 1049 | C14: Ճանապարհային ցանցի բարելավում
B16: Ծրագրի միջոցառումները
B18: Ծրագրի դասիչը` | C18: 1049 | D18: Ցուցանիշների փոփոխությունը (ավելացումները նշված են դրական նշանով, իսկ նվազեցումները` փակագծերում)
B19: Միջոցառման դասիչը` | C19: 21001 | D19: Տարի
B20: Միջոցառման անվանումը` | C20: Պետական նշանակության ավտոճանապարհների հիմնանորոգում
B21: Նկարագրությունը` | C21: Միջպետական, հանրապետական և մարզային նշանակության ավտոճոնապարհների քայքայված ծածկի վերանորոգում, մաշված ծածկի փոխարինում
B22: Միջոցառման տեսակը` | C22: Հանրության կողմից անմիջականորեն օգտագործվող ակտիվների հետ կապված միջոցառումներ
B23: Միջոցառումն իրականացնողի անվանումը | C23: Մասնագիտացված միավոր
B24: Արդյունքի չափորոշիչներ
B25: Միջպետական նշանակության ավտոճանապարհներ | D25: 1.1
B26: Հանրապետական նշանակության ավտոճանապարհներ | D26: -10.5
B27: Մարզային նշանակության ավտոճանապարհներ | D27: -1.5
B28: Միջոցառման վրա կատարվող ծախսը (հազար դրամ) | D28: ='Հ3 '!G22 -> -32464.1
B30: Ծրագրի միջոցառումները
B32: Ծրագրի դասիչը` | C32: 1049 | D32: Ցուցանիշների փոփոխությունը (ավելացումները նշված են դրական նշանով)
B33: Միջոցառման դասիչը` | C33: 21002 | D33: Տարի
B34: Միջոցառման անվանումը` | C34: Տրանսպորտային օբյեկտների հիմնանորոգում
B35: Նկարագրությունը` | C35: Ավտոմոբիլային ճանապարհների վրա գտնվող կամուրջների հիմնանորոգում
B36: Միջոցառման տեսակը` | C36: Հանրության կողմից անմիջականորեն օգտագործվող ակտիվների հետ կապված միջոցառումներ
B37: Միջոցառումն իրականացնողի անվանումը | C37: Մասնագիտացված միավոր
B38: Արդյունքի չափորոշիչներ
B39: Միջոցառման վրա կատարվող ծախսը (հազար դրամ) | D39: ='Հ3 '!G31 -> 32464.1
C42: ՀԱՅԱՍՏԱՆԻ ՀԱՆՐԱՊԵՏՈՒԹՅԱՆ ՎԱՐՉԱՊԵՏԻ ԱՇԽԱՏԱԿԱԶՄԻ ՂԵԿԱՎԱՐ՝ | D42: Ա. ՀԱՐՈՒԹՅՈՒՆՅԱՆ

Sheet Հ6
H1: Հավելված N 6
H2: ՀՀ կառավարության 2023 թվականի
H3: ______________ ի ___Ն որոշման
B5: ՀԱՅԱՍՏԱՆԻ ՀԱՆՐԱՊԵՏՈՒԹՅԱՆ ԿԱՌԱՎԱՐՈՒԹՅԱՆ 2022 ԹՎԱԿԱՆԻ ԴԵԿՏԵՄԲԵՐԻ 29-Ի N 2111-Ն ՈՐՈՇՄԱՆ N 10 ՀԱՎԵԼՎԱԾՈՒՄ ԿԱՏԱՐՎՈՂ ԼՐԱՑՈՒՄՆԵՐԸ
B6: Կոդը | C6: Անվանումը | D6: Գնման ձևը | E6: Չափման միավորը | F6: Միավորի գինը | G6: Ցուցանիշների փոփոխությունը (ավելացումները նշված են դրական նշանով, իսկ նվազեցումները` փակագծերում)
G7: Քանակը | H7: Գումարը (հազար դրամով)
B8: ՀՀ տարածքային կառավարման և ենթակառուցվածքների նախարարություն | H8: =+H9 -> -106665.63
B9: Բաժին N 04 | C9: Խումբ N 05 | D9: Դաս N 01 | E9: Ճանապարհային տրանսպորտ | H9: =H10+H67 -> -106665.63
B10: 1049 21001 | C10: ='[2]Հ3 '!F41 -> Պետական նշանակության ավտոճանապարհների հիմնանորոգում | H10: =H11+H36 -> -132225.95
B11: ՄԱՍ II. ԱՇԽԱՏԱՆՔՆԵՐ | H11: =SUM(H12:H35) -> -112984
B12: 45231177/603 | C12: ճանապարհների վերանորոգման աշխատանքներ | D12: ՀԲՄ | E12: դրամ | G12: 0 | H12: -8644.34
B13: 45231177/626 | C13: ճանապարհների վերանորոգման աշխատանքներ | D13: ԲՄ | E13: դրամ | F13: 70870427 | G13: 1 | H13: =+G13*F13/1000 -> 70870.427
B14: 45231177/614 | C14: ճանապարհների վերանորոգման աշխատանքներ | D14: ԲՄ | E14: դրամ | F14: 191925546 | G14: 1 | H14: =+G14*F14/1000 -> 191925.55
B15: 45231177/ | C15: ճանապարհների վերանորոգման աշխատանքներ | D15: ՀԲՄ | E15: դրամ | F15: 85114724 | G15: 1 | H15: =+G15*F15/1000 -> 85114.724
B16: 45231177/ | C16: ճանապարհների վերանորոգման աշխատանքներ | D16: ՀԲՄ | E16: դրամ | F16: 779243780 | G16: 1 | H16: =+G16*F16/1000 -> 779243.78
B17: 45231177/157 | C17: ճանապարհների վերանորոգման աշխատանքներ | D17: ԲՄ | E17: դրամ | G17: 0 | H17: -315140.82
B18: 45231177/502 | C18: ճանապարհների վերանորոգման աշխատանքներ | D18: ՀԲՄ | E18: դրամ | F18: 34393700 | G18: 1 | H18: =+G18*F18/1000 -> 34393.7
B19: 45231177/521 | C19: ճանապարհների վերանորոգման աշխատանքներ | D19: ԲՄ | E19: դրամ | F19: 177486802 | G19: 1 | H19: =+G19*F19/1000 -> 177486.8
B20: 45231177/61 | C20: ճանապարհների վերանորոգման աշխատանքներ | D20: ՀԲՄ | E20: դրամ | G20: 0 | H20: -7636.918
B21: 45231177/564 | C21: ճանապարհների վերանորոգման աշխատանքներ | D21: ՀԲՄ | E21: դրամ | G21: 0 | H21: -34025.663
B22: 45231177/565 | C22: ճանապարհների վերանորոգման աշխատանքներ | D22: ՀԲՄ | E22: դրամ | F22: 51459522 | G22: 1 | H22: =+G22*F22/1000 -> 51459.522
B23: 45231177/512 | C23: ճանապարհների վերանորոգման աշխատանքներ | D23: ՀԲՄ | E23: դրամ | F23: 476600678 | G23: 1 | H23: =+G23*F23/1000 -> 476600.68
B24: 45231177/608 | C24: ճանապարհների վերանորոգման աշխատանքներ | D24: ՀԲՄ | E24: դրամ | G24: 0 | H24: -780754.8
B25: 45231177/507 | C25: ճանապարհների վերանորոգման աշխատանքներ | D25: ՀԲՄ | E25: դրամ | G25: 0 | H25: -249137.86
B26: 45231177/645 | C26: ճանապարհների վերանորոգման աշխատանքներ | D26: ՀԲՄ | E26: դրամ | F26: 530240854 | G26: 1 | H26: =+G26*F26/1000 -> 530240.85
B27: 45231177/601 | C27: ճանապարհների վերանորոգման աշխատանքներ | D27: ՀԲՄ | E27: դրամ | G27: 0 | H27: -1346532.2
B28: 45231177/610 | C28: ճանապարհների վերանորոգման աշխատանքներ | D28: ՀԲՄ | E28: դրամ | G28: 0 | H28: -4811.504
B29: 45231177/611 | C29: ճանապարհների վերանորոգման աշխատանքներ | D29: ՀԲՄ | E29: դրամ | G29: 0 | H29: -7288.5
B30: 45231177/641 | C30: ճանապարհների վերանորոգման աշխատանքներ | D30: ՀԲՄ | E30: դրամ | F30: 54159764 | G30: 1 | H30: =+G30*F30/1000 -> 54159.764
B31: 45231177/513 | C31: ճանապարհների վերանորոգման աշխատանքներ | D31: ՀԲՄ | E31: դրամ | F31: 95363058 | G31: 1 | H31: =+G31*F31/1000 -> 95363.058
B32: 45231177/538 | C32: ճանապարհների վերանորոգման աշխատանքներ | D32: ՀԲՄ | E32: դրամ | G32: 0 | H32: -1953.853
B33: 45231177/623 | C33: ճանապարհների վերանորոգման աշխատանքներ | D33: ՀԲՄ | E33: դրամ | F33: 51592260 | G33: 1 | H33: =+G33*F33/1000 -> 51592.26
B34: 45231177/624 | C34: ճանապարհների վերանորոգման աշխատանքներ | D34: ՀԲՄ | E34: դրամ | F34: 51465655 | G34: 1 | H34: =+G34*F34/1000 -> 51465.655
B35: 45231177/525 | C35: ճանապարհների վերանորոգման աշխատանքներ | D35: ԲՄ | E35: դրամ | G35: 0 | H35: -6974.262
B36: ՄԱՍ III. ԾԱՌԱՅՈՒԹՅՈՒՆՆԵՐ | H36: =SUM(H37:H66) -> -19241.954
B37: 71351540/501 | C37: տեխնիկական հսկողության ծառայություններ | D37: ՀԲՄ | E37: դրամ | F37: 167429 | G37: 1 | H37: =+G37*F37/1000 -> 167.429
B38: 71351540/568 | C38: տեխնիկական հսկողության ծառայություններ | D38: ԲՄ | E38: դրամ | F38: 1320000 | G38: 1 | H38: =+G38*F38/1000 -> 1320
B39: 71351540/ | C39: տեխնիկական հսկողության ծառայություններ | D39: ՀԲՄ | E39: դրամ | F39: 1449761 | G39: 1 | H39: =+G39*F39/1000 -> 1449.761
B40: 71351540/ | C40: տեխնիկական հսկողության ծառայություններ | D40: ԳՀ | E40: դրամ | F40: 2948487 | G40: 1 | H40: =+G40*F40/1000 -> 2948.487
B41: 71351540/505 | C41: տեխնիկական հսկողության ծառայություններ | D41: ՀԲՄ | E41: դրամ | G41: - | H41: -974.141
B42: 71351540/510 | C42: տեխնիկական հսկողության ծառայություններ | D42: ՀԲՄ | E42: դրամ | F42: 218869 | G42: 1 | H42: =+G42*F42/1000 -> 218.869
B43: 71351540/527 | C43: տեխնիկական հսկողության ծառայություններ | D43: ԲՄ | E43: դրամ | F43: 1703845 | G43: 1 | H43: =+G43*F43/1000 -> 1703.845
B44: 71351540/ | C44: տեխնիկական հսկողության ծառայություններ | D44: ՀԲՄ | E44: դրամ | F44: 6159374 | G44: 1 | H44: =+G44*F44/1000 -> 6159.374
B45: 71351540/34 | C45: տեխնիկական հսկողության ծառայություններ | D45: ՀԲՄ | E45: դրամ | G45: 0 | H45: -19994.174
B46: 71351540/512 | C46: տեխնիկական հսկողության ծառայություններ | D46: ՀԲՄ | E46: դրամ | G46: 0 | H46: -1067.234
B47: 71351540/587 | C47: տեխնիկական հսկողության ծառայություններ | D47: ՀԲՄ | E47: դրամ | F47: 2447115 | G47: 1 | H47: =+G47*F47/1000 -> 2447.115
B48: 71351540/564 | C48: տեխնիկական հսկողության ծառայություններ | D48: ԳՀ | E48: դրամ | G48: 0 | H48: -12063.954
B49: 71351540/582 | C49: տեխնիկական հսկողության ծառայություններ | D49: ՀԲՄ | E49: դրամ | F49: 361287 | G49: 1 | H49: =+G49*F49/1000 -> 361.287
B50: 71351540/575 | C50: տեխնիկական հսկողության ծառայություններ | D50: ՀԲՄ | E50: դրամ | F50: 522468 | G50: 1 | H50: =+G50*F50/1000 -> 522.468
B51: 71351540/576 | C51: տեխնիկական հսկողության ծառայություններ | D51: ՀԲՄ | E51: դրամ | F51: 481056 | G51: 1 | H51: =+G51*F51/1000 -> 481.056
B52: 98111140/ | C52: հեղինակային հսկողության ծառայություններ | D52: ՄԱ | E52: դրամ | F52: 413149 | G52: 1 | H52: =+G52*F52/1000 -> 413.149
B53: 98111140/ | C53: հեղինակային հսկողության ծառայություններ | D53: ՄԱ | E53: դրամ | F53: 1211666 | G53: 1 | H53: =+G53*F53/1000 -> 1211.666
B54: 98111140/ | C54: հեղինակային հսկողության ծառայություններ | D54: ՄԱ | E54: դրամ | F54: 92000 | G54: 1 | H54: =+G54*F54/1000 -> 92
B55: 98111140/ | C55: հեղինակային հսկողության ծառայություններ | D55: ՄԱ | E55: դրամ | F55: 4578200 | G55: 1 | H55: =+G55*F55/1000 -> 4578.2
B56: 98111140/72 | C56: հեղինակային հսկողության ծառայություններ | D56: ՄԱ | E56: դրամ | H56: -1878.216
B57: 98111140/ | C57: հեղինակային հսկողության ծառայություններ | D57: ՄԱ | E57: դրամ | F57: 299720 | G57: 1 | H57: =+G57*F57/1000 -> 299.72
B58: 98111140/ | C58: հեղինակային հսկողության ծառայություններ | D58: ՄԱ | E58: դրամ | F58: 1248497 | G58: 1 | H58: =+G58*F58/1000 -> 1248.497
B59: 98111140/ | C59: հեղինակային հսկողության ծառայություններ | D59: ՄԱ | E59: դրամ | F59: 3025868 | G59: 1 | H59: =+G59*F59/1000 -> 3025.868
B60: 98111140/39 | C60: հեղինակային հսկողության ծառայություններ | D60: ՄԱ | E60: դրամ | G60: 0 | H60: -5027.324
B61: 98111140/79 | C61: հեղինակային հսկողության ծառայություններ | D61: ՄԱ | E61: դրամ | G61: 0 | H61: -1809.324
B62: 98111140/ | C62: հեղինակային հսկողության ծառայություններ | D62: ՄԱ | E62: դրամ | F62: 3091251 | G62: 1 | H62: =+G62*F62/1000 -> 3091.251
B63: 98111140/17 | C63: հեղինակային հսկողության ծառայություններ | D63: ՄԱ | E63: դրամ | G63: 0 | H63: -9185.699
B64: 98111140/ | C64: հեղինակային հսկողության ծառայություններ | D64: ՄԱ | E64: դրամ | F64: 405070 | G64: 1 | H64: =+G64*F64/1000 -> 405.07
B65: 98111140/ | C65: հեղինակային հսկողության ծառայություններ | D65: ՄԱ | E65: դրամ | F65: 364110 | G65: 1 | H65: =+G65*F65/1000 -> 364.11
B66: 98111140/ | C66: հեղինակային հսկողության ծառայություններ | D66: ՄԱ | E66: դրամ | F66: 248890 | G66: 1 | H66: =+G66*F66/1000 -> 248.89
B67: 1049 21002 | C67: ='[2]Հ3 '!F52 -> Տրանսպորտային օբյեկտների հիմնանորոգում | H67: =H71+H68 -> 25560.324
B68: ՄԱՍ II. ԱՇԽԱՏԱՆՔՆԵՐ | H68: =SUM(H69:H70) -> 25200.194
B69: 45221117/511 | C69: տրանսպորտային օբյեկտների վերանորոգման աշխատանքներ | D69: ՀԲՄ | E69: դրամ | F69: 13652961 | G69: 1 | H69: =+G69*F69/1000 -> 13652.961
B70: 45221117/512 | C70: տրանսպորտային օբյեկտների վերանորոգման աշխատանքներ | D70: ՀԲՄ | E70: դրամ | F70: 11547233 | G70: 1 | H70: =+G70*F70/1000 -> 11547.233
B71: ՄԱՍ III. ԾԱՌԱՅՈՒԹՅՈՒՆՆԵՐ | H71: =SUM(H72:H75) -> 360.13
B72: 71351540/565 | C72: տեխնիկական հսկողության ծառայություններ | D72: ՀԲՄ | E72: դրամ | F72: 110186 | G72: 1 | H72: =+G72*F72/1000 -> 110.186
B73: 71351540/566 | C73: տեխնիկական հսկողության ծառայություններ | D73: ՀԲՄ | E73: դրամ | F73: 84270 | G73: 1 | H73: =+G73*F73/1000 -> 84.27
B74: 98111140/ | C74: հեղինակային հսկողության ծառայություններ | D74: ՀԲՄ | E74: դրամ | F74: 93637 | G74: 1 | H74: =+G74*F74/1000 -> 93.637
B75: 98111140/ | C75: հեղինակային հսկողության ծառայություններ | D75: ՀԲՄ | E75: դրամ | F75: 72037 | G75: 1 | H75: =+G75*F75/1000 -> 72.037
C77: ՀԱՅԱՍՏԱՆԻ ՀԱՆՐԱՊԵՏՈՒԹՅԱՆ
C78: ՎԱՐՉԱՊԵՏԻ ԱՇԽԱՏԱԿԱԶՄԻ
C79: ՂԵԿԱՎԱՐ ՝ | D79: Ա. ՀԱՐՈՒԹՅՈՒՆՅԱՆ
