Workbook

Sheet 1
D1: Հավելված N 1
D2: ՀՀ կառավարության 2023 թվականի
D3: -ի N -Ն որոշման
A4: «ՀԱՅԱՍՏԱՆԻ ՀԱՆՐԱՊԵՏՈՒԹՅԱՆ 2023 ԹՎԱԿԱՆԻ ՊԵՏԱԿԱՆ ԲՅՈՒՋԵԻ ՄԱՍԻՆ» ՀԱՅԱՍՏԱՆԻ ՀԱՆՐԱՊԵՏՈՒԹՅԱՆ ՕՐԵՆՔԻ N 1 ՀԱՎԵԼՎԱԾԻ N 2 ԱՂՅՈՒՍԱԿՈՒՄ ԿԱՏԱՐՎՈՂ ՎԵՐԱԲԱՇԽՈՒՄԸ, ՓՈՓՈԽՈՒԹՅՈՒՆՆԵՐԸ ԵՎ ԼՐԱՑՈՒՄՆԵՐԸ, ՀԱՅԱՍՏԱՆԻ ՀԱՆՐԱՊԵՏՈՒԹՅԱՆ ԿԱՌԱՎԱՐՈՒԹՅԱՆ 2022 ԹՎԱԿԱՆԻ ԴԵԿՏԵՄԲԵՐԻ 29-Ի N 2111-Ն ՈՐՈՇՄԱՆ N 5 ՀԱՎԵԼՎԱԾԻ N 1 ԱՂՅՈՒՍԱԿՈՒՄ ԿԱՏԱՐՎՈՂ ՓՈՓՈԽՈՒԹՅՈՒՆՆԵՐԸ ԵՎ ԼՐԱՑՈՒՄՆԵՐԸ
D6: (հազ. դրամ)
A7: Ծրագրային դասիչը | C7: Բյուջետային գլխավոր կարգադրիչների, ծրագրերի և միջոցառումների անվանումները | D7: Ցուցանիշների փոփոխությունը (ավելացումները նշված են դրական նշանով, իսկ նվազեցումները՝ փակագծերում)
A8: Ծրագիր | B8: Միջոցառում | D8: Տարի
C9: ԸՆԴԱՄԵՆԸ | D9: =D10 -> 0
C10: ՀՀ տարածքային կառավարման և ենթակառուցվածքների նախարարություն | D10: =D11+D42 -> 0
A11: 1004 | C11: Ծրագրի անվանումը` | D11: =D18+D24+D36+D30 -> -55510
C12: Ոռոգման համակարգի առողջացում
C13: Ծրագրի նպատակը`
C14: Ոռոգման ծառայությունների հասանելիության և մատչելիության ապահովում
C15: Վերջնական արդյունքի նկարագրությունը`
C16: Ոռոգման ջրի մատակարարման արդյունավետության և հասանելիության բարելավում՝ կորուստների կրճատում
A17: Ծրագրի միջոցառումներ
B18: 11011 | C18: Միջոցառման անվանումը` | D18: ='4'!G22 -> -55510
C19: Զարգացման ֆրանսիական գործակալության աջակցությամբ իրականացվող ոռոգման ոլորտի ֆինանսական կայունության և ոռոգման կառավարման կարողությունների բարելավման դրամաշնորհային ծրագրի խորհրդատվություն և կառավարում
C20: Միջոցառման նկարագրությունը`
C21: Զարգացման ֆրանսիական գործակալության աջակցությամբ իրականացվող ոռոգման ոլորտի ֆինանսական կայունության և ոռոգման կառավարման կարողությունն»րի բար»լավման ծրագրի համակարգում և ղ»կավարում
C22: Միջոցառման տեսակը
C23: Ծառայությունների մատուցում
B24: 31002 | C24: Միջոցառման անվանումը` | D24: ='4'!G30 -> 13620.5
C25: Ոռոգման համակարգերի հիմնանորոգում
C26: Միջոցառման նկարագրությունը`
C27: Ոռոգման համակարգերի հիմնանորոգում
C28: Միջոցառման տեսակը
C29: Պետական մարմինների կողմից օգտագործվող ոչ ֆինանսական ակտիվների հետ գործառնություններ
B30: 31007 | C30: Միջոցառման անվանումը` | D30: ='4'!G39 -> 65392
C31: Ջրային տնտեսության հիդրոտեխնիկական սարքավորումների տեղադրման աշխատանքներ
C32: Միջոցառման նկարագրությունը`
C33: Ոռոգման համակարգերի՝ ջրառի, ջրանցքների բաժանարար կետերը SCADA և այլ համակարգով հագեցած ջրաչափական սարքավորումներով կահավորում
C34: Միջոցառման տեսակը
C35: Պետական մարմինների կողմից օգտագործվող ոչ ֆինանսական ակտիվների հետ գործառնություններ
B36: 31009 | C36: Միջոցառման անվանումը` | D36: ='4'!G48 -> -79012.5
C37: Օրվա կարգավորման ջրավազանների կառուցում և վերակառուցում
C38: Միջոցառման նկարագրությունը`
C39: Օրվա կարգավորման ջրավազանների կառուցման և վերակառուցման համար նախագծերի և աշխատանքների ձեռք բերում
C40: Միջոցառման տեսակը
C41: Պետական մարմինների կողմից օգտագործվող ոչ ֆինանսական ակտիվների հետ գործառնություններ
...

Sheet 2
A1: Հավելված N 2
A2: ՀՀ կառավարության 2023 թվականի
A3: -ի N -Ն որոշման
A4: «ՀԱՅԱՍՏԱՆԻ ՀԱՆՐԱՊԵՏՈՒԹՅԱՆ 2023 ԹՎԱԿԱՆԻ ՊԵՏԱԿԱՆ ԲՅՈՒՋԵԻ ՄԱՍԻՆ» ՀԱՅԱՍՏԱՆԻ ՀԱՆՐԱՊԵՏՈՒԹՅԱՆ ՕՐԵՆՔԻ N 1 ՀԱՎԵԼՎԱԾԻ N 3 ԱՂՅՈՒՍԱԿՈՒՄ ԿԱՏԱՐՎՈՂ ՓՈՓՈԽՈՒԹՅՈՒՆՆԵՐԸ ԵՎ ԼՐԱՑՈՒՄՆԵՐԸ
G5: (հազ. դրամ)
A6: Ծրագրային դասիչ | C6: Բյուջետային գլխավոր կարգադրիչների, ծրագրերի, միջոցառումների և ուղղությունների անվանումները | D6: Ցուցանիշների փոփոխությունը (ավելացումները նշված են դրական նշանով, իսկ նվազեցումները՝ փակագծերում)
D7: Ընդամենը, | E7: այդ թվում՝
A8: Ծրագիր | B8: Միջոցառում | E8: Կառուցման աշխատանքներ | F8: Վերակառուցման, վերանորոգման և վերականգնման աշխատանքներ | G8: Նախագծահե- տազոտական, գեոդեզիա- քարտեզագրա- կան աշխա- տանքներ | H8: Ոչ ֆինանսական այլ ակտիվների ձեռքբերում
C9: ԸՆԴԱՄԵՆԸ | D9: =SUM(E9:H9) -> 0 | E9: =E11 -> -79012.5 | F9: =F11 -> 13620.5 | G9: =G11 -> 0 | H9: =H11 -> 65392
C10: այդ թվում՝
C11: ՀՀ ՏԱՐԱԾՔԱՅԻՆ ԿԱՌԱՎԱՐՄԱՆ ԵՎ ԵՆԹԱԿԱՌՈՒՑՎԱԾՔՆԵՐԻ ՆԱԽԱՐԱՐՈՒԹՅՈՒՆ | D11: =D13+D17+D20 -> 0 | E11: =E13+E17+E20 -> -79012.5 | F11: =F13+F17+F20 -> 13620.5 | G11: =G13+G17+G20 -> 0 | H11: =H13+H17+H20 -> 65392
C12: այդ թվում`
A13: 1004 | B13: 31002 | C13: Ոռոգման համակարգերի հիմնանորոգում | D13: =SUM(E13:H13) -> 13620.5 | E13: =SUM(E15:E15) -> 0 | F13: =SUM(F15:F16) -> 13620.5 | G13: =SUM(G15:G15) -> 0 | H13: =SUM(H15:H15) -> 0
C14: այդ թվում`
C15: Սուրենավան III գոտու ջրագծի հիմնանորոգման աշխատանքներ | D15: =SUM(E15:H15) -> 9464.6 | F15: 9464.6
C16: Մասիսի տարածաշրջանի ինքնաշատրվանող հորերի փականներով և ջրաչափերով կահավորելու աշխատանքներ | D16: =SUM(E16:H16) -> 4155.9 | F16: 4155.9
A17: 1004 | B17: 31007 | C17: Ջրային տնտեսության հիդրոտեխնիկական սարքավորումների տեղադրման աշխատանքներ | D17: =SUM(E17:H17) -> 65392 | H17: =H19 -> 65392
C18: այդ թվում`
C19: Տվյալների առցանց փոխանցմամբ ջրահաշվիչ (ջրաչափիչ) սարքերի ձեռքբերում | D19: =SUM(E19:H19) -> 65392 | H19: 65392
A20: 1004 | B20: 31009 | C20: Օրվա կարգավորման ջրավազանների կառուցում և վերակառուցում | D20: =SUM(E20:H20) -> -79012.5 | E20: -79012.5

Sheet 3
F1: Հավելված N3
F2: ՀՀ կառավարության 2023 թվականի
F3: ______________ ի ___Ն որոշման
A5: «ՀԱՅԱUՏԱՆԻ ՀԱՆՐԱՊԵՏՈՒԹՅԱՆ 2023 ԹՎԱԿԱՆԻ ՊԵՏԱԿԱՆ ԲՅՈՒՋԵԻ ՄԱUԻՆ» OՐԵՆՔԻ N 1 ՀԱՎԵԼՎԱԾԻ N 5 ԱՂՅՈՒՍԱԿՈՒՄ ԵՎ ՀԱՅԱՍՏԱՆԻ ՀԱՆՐԱՊԵՏՈՒԹՅԱՆ ԿԱՌԱՎԱՐՈՒԹՅԱՆ 2022 ԹՎԱԿԱՆԻ ԴԵԿՏԵՄԲԵՐԻ 29-Ի N 2111-Ն ՈՐՈՇՄԱՆ N 5 ՀԱՎԵԼՎԱԾԻ N 4 ԱՂՅՈՒՍԱԿՈՒՄ ԿԱՏԱՐՎՈՂ ՓՈՓՈԽՈՒԹՅՈՒՆՆԵՐԸ
F6: (հազ. դրամ)
A7: Ծրագրային դասիչը | C7: Բյուջետային գլխավոր կարգադրիչների, ծրագրերի և միջոցառումների անվանումները | D7: Ցուցանիշների փոփոխությունը (ավելացումները նշված են դրական նշանով, իսկ նվազեցումները՝ փակագծերում)
D8: Տարի
D9: Ընդամենը | E9: այդ թվում`
A10: Ծրագիր | B10: Միջոց առում | E10: Դրամաշնորհային միջոցներ | F10: Համաֆինան սավորում
C11: ԸՆԴԱՄԵՆԸ | D11: =+E11+F11 -> 0 | E11: =E13+E14 -> 0 | F11: =+F15 -> 0
C12: այդ թվում`
C13: ԸՆԹԱՑԻԿ ԾԱԽՍԵՐ | D13: =+E13+F13 -> 0 | E13: =E18+E28 -> 0 | F13: =F23 -> 0
C14: ՈՉ ՖԻՆԱՆՍԱԿԱՆ ԱԿՏԻՎՆԵՐԻ ԳԾՈՎ ԾԱԽՍԵՐ | D14: =+E14+F14 -> 0
C15: ՀՀ ՏԱՐԱԾՔԱՅԻՆ ԿԱՌԱՎԱՐՄԱՆ ԵՎ ԵՆԹԱԿԱՌՈՒՑՎԱԾՔՆԵՐԻ ՆԱԽԱՐԱՐՈՒԹՅՈՒՆ | D15: =+E15+F15 -> 0 | E15: =E16+E26 -> 0 | F15: =+F16 -> 0
A16: 1004 | C16: Ոռոգման համակարգի առողջացում | D16: =+E16+F16 -> -55510 | E16: =E18 -> -55510 | F16: =F18 -> 0
C17: այդ թվում`
B18: 11011 | C18: Զարգացման ֆրանսիական գործակալության աջակցությամբ իրականացվող ոռոգման ոլորտի ֆինանսական կայունության և ոռոգման կառավարման կարողությունների բարելավման դրամաշնորհային ծրագրի խորհրդատվություն և կառավարում | D18: =+E18+F18 -> -55510 | E18: =E20 -> -55510 | F18: =+F20 -> 0
C19: այդ թվում` ըստ կատարողների
C20: ՀՀ տարածքային կառավարման և ենթակառուցվածքների նախարարության ջրային կոմիտե | D20: =E20+F20 -> -55510 | E20: =E22 -> -55510 | F20: =+F22 -> 0
C21: այդ թվում` բյուջետային ծախսերի տնտեսագիտական դասակարգման հոդվածներ
C22: ԸՆԴԱՄԵՆԸ ԾԱԽՍԵՐ | D22: =+D23 -> -55510 | E22: =E23 -> -55510 | F22: =+F23 -> 0
C23: ԸՆԹԱՑԻԿ ԾԱԽՍԵՐ | D23: =E23+F23 -> -55510 | E23: =E24 -> -55510 | F23: =+F24 -> 0
C24: ԱՅԼ ԾԱԽՍԵՐ | D24: =+E24+F24 -> -55510 | E24: =E25 -> -55510 | F24: =+F25 -> 0
C25: Այլ ծախսեր | D25: =+E25+F25 -> -55510 | E25: -55510
A26: 1072 | C26: Ջրամատակարարաման և ջրահեռացման բարելավում | D26: =+E26+F26 -> 55510 | E26: =E28 -> 55510
C27: այդ թվում`
B28: 11009 | C28: Գերմանիայի զարգացման վարկերի բանկի աջակցությամբ իրականացվող Համայնքային ենթակառուցվածքների երկրորդ ծրագրի երրորդ փուլի դրամաշնորհային ծրագրի ուղեկցող միջոցառման 3-րդ բաղադրիչ | D28: =+E28+F28 -> 55510 | E28: =E30 -> 55510 | F28: =+F30 -> 0
C29: այդ թվում` ըստ կատարողների
C30: ՀՀ տարածքային կառավարման և ենթակառուցվածքների նախարարության ջրային կոմիտե | D30: =E30+F30 -> 55510 | E30: =E32 -> 55510 | F30: =+F32 -> 0
C31: այդ թվում` բյուջետային ծախսերի տնտեսագիտական դասակարգման հոդվածներ
C32: ԸՆԴԱՄԵՆԸ ԾԱԽՍԵՐ | D32: =+D33 -> 55510 | E32: =E33 -> 55510 | F32: =+F33 -> 0
C33: ԸՆԹԱՑԻԿ ԾԱԽՍԵՐ | D33: =E33+F33 -> 55510 | E33: =E34 -> 55510 | F33: =+F34 -> 0
C34: ԱՅԼ ԾԱԽՍԵՐ | D34: =+E34+F34 -> 55510 | E34: =E35 -> 55510 | F34: =+F35 -> 0
C35: Այլ ծախսեր | D35: =+E35+F35 -> 55510 | E35: =-E25 -> 55510

Sheet 4
A1: Հավելված N4
A2: ՀՀ կառավարության 2023 թվականի
A3: -ի N -Ն որոշման
A4: ՀԱՅԱՍՏԱՆԻ ՀԱՆՐԱՊԵՏՈՒԹՅԱՆ ԿԱՌԱՎԱՐՈՒԹՅԱՆ 2022 ԹՎԱԿԱՆԻ ԴԵԿՏԵՄԲԵՐԻ 29-Ի N 2111-Ն ՈՐՈՇՄԱՆ N 3 ԵՎ N 4 ՀԱՎԵԼՎԱԾՆԵՐՈՒՄ ԿԱՏԱՐՎՈՂ ՓՈՓՈԽՈՒԹՅՈՒՆՆԵՐԸ ԵՎ ԼՐԱՑՈՒՄՆԵՐԸ
G6: (հազ. դրամ)
A7: Գործառական դասիչը | D7: Ծրագրային դասիչը | F7: Բյուջետային ծախսերի գործառական դասակարգման բաժինների, խմբերի և դասերի, բյուջետային ծրագրերի միջոցառումների, բյուջետային հատկացումների գլխավոր կարգադրիչների անվանումները | G7: Ցուցանիշների փոփոխությունը (ավելացումները նշված են դրական նշանով, իսկ նվազեցումները՝ փակագծերում)
G8: Տարի
A9: Բաժին | B9: Խումբ | C9: Դաս | D9: Ծրագիր | E9: Միջոցառում
F10: ԸՆԴԱՄԵՆԸ ԾԱԽՍԵՐ | G10: =G12+G57 -> 0
F11: այդ թվում`
A12: 04 | F12: ՏՆՏԵՍԱԿԱՆ ՀԱՐԱԲԵՐՈՒԹՅՈՒՆՆԵՐ | G12: =G14 -> -55510
F13: այդ թվում`
B14: 02 | F14: Գյուղատնտեսություն, անտառային տնտեսություն, ձկնորսություն և որսորդություն | G14: =G16 -> -55510
F15: այդ թվում`
C16: 04 | F16: Ոռոգում | G16: =G18 -> -55510
F17: այդ թվում`
F18: ՀՀ տարածքային կառավարման և ենթակառուցվածքների նախարարություն | G18: =G20 -> -55510
F19: այդ թվում`
D20: 1004 | F20: Ոռոգման համակարգի առողջացում | G20: =G22+G30+G39+G48 -> -55510
F21: այդ թվում`
E22: 11011 | F22: Զարգացման ֆրանսիական գործակալության աջակցությամբ իրականացվող ոռոգման ոլորտի ֆինանսական կայունության և ոռոգման կառավարման կարողությունների բարելավման դրամաշնորհային ծրագրի խորհրդատվություն և կառավարում | G22: =G24 -> -55510
F23: այդ թվում` ըստ կատարողների
F24: ՀՀ տարածքային կառավարման և ենթակառուցվածքների նախարարության ջրային կոմիտե | G24: =G26 -> -55510
F25: այդ թվում` բյուջետային ծախսերի տնտեսագիտական դասակարգման հոդվածներ
F26: ԸՆԴԱՄԵՆԸ ԾԱԽՍԵՐ | G26: =G27 -> -55510
F27: ԸՆԹԱՑԻԿ ԾԱԽՍԵՐ | G27: =G28 -> -55510
F28: ԱՅԼ ԾԱԽՍԵՐ | G28: =G29 -> -55510
F29: Այլ ծախսեր | G29: ='3'!E25 -> -55510
E30: 31002 | F30: Ոռոգման համակարգերի հիմնանորոգում | G30: =G32 -> 13620.5
F31: այդ թվում` ըստ կատարողների
F32: ՀՀ տարածքային կառավարման և ենթակառուցվածքների նախարարության ջրային կոմիտե | G32: =G34 -> 13620.5
F33: այդ թվում` բյուջետային ծախսերի տնտեսագիտական դասակարգման հոդվածներ
F34: ԸՆԴԱՄԵՆԸ ԾԱԽՍԵՐ | G34: =G35 -> 13620.5
F35: ՈՉ ՖԻՆԱՆՍԱԿԱՆ ԱԿՏԻՎՆԵՐԻ ԳԾՈՎ ԾԱԽՍԵՐ | G35: =G36 -> 13620.5
F36: ՀԻՄՆԱԿԱՆ ՄԻՋՈՑՆԵՐ | G36: =G37 -> 13620.5
F37: ՇԵՆՔԵՐ ԵՎ ՇԻՆՈՒԹՅՈՒՆՆԵՐ | G37: =G38 -> 13620.5
F38: - Շենքերի և շինությունների կապիտալ վերանորոգում | G38: ='2'!D13 -> 13620.5
E39: 31007 | F39: Ջրային տնտեսության հիդրոտեխնիկական սարքավորումների տեղադրման աշխատանքներ | G39: =G41 -> 65392
F40: այդ թվում` ըստ կատարողների
F41: ՀՀ տարածքային կառավարման և ենթակառուցվածքների նախարարության ջրային կոմիտե | G41: =G43 -> 65392
...

Sheet 5
A1: Հավելված N 5
A2: ՀՀ կառավարության 2023 թվականի
A3: -ի N -Ն որոշման
A4: ՀԱՅԱՍՏԱՆԻ ՀԱՆՐԱՊԵՏՈՒԹՅԱՆ ԿԱՌԱՎԱՐՈՒԹՅԱՆ 2022 ԹՎԱԿԱՆԻ ԴԵԿՏԵՄԲԵՐԻ 29-Ի N 2111-Ն ՈՐՈՇՄԱՆ N 5 ՀԱՎԵԼՎԱԾԻ N 2 ԱՂՅՈՒՍԱԿՈՒՄ ԿԱՏԱՐՎՈՂ ՓՈՓՈԽՈՒԹՅՈՒՆՆԵՐԸ ԵՎ ԼՐԱՑՈՒՄՆԵՐԸ
D5: (հազ. դրամ)
A6: Ծրագրային դասիչ | C6: Բյուջետային գլխավոր կարգադրիչների, ծրագրերի, միջոցառումների, միջոցառումները կատարող պետական մարմինների և ուղղությունների անվանումները | D6: Ցուցանիշների փոփոխությունը (ավելացումները նշված են դրական նշանով, իսկ նվազեցումները` փակագծերում)
D7: Տարի
A8: Ծրագիր | B8: Միջոցառում
C9: ԸՆԴԱՄԵՆԸ | D9: =D11 -> 0
C10: այդ թվում՝
C11: ՀՀ ՏԱՐԱԾՔԱՅԻՆ ԿԱՌԱՎԱՐՄԱՆ ԵՎ ԵՆԹԱԿԱՌՈՒՑՎԱԾՔՆԵՐԻ ՆԱԽԱՐԱՐՈՒԹՅՈՒՆ | D11: =D13+D19+D24 -> 0
C12: այդ թվում`
A13: 1004 | B13: 31002 | C13: Ոռոգման համակարգերի հիմնանորոգում | D13: =D15 -> 13620.5
C14: այդ թվում` ըստ կատարողների
C15: ՀՀ տարածքային կառավարման և ենթակառուցվածքների նախարարության ջրային կոմիտե | D15: =D17+D18 -> 13620.5
C16: այդ թվում` ըստ ուղղությունների
C17: Սուրենավան III գոտու ջրագծի հիմնանորոգման աշխատանքներ | D17: ='2'!F15 -> 9464.6
C18: Մասիսի տարածաշրջանի ինքնաշատրվանող հորերի փականներով և ջրաչափերով կահավորելու աշխատանքներ | D18: ='2'!D16 -> 4155.9
A19: 1004 | B19: 31007 | C19: Ջրային տնտեսության հիդրոտեխնիկական սարքավորումների տեղադրման աշխատանքներ | D19: =D21 -> 65392
C20: այդ թվում` ըստ կատարողների
C21: ՀՀ տարածքային կառավարման և ենթակառուցվածքների նախարարության ջրային կոմիտե | D21: ='2'!H17 -> 65392
C22: այդ թվում` ըստ ուղղությունների
C23: Տվյալների առցանց փոխանցմամբ ջրահաշվիչ (ջրաչափիչ) սարքերի ձեռքբերում | D23: ='2'!H19 -> 65392
A24: 1004 | B24: 31009 | C24: Օրվա կարգավորման ջրավազանների կառուցում և վերակառուցում | D24: =D26 -> -79012.5
C25: այդ թվում` ըստ կատարողների
C26: ՀՀ կառավարություն | D26: ='2'!D20 -> -79012.5

Sheet 6-1
A1: Հավելված N 6
A2: ՀՀ կառավարության 2023 թվականի
A3: -ի N -Ն որոշման
A5: ՀԱՅԱՍՏԱՆԻ ՀԱՆՐԱՊԵՏՈՒԹՅԱՆ ԿԱՌԱՎԱՐՈՒԹՅԱՆ 2022 ԹՎԱԿԱՆԻ ԴԵԿՏԵՄԲԵՐԻ 29-Ի N 2111-Ն ՈՐՈՇՄԱՆ N 9 ՀԱՎԵԼՎԱԾԻ N 9.7 ԱՂՅՈՒՍԱԿՈՒՄ ԿԱՏԱՐՎՈՂ ՓՈՓՈԽՈՒԹՅՈՒՆՆԵՐԸ ԵՎ ԼՐԱՑՈՒՄՆԵՐԸ
A6: ՀՀ տարածքային կառավարման և ենթակառուցվածքների նախարարություն
A8: ՄԱՍ 2. ՊԵՏԱԿԱՆ ՄԱՐՄՆԻ ԳԾՈՎ ԱՐԴՅՈՒՆՔԱՅԻՆ (ԿԱՏԱՐՈՂԱԿԱՆ) ՑՈՒՑԱՆԻՇՆԵՐԸ | C8: Աղյուսակ 9.7
A10: Ծրագրի դասիչը | B10: Ծրագրի անվանումը
A11: 1004 | B11: Ոռոգման համակարգի առողջացում
A12: Ծրագրի միջոցառումները
A14: Ծրագրի դասիչը` | B14: 1004 | C14: Ցուցանիշների փոփոխությունը (նվազեցումները նշված են փակագծերում)
A16: Միջոցառման դասիչը` | B16: 11011 | C16: Տարի
A17: Միջոցառման անվանումը` | B17: Զարգացման ֆրանսիական գործակալության աջակցությամբ իրականացվող ոռոգման ոլորտի ֆինանսական կայունության և ոռոգման կառավարման կարողությունների բարելավման դրամաշնորհային ծրագրի խորհրդատվություն և կառավարում
A18: Նկարագրությունը` | B18: Զարգացման ֆրանսիական գործակալության աջակցությամբ իրականացվող ոռոգման ոլորտի ֆինանսական կայունության և ոռոգման կառավարման կարողությունն»րի բար»լավման ծրագրի համակարգում և ղ»կավարում
A19: Միջոցառման տեսակը` | B19: Ծառայությունների մատուցում
A20: Միջոցառումն իրականացնողի անվանումը | B20: Մասնագիտացված միավոր
A21: Արդյունքի չափորոշիչներ
A22: Միջոցառման վրա կատարվող ծախսը (հազար դրամ) | C22: ='1'!D18 -> -55510
A24: Ծրագրի դասիչը` | B24: 1004 | C24: Ցուցանիշների փոփոխությունը (ավելացումները նշված են դրական նշամով)
A26: Միջոցառման դասիչը` | B26: 31002 | C26: Տարի
A27: Միջոցառման անվանումը` | B27: Ոռոգման համակարգերի հիմնանորոգում
A28: Նկարագրությունը` | B28: Ոռոգման համակարգերի հիմնանորոգում
A29: Միջոցառման տեսակը` | B29: Պետական մարմինների կողմից օգտագործվող ոչ ֆինանսական ակտիվների հետ գործառնություններ
A30: Ակտիվն օգտագործող կազմակերպության(ների) անվանում(ները)՛ | B30: Ոռոգման համակարգի ընկերություններ
A31: Արդյունքի չափորոշիչներ
A32: Միջոցառման վրա կատարվող ծախսը (հազար դրամ) | C32: ='1'!D24 -> 13620.5
A34: Ծրագրի դասիչը` | B34: 1004 | C34: Ցուցանիշների փոփոխությունը (ավելացումները նշված են դրական նշամով)
A36: Միջոցառման դասիչը` | B36: 31007 | C36: Տարի
A37: Միջոցառման անվանումը` | B37: Ջրային տնտեսության հիդրոտեխնիկական սարքավորումների տեղադրման աշխատանքներ
A38: Նկարագրությունը` | B38: Ոռոգման համակարգերի ջրառի, ջրանցքների բաժանարար կետերը SCADA և այլ համակարգով հագեցած ջրաչափական սարքավորումներով կահավորում
A39: Միջոցառման տեսակը` | B39: Պետական մարմինների կողմից օգտագործվող ոչ ֆինանսական ակտիվների հետ գործառնություններ
A40: Ակտիվն օգտագործող կազմակերպության(ների) անվանում(ները)՛ | B40: Ոռոգման համակարգի ընկերություններ
A41: Արդյունքի չափորոշիչներ
A42: Տվյալների առցանց փոխանցմամբ ջրահաշվիչ (ջրաչափիչ) սարքերի ձեռքբերում,հատ | C42: 167
A43: Միջոցառման վրա կատարվող ծախսը (հազար դրամ) | C43: ='1'!D30 -> 65392
A45: Ծրագրի դասիչը` | B45: 1004 | C45: Ցուցանիշների փոփոխությունը (նվազեցումները նշված են փակագծերում)
A47: Միջոցառման դասիչը` | B47: 31009 | C47: Տարի
A48: Միջոցառման անվանումը` | B48: Օրվա կարգավորման ջրավազանների կառուցում և վերակառուցում
A49: Նկարագրությունը` | B49: Օրվա կարգավորման ջրավազանների կառուցման և վերակառուցման համար նախագծերի և աշխատանքների ձեռք բերում
A50: Միջոցառման տեսակը` | B50: Պետական մարմինների կողմից օգտագործվող ոչ ֆինանսական ակտիվների հետ գործառնություններ
A51: Ակտիվն օգտագործող կազմակերպության(ների) անվանում(ները)՛ | B51: ՀՀ ՏԿԵՆ ջրային կոմիտե
...

Sheet 6-2
A1: Աղյուսակ 2
A3: ՀԱՅԱՍՏԱՆԻ ՀԱՆՐԱՊԵՏՈՒԹՅԱՆ ԿԱՌԱՎԱՐՈՒԹՅԱՆ 2022 ԹՎԱԿԱՆԻ ԴԵԿՏԵՄԲԵՐԻ 29-Ի N 2111-Ն ՈՐՈՇՄԱՆ N 9.1 ՀԱՎԵԼՎԱԾԻ N 9.1.25 ԵՎ N 9.1.58 ԱՂՅՈՒՍԱԿՆԵՐՈՒՄ ԿԱՏԱՐՎՈՂ ՓՈՓՈԽՈՒԹՅՈՒՆՆԵՐԸ ԵՎ ԼՐԱՑՈՒՄՆԵՐԸ
C4: Աղյուսակ 9.1.25
A5: ՀՀ տարածքային կառավարման և ենթակառուցվածքների նախարարության ջրային կոմիտե
A6: ՄԱՍ 1. ՊԵՏԱԿԱՆ ՄԱՐՄՆԻ ԳԾՈՎ ԱՐԴՅՈՒՆՔԱՅԻՆ (ԿԱՏԱՐՈՂԱԿԱՆ) ՑՈՒՑԱՆԻՇՆԵՐԸ
A8: Ծրագրի դասիչը | B8: Ծրագրի անվանումը
A9: 1004 | B9: Ոռոգման համակարգի առողջացում
A10: Ծրագրի միջոցառումները
A12: Ծրագրի դասիչը` | B12: 1004 | C12: Ցուցանիշների փոփոխությունը (նվազեցումները նշված են փակագծերում)
A14: Միջոցառման դասիչը` | B14: 11011 | C14: Տարի
A15: Միջոցառման անվանումը` | B15: Զարգացման ֆրանսիական գործակալության աջակցությամբ իրականացվող ոռոգման ոլորտի ֆինանսական կայունության և ոռոգման կառավարման կարողությունների բարելավման դրամաշնորհային ծրագրի խորհրդատվություն և կառավարում
A16: Նկարագրությունը` | B16: Զարգացման ֆրանսիական գործակալության աջակցությամբ իրականացվող ոռոգման ոլորտի ֆինանսական կայունության և ոռոգման կառավարման կարողությունն»րի բար»լավման ծրագրի համակարգում և ղ»կավարում
A17: Միջոցառման տեսակը` | B17: Ծառայությունների մատուցում
A18: Միջոցառումն իրականացնողի անվանումը | B18: Մասնագիտացված միավոր
A19: Արդյունքի չափորոշիչներ
A20: Միջոցառման վրա կատարվող ծախսը (հազար դրամ) | C20: ='6-1'!C22 -> -55510
A22: Ծրագրի դասիչը` | B22: 1004 | C22: Ցուցանիշների փոփոխությունը (ավելացումները նշված են դրական նշամով)
A24: Միջոցառման դասիչը` | B24: 31002 | C24: Տարի
A25: Միջոցառման անվանումը` | B25: Ոռոգման համակարգերի հիմնանորոգում
A26: Նկարագրությունը` | B26: Ոռոգման համակարգերի հիմնանորոգում
A27: Միջոցառման տեսակը` | B27: Պետական մարմինների կողմից օգտագործվող ոչ ֆինանսական ակտիվների հետ գործառնություններ
A28: Ակտիվն օգտագործող կազմակերպության(ների) անվանում(ները)՛ | B28: Ոռոգման համակարգի ընկերություններ
A29: Արդյունքի չափորոշիչներ
A30: Միջոցառման վրա կատարվող ծախսը (հազար դրամ) | C30: ='6-1'!C32 -> 13620.5
A32: Ծրագրի դասիչը` | B32: 1004 | C32: Ցուցանիշների փոփոխությունը (ավելացումները նշված են դրական նշամով)
A34: Միջոցառման դասիչը` | B34: 31007 | C34: Տարի
A35: Միջոցառման անվանումը` | B35: Ջրային տնտեսության հիդրոտեխնիկական սարքավորումների տեղադրման աշխատանքներ
A36: Նկարագրությունը` | B36: Ոռոգման համակարգերի ջրառի, ջրանցքների բաժանարար կետերը SCADA և այլ համակարգով հագեցած ջրաչափական սարքավորումներով կահավորում
A37: Միջոցառման տեսակը` | B37: Պետական մարմինների կողմից օգտագործվող ոչ ֆինանսական ակտիվների հետ գործառնություններ
A38: Ակտիվն օգտագործող կազմակերպության(ների) անվանում(ները)՛ | B38: Ոռոգման համակարգի ընկերություններ
A39: Արդյունքի չափորոշիչներ
A40: Տվյալների առցանց փոխանցմամբ ջրահաշվիչ (ջրաչափիչ) սարքերի ձեռքբերում,հատ | C40: ='6-1'!C42 -> 167
A41: Միջոցառման վրա կատարվող ծախսը (հազար դրամ) | C41: ='6-1'!C43 -> 65392
A43: Ծրագրի դասիչը | B43: Ծրագրի անվանումը
A44: 1072 | B44: Ջրամատակարարաման և ջրահեռացման բարելավում
A45: Ծրագրի միջոցառումները
A47: Ծրագրի դասիչը` | B47: 1072 | C47: Ցուցանիշների փոփոխությունը (ավելացումները նշված են դրական նշանով)
A49: Միջոցառման դասիչը` | B49: 11009
A50: Միջոցառման անվանումը` | B50: Գերմանիայի զարգացման վարկերի բանկի աջակցությամբ իրականացվող Համայնքային ենթակառուցվածքների երկրորդ ծրագրի երրորդ փուլի դրամաշնորհային ծրագրի ուղեկցող միջոցառման 3-րդ բաղադրիչ
A51: Նկարագրությունը` | B51: Ջրային կոմիտեին և համակարգի ընկերություններին աջակցություն՛ գործառույթների իրականացման և անձնակազմի կարողությունների զարգացման գործում
...

Sheet 7
A1: Հավելված N 7
A2: ՀՀ կառավարության 2023 թվականի
A3: -ի N -Ն որոշման
A5: ՀՀ ԿԱՌԱՎԱՐՈՒԹՅԱՆ 2022 ԹՎԱԿԱՆԻ ԴԵԿՏԵՄԲԵՐԻ 29-Ի N 2111-Ն ՈՐՈՇՄԱՆ N 10 ՀԱՎԵԼՎԱԾՈՒՄ ԿԱՏԱՐՎՈՂ ՓՈՓՈԽՈՒԹՅՈՒՆՆԵՐԸ ԵՎ ԼՐԱՑՈՒՄՆԵՐԸ
A7: Կոդը | B7: Անվանումը | C7: Գնման ձևը | D7: Չափի միավորը | E7: Ցուցանիշների փոփոխությունը (ավելացումները նշված են դրական նշանով, իսկ նվազեցումները՝ փակագծերում)
E8: Միավորի գինը | F8: քանակը | G8: գումարը (հազ. դրամ)
A9: ՀՀ տարածքային կառավարման և ենթակառուցվածքների նախարարության ջրային կոմիտե | G9: =G10 -> 79012.5
A10: Բաժին N 04 | B10: Խումբ N 02 | C10: Դաս N 04 | D10: Ոռոգում | G10: =G12+G18 -> 79012.5
A11: 1004 31007 | B11: Ջրային տնտեսության հիդրոտեխնիկական սարքավորումների տեղադրման աշխատանքներ | G11: =G12 -> 65392
B12: ՄԱՍ I ԱՊՐԱՆՔՆԵՐ | G12: =SUM(G13:G16) -> 65392
A13: 38421120/508 | B13: Հոսքաչափեր | C13: ՀԲՄ | D13: հատ | E13: 276000 | F13: 7 | G13: =E13*F13/1000 -> 1932
A14: 38421120/509 | B14: Հոսքաչափեր | C14: ՀԲՄ | D14: հատ | E14: 250000 | F14: 1 | G14: =E14*F14/1000 -> 250
A15: 38421120/510 | B15: Հոսքաչափեր | C15: ՀԲՄ | D15: հատ | E15: 250000 | F15: 21 | G15: =E15*F15/1000 -> 5250
A16: 38421120/511 | B16: Հոսքաչափեր | C16: ՀԲՄ | D16: հատ | E16: 420000 | F16: 138 | G16: =E16*F16/1000 -> 57960
A17: 1004 31002 | B17: Ոռոգման համակարգերի հիմնանորոգում | G17: =G18 -> 13620.5
B18: ՄԱՍ II ԱՇԽԱՏԱՆՔՆԵՐ | G18: =SUM(G19:G20) -> 13620.5
A19: 45231132/506 | B19: Ջրատարների վերականգնման շինարարական աշխատանքներ | C19: ՀԲՄ | D19: դրամ | G19: 9464.6
A20: 45231132/7 | B20: ջրատարների վերականգնման շինարարական աշխատանքներ | C20: ՀԲՄ | D20: դրամ | G20: 4155.9
