Workbook
Name a: #REF!
Name AgencyCode: #REF!
Name AgencyName: #REF!
Name davit: #REF!
Name Functional1: #REF!
Name ggg: #REF!
Name HAVELVAC10: #REF!
Name PANature: #REF!
Name PAType: #REF!
Name Performance2: #REF!
Name PerformanceType: #REF!
Name Հավելված: #REF!
Name Մաս: #REF!
Name շախմատիստ: #REF!

Sheet havelvac 1
C1: Հավելված N 1
C2: ՀՀ կառավարության 2023 թվականի
C3: ______________ ի ___Ն որոշման
A4: «ՀԱՅԱՍՏԱՆԻ ՀԱՆՐԱՊԵՏՈՒԹՅԱՆ 2023 ԹՎԱԿԱՆԻ ՊԵՏԱԿԱՆ ԲՅՈՒՋԵԻ ՄԱՍԻՆ» ՕՐԵՆՔԻ N 1 ՀԱՎԵԼՎԱԾԻ N 2 ԱՂՅՈՒՍԱԿՈՒՄ ԿԱՏԱՐՎՈՂ ՎԵՐԱԲԱՇԽՈՒՄԸ ԵՎ ՀԱՅԱՍՏԱՆԻ ՀԱՆՐԱՊԵՏՈՒԹՅԱՆ ԿԱՌԱՎԱՐՈՒԹՅԱՆ 2022 ԹՎԱԿԱՆԻ ԴԵԿՏԵՄԲԵՐԻ 29-Ի N 2111-Ն ՈՐՈՇՄԱՆ N 5 ՀԱՎԵԼՎԱԾԻ N 1 ԱՂՅՈՒՍԱԿՈՒՄ ԿԱՏԱՐՎՈՂ ՓՈՓՈԽՈՒԹՅՈՒՆՆԵՐԸ ԵՎ ԼՐԱՑՈՒՄՆԵՐԸ
D5: հազար դրամ
A6: Ծրագրային դասիչը | C6: Բյուջետային հատկացումների գլխավոր կարգադրիչների, ծրագրերի և միջոցառումների անվանումները | D6: Ցուցանիշների փոփոխությունը (ավելացումները նշված են դրական նշանով, իսկ նվազեցումները՝ փակագծերում)
A7: ծրագիր | B7: միջոցառում | D7: Տարի
C8: ԸՆԴԱՄԵՆԸ | D8: =D9+D53 -> 0
A9: ՀՀ Կրթության, գիտության, մշակույթի և սպորտի նախարարություն | D9: =D11+D23+D41+D55 -> 0
A10: 1162 | C10: Ծրագրի անվանումը`
C11: Գիտական և գիտատեխնիկական հետազոտությունների ծրագիր | D11: =D17 -> -902427.5
C12: Ծրագրի նպատակը`
C13: Գիտական և գիտատեխնիկական գործունեության հիմնարար, կիրառական և թեմատիկ հետազոտությունների իրականացում, ենթակառուցվածքի և ազգային արժեք ներկայացնող գիտական օբյեկտների պահպանում և զարգացում, գիտական ներուժի վերարտադրության ապահովում£
C14: Վերջնական արդյունքի նկարագրությունը`
C15: Գիտության և տեխնիկայի զարգացման գերակա ուղղությունների հետազոտությունների իրականացում, գիտական ներուժի զարգացում, ազգային արժեք ներկայացնող գիտական օբյեկտների պահպանում
B16: 11005 | C16: Միջոցառման անվանումը`
C17: Գիտական և գիտատեխնիկական պայմանագրային (թեմատիկ) հետազոտություններ | D17: =-(D23+D41) -> -902427.5
C18: Միջոցառման նկարագրությունը`
C19: Գիտական և գիտատեխնիկական գործունեության պայմանագրային (թեմատիկ) հետազոտություններ
C20: Միջոցառման տեսակը
C21: Ծառայությունների մատուցում
A22: 1045 | C22: Ծրագրի անվանումը`
C23: Նախնական (արհեստագործական) և միջին մասնագիտական կրթություն | D23: =D29+D35 -> 462190
C24: Ծրագրի նպատակը`
C25: Աշխատաշուկայիարդի պահանջներին համապատասխան նախնական մասնագիտական (արհեստագործական) և միջին մասնագիտական կրթության որակավորում ունեցող մասնագետների պատրաստում՝ կրթության մատչելիության ապահովում:
C26: Վերջնական արդյունքի նկարագրությունը`
C27: Նախնական (արհեստագործական) և միջին մասնագիտական կրթության գավչության բարձրացում՝ մատչելի և մրցունակ նախնական (արհեստագործական) և միջին մասնագիտական կրթության ապահովում
B28: 12012 | C28: Միջոցառման անվանումը`
C29: 2023 թվականի սեպտեմբերի 19-ից հետո Լեռնային Ղարաբաղից բռնի տեղահանված և ՀՀ-ում նախնական մասնագիտական (արհեստագործական) կրթություն ստացող ուսանողներին ուսման վարձի փոխհատուցման նպատակով կրթաթոշակի տրամադրում | D29: 59290
C30: Միջոցառման նկարագրությունը`
C31: 2023 թվականի սեպտեմբերի 19-ից հետո Լեռնային Ղարաբաղից բռնի տեղահանված և ՀՀ-ում նախնական մասնագիտական (արհեստագործական) կրթություն ստացող ուսանողներին կրթաթոշակի տրամադրում
C32: Միջոցառման տեսակը
C33: Տրանսֆերտների տրամադրում
B34: 12013 | C34: Միջոցառման անվանումը`
C35: 2023 թվականի սեպտեմբերի 19-ից հետո Լեռնային Ղարաբաղից բռնի տեղահանված և ՀՀ-ում միջին մասնագիտական կրթություն ստացող ուսանողներին ուսման վարձի լրիվ կամ մասնակի փոխհատուցման նպատակով կրթաթոշակի տրամադրում | D35: 402900
C36: Միջոցառման նկարագրությունը`
C37: 2023 թվականի սեպտեմբերի 19-ից հետո Լեռնային Ղարաբաղից բռնի տեղահանված և ՀՀ-ում միջին մասնագիտական կրթություն ստացող ուսանողներին կրթաթոշակի տրամադրում
C38: Միջոցառման տեսակը
C39: Տրանսֆերտների տրամադրում
A40: 1111 | C40: Ծրագրի անվանումը`
...

Sheet havelvac 2
F1: Հավելված N 2
F2: ՀՀ կառավարության 2023 թվականի
F3: ______________ ի ___Ն որոշման
A4: ՀԱՅԱՍՏԱՆԻ ՀԱՆՐԱՊԵՏՈՒԹՅԱՆ ԿԱՌԱՎԱՐՈՒԹՅԱՆ 2022 ԹՎԱԿԱՆԻ ԴԵԿՏԵՄԲԵՐԻ 29-Ի N 2111-Ն ՈՐՈՇՄԱՆ N 3 ԵՎ N 4 ՀԱՎԵԼՎԱԾՆԵՐՈՒՄ ԿԱՏԱՐՎՈՂ ՓՈՓՈԽՈՒԹՅՈՒՆՆԵՐԸ ԵՎ ԼՐԱՑՈՒՄՆԵՐ
G5: հազար դրամ
A6: Գործառական դասիչը | D6: Ծրագրային դասիչը | F6: Բյուջետային ծախսերի գործառական դասակարգման բաժինների, խմբերի և դասերի, բյուջետային ծրագրերի միջոցառումների, բյուջետային հատկացումների գլխավոր կարգադրիչների անվանումները | G6: Ցուցանիշների փոփոխություն (ավելացումները նշված են դրական նշանով, իսկ նվազեցումները՝ փակագծերում)
A7: Բաժին | B7: Խումբ | C7: Դաս | D7: Ծրագիր | E7: Միջոցառում | G7: Տարի
F8: ԸՆԴԱՄԵՆԸ | G8: =G10+G74 -> 0
F9: այդ թվում`
F10: ՀՀ Կրթության, գիտության, մշակույթի և սպորտի նախարարություն | G10: =G12+G29 -> 0
F11: այդ թվում`
A12: 01 | F12: ԸՆԴՀԱՆՈՒՐ ԲՆՈՒՅԹԻ ՀԱՆՐԱՅԻՆ ԾԱՌԱՅՈՒԹՅՈՒՆՆԵՐ | G12: =+G14 -> -902427.5
F13: այդ թվում`
B14: 05 | F14: Ընդհանուր բնույթի հանրային ծառայությունների գծով հետազոտական և նախագծային աշխատանքներ | G14: =+G16 -> -902427.5
F15: այդ թվում`
C16: 01 | F16: Ընդհանուր բնույթի հանրային ծառայությունների գծով հետազոտական և նախագծային աշխատանքներ | G16: =+G18 -> -902427.5
F17: այդ թվում`
D18: 1162 | F18: Գիտական և գիտատեխնիկական հետազոտությունների ծրագիր | G18: =G20 -> -902427.5
F19: այդ թվում`
E20: 11005 | F20: Գիտական և գիտատեխնիկական պայմանագրային (թեմատիկ) հետազոտություններ | G20: =+G22 -> -902427.5
F21: այդ թվում` ըստ կատարողների
F22: ՀՀ կրթության, գիտության, մշակույթի և սպորտի նախարարության բարձրագույն կրթության և գիտության կոմիտե | G22: =+G24 -> -902427.5
F23: այդ թվում` բյուջետային ծախսերի տնտեսագիտական դասակարգման հոդվածներ
F24: ԸՆԴԱՄԵՆԸ ԾԱԽՍԵՐ | G24: =+G25 -> -902427.5
F25: ԸՆԹԱՑԻԿ ԾԱԽՍԵՐ | G25: =+G26 -> -902427.5
F26: ԴՐԱՄԱՇՆՈՐՀՆԵՐ | G26: =G27 -> -902427.5
F27: Ընթացիկ դրամաշնորհներ պետական հատվածի այլ մակարդակներին | G27: =G28 -> -902427.5
F28: - Այլ ընթացիկ դրամաշնորհներ | G28: ='havelvac 1'!D17 -> -902427.5
A29: 09 | F29: ԿՐԹՈՒԹՅՈՒՆ | G29: =G31+G59 -> 902427.5
F30: այդ թվում`
B31: 03 | F31: Նախնական մասնագիտական (արհեստագործական) և միջին մասնագիտական կրթություն | G31: =G33+G46 -> 462190
F32: այդ թվում`
C33: 01 | F33: Նախնական մասնագիտական (արհեստագործական) կրթություն | G33: =G37 -> 59290
F34: այդ թվում`
D35: 1045 | F35: Նախնական (արհեստագործական) և միջին մասնագիտական կրթություն | G35: =G37 -> 59290
F36: այդ թվում`
E37: 12012 | F37: 2023 թվականի սեպտեմբերի 19-ից հետո Լեռնային Ղարաբաղից բռնի տեղահանված և ՀՀ-ում նախնական մասնագիտական (արհեստագործական) կրթություն ստացող ուսանողներին ուսման վարձի փոխհատուցման նպատակով կրթաթոշակի տրամադրում | G37: =G39 -> 59290
F38: այդ թվում` ըստ կատարողների
F39: ՀՀ կրթության , գիտության, մշակույթի և սպորտի նախարարություն | G39: =G41 -> 59290
F40: այդ թվում` բյուջետային ծախսերի տնտեսագիտական դասակարգման հոդվածներ
...

Sheet havelvac 3
F1: Հավելված N 3
E2: ՀՀ կառավարության 2023 թվականի
F3: ______________ ի ___Ն որոշման
A4: ՀԱՅԱՍՏԱՆԻ ՀԱՆՐԱՊԵՏՈՒԹՅԱՆ ԿԱՌԱՎԱՐՈՒԹՅԱՆ 2022 ԹՎԱԿԱՆԻ ԴԵԿՏԵՄԲԵՐԻ 29-Ի N 2111-Ն ՈՐՈՇՄԱՆ N 5 ՀԱՎԵԼՎԱԾԻ N 7.1 ԱՂՅՈՒՍԱԿՈՒՄ ԿԱՏԱՐՎՈՂ ՓՈՓՈԽՈՒԹՅՈՒՆԸ
G5: հազար դրամներով
A6: Ծրագրային դասիչը | C6: Բյուջետային հատկացումների գլխավոր կարգադրիչների, ծրագրերի, միջոցառումների, ծախսային ուղղությունների անվանումները | E6: Միջոցառումները կատարող պետական մարմինների և դրամաշնորհ ստացող տնտեսվարող սուբյեկտների անվանումները | F6: Գերատեսչական պատկանելություն | G6: Տարի
A7: Ծրագիր | B7: Միջոցառում
A8: ԸՆԴԱՄԵՆԸ | G8: =G9 -> -902427.5
C9: ՀՀ կրթության, գիտության, մշակույթի և սպորտի նախարարություն | G9: =G11 -> -902427.5
A10: 1162 | C10: Գիտական և գիտատեխնիկական հետազոտությունների ծրագիր
B11: 11005 | C11: Գիտական և գիտատեխնիկական գործունեության պայմանագրային (թեմատիկ) հետազոտություններ | E11: ԸՆԴԱՄԵՆԸ- ՀՀ կրթության, գիտության, մշակույթի և սպորտի նախարարության գիտության կոմիտե | G11: =G13 -> -902427.5
D12: այդ թվում՝ ըստ ուղղությունների
E13: Պայմանագրային (թեմատիկ) հետազոտություններ | F13: մրցույթով ընտրված գիտահետազոտական խմբեր | G13: =G14 -> -902427.5
E14: Պայմանագրային (թեմատիկ) հետազոտությունների գիտական թեմաների ֆինանսավորում | F14: մրցույթով ընտրված գիտահետազոտական խմբեր | G14: ='havelvac 2'!G28 -> -902427.5

Sheet havelvac 4
G1: Հավելված N 4
F2: ՀՀ կառավարության 2023 թվականի
G3: ______________ ի ___Ն որոշման
B4: ՀԱՅԱՍՏԱՆԻ ՀԱՆՐԱՊԵՏՈՒԹՅԱՆ ԿԱՌԱՎԱՐՈՒԹՅԱՆ 2022 ԹՎԱԿԱՆԻ ԴԵԿՏԵՄԲԵՐԻ 29-Ի N 2111-Ն ՈՐՈՇՄԱՆ N 5 ՀԱՎԵԼՎԱԾԻ N 7.2 ԱՂՅՈՒՍԱԿՈՒՄ ԿԱՏԱՐՎՈՂ ՓՈՓՈԽՈՒԹՅՈՒՆԸ
H5: հազար դրամներով
B6: Ծրագրային դասիչը | D6: Բյուջետային հատկացումների գլխավոր կարգադրիչների, ծրագրերի, միջոցառումների անվանումները | F6: Միջոցառումներն կատարող պետական մարմինների անվանումները | G6: Գերատեսչական պատկանելություն | H6: Տարի
B7: Ծրագիր | C7: Միջոցառում
D8: ԸՆԴԱՄԵՆԸ | H8: =H9 -> -902427.5
D9: ՀՀ կրթության, գիտության, մշակույթի և սպորտի նախարարություն | H9: =H10 -> -902427.5
B10: 1162 | D10: Գիտական և գիտատեխնիկական հետազոտությունների ծրագիր | H10: =SUM(H11:H11) -> -902427.5
C11: 11005 | D11: Գիտական և գիտատեխնիկական պայմանագրային /թեմատիկ/ հետազոտություններ | F11: ՀՀ կրթության, գիտության, մշակույթի և սպորտի նախարարության բարձրագույն կրթության և գիտության կոմիտե | H11: ='havelvac 3'!G14 -> -902427.5

Sheet havelvac 5
B1: Հավելված N 5
B2: ՀՀ կառավարության 2023 թվականի
B3: ______________ ի ___Ն որոշման
A5: ՀԱՅԱՍՏԱՆԻ ՀԱՆՐԱՊԵՏՈՒԹՅԱՆ ԿԱՌԱՎԱՐՈՒԹՅԱՆ 2022 ԹՎԱԿԱՆԻ ԴԵԿՏԵՄԲԵՐԻ 29-Ի N 2111-Ն ՈՐՈՇՄԱՆ N 9 ՀԱՎԵԼՎԱԾԻ NN 9.13 և 9․47 ԱՂՅՈՒՍԱԿՈՒՄ ԿԱՏԱՐՎՈՂ ՓՈՓՈԽՈՒԹՅՈՒՆՆԵՐԸ ԵՎ ԼՐԱՑՈՒՄՆԵՐԸ
A6: ՀՀ կրթության, գիտության, մշակույթի և սպորտի նախարարություն
A7: ՄԱՍ 2. ՊԵՏԱԿԱՆ ՄԱՐՄՆԻ ԳԾՈՎ ԱՐԴՅՈՒՆՔԱՅԻՆ (ԿԱՏԱՐՈՂԱԿԱՆ) ՑՈՒՑԱՆԻՇՆԵՐԸ
A9: Ծրագրի դասիչը | B9: Ծրագրի անվանումը
A10: 1162 | B10: Գիտական և գիտատեխնիկական հետազոտությունների ծրագիր
A12: Ծրագրի միջոցառումները
A13: Ծրագրի դասիչը՝ | B13: 1162 | C13: Ցուցանիշների փոփոխություն (նվազեցումները նշված են փակագծերում )
A14: Միջոցառման դասիչը` | B14: 11005 | C14: Տարի
A15: Միջոցառման անվանումը` | B15: Գիտական և գիտատեխնիկական պայմանագրային (թեմատիկ) հետազոտություններ
A16: Նկարագրությունը` | B16: Գիտական և գիտատեխնիկական գործունեության պայմանագրային (թեմատիկ) հետազոտություններ
A17: Միջոցառման տեսակը` | B17: Ծառայությունների մատուցում
A18: Միջոցառումն իրականացնողի անվանումը՛ | B18: ՀՀ կառավարության 2001 թ. նոյեմբերի 17-ի Գիտական և գիտատեխնիկական գործունեության պայմանագրային (թեմատիկ) ֆինանսավորման կարգը հաստատելու մասին N1122 որոշման համաձայն մրցույթային կարգով ընտրված գիտական թեմաների ղեկավարներ
A19: Արդյունքի չափորոշիչներ
A20: Թեմաների թիվ, հատ, այդ թվում՛ | C20: -65
A21: Թեմաներում ներգրավված կանանց թվաքանակ, մարդ | C21: -95
A22: Միջազգային գիտական ծրագրերի թիվ, հատ, այդ թվում՛ | C22: -45
A23: Միջոցառման վրա կատարվող ծախսը (հազար դրամ) | C23: ='havelvac 2'!G20 -> -902427.5
A25: Ծրագրի դասիչը | B25: Ծրագրի անվանումը
A26: 1045 | B26: Նախնական (արհեստագործական) և միջին մասնագիտական կրթություն
A28: Ծրագրի միջոցառումները
A30: Ծրագրի դասիչը` | B30: 1045 | C30: Ցուցանիշների փոփոխություն (ավելացումները նշված են դրական նշանով )
A31: Միջոցառման դասիչը` | B31: 12012
A32: Միջոցառման անվանումը` | B32: 2023 թվականի սեպտեմբերի 19-ից հետո Լեռնային Ղարաբաղից բռնի տեղահանված և ՀՀ-ում նախնական մասնագիտական (արհեստագործական) կրթություն ստացող ուսանողներին ուսման վարձի փոխհատուցման նպատակով կրթաթոշակի տրամադրում
A33: Նկարագրությունը` | B33: 2023 թվականի սեպտեմբերի 19-ից հետո Լեռնային Ղարաբաղից բռնի տեղահանված և ՀՀ-ում նախնական մասնագիտական (արհեստագործական) կրթություն ստացող ուսանողներին կրթաթոշակի տրամադրում
A34: Միջոցառման տեսակը` | B34: Տրանսֆերտների տրամադրում
A35: Շահառուների ընտրության չափորոշիչը | B35: ՀՀ կառավարության 12.10.2023թ. N 1762-Լ որոշմամբ սահմանված կարգով ՀՀ պետական ուսումնական հաստատություններում տեղափոխված/հրամանագրված ուսանողներ
A36: Արդյունքի չափորոշիչներ
A37: Կրթաթոշակ ստացող ուսանողների թիվ, մարդ | C37: 484
A38: Միջոցառման վրա կատարվող ծախսը (հազար դրամ) | C38: ='havelvac 2'!G45 -> 59290
A40: Ծրագրի դասիչը` | B40: 1045 | C40: Ցուցանիշների փոփոխություն (ավելացումները նշված են դրական նշանով )
A41: Միջոցառման դասիչը` | B41: 12013
A42: Միջոցառման անվանումը` | B42: 2023 թվականի սեպտեմբերի 19-ից հետո Լեռնային Ղարաբաղից բռնի տեղահանված և ՀՀ-ում միջին մասնագիտական կրթություն ստացող ուսանողներին ուսման վարձի լրիվ կամ մասնակի փոխհատուցման նպատակով կրթաթոշակի տրամադրում
A43: Նկարագրությունը` | B43: 2023 թվականի սեպտեմբերի 19-ից հետո Լեռնային Ղարաբաղից բռնի տեղահանված և ՀՀ-ում միջին մասնագիտական կրթություն ստացող ուսանողներին կրթաթոշակի տրամադրում
A44: Միջոցառման տեսակը` | B44: Տրանսֆերտների տրամադրում
A45: Շահառուների ընտրության չափորոշիչը | B45: ՀՀ կառավարության 12.10.2023թ. N 1762-Լ որոշմամբ սահմանված կարգով ՀՀ պետական ուսումնական հաստատություններում տեղափոխված/հրամանագրված ուսանողներ
A46: Արդյունքի չափորոշիչներ
A47: Կրթաթոշակ ստացող ուսանողների թիվ, մարդ | C47: 2040
...

Sheet havelvac 6
B1: Հավելված N 6
B2: ՀՀ կառավարության 2023 թվականի
B3: ______________ ի ___Ն որոշման
A5: ՀԱՅԱՍՏԱՆԻ ՀԱՆՐԱՊԵՏՈՒԹՅԱՆ ԿԱՌԱՎԱՐՈՒԹՅԱՆ 2022 ԹՎԱԿԱՆԻ ԴԵԿՏԵՄԲԵՐԻ 29-Ի N 2111-Ն ՈՐՈՇՄԱՆ N 9.1 ՀԱՎԵԼՎԱԾԻ NN 9.1.13, 9.1.28 և 9.1.58 ԱՂՅՈՒՍԱԿՆԵՐՈՒՄ ԿԱՏԱՐՎՈՂ ՓՈՓՈԽՈՒԹՅՈՒՆՆԵՐԸ ԵՎ ԼՐԱՑՈՒՄՆԵՐԸ
A6: ՀՀ կրթության, գիտության, մշակույթի և սպորտի նախարարության բարձրագույն կրթության և գիտության կոմիտե
A7: ՄԱՍ 1. ՊԵՏԱԿԱՆ ՄԱՐՄՆԻ ԳԾՈՎ ԱՐԴՅՈՒՆՔԱՅԻՆ (ԿԱՏԱՐՈՂԱԿԱՆ) ՑՈՒՑԱՆԻՇՆԵՐԸ
A9: Ծրագրի դասիչը | B9: Ծրագրի անվանումը
A10: 1162 | B10: Գիտական և գիտատեխնիկական հետազոտությունների ծրագիր
A12: Ծրագրի միջոցառումները
A14: Ծրագրի դասիչը՝ | B14: 1162 | C14: Ցուցանիշների փոփոխությունը (նվազեցումները նշված են փակագծերում)
A15: Միջոցառման դասիչը` | B15: 11005 | C15: Տարի
A16: Միջոցառման անվանումը` | B16: Գիտական և գիտատեխնիկական պայմանագրային (թեմատիկ) հետազոտություններ
A17: Նկարագրությունը` | B17: Գիտական և գիտատեխնիկական գործունեության պայմանագրային (թեմատիկ) հետազոտություններ
A18: Միջոցառման տեսակը` | B18: Ծառայությունների մատուցում
A19: Միջոցառումն իրականացնողի անվանումը՛ | B19: ՀՀ կառավարության 2001 թ. նոյեմբերի 17-ի Գիտական և գիտատեխնիկական գործունեության պայմանագրային (թեմատիկ) ֆինանսավորման կարգը հաստատելու մասին N1122 որոշման համաձայն մրցույթային կարգով ընտրված գիտական թեմաների ղեկավարներ
A20: Արդյունքի չափորոշիչներ
A21: Թեմաների թիվ, հատ, այդ թվում՛ | C21: ='havelvac 5'!C20 -> -65
A22: Թեմաներում ներգրավված կանանց թվաքանակ, մարդ | C22: ='havelvac 5'!C21 -> -95
A23: Միջազգային գիտական ծրագրերի թիվ, հատ, այդ թվում՛ | C23: ='havelvac 5'!C22 -> -45
A24: Միջոցառման վրա կատարվող ծախսը (հազար դրամ) | C24: ='havelvac 5'!C23 -> -902427.5
A26: ՀՀ կրթության, գիտության, մշակույթի և սպորտի նախարարություն
A27: ՄԱՍ 1. ՊԵՏԱԿԱՆ ՄԱՐՄՆԻ ԳԾՈՎ ԱՐԴՅՈՒՆՔԱՅԻՆ (ԿԱՏԱՐՈՂԱԿԱՆ) ՑՈՒՑԱՆԻՇՆԵՐԸ
A29: Ծրագրի դասիչը | B29: Ծրագրի անվանումը
A30: 1045 | B30: Նախնական (արհեստագործական) և միջին մասնագիտական կրթություն
A32: Ծրագրի միջոցառումները
A34: Ծրագրի դասիչը` | B34: 1045 | C34: Ցուցանիշների փոփոխություն (ավելացումները նշված են դրական նշանով )
A35: Միջոցառման դասիչը` | B35: 12012
A36: Միջոցառման անվանումը` | B36: 2023 թվականի սեպտեմբերի 19-ից հետո Լեռնային Ղարաբաղից բռնի տեղահանված և ՀՀ-ում նախնական մասնագիտական (արհեստագործական) կրթություն ստացող ուսանողներին ուսման վարձի փոխհատուցման նպատակով կրթաթոշակի տրամադրում
A37: Նկարագրությունը` | B37: 2023 թվականի սեպտեմբերի 19-ից հետո Լեռնային Ղարաբաղից բռնի տեղահանված և ՀՀ-ում նախնական մասնագիտական (արհեստագործական) կրթություն ստացող ուսանողներին կրթաթոշակի տրամադրում
A38: Միջոցառման տեսակը` | B38: Տրանսֆերտների տրամադրում
A39: Շահառուների ընտրության չափորոշիչը | B39: ՀՀ կառավարության 12.10.2023թ. N 1762-Լ որոշմամբ սահմանված կարգով ՀՀ պետական ուսումնական հաստատություններում տեղափոխված/հրամանագրված ուսանողներ
A40: Արդյունքի չափորոշիչներ
A41: Կրթաթոշակ ստացող ուսանողների թիվ, մարդ | C41: ='havelvac 5'!C37 -> 484
A42: Միջոցառման վրա կատարվող ծախսը (հազար դրամ) | C42: ='havelvac 5'!C38 -> 59290
A44: Ծրագրի դասիչը` | B44: 1045 | C44: Ցուցանիշների փոփոխություն (ավելացումները նշված են դրական նշանով )
A45: Միջոցառման դասիչը` | B45: 12013
A46: Միջոցառման անվանումը` | B46: 2023 թվականի սեպտեմբերի 19-ից հետո Լեռնային Ղարաբաղից բռնի տեղահանված և ՀՀ-ում միջին մասնագիտական կրթություն ստացող ուսանողներին ուսման վարձի լրիվ կամ մասնակի փոխհատուցման նպատակով կրթաթոշակի տրամադրում
A47: Նկարագրությունը` | B47: 2023 թվականի սեպտեմբերի 19-ից հետո Լեռնային Ղարաբաղից բռնի տեղահանված և ՀՀ-ում միջին մասնագիտական կրթություն ստացող ուսանողներին կրթաթոշակի տրամադրում
A48: Միջոցառման տեսակը` | B48: Տրանսֆերտների տրամադրում
A49: Շահառուների ընտրության չափորոշիչը | B49: ՀՀ կառավարության 12.10.2023թ. N 1762-Լ որոշմամբ սահմանված կարգով ՀՀ պետական ուսումնական հաստատություններում տեղափոխված/հրամանագրված ուսանողներ
...
