Workbook
Name _tab10: #REF!
Name _tab11: #REF!
Name _tab12: #REF!
Name _tab13: #REF!
Name _tab14: #REF!
Name _tab15: #REF!
Name _tab16: #REF!
Name _tab17: #REF!
Name _tab18: #REF!
Name _tab19: #REF!
Name _tab20: #REF!
Name _tab21: #REF!
Name _tab22: #REF!
Name _tab23: #REF!
Name _tab24: #REF!
Name _tab5: #REF!
Name _tab6: #REF!
Name _tab7: #REF!
Name _tab8: #REF!
Name _tab9: #REF!
Name par_count: #REF!,#REF!,#REF!,#REF!,#REF!,#REF!,#REF!,#REF!,#REF!,#REF!,#REF!,#REF!,#REF!,#REF!,#REF!
Name par_qual: #REF!,#REF!,#REF!,#REF!,#REF!
Name par_time: #REF!,#REF!,#REF!,#REF!
Name par2.12s: #REF!
Name par2.4s: #REF!,#REF!,#REF!,#REF!,#REF!,#REF!,#REF!,#REF!,#REF!,#REF!,#REF!,#REF!,#REF!,#REF!,#REF!,#REF!
Name par2.5s: #REF!,#REF!
Name par2.6s: #REF!,#REF!,#REF!,#REF!
Name par2.7s: #REF!,#REF!
Name par2.9s: #REF!,#REF!,#REF!,#REF!,#REF!,#REF!,#REF!,#REF!,#REF!,#REF!,#REF!,#REF!,#REF!,#REF!,#REF!,#REF!
Name par4.10s: #REF!,#REF!
Name par4.11d: #REF!,#REF!,#REF!,#REF!,#REF!
Name par4.12d: #REF!
Name par4.13s: #REF!
Name par4.14: #REF!,#REF!,#REF!,#REF!,#REF!,#REF!
Name par4.15: #REF!,#REF!,#REF!
Name par4.16: #REF!,#REF!,#REF!
Name par4.17: #REF!,#REF!,#REF!,#REF!
Name par4.18d: #REF!,#REF!
Name par4.19s: #REF!
Name par4.20f: #REF!
Name par4.21f: #REF!
Name par4.22: #REF!
Name par4.4: #REF!
Name par4.5: #REF!
Name par4.6s: #REF!
Name par4.7s: #REF!
Name par4.8: #REF!,#REF!,#REF!,#REF!,#REF!
Name par4.9: #REF!,#REF!,#REF!,#REF!,#REF!,#REF!
Name par5.1: #REF!,#REF!
Name par5.3: #REF!,#REF!,#REF!,#REF!,#REF!,#REF!
Name par5.4: #REF!,#REF!,#REF!,#REF!,#REF!
Name par5.5: #REF!
Name par5.6: #REF!,#REF!
Name program: #REF!,#REF!,#REF!,#REF!,#REF!,#REF!,#REF!,#REF!,#REF!,#REF!,#REF!,#REF!,#REF!,#REF!,#REF!,#REF!,#REF!,#REF!,#REF!,#REF!

Sheet h1.
B1: Հավելված N 1
B2: ՀՀ կառավարության 2023 թվականի
B3: ______________ ի ___Ն որոշման
A5: «ՀԱՅԱՍՏԱՆԻ ՀԱՆՐԱՊԵՏՈՒԹՅԱՆ 2023 ԹՎԱԿԱՆԻ ՊԵՏԱԿԱՆ ԲՅՈՒՋԵԻ ՄԱՍԻՆ» ՕՐԵՆՔԻ N 2 ՀՈԴՎԱԾԻ ԱՂՅՈՒՍԱԿՈՒՄ ԿԱՏԱՐՎՈՂ ՓՈՓՈԽՈՒԹՅՈՒՆՆԵՐԸ
B7: հազար դրամներով
B8: Ցուցանիշների փոփոխությունը (նվազեցումները նշված են փակագծերում)
A9: 1. Եկամուտների գծով | B9: ='h5'!H21 -> 3238189.7
A10: 2. Ծախսերի գծով | B10: =B9 -> 3238189.7
A11: 3. Դեֆիցիտը (պակասուրդը) | B11: =B9-B10 -> 0

Sheet h2
C1: Հավելված N 2
C2: ՀՀ կառավարության 2023 թվականի
C3: ______________ ի ___Ն որոշման
A5: «ՀԱՅԱՍՏԱՆԻ ՀԱՆՐԱՊԵՏՈՒԹՅԱՆ 2023 ԹՎԱԿԱՆԻ ՊԵՏԱԿԱՆ ԲՅՈՒՋԵԻ ՄԱՍԻՆ» ՕՐԵՆՔԻ N 6-ՐԴ ՀՈԴՎԱԾԻ ԱՂՅՈՒՍԱԿՈՒՄ ԵՎ ՀԱՅԱՍՏԱՆԻ ՀԱՆՐԱՊԵՏՈՒԹՅԱՆ ԿԱՌԱՎԱՐՈՒԹՅԱՆ 2022 ԹՎԱԿԱՆԻ ԴԵԿՏԵՄԲԵՐԻ 29-Ի N 2111-Ն ՈՐՈՇՄԱՆ N 2 ՀԱՎԵԼՎԱԾՈՒՄ ԿԱՏԱՐՎՈՂ ՓՈՓՈԽՈՒԹՅՈՒՆՆԵՐԸ
B7: հազար դրամներով
A8: ՊԵՏԱԿԱՆ ԲՅՈՒՋԵԻ ԵԿԱՄՈՒՏՆԵՐ | B8: Ցուցանիշների փոփոխությունը (ավելացումները նշված են դրական նշանով)
B9: Տարի
A10: Ընդամենը | B10: =B12 -> 3238189.7
A11: այդ թվում`
A12: Այլ եկամուտներ | B12: =h1.!B9 -> 3238189.7

Sheet h3.
D1: Հավելված N 3
C2: ՀՀ կառավարության 2023 թվականի
C3: ______________ ի ___Ն որոշման
A5: ՀԱՅԱՍՏԱՆԻ ՀԱՆՐԱՊԵՏՈՒԹՅԱՆ ԿԱՌԱՎԱՐՈՒԹՅԱՆ 2022 ԹՎԱԿԱՆԻ ԴԵԿՏԵՄԲԵՐԻ 29-Ի N 2111-Ն ՈՐՈՇՄԱՆ N 6 ՀԱՎԵԼՎԱԾՈՒՄ ԿԱՏԱՐՎՈՂ ՓՈՓՈԽՈՒԹՅՈՒՆԸ
B9: եկամտատեսակը | C9: Գանձման համար պատասխանատու պետական կառավարման (մարմինները) | D9: Ցուցանիշների փոփոխությունը (ավելացումները նշված են դրական նշանով)
D10: Տարի
A11: Այլ եկամուտներ, ընդամենը | D11: =D12 -> 3238189.7
A12: 2 | B12: Տոկոսավճարներ և շահաբաժիններ | D12: =D13 -> 3238189.7
A13: 2.1 | B13: Բանկերում և այլ ֆինանսավարկային հաստատություններում բյուջեի ժամանակավոր ազատ միջոցների տեղաբաշխումից և դեպոզիտներից ստացվող տոկոսավճարներ | C13: ՀՀ ֆինանսների նախարարություն | D13: ='h2'!B12 -> 3238189.7

Sheet h4
D1: Հավելված N4
D2: ՀՀ կառավարության 2023 թվականի
D3: ______________ ի ___Ն որոշման
A5: «ՀԱՅԱUՏԱՆԻ ՀԱՆՐԱՊԵՏՈՒԹՅԱՆ 2023 ԹՎԱԿԱՆԻ ՊԵՏԱԿԱՆ ԲՅՈՒՋԵԻ ՄԱUԻՆ» OՐԵՆՔԻ N 1 ՀԱՎԵԼՎԱԾԻ N 2 ԱՂՅՈՒՍԱԿՈՒՄ ԵՎ ՀԱՅԱՍՏԱՆԻ ՀԱՆՐԱՊԵՏՈՒԹՅԱՆ ԿԱՌԱՎԱՐՈՒԹՅԱՆ 2022 ԹՎԱԿԱՆԻ ԴԵԿՏԵՄԲԵՐԻ 29-Ի N 2111-Ն ՈՐՈՇՄԱՆ N 5 ՀԱՎԵԼՎԱԾԻ N 1 ԱՂՅՈՒՍԱԿՈՒՄ ԿԱՏԱՐՎՈՂ ՓՈՓՈԽՈՒԹՅՈՒՆՆԵՐԸ ԵՎ ԼՐԱՑՈՒՄՆԵՐԸ
D6: հազ. դրամ
A7: Ծրագրային դասիչը | C7: Բյուջետային հատկացումների գլխավոր կարգադրիչների, ծրագրերի և միջոցառումների անվանումները | D7: Ցուցանիշների փոփոխությունը (ավելացումները նշված են դրական նշանով)
A8: Ծրագիր | B8: Միջոցառում | D8: Տարի
A9: 1192 | C9: ԸՆԴԱՄԵՆԸ | D9: =D11 -> 3238189.7
C10: այդ թվում
C11: ՀՀ տարածքային կառավարման և ենթակառուցվածքների նախարարություն | D11: =D12 -> 3238189.7
A12: 1212 | C12: Ծրագրի անվանումը` | D12: =D18 -> 3238189.7
C13: Տարածքային զարգացում
C14: Ծրագրի նպատակը`
C15: Տարածքային համաչափ զարգացման խթանում
C16: Վերջնական արդյունքի նկարագրությունը`
C17: ՀՀ համայնքների կառավարման արդյունավետության բարձրացում և տնտեսական գործունեության խթանում
B18: 12007 | C18: Միջոցառման անվանումը` | D18: ='h6'!E15 -> 3238189.7
C19: ՀՀ մարզերին սուբվենցիաների տրամադրում՛ ենթակառուցվածքների զարգացման նպատակով
C20: Միջոցառման նկարագրությունը`
C21: ՀՀ մարզերին սուբվենցիաների տրամադրում՛ ենթակառուցվածքների զարգացման նպատակով
C22: Միջոցառման տեսակը
C23: Տրանսֆերտների տրամադրում
A28: ՀԱՅԱՍՏԱՆԻ ՀԱՆՐԱՊԵՏՈՒԹՅԱՆ ՎԱՐՉԱՊԵՏԻ ԱՇԽԱՏԱԿԱԶՄԻ
C29: ՂԵԿԱՎԱՐ
C30: Ա.ՀԱՐՈՒԹՅՈՒՆՅԱՆ

Sheet h5
B1: Հավելված N5
B2: ՀՀ կառավարության 2023 թվականի
B3: ______________ ի ___Ն որոշման
B5: ՀԱՅԱՍՏԱՆԻ ՀԱՆՐԱՊԵՏՈՒԹՅԱՆ ԿԱՌԱՎԱՐՈՒԹՅԱՆ 2022 ԹՎԱԿԱՆԻ ԴԵԿՏԵՄԲԵՐԻ 29-Ի N 2111-Ն ՈՐՈՇՄԱՆ N 3 ԵՎ N 4 ՀԱՎԵԼՎԱԾՆԵՐՈՒՄ ԿԱՏԱՐՎՈՂ ՓՈՓՈԽՈՒԹՅՈՒՆՆԵՐԸ ԵՎ ԼՐԱՑՈՒՄԸ
H7: հազ. դրամ
B8: Գործառական դասիչը | E8: Ծրագրային դասիչը | G8: Բյուջետային ծախսերի գործառական դասակարգման բաժինների, խմբերի և դասերի, բյուջետային հատկացումների գլխավոր կարգադրիչների, ծրագրերի, միջոցառումների և միջոցառումները կատարող պետական մարմինների անվանումները | H8: Ցուցանիշների փոփոխությունը (ավելացումները նշված են դրական նշանով)
B9: Բաժին | C9: Խումբ | D9: Դաս | E9: Ծրագիր | F9: Միջոցառում | H9: Տարի
G10: ԸՆԴԱՄԵՆԸ ԾԱԽՍԵՐ | H10: =+H12 -> 3238189.7 | J10: =+H10 -> 3238189.7
G11: այդ թվում`
G12: ՀՀ ՏԱՐԱԾՔԱՅԻՆ ԿԱՌԱՎԱՐՄԱՆ ԵՎ ԵՆԹԱԿԱՌՈՒՑՎԱԾՔՆԵՐԻ ՆԱԽԱՐԱՐՈՒԹՅՈՒՆ | H12: =H13 -> 3238189.7
B13: 01 | G13: ԸՆԴՀԱՆՈՒՐ ԲՆՈՒՅԹԻ ՀԱՆՐԱՅԻՆ ԾԱՌԱՅՈՒԹՅՈՒՆՆԵՐ | H13: =H15 -> 3238189.7
G14: այդ թվում՝
C15: 08 | G15: Կառավարության տարբեր մակարդակների միջև իրականացվող ընդհանուր բնույթի տրանսֆերտներ | H15: =H17 -> 3238189.7
G16: այդ թվում՝
D17: 01 | G17: Կառավարության տարբեր մակարդակների միջև իրականացվող ընդհանուր բնույթի տրանսֆերտներ | H17: =H21 -> 3238189.7
G18: այդ թվում՝
G19: ՀՀ տարածքային կառավարման և ենթակառուցվածքների նախարարություն | H19: =H21 -> 3238189.7
G20: այդ թվում՝
E21: 1212 | G21: Տարածքային զարգացում | H21: =H23 -> 3238189.7
G22: այդ թվում`
F23: 12007 | G23: ՀՀ մարզերին սուբվենցիաների տրամադրում՛ ենթակառուցվածքների զարգացման նպատակով_x000D_ | H23: =H32+H39+H46+H53+H60+H67+H74+H81+H88+H95+H25 -> 3238189.7
G24: այդ թվում` ըստ կատարողների
G25: ՀՀ կառավարություն | H25: =H27 -> -24055.3
G26: այդ թվում` բյուջետային ծախսերի տնտեսագիտական դասակարգման հոդվածներ
G27: ԸՆԴԱՄԵՆԸ ԾԱԽՍԵՐ | H27: =H28 -> -24055.3
G28: ԸՆԹԱՑԻԿ ԾԱԽՍԵՐ | H28: =H29 -> -24055.3
G29: ԴՐԱՄԱՇՆՈՐՀՆԵՐ | H29: =H30 -> -24055.3
G30: Կապիտալ դրամաշնորհներ պետական հատվածի այլ մակարդակներին | H30: =H31 -> -24055.3
G31: - Կապիտալ սուբվենցիաներ համայնքներին | H31: ='h6'!E19 -> -24055.3
G32: ՀՀ Արագածոտնի մարզպետի աշխատակազմ | H32: =H34 -> 1156687.7
G33: այդ թվում` բյուջետային ծախսերի տնտեսագիտական դասակարգման հոդվածներ
G34: ԸՆԴԱՄԵՆԸ ԾԱԽՍԵՐ | H34: =H36 -> 1156687.7
G35: ԸՆԹԱՑԻԿ ԾԱԽՍԵՐ | H35: =H36 -> 1156687.7
G36: ԴՐԱՄԱՇՆՈՐՀՆԵՐ | H36: =H37 -> 1156687.7
G37: Կապիտալ դրամաշնորհներ պետական հատվածի այլ մակարդակներին | H37: =H38 -> 1156687.7
G38: - Կապիտալ սուբվենցիաներ համայնքներին | H38: ='h6'!E20 -> 1156687.7
G39: ՀՀ Արարատի մարզպետի աշխատակազմ | H39: =H41 -> 367647.6
G40: այդ թվում` բյուջետային ծախսերի տնտեսագիտական դասակարգման հոդվածներ
G41: ԸՆԴԱՄԵՆԸ ԾԱԽՍԵՐ | H41: =H42 -> 367647.6
G42: ԸՆԹԱՑԻԿ ԾԱԽՍԵՐ | H42: =H44 -> 367647.6
...

Sheet h6
E1: Հավելված № 6
E2: ՀՀ կառավարության 2023 թվականի
E3: -------------- ի № ---- -Ն որոշման
B5: «ՀԱՅԱՍՏԱՆԻ ՀԱՆՐԱՊԵՏՈՒԹՅԱՆ 2023 ԹՎԱԿԱՆԻ ՊԵՏԱԿԱՆ ԲՅՈՒՋԵԻ ՄԱՍԻՆ» ՕՐԵՆՔԻ N 1 ՀԱՎԵԼՎԱԾԻ N 7 ԱՂՅՈՒՍԱԿՈՒՄ ԵՎ ՀԱՅԱՍՏԱՆԻ ՀԱՆՐԱՊԵՏՈՒԹՅԱՆ ԿԱՌԱՎԱՐՈՒԹՅԱՆ 2022 ԹՎԱԿԱՆԻ ԴԵԿՏԵՄԲԵՐԻ 29-Ի N 2111-Ն ՈՐՈՇՄԱՆ N 5 ՀԱՎԵԼՎԱԾԻ N 6 ԱՂՅՈՒՍԱԿՈՒՄ ԿԱՏԱՐՎՈՂ ՓՈՓՈԽՈՒԹՅՈՒՆԸ ԵՎ ԼՐԱՑՈՒՄՆԵՐԸ
E6: հազար դրամ
B7: Ծրագրային դասիչը | D7: Բյուջետային հատկացումների գլխավոր կարգադրիչների, ծրագրերի, միջոցառումների և միջոցառումները կատարող պետական մարմինների անվանումները | E7: Ցուցանիշների փոփոխությունը (ավելացումները նշված են դրական նշանով, իսկ նվազեցումները` փակագծերում)
B8: Ծրագիր | C8: Միջոցառում | E8: Տարի
D9: ԸՆԴԱՄԵՆԸ | E9: =E11 -> 3238189.7
D10: այդ թվում
D11: Կապիտալ սուբվենցիաներ համայնքներին | E11: =E13 -> 3238189.7
D12: այդ թվում`
D13: ՀՀ տարածքային կառավարման և ենթակառուցվածքների նախարարություն | E13: =+E15 -> 3238189.7
D14: այդ թվում`
B15: 1212 | D15: Տարածքային զարգացում | E15: =+E17 -> 3238189.7
D16: այդ թվում`
C17: 12007 | D17: ՀՀ մարզերին սուբվենցիաների տրամադրում՝ ենթակառուցվածքների զարգացման նպատակով | E17: =E20+E27+E33+E38+E43+E52+E57+E62+E72+E67+E18+E19 -> 3238189.7
D18: այդ թվում` ըստ կատարողների
D19: ՀՀ կառավարություն | E19: -24055.3
D20: ՀՀ Արագածոտնի մարզպետի աշխատակազմ | E20: =SUM(E22:E26) -> 1156687.7
D21: այդ թվում` ըստ ուղղությունների
D22: Ապարան համայնքի Ապարան քաղաքի մի շարք փողոցների ասֆալտապատման աշխատանքներ, գյուղական բնակավայրերի մի շարք փողոցների ասֆալտապատման աշխատանքներ և Ապարան քաղաքի բակային տարածքների ասֆալտապատաման աշխատանքներ /գյուղական բնակավայրերը՝ Երնջատափ, Ջրամբար, Արագած, Քուչակ, Արայի/ | E22: 82978.4
D23: Ապարան համայնքի Եղիպատրուշ վարչական տարածքի գազիֆիկացում | E23: 83349.3
D24: Աշտարակ համայնքի Աշտարակ քաղաքի, Աղձք, Արուճ, Ագարակ, Անտառուտ, Ավան, Արտաշավան, Բազմաղբյուր, Բյուրական, Լեռնարոտ, Կարբի, Կոշ, Ղազարավան, Նոր Ամանոս, Նոր Եդեսիա, Նոր Երզնկա, Ոսկեհատ, Ոսկեվազ, Ուշի, Ուջան, Սաղմոսավան, Սասունիկ, Փարպի, Օհանավան և Օշական բնակավայրերի փողոցների ասֆալտապատում | E24: 749892.3
D25: Թալին համայնքի Դաշտադեմ բնակավայրի ոռոգման համակարգի վերակառուցում | E25: 132400.1
D26: Թալին համայնքի Ծաղկասար, Մաստարա բն․ ասֆալտբետոնե ծածկույթի հիմնանորոգում | E26: 108067.6
D27: ՀՀ Արարատի մարզպետի աշխատակազմ | E27: =SUM(E29:E32) -> 367647.6
D28: այդ թվում` ըստ ուղղությունների
D29: Վեդի համայնքի Եղեգնավան և Վեդի քաղաքային բնակավայրերի փողոցների ասֆալտապատում | E29: 289955.2
D30: Արարատ համայնքի Սուրենավան, Արմաշ, Երասխ և Ավշար բնակավայրերի գազաֆիկացում /Արմաշ/ | E30: 15986.1
D31: Արարատ համայնքի Արարատ և Երասխ բնակավայրերում մարզադպրոցների կառուցում /Երասխ/ | E31: 30943.9
D32: Արարատ համայնքի Արարատ քաղաքի Կոմիտասի 2ա, Խանջյան 26,28,62 և Շահումյան 22, 67 շենքերի տանիքների վերանորոգում | E32: 30762.4
D33: ՀՀ Արմավիրի մարզպետի աշխատակազմ | E33: =SUM(E35:E37) -> 164890.4
D34: այդ թվում` ըստ ուղղությունների
D35: Խոյ համայնքի Դաշտ բնակավայրի մշակույթի տան տանիքի հիմնանորոգում, Արագած համայնքի մշակույթի տան 2-րդ և 3-րդ հարկերի վերանորոգում և ջեռուցում /Դաշտ/ | E35: 5167.8
D36: Արաքս համայնքի Գայ բնակավայրի ջրահեռացման համակարգի վերակառուցում և ջրամատակարարման համակարգի վերակառուցում, Արաքս գյուղում ջրամատակարարման համակարգի վերակառուցում /Գայի ջրահեռացում/ | E36: 114345.6
D37: Արաքս համայնքի Արտիմետ գյուղի Շիրազի փողոցի 1 հասցեով մանկապարտեզի բակի բարեկարգում, Ջրարբի գյուղի Թումանյան փողոցի 14 հասցեով մանկապարտեզի բակի բարեկարգում, Մեծամոր բնակավայրի Աբովյան փողոցի 1/2 հասցեով մանկապարտեզի բակի բարեկարգում, Առատաշեն գյուղի Ա.Այվազյան փող. թիվ 34 հասցեում գտնվող մանկապարտեզի բակի բարեկարգում» /Արտիմետ, Ջրարբի բնակավայրեր/ | E37: 45377
D38: ՀՀ Գեղարքունիքի մարզպետի աշխատակազմ | E38: =SUM(E40:E42) -> 69834.5
D39: այդ թվում` ըստ ուղղությունների
D40: Մարտունի համայնքի Արծվանիստ, Ծովինար, Վարդենիկ, Աստղաձոր, Վաղաշեն, Ն. Գետաշեն, Մադինա, Ծակքար, Ձորագյուղ, Վարդաձոր, Երանոս,Վ.Գետաշեն բնակավայրերում ոռոգման համակարգերի կառուցում և նորոգում /Ծովինար/ | E40: 2028
D41: Մարտունի համայնքի Արծվանիստ, Ծովինար, Զոլաքար, Աստղաձոր, Լիճք, Ծակքար, Ձորագյուղ, Վարդաձոր, Վարդենիկ և Երանոս բնակավայրերում խմելու նոր ջրագծերի կառուցում և Վարդաձոր, Վարդենիկ և Ծովինար բնակավայրերում խմելու ջրի կապտաժիների կառուցում /Վարդաձոր/ | E41: 28556.3
...

Sheet h7
D1: Հավելված № 7
D2: ՀՀ կառավարության 2023 թվականի
D3: -------------- ի № ---- -Ն որոշման
B5: ՀԱՅԱՍՏԱՆԻ ՀԱՆՐԱՊԵՏՈՒԹՅԱՆ ԿԱՌԱՎԱՐՈՒԹՅԱՆ 2022 ԹՎԱԿԱՆԻ ԴԵԿՏԵՄԲԵՐԻ 29-Ի № 2111-Ն ՈՐՈՇՄԱՆ № 9 ՀԱՎԵԼՎԱԾԻ № 9.7 ԱՂՅՈՒՍԱԿՈՒՄ ԿԱՏԱՐՎՈՂ ԼՐԱՑՈՒՄԸ
D6: Աղյուսակ 9.7
B7: ՀՀ ՏԱՐԱԾՔԱՅԻՆ ԿԱՌԱՎԱՐՄԱՆ ԵՎ ԵՆԹԱԿԱՌՈՒՑՎԱԾՔՆԵՐԻ ՆԱԽԱՐԱՐՈՒԹՅՈՒՆ
B8: ՄԱՍ 2. ՊԵՏԱԿԱՆ ՄԱՐՄՆԻ ԳԾՈՎ ԱՐԴՅՈՒՆՔԱՅԻՆ (ԿԱՏԱՐՈՂԱԿԱՆ) ՑՈՒՑԱՆԻՇՆԵՐԸ
B10: Ծրագրի դասիչը | C10: Ծրագրի անվանումը
B11: 1212 | C11: Տարածքային զարգացում
B13: Ծրագրի միջոցառումները
B14: Ծրագրի դասիչը` | C14: 1212 | D14: Ցուցանիշների փոփոխությունը (ավելացումները նշված են դրական նշանով)
B15: Միջոցառման դասիչը` | C15: 12007 | D15: Տարի
B16: Միջոցառման անվանումը` | C16: ՀՀ մարզերին սուբվենցիաների տրամադրում` ենթակառուցվածքների զարգացման նպատակով_x000D_
B17: Նկարագրությունը` | C17: ՀՀ մարզերին սուբվենցիաների տրամադրում` ենթակառուցվածքների զարգացման նպատակով
B18: Միջոցառման տեսակը` | C18: Տրանսֆերտների տրամադրում
B19: Միջոցառումն իրականացնողի անվանումը | C19: ՀՀ համայնքներ
B20: Արդյունքի չափորոշիչներ
B21: ՀՀ համայնքների թիվ, հատ | D21: 0
B22: Ծրագրերի քանակ, հատ | D22: =SUM(D23:D33) -> 39
C23: Բնակավայրի փողոցների կառուցում/նորոգում ասֆալտապատմամբ | D23: ='h8'!D160+'h8'!D139+'h8'!D47+'h8'!D24 -> 8
C24: Բնակավայրի փողոցներիկառուցում/նորոգում սալարկմամբ, խճապատմամբ | D24: ='h8'!D227 -> 1
C25: Նախադպրոցական հաստատությունների կառուցում, վերակառուցում/նորոգում | D25: 1
C26: Այգիների, պուրակների կառուցում/բարեկարգում | D26: ='h8'!D204+'h8'!D183+'h8'!D118+'h8'!D94+'h8'!D71+'h8'!D229 -> 6
C27: Բնակավայրերի գազաֆիկացում | D27: ='h8'!D25+'h8'!D49 -> 2
C28: Ոռոգման համակարգի կառուցում/նորոգում | D28: ='h8'!D203+'h8'!D93+'h8'!D26 -> 4
C29: Փողոցային լուսավորության համակարգի կառուցում/նորոգում | D29: ='h8'!D161+'h8'!D230 -> 2
C30: Հասարակական շենքերի (մշակույթի տուն, համայնքային կենտրոններ և այլն)կառուցում/վերանորոգում | D30: 3
C31: Մեքենասարքավորումների,տեխնիկայի և գույքի ձեռքբերում | D31: ='h8'!D228+'h8'!D115 -> 2
C32: Խմելու ջրամատակարարման, ինչպես նաև ջրահեռացման համակարգի կառուցում/նորոգում | D32: ='h8'!D95+'h8'!D117+'h8'!D140+'h8'!D182+'h8'!D72 -> 5
C33: Բազմաբնակարան շենքերի ընդհանուր բաժնային սեփականության գույքի նորոգում, այդ թվում՝ էներգախնայող միջոցառումների կիրառում | D33: ='h8'!D225++'h8'!D181+'h8'!D116+'h8'!D50 -> 5
B34: Միջոցառման վրա կատարվող ծախսը (հազար դրամ) | D34: ='h6'!E17 -> 3238189.7

Sheet h8
D1: Հավելված № 8
D2: ՀՀ կառավարության 2023 թվականի
D3: -------------- ի № ---- -Ն որոշման
B5: ՀԱՅԱՍՏԱՆԻ ՀԱՆՐԱՊԵՏՈՒԹՅԱՆ ԿԱՌԱՎԱՐՈՒԹՅԱՆ 2022 ԹՎԱԿԱՆԻ ԴԵԿՏԵՄԲԵՐԻ 29-Ի № 2111-Ն ՈՐՈՇՄԱՆ № 9.1 ՀԱՎԵԼՎԱԾԻ № 9.1.48, 9.1.49, 9.1.50, 9.1.51, 9.1.52, 9.1.53, 9.1.54, 9.1.55, 9.1.56 , 9.1.57 ԵՎ 9.1.58 ԱՂՅՈՒՍԱԿՆԵՐՈՒՄ ԿԱՏԱՐՎՈՂ ՓՈՓՈԽՈՒԹՅՈՒՆՆԵՐԸ ԵՎ ԼՐԱՑՈՒՄՆԵՐԸ
D7: Աղյուսակ 9.1.48
B8: ՀՀ Արագածոտնի մարզպետի աշխատակազմ
B9: ՄԱՍ 1. ՊԵՏԱԿԱՆ ՄԱՐՄՆԻ ԳԾՈՎ ԱՐԴՅՈՒՆՔԱՅԻՆ (ԿԱՏԱՐՈՂԱԿԱՆ) ՑՈՒՑԱՆԻՇՆԵՐԸ
B11: Ծրագրի դասիչը | C11: Ծրագրի անվանումը
B12: 1212 | C12: Տարածքային զարգացում
B14: Ծրագրի միջոցառումները
B15: Ծրագրի դասիչը` | C15: 1212 | D15: Ցուցանիշների փոփոխությունը (ավելացումները նշված են դրական նշանով)
B16: Միջոցառման դասիչը` | C16: 12007 | D16: Տարի
B17: Միջոցառման անվանումը` | C17: ՀՀ մարզերին սուբվենցիաների տրամադրում` ենթակառուցվածքների զարգացման նպատակով_x000D_
B18: Նկարագրությունը` | C18: ՀՀ մարզերին սուբվենցիաների տրամադրում` ենթակառուցվածքների զարգացման նպատակով
B19: Միջոցառման տեսակը` | C19: Տրանսֆերտների տրամադրում
B20: Միջոցառումն իրականացնողի անվանումը | C20: ՀՀ համայնքներ
B21: Արդյունքի չափորոշիչներ
B22: ՀՀ համայնքների թիվ, հատ | D22: 0
B23: Ծրագրերի քանակ, հատ | D23: =SUM(D24:D26) -> 5
B24: Ոլորտ | C24: Բնակավայրի փողոցների կառուցում/նորոգում ասֆալտապատմամբ | D24: 3
C25: Բնակավայրերի գազաֆիկացում | D25: 1
C26: Ոռոգման համակարգի կառուցում/նորոգում | D26: 1
B27: Միջոցառման վրա կատարվող ծախսը (հազար դրամ) | D27: ='h6'!E20 -> 1156687.7
D29: Աղյուսակ 9.1.49
B30: ՀՀ Արարատի մարզպետի աշխատակազմ
B32: ՄԱՍ 1. ՊԵՏԱԿԱՆ ՄԱՐՄՆԻ ԳԾՈՎ ԱՐԴՅՈՒՆՔԱՅԻՆ (ԿԱՏԱՐՈՂԱԿԱՆ) ՑՈՒՑԱՆԻՇՆԵՐԸ
B34: Ծրագրի դասիչը | C34: Ծրագրի անվանումը
B35: 1212 | C35: Տարածքային զարգացում
B37: Ծրագրի միջոցառումները
B38: Ծրագրի դասիչը` | C38: 1212 | D38: Ցուցանիշների փոփոխությունը (ավելացումները նշված են դրական նշանով)
B39: Միջոցառման դասիչը` | C39: 12007 | D39: Տարի
B40: Միջոցառման անվանումը` | C40: ՀՀ մարզերին սուբվենցիաների տրամադրում` ենթակառուցվածքների զարգացման նպատակով_x000D_
B41: Նկարագրությունը` | C41: ՀՀ մարզերին սուբվենցիաների տրամադրում` ենթակառուցվածքների զարգացման նպատակով
B42: Միջոցառման տեսակը` | C42: Տրանսֆերտների տրամադրում
B43: Միջոցառումն իրականացնողի անվանումը | C43: ՀՀ համայնքներ
B44: Արդյունքի չափորոշիչներ
B45: ՀՀ համայնքների թիվ, հատ | D45: 0
B46: Ծրագրերի քանակ, հատ | D46: =SUM(D47:D50) -> 4
B47: Ոլորտ | C47: Բնակավայրի փողոցների կառուցում/նորոգում ասֆալտապատմամբ | D47: 1
C48: Հասարակական շենքերի (մշակույթի տուն, համայնքային կենտրոններ և այլն)կառուցում/վերանորոգում | D48: 1
...
