Workbook
Name __tab10: #REF!
Name __tab11: #REF!
Name __tab12: #REF!
Name __tab13: #REF!
Name __tab14: #REF!
Name __tab15: #REF!
Name __tab16: #REF!
Name __tab17: #REF!
Name __tab18: #REF!
Name __tab19: #REF!
Name __tab20: #REF!
Name __tab21: #REF!
Name __tab22: #REF!
Name __tab23: #REF!
Name __tab24: #REF!
Name __tab5: #REF!
Name __tab6: #REF!
Name __tab7: #REF!
Name __tab8: #REF!
Name __tab9: #REF!
Name _tab10: #REF!
Name _tab10: #REF!
Name _tab11: #REF!
Name _tab11: #REF!
Name _tab12: #REF!
Name _tab12: #REF!
Name _tab13: #REF!
Name _tab13: #REF!
Name _tab14: #REF!
Name _tab14: #REF!
Name _tab15: #REF!
Name _tab15: #REF!
Name _tab16: #REF!
Name _tab16: #REF!
Name _tab17: #REF!
Name _tab17: #REF!
Name _tab18: #REF!
Name _tab18: #REF!
Name _tab19: #REF!
Name _tab19: #REF!
Name _tab20: #REF!
Name _tab20: #REF!
Name _tab21: #REF!
Name _tab21: #REF!
Name _tab22: #REF!
Name _tab22: #REF!
Name _tab23: #REF!
Name _tab23: #REF!
Name _tab24: #REF!
Name _tab24: #REF!
Name _tab5: #REF!
Name _tab5: #REF!
Name _tab6: #REF!
Name _tab6: #REF!
Name _tab7: #REF!
Name _tab7: #REF!
Name _tab8: #REF!
Name _tab8: #REF!
Name _tab9: #REF!
Name _tab9: #REF!

Sheet 1
D1: Հավելված N 1
D2: ՀՀ կառավարության 2023 թվականի
D3: " " " " N -Ն որոշման
A5: ՀԱՅԱՍՏԱՆԻ ՀԱՆՐԱՊԵՏՈՒԹՅԱՆ 2023 ԹՎԱԿԱՆԻ ՊԵՏԱԿԱՆ ԲՅՈՒՋԵԻ ՄԱՍԻՆ» ՕՐԵՆՔԻ N 1 ՀԱՎԵԼՎԱԾԻ N 2 ԱՂՅՈՒՍԱԿՈՒՄ ԿԱՏԱՐՎՈՂ ՎԵՐԱԲԱՇԽՈՒՄԸ ԵՎ ՀԱՅԱՍՏԱՆԻ ՀԱՆՐԱՊԵՏՈՒԹՅԱՆ ԿԱՌԱՎԱՐՈՒԹՅԱՆ 2022 ԹՎԱԿԱՆԻ ԴԵԿՏԵՄԲԵՐԻ 29-Ի N 2111-Ն ՈՐՈՇՄԱՆ N 5 ՀԱՎԵԼՎԱԾԻ N 1 ԱՂՅՈՒՍԱԿՈՒՄ ԿԱՏԱՐՎՈՂ ՓՈՓՈԽՈՒԹՅՈՒՆՆԵՐԸ
D6: (հազար դրամ)
A7: Ծրագրային դասիչը | C7: Բյուջետային հատկացումների գլխավոր կարգադրիչների, ծրագրերի և միջոցառումների անվանումները | D7: Ցուցանիշների փոփոխությունները ավելացումները նշված են դրական նշանով, իսկ նվազեցումները՝ փակագծերում
A8: Ծրագիր | B8: Միջոցառում | D8: տարի
C9: ԸՆԴԱՄԵՆԸ | D9: =D10 -> 0
C10: ՀՀ աշխատանքի և սոցիալական հարցերի նախարարություն | D10: =D11+D24 -> 0
A11: 1032 | C11: Ծրագրի անվանումը` | D11: =D19 -> 29418
C12: Խնամքի ծառայություններ 18 տարեկանից բարձր տարիքի անձանց
C13: Ծրագրի նպատակը`
C14: Խնամքի կարիք ունեցող 18 տարեկանից բարձր տարիքի անձանց բնականոն կենսագործունեության ապահովում
C15: Վերջնական արդյունքի նկարագրությունը`
C16: Խնամքի ծառայություններ ստացած առավել կարիքավոր անձանց ընդգրկվածության աճ
A17: Ծրագրի միջոցառումներ
B18: 11001 | C18: Միջոցառման անվանումը`
C19: Տարեց և (կամ) հաշմանդամություն ունեցող անձանց շուրջօրյա խնամքի ծառայություններ | D19: 29418
C20: Միջոցառման նկարագրությունը`
C21: Բնակչության սոցիալական պաշտպանության հաստատություններում տարեց և (կամ) հաշմանդամություն ունեցող անձանց շուրջօրյա խնամքի տրամադրման ծառայություն
C22: Միջոցառման տեսակը
C23: Ծառայությունների մատուցում
A24: 1141 | C24: Ծրագրի անվանումը` | D24: =D31 -> -29418
C25: Ընտանիքներին, կանանց և երեխաներին աջակցություն
C26: Ծրագրի նպատակը`
C27: Կյանքի դժվարին իրավիճակում հայտնված ընտանիքների, կանանց և երեխաների հիմնական պահանջմունքների և սոցիալական կարիքների բավարարում և ինտեգրում հասարակություն
C28: Վերջնական արդյունքի նկարագրությունը`
C29: Ընտանիքներին, կանանց և երեխաներին մատուցվող սոցիալական ծառայությունների և դրանց հասցեականության բարելավում, կյանքի դժվարին իրավիճակում հայտնված ընտանիքների, կանանց և երեխաների ինտեգրում հասարկություն
A30: Ծրագրի միջոցառումներ
B31: 11018 | C31: Միջոցառման անվանումը` | D31: -29418
C32: Երեխաների խնամքի ցերեկային ծառայությունների տրամադրում
C33: Միջոցառման նկարագրությունը`
C34: Կյանքի դժվար. իրավիճ. հայտնված, հաշմանդ. ունեցող երեխ. ցերեկ. խնամքի ծառ. տրամադր.է, հասարակ. ներառելը՛ մատչելի սոց-հոգեբան., մանկավարժ. վերականգնող. ծառ. տրամադրման, կրթ. կարողութ. զարգացման, ինչպես նաև երեխ. շուրջօրյա հաստատ. մուտքի կանխարգ. միջոցով
C35: Միջոցառման տեսակը
C36: Ծառայությունների մատուցում

Sheet 2
G1: Հավելված N 2
F2: ՀՀ կառավարության 2023 թվականի
G3: " " " " N -Ն որոշման
A5: ՀԱՅԱՍՏԱՆԻ ՀԱՆՐԱՊԵՏՈՒԹՅԱՆ ԿԱՌԱՎԱՐՈՒԹՅԱՆ 2022 ԹՎԱԿԱՆԻ ԴԵԿՏԵՄԲԵՐԻ 29-Ի N 2111-Ն ՈՐՈՇՄԱՆ N N 3 ԵՎ 4 ՀԱՎԵԼՎԱԾՆԵՐՈՒՄ ԿԱՏԱՐՎՈՂ ՓՈՓՈԽՈՒԹՅՈՒՆՆԵՐԸ
G6: հազար դրամ
A7: Գործառական դասիչը | D7: Ծրագրային դասիչը | F7: Բյուջետային ծախսերի գործառական դասակարգման բաժինների, խմբերի և դասերի, բյուջետային ծրագրերի միջոցառումների, բյուջետային հատկացումների գլխավոր կարգադրիչների անվանումները | G7: ='1'!D7 -> Ցուցանիշների փոփոխությունները ավելացումները նշված են դրական նշանով, իսկ նվազեցումները՝ փակագծերում
A8: Բաժինը | B8: Խումբը | C8: Դասը | D8: Ծրագիր | E8: Միջոցառում | G8: տարի
F9: ԸՆԴԱՄԵՆԸ ԾԱԽՍԵՐ | G9: =G11 -> 0
F10: այդ թվում`
A11: 10 | F11: ՍՈՑԻԱԼԱԿԱՆ ՊԱՇՏՊԱՆՈՒԹՅՈՒՆ | G11: =G13+G31 -> 0
F12: այդ թվում`
B13: 02 | F13: Ծերություն | G13: =G15 -> 29418
F14: այդ թվում՝
C15: 01 | F15: Ծերություն | G15: =G17 -> 29418
F16: այդ թվում`
F17: ='[1]1'!C24 -> ՀՀ աշխատանքի և սոցիալական հարցերի նախարարություն | G17: =G19 -> 29418
F18: այդ թվում`
D19: 1032 | F19: ='1'!C12 -> Խնամքի ծառայություններ 18 տարեկանից բարձր տարիքի անձանց | G19: =G21 -> 29418
F20: այդ թվում`
E21: ='1'!B18 -> 11001 | F21: ='1'!C19 -> Տարեց և (կամ) հաշմանդամություն ունեցող անձանց շուրջօրյա խնամքի ծառայություններ | G21: =G23 -> 29418
F22: այդ թվում` ըստ կատարողների
F23: ՀՀ աշխատանքի և սոցիալական հարցերի նախարարություն | G23: =G25 -> 29418
F24: այդ թվում` բյուջետային ծախսերի տնտեսագիտական դասակարգման հոդվածներ
F25: ԸՆԴԱՄԵՆԸ ԾԱԽՍԵՐ | G25: =G26 -> 29418
F26: ԸՆԹԱՑԻԿ ԾԱԽՍԵՐ | G26: =G27 -> 29418
F27: ԴՐԱՄԱՇՆՈՐՀՆԵՐ | G27: =G28 -> 29418
F28: Ընթացիկ դրամաշնորհներ պետական հատվածի այլ մակարդակներին | G28: =G29 -> 29418
F29: - Ընթացիկ դրամաշնորհներ պետական և համայնքային ոչ առևտրային կազմակերպություններին | G29: ='1'!D19 -> 29418
F30: այդ թվում՝
B31: 04 | F31: Ընտանիքի անդամներ և զավակներ | G31: =G33 -> -29418
F32: այդ թվում՝
C33: 01 | F33: Ընտանիքի անդամներ և զավակներ | G33: =G37 -> -29418
F34: այդ թվում՝
F35: ՀՀ աշխատանքի և սոցիալական հարցերի նախարարություն
F36: այդ թվում՝
D37: 1141 | F37: ='1'!C25 -> Ընտանիքներին, կանանց և երեխաներին աջակցություն | G37: =G39 -> -29418
F38: այդ թվում՝
E39: 11018 | F39: ='1'!C32 -> Երեխաների խնամքի ցերեկային ծառայությունների տրամադրում | G39: =G41 -> -29418
F40: այդ թվում` ըստ կատարողների
F41: ՀՀ աշխատանքի և սոցիալական հարցերի նախարարություն | G41: =G43 -> -29418
...

Sheet 3
H1: Հավելված N 3
H2: ՀՀ կառավարության 2023 թվականի
H3: " " " " N -Ն որոշման
B5: ՀԱՅԱՍՏԱՆԻ ՀԱՆՐԱՊԵՏՈՒԹՅԱՆ ԿԱՌԱՎԱՐՈՒԹՅԱՆ 2022 ԹՎԱԿԱՆԻ ԴԵԿՏԵՄԲԵՐԻ 29-Ի N 2111-Ն ՈՐՈՇՄԱՆ N 5 ՀԱՎԵԼՎԱԾԻ N 7 ԱՂՅՈՒՍԱԿՈՒՄ ԿԱՏԱՐՎՈՂ ՓՈՓՈԽՈՒԹՅՈՒՆՆԵՐԸ
H6: (հազար դրամ)
B7: Ծրագրային դասիչ | D7: Բյուջետային գլխավոր կարգադրիչների, ծրագրերի, միջոցառումների, միջոցառումները կատարող պետական մարմինների և ուղղությունների անվանումները | G7: Միջոցառումները կատարող պետական մարմինների և դրամաշնորհ ստացող տնտեսավարող սուբյեկտների անվանումները | H7: Ցուցանիշների փոփոխությունները ավելացումները նշված են դրական նշանով, իսկ նվազեցումները՝ փակագծերում
B8: Ծրագիր | C8: Միջոցառում | H8: Տարի
B10: 1 | C10: 2 | D10: 3 | G10: 4 | H10: 5
B11: ՀՀ աշխատանքի և սոցիալական հարցերի նախարարություն | H11: =H12+H18 -> 0
B12: 1032 | C12: Խնամքի ծառայություններ 18 տարեկանից բարձր տարիքի անձանց | H12: =H13 -> 29418
C13: 11001 | D13: Տարեցների և հաշմանդամություն ունեցող 18 տարին լրացած անձանց շուրջօրյա խնամքի ծառայություններ | G13: ՀՀ աշխատանքի և սոցիալական հարցերի նախարարություն | H13: =H14+H15+H17+H16 -> 29418
G14: «Երևանի թիվ 1 տուն-ինտերնատ» ՊՈԱԿ | H14: 17840.3
G15: «Նորքի տուն-ինտերնատ» ՊՈԱԿ | H15: 9713.7
G16: «Ձորակ» հոգեկան առողջության խնդիրներ ունեցող անձանց խնամքի կենտրոն» ՊՈԱԿ | H16: 932
G17: «Վարդենիսի նյարդահոգեբանական տուն-ինտերնատ» ՊՈԱԿ | H17: 932
B18: 1141 | C18: Ընտանիքներին, կանանց և երեխաներին աջակցություն | H18: =H19 -> -29418
C19: 11018 | D19: Երեխաների խնամքի ցերեկային ծառայությունների տրամադրում | G19: ՀՀ աշխատանքի և սոցիալական հարցերի նախարարություն | H19: =H20 -> -29418
G20: Մրցույթով ընտրված կազմակերպություն | H20: ='1'!D31 -> -29418

Sheet 4
C1: Հավելված N 4
C2: ՀՀ կառավարության 2023 թվականի
C3: " " " " N -Ն որոշման
A4: ՀԱՅԱՍՏԱՆԻ ՀԱՆՐԱՊԵՏՈՒԹՅԱՆ ԿԱՌԱՎԱՐՈՒԹՅԱՆ 2020 ԹՎԱԿԱՆԻ ԴԵԿՏԵՄԲԵՐԻ 30-Ի N 2215-Ն ՈՐՈՇՄԱՆ N 9 ՀԱՎԵԼՎԱԾԻ N 9.1.20 ԱՂՅՈՒՍԱԿՈՒՄ ԿԱՏԱՐՎՈՂ ՓՈՓՈԽՈՒԹՅՈՒՆՆԵՐԸ
A5: ՀԱՅԱՍՏԱՆԻ ՀԱՆՐԱՊԵՏՈՒԹՅԱՆ ԿԱՌԱՎԱՐՈՒԹՅԱՆ 2022 ԹՎԱԿԱՆԻ ԴԵԿՏԵՄԲԵՐԻ 29-Ի N 2111-Ն ՈՐՈՇՄԱՆ N 9 ՀԱՎԵԼՎԱԾԻ N 9.15 ԱՂՅՈՒՍԱԿՈՒՄ ԿԱՏԱՐՎՈՂ ՓՈՓՈԽՈՒԹՅՈՒՆՆԵՐԸ
A7: ՄԱՍ 2. ՊԵՏԱԿԱՆ ՄԱՐՄՆԻ ԳԾՈՎ ԱՐԴՅՈՒՆՔԱՅԻՆ (ԿԱՏԱՐՈՂԱԿԱՆ) ՑՈՒՑԱՆԻՇՆԵՐԸ
A9: Հայաստանի Հանրապետության աշխատանքի և սոցիալական հարցերի նախարարություն
A11: Ծրագրի դասիչը | B11: Ծրագրի անվանումը
A12: ='1'!A11 -> 1032 | B12: ='1'!C12 -> Խնամքի ծառայություններ 18 տարեկանից բարձր տարիքի անձանց
A13: Ծրագրի միջոցառումներ
A15: Ծրագրի դասիչը` | B15: 1032 | C15: Ցուցանիշների փոփոխությունները ավելացումները նշված են դրական նշանով
A16: Միջոցառման դասիչը` | B16: 11001 | C16: Տարի
A17: Միջոցառման անվանումը` | B17: Տարեց և (կամ) հաշմանդամություն ունեցող անձանց շուրջօրյա խնամքի ծառայություններ
A18: Նկարագրությունը` | B18: Բնակչության սոցիալական պաշտպանության հաստատություններում տարեց և (կամ) հաշմանդամություն ունեցող անձանց շուրջօրյա խնամքի տրամադրման ծառայություն
A19: Միջոցառման տեսակը` | B19: Ծառայությունների մատուցում
A20: Միջոցառումն իրականացնողի անվանումը | B20: Մասնագիտացված կազմակերպություններ
A21: Արդյունքի չափորոշիչներ
A22: Շուրջօրյա խնամքի տրամադրման ծառայություն ստացող տարեց և (կամ) հաշմանդամություն ունեցող անձանց (շահառուների) թիվ, մարդ, | C22: =71+60 -> 131
A23: Միջոցառման վրա կատարվող ծախսը (հազար դրամ) | C23: ='1'!D19 -> 29418
A25: Ծրագրի դասիչը | B25: Ծրագրի անվանումը
A26: 1141 | B26: ='1'!C23 -> Ծառայությունների մատուցում
A27: Ծրագրի միջոցառումները
A29: Ծրագրի դասիչը` | B29: 1141 | C29: Ցուցանիշների փոփոխությունները նվազեցումները նշված են փակագծերում
A30: Միջոցառման դասիչը` | B30: 11018 | C30: տարի
A31: Միջոցառման անվանումը` | B31: Երեխաների խնամքի ցերեկային ծառայությունների տրամադրում
A32: Նկարագրությունը` | B32: Կյանքի դժվար. իրավիճ. հայտնված, հաշմանդ. ունեցող երեխ. ցերեկ. խնամքի ծառ. տրամադր.է, հասարակ. ներառելը՛ մատչելի սոց-հոգեբան., մանկավարժ. վերականգնող. ծառ. տրամադրման, կրթ. կարողութ. զարգացման, ինչպես նաև երեխ. շուրջօրյա հաստատ. մուտքի կանխարգ. միջոցով
A33: Միջոցառման տեսակը` | B33: Ծառայությունների մատուցում
A34: Միջոցառումն իրականացնողի անվանումը? | B34: Մրցույթի արդյունքում ընտրված հավաստագրված հասարակական կազմակերպություն
A35: Արդյունքի չափորոշիչներ
A36: Շահառուների թիվ | C36: -207
A37: Միջոցառման վրա կատարվող ծախսը (հազար դրամ) | C37: ='1'!D31 -> -29418

Sheet 5
C1: Հավելված N 5
C2: ՀՀ կառավարության 2023 թվականի
C3: " " " " N -Ն որոշման
A4: ՀԱՅԱՍՏԱՆԻ ՀԱՆՐԱՊԵՏՈՒԹՅԱՆ ԿԱՌԱՎԱՐՈՒԹՅԱՆ 2020 ԹՎԱԿԱՆԻ ԴԵԿՏԵՄԲԵՐԻ 30-Ի N 2215-Ն ՈՐՈՇՄԱՆ N 9 ՀԱՎԵԼՎԱԾԻ N 9.1.20 ԱՂՅՈՒՍԱԿՈՒՄ ԿԱՏԱՐՎՈՂ ՓՈՓՈԽՈՒԹՅՈՒՆՆԵՐԸ
A5: ՀԱՅԱՍՏԱՆԻ ՀԱՆՐԱՊԵՏՈՒԹՅԱՆ ԿԱՌԱՎԱՐՈՒԹՅԱՆ 2022 ԹՎԱԿԱՆԻ ԴԵԿՏԵՄԲԵՐԻ 29-Ի N 2111-Ն ՈՐՈՇՄԱՆ N 9.1 ՀԱՎԵԼՎԱԾԻ N 9.1.15 ԱՂՅՈՒՍԱԿՈՒՄ ԿԱՏԱՐՎՈՂ ՓՈՓՈԽՈՒԹՅՈՒՆՆԵՐԸ
A7: ՄԱՍ 1. ՊԵՏԱԿԱՆ ՄԱՐՄՆԻ ԳԾՈՎ ԱՐԴՅՈՒՆՔԱՅԻՆ (ԿԱՏԱՐՈՂԱԿԱՆ) ՑՈՒՑԱՆԻՇՆԵՐԸ
A9: Հայաստանի Հանրապետության աշխատանքի և սոցիալական հարցերի նախարարություն
A11: Ծրագրի դասիչը | B11: Ծրագրի անվանումը
A12: ='1'!A11 -> 1032 | B12: ='1'!C12 -> Խնամքի ծառայություններ 18 տարեկանից բարձր տարիքի անձանց
A13: Ծրագրի միջոցառումներ
A14: ='4'!A15 -> Ծրագրի դասիչը` | B14: ='4'!B15 -> 1032 | C14: Ցուցանիշների փոփոխությունները ավելացումները նշված են դրական նշանով
A15: ='4'!A16 -> Միջոցառման դասիչը` | B15: ='4'!B16 -> 11001 | C15: Տարի
A16: ='4'!A17 -> Միջոցառման անվանումը` | B16: ='4'!B17 -> Տարեց և (կամ) հաշմանդամություն ունեցող անձանց շուրջօրյա խնամքի ծառայություններ
A17: ='4'!A18 -> Նկարագրությունը` | B17: ='4'!B18 -> Բնակչության սոցիալական պաշտպանության հաստատություններում տարեց և (կամ) հաշմանդամություն ունեցող անձանց շուրջօրյա խնամքի տրամադրման ծառայություն
A18: ='4'!A19 -> Միջոցառման տեսակը` | B18: ='4'!B19 -> Ծառայությունների մատուցում
A19: ='4'!A20 -> Միջոցառումն իրականացնողի անվանումը | B19: ='4'!B20 -> Մասնագիտացված կազմակերպություններ
A20: ='4'!A21 -> Արդյունքի չափորոշիչներ
A21: ='4'!A22 -> Շուրջօրյա խնամքի տրամադրման ծառայություն ստացող տարեց և (կամ) հաշմանդամություն ունեցող անձանց (շահառուների) թիվ, մարդ, | C21: ='4'!C22 -> 131
A22: ='4'!A23 -> Միջոցառման վրա կատարվող ծախսը (հազար դրամ) | C22: ='4'!C23 -> 29418
A25: Ծրագրի դասիչը | B25: Ծրագրի անվանումը
A26: 1141 | B26: ='1'!C25 -> Ընտանիքներին, կանանց և երեխաներին աջակցություն
A27: Ծրագրի միջոցառումները
A29: Ծրագրի դասիչը` | B29: 1141 | C29: Ցուցանիշների փոփոխությունները նվազեցումները նշված են փակագծերում
A30: Միջոցառման դասիչը` | B30: 11018 | C30: տարի
A31: Միջոցառման անվանումը` | B31: Երեխաների խնամքի ցերեկային ծառայությունների տրամադրում
A32: Նկարագրությունը` | B32: Կյանքի դժվար. իրավիճ. հայտնված, հաշմանդ. ունեցող երեխ. ցերեկ. խնամքի ծառ. տրամադր.է, հասարակ. ներառելը՛ մատչելի սոց-հոգեբան., մանկավարժ. վերականգնող. ծառ. տրամադրման, կրթ. կարողութ. զարգացման, ինչպես նաև երեխ. շուրջօրյա հաստատ. մուտքի կանխարգ. միջոցով
A33: Միջոցառման տեսակը` | B33: Ծառայությունների մատուցում
A34: Միջոցառումն իրականացնողի անվանումը? | B34: Մրցույթի արդյունքում ընտրված հավաստագրված հասարակական կազմակերպություն
A35: Արդյունքի չափորոշիչներ
A36: Շահառուների թիվ | C36: ='4'!C36 -> -207
A37: Միջոցառման վրա կատարվող ծախսը (հազար դրամ) | C37: ='1'!D31 -> -29418
