Workbook
Name __tab10: #REF!
Name __tab11: #REF!
Name __tab12: #REF!
Name __tab13: #REF!
Name __tab14: #REF!
Name __tab15: #REF!
Name __tab16: #REF!
Name __tab17: #REF!
Name __tab18: #REF!
Name __tab19: #REF!
Name __tab20: #REF!
Name __tab21: #REF!
Name __tab22: #REF!
Name __tab23: #REF!
Name __tab24: #REF!
Name __tab5: #REF!
Name __tab6: #REF!
Name __tab7: #REF!
Name __tab8: #REF!
Name __tab9: #REF!
Name _tab10: #REF!
Name _tab10: #REF!
Name _tab11: #REF!
Name _tab11: #REF!
Name _tab12: #REF!
Name _tab12: #REF!
Name _tab13: #REF!
Name _tab13: #REF!
Name _tab14: #REF!
Name _tab14: #REF!
Name _tab15: #REF!
Name _tab15: #REF!
Name _tab16: #REF!
Name _tab16: #REF!
Name _tab17: #REF!
Name _tab17: #REF!
Name _tab18: #REF!
Name _tab18: #REF!
Name _tab19: #REF!
Name _tab19: #REF!
Name _tab20: #REF!
Name _tab20: #REF!
Name _tab21: #REF!
Name _tab21: #REF!
Name _tab22: #REF!
Name _tab22: #REF!
Name _tab23: #REF!
Name _tab23: #REF!
Name _tab24: #REF!
Name _tab24: #REF!
Name _tab5: #REF!
Name _tab5: #REF!
Name _tab6: #REF!
Name _tab6: #REF!
Name _tab7: #REF!
Name _tab7: #REF!
Name _tab8: #REF!
Name _tab8: #REF!
Name _tab9: #REF!
Name _tab9: #REF!

Sheet 1.
D1: Հավելված N 1
C2: ՀՀ կառավարության 2023 թվականի
C3: -----------------ի N -----------Ն որոշման
A5: ՀԱՅԱՍՏԱՆԻ ՀԱՆՐԱՊԵՏՈՒԹՅԱՆ 2023 ԹՎԱԿԱՆԻ ՊԵՏԱԿԱՆ ԲՅՈՒՋԵԻ ՄԱՍԻՆ» ՕՐԵՆՔԻ N 1 ՀԱՎԵԼՎԱԾԻ N 2 ԱՂՅՈՒՍԱԿՈՒՄ ԿԱՏԱՐՎՈՂ ՎԵՐԱԲԱՇԽՈՒՄԸ, ՀԱՅԱՍՏԱՆԻ ՀԱՆՐԱՊԵՏՈՒԹՅԱՆ ԿԱՌԱՎԱՐՈՒԹՅԱՆ 2022 ԹՎԱԿԱՆԻ ԴԵԿՏԵՄԲԵՐԻ 29-Ի N 2111-Ն ՈՐՈՇՄԱՆ N 5 ՀԱՎԵԼՎԱԾԻ N 1 ԱՂՅՈՒՍԱԿՈՒՄ ԿԱՏԱՐՎՈՂ ՓՈՓՈԽՈՒԹՅՈՒՆՆԵՐԸ ԵՎ ԼՐԱՑՈՒՄՆԵՐԸ
D6: (հազար դրամ)
A7: Ծրագրային դասիչը | C7: Բյուջետային հատկացումների գլխավոր կարգադրիչների, ծրագրերի և միջոցառումների անվանումները | D7: Ցուցանիշների փոփոխությունները ավելացումները նշված են դրական նշանով, իսկ նվազեցումը՝ փակագծերում
A8: Ծրագիր | B8: Միջոցառում | D8: Տարի
C9: ԸՆԴԱՄԵՆԸ | D9: =D10 -> 0
C10: ՀՀ աշխատանքի և սոցիալական հարցերի նախարարություն | D10: =D11+D43+D30 -> 0
A11: 1011 | C11: Ծրագրի անվանումը` | D11: =D24+D18 -> -11320
C12: Անապահով սոցիալական խմբերին աջակցություն
C13: Ծրագրի նպատակը`
C14: Օժանդակել անապահով ընտանիքների կենսամակարդակի բարձրացմանը
C15: Վերջնական արդյունքի նկարագրությունը`
C16: Աղքատության մեղմում և ծայրահեղ աղքատության կրճատում
A17: Ծրագրի միջոցառումներ
B18: 11001 | C18: Միջոցառման անվանումը` | D18: =-12920 -> -12920
C19: Ընտանիքի կենսամակարդակի բարձրացմանն ուղղված նպաստների իրականացման ապահովում
C20: Միջոցառման նկարագրությունը`
C21: Ընտանիքների անապահովության գնահատման համակարգում հաշվառված, ընդգրկված անապահով ճանաչված ընտանիքներին նպաստի, սոցիալական նպաստի և հրատապ օգնության վճարման ծառայությունների ձեռքբերում
C22: Միջոցառման տեսակը
C23: Ծառայությունների մատուցում
B24: 11007 | C24: Միջոցառման անվանումը` | D24: 1600
C25: Սոցիալական բնակարանային ֆոնդի սպասարկման ծառայությունների տրամադրում
C26: Միջոցառման նկարագրությունը`
C27: Սոցբնակ. ֆոնդի շենք. բնակ. իրավունք ունեցող անձանց սոցաջակց. ծրագր. շրջանակ. օրենսդր. սահմանվ. ծառ. մատուցում բազմաբն. սոց.բնակ. ֆոնդի շենքերի պահպան., տեխ. սպասարկ. և սոցաջակց. ծրագր. նախատեսվ. բնաիր. օգնութ. պահպան. և բաշխման աշխատ. կազմում
C28: Միջոցառման տեսակը
C29: Ծառայությունների մատուցում
A30: 1141 | C30: Ծրագրի անվանումը` | D30: =D37 -> -1600
C31: Ընտանիքներին, կանանց և երեխաներին աջակցություն
C32: Ծրագրի նպատակը`
C33: Կյանքի դժվարին իրավիճակում հայտնված ընտանիքների, կանանց և երեխաների հիմնական պահանջմունքների և սոցիալական կարիքների բավարարում և ինտեգրում հասարակություն
C34: Վերջնական արդյունքի նկարագրությունը`
C35: Ընտանիքներին, կանանց և երեխաներին մատուցվող սոցիալական ծառայությունների և դրանց հասցեականության բարելավում, կյանքի դժվարին իրավիճակում հայտնված ընտանիքների, կանանց և երեխաների ինտեգրում հասարկություն
A36: Ծրագրի միջոցառումներ
B37: 11018 | C37: Միջոցառման անվանումը` | D37: -1600
C38: Երեխաների խնամքի ցերեկային ծառայությունների տրամադրում
C39: Միջոցառման նկարագրությունը`
C40: Կյանքի դժվար. իրավիճ. հայտնված, հաշմանդ. ունեցող երեխ. ցերեկ. խնամքի ծառ. տրամադր.է, հասարակ. ներառելը՛ մատչելի սոց-հոգեբան., մանկավարժ. վերականգնող. ծառ. տրամադրման, կրթ. կարողութ. զարգացման, ինչպես նաև երեխ. շուրջօրյա հաստատ. մուտքի կանխարգ. միջոցով
C41: Միջոցառման տեսակը
...

Sheet 2.
G1: Հավելված N 2
F2: ՀՀ կառավարության 2023 թվականի
F3: -----------------ի N -----------Ն որոշման
A5: ՀԱՅԱՍՏԱՆԻ ՀԱՆՐԱՊԵՏՈՒԹՅԱՆ ԿԱՌԱՎԱՐՈՒԹՅԱՆ 2022 ԹՎԱԿԱՆԻ ԴԵԿՏԵՄԲԵՐԻ 29-Ի N 2111-Ն ՈՐՈՇՄԱՆ N 3 ԵՎ N 4 ՀԱՎԵԼՎԱԾՆԵՐՈՒՄ ԿԱՏԱՐՎՈՂ ՓՈՓՈԽՈՒԹՅՈՒՆՆԵՐԸ ԵՎ ԼՐԱՑՈՒՄՆԵՐԸ
G6: (հազար դրամ)
A7: Գործառական դասիչը | D7: Ծրագրային դասիչը | F7: Բյուջետային ծախսերի գործառական դասակարգման բաժինների, խմբերի և դասերի, բյուջետային ծրագրերի միջոցառումների, բյուջետային հատկացումների գլխավոր կարգադրիչների անվանումները | G7: Ցուցանիշների փոփոխությունները ավելացումները նշված են դրական նշանով, իսկ նվազեցումը՝ փակագծերում
A8: Բաժինը | B8: Խումբը | C8: Դասը | D8: Ծրագիր | E8: Միջոցառում | G8: Տարի
F9: ԸՆԴԱՄԵՆԸ ԾԱԽՍԵՐ | G9: =G13 -> 0
F10: այդ թվում`
F11: ՀՀ աշխատանքի և սոցիալական հարցերի նախարարություն | G11: =SUM(G13) -> 0
F12: այդ թվում`
A13: 10 | F13: ՍՈՑԻԱԼԱԿԱՆ ՊԱՇՏՊԱՆՈՒԹՅՈՒՆ | G13: =G15+G43+G60 -> 0
F14: այդ թվում`
B15: 09 | F15: Սոցիալական պաշտպանություն (այլ դասերին չպատկանող) | G15: =G17 -> 0
F16: այդ թվում`
C17: 02 | F17: Սոցիալական պաշտպանությանը տրամադրվող օժանդակ ծառայություններ (այլ դասերին չպատկանող) | G17: =G19 -> 0
F18: այդ թվում`
F19: ՀՀ աշխատանքի և սոցիալական հարցերի նախարարություն | G19: =G21+G32 -> 0
F20: այդ թվում`
D21: 1205 | F21: Սոցիալական ապահովություն | G21: =+G31 -> 12920
F22: այդ թվում`
E23: 12024 | F23: ='1.'!C51 -> ՀՀ Սյունիքի մարզի Շուռնուխ և Որոտան բնակավայրերում գտնվող և Ադրբեջանի վերահսկողության տակ անցած բնակելի անշարժ գույքի հասցեում հաշվառված կամ այդ հասցեում փաստացի բնակված, սակայն նույն բնակավայրի այլ հասցեում հաշվառված քաղաքացիներին դրամական աջակցություն | G23: =+G25 -> 12920
F24: այդ թվում` ըստ կատարողների
F25: ՀՀ աշխատանքի և սոցիալական հարցերի նախարարության միասնական սոցիալական ծառայություն | G25: =+G27 -> 12920
F26: այդ թվում` բյուջետային ծախսերի տնտեսագիտական դասակարգման հոդվածներ | G26: =+G28 -> 12920
F27: ԸՆԴԱՄԵՆԸ ԾԱԽՍԵՐ | G27: =+G28 -> 12920
F28: ԸՆԹԱՑԻԿ ԾԱԽՍԵՐ | G28: =+G29 -> 12920
F29: ՍՈՑԻԱԼԱԿԱՆ ՆՊԱՍՏՆԵՐ ԵՎ ԿԵՆՍԱԹՈՇԱԿՆԵՐ | G29: =+G30 -> 12920
F30: Սոցիալական օգնության դրամական արտահայտությամբ նպաստներ (բյուջեից) | G30: =+G31 -> 12920
F31: - Այլ նպաստներ բյուջեից | G31: =SUM('1.'!D50) -> 12920
D32: 1011 | F32: Անապահով սոցիալական խմբերին աջակցություն | G32: =+G34 -> -12920
F33: այդ թվում`
E34: 11001 | F34: Ընտանիքի կենսամակարդակի բարձրացմանն ուղղված նպաստների իրականացման ապահովում | G34: =+G36 -> -12920
F35: այդ թվում` ըստ կատարողների
F36: ՀՀ աշխատանքի և սոցիալական հարցերի նախարարության միասնական սոցիալական ծառայություն | G36: =+G38 -> -12920
F37: այդ թվում` բյուջետային ծախսերի տնտեսագիտական դասակարգման հոդվածներ
F38: ԸՆԴԱՄԵՆԸ ԾԱԽՍԵՐ | G38: =+G39 -> -12920
F39: ԸՆԹԱՑԻԿ ԾԱԽՍԵՐ | G39: =+G40 -> -12920
F40: ԾԱՌԱՅՈՒԹՅՈՒՆՆԵՐԻ ԵՎ ԱՊՐԱՆՔՆԵՐԻ ՁԵՌՔԲԵՐՈՒՄ | G40: =+G41 -> -12920
F41: Շարունակական ծախսեր | G41: =+G42 -> -12920
...

Sheet 3
H1: Հավելված N 3
H2: ՀՀ կառավարության 2023 թվականի
H3: -----------------ի N -----------Ն որոշման
B5: ՀԱՅԱՍՏԱՆԻ ՀԱՆՐԱՊԵՏՈՒԹՅԱՆ ԿԱՌԱՎԱՐՈՒԹՅԱՆ 2022 ԹՎԱԿԱՆԻ ԴԵԿՏԵՄԲԵՐԻ 29-Ի N 2111-Ն ՈՐՈՇՄԱՆ N 5 ՀԱՎԵԼՎԱԾԻ N 7 ԱՂՅՈՒՍԱԿՈՒՄ ԿԱՏԱՐՎՈՂ ՓՈՓՈԽՈՒԹՅՈՒՆՆԵՐԸ
H6: (հազար դրամ)
B7: Ծրագրային դասիչ | D7: Բյուջետային գլխավոր կարգադրիչների, ծրագրերի, միջոցառումների, միջոցառումները կատարող պետական մարմինների և ուղղությունների անվանումները | G7: Միջոցառումները կատարող պետական մարմինների և դրամաշնորհ ստացող տնտեսավարող սուբյեկտների անվանումները | H7: Ցուցանիշների փոփոխությունները ավելացումները նշված են դրական նշանով, իսկ նվազեցումները՝ փակագծերում
B8: Ծրագիր | C8: Միջոցառում | H8: Տարի
B10: 1 | C10: 2 | D10: 3 | G10: 4 | H10: 5
B11: ՀՀ աշխատանքի և սոցիալական հարցերի նախարարություն | H11: =H12+H15 -> 0
B12: 1011 | C12: ='1.'!C12 -> Անապահով սոցիալական խմբերին աջակցություն | H12: =H13 -> 1600
C13: 11007 | D13: ='1.'!C25 -> Սոցիալական բնակարանային ֆոնդի սպասարկման ծառայությունների տրամադրում | G13: ՀՀ աշխատանքի և սոցիալական հարցերի նախարարություն | H13: =H14 -> 1600
G14: «Երևանի թիվ 1 տուն-ինտերնատ» ՊՈԱԿ | H14: ='1.'!D24 -> 1600
B15: 1141 | C15: Ընտանիքներին, կանանց և երեխաներին աջակցություն | H15: =H16+H22+H26+H33+H35+H37+H39 -> -1600
C16: 11018 | D16: Երեխաների խնամքի ցերեկային ծառայությունների տրամադրում | G16: ՀՀ աշխատանքի և սոցիալական հարցերի նախարարություն | H16: =H17 -> -1600
G17: Մրցույթով ընտրված կազմակերպություն | H17: ='1.'!D30 -> -1600

Sheet 4
C1: Հավելված N 4
C2: ՀՀ կառավարության 2023 թվականի
C3: -----------------ի N -----------Ն որոշման
A5: ՀԱՅԱՍՏԱՆԻ ՀԱՆՐԱՊԵՏՈՒԹՅԱՆ ԿԱՌԱՎԱՐՈՒԹՅԱՆ 2022 ԹՎԱԿԱՆԻ ԴԵԿՏԵՄԲԵՐԻ 29-Ի N 2111-Ն ՈՐՈՇՄԱՆ N 9 ՀԱՎԵԼՎԱԾԻ N 9.15 ԱՂՅՈՒՍԱԿՈՒՄ ԿԱՏԱՐՎՈՂ ՓՈՓՈԽՈՒԹՅՈՒՆՆԵՐԸ ԵՎ ԼՐԱՑՈՒՄՆԵՐԸ
A6: Հայաստանի Հանրապետության աշխատանքի և սոցիալական հարցերի նախարարություն
A7: ՄԱՍ 2. ՊԵՏԱԿԱՆ ՄԱՐՄՆԻ ԳԾՈՎ ԱՐԴՅՈՒՆՔԱՅԻՆ (ԿԱՏԱՐՈՂԱԿԱՆ) ՑՈՒՑԱՆԻՇՆԵՐԸ
A9: Ծրագրի դասիչը | B9: Ծրագրի անվանումը
A10: 1011 | B10: Անապահով սոցիալական խմբերին աջակցություն
D11: |
A12: Ծրագրի դասիչը` | B12: 1011 | C12: Ցուցանիշների փոփոխությունը (նվազեցումը նշված է փակագծերում)
A13: Միջոցառման դասիչը` | B13: 11001 | C13: Տարի
A14: Միջոցառման անվանումը` | B14: Ընտանիքի կենսամակարդակի բարձրացմանն ուղղված նպաստների իրականացման ապահովում
A15: Նկարագրությունը` | B15: Ընտանիքների անապահովության գնահատման համակարգում հաշվառված, ընդգրկված անապահով ճանաչված ընտանիքներին նպաստի, սոցիալական նպաստի և հրատապ օգնության վճարման ծառայությունների ձեռքբերում
A16: Միջոցառման տեսակը` | B16: Ծառայությունների մատուցում
A17: Միջոցառումն իրականացնողի անվանումը՝ | B17: «Գնումների մասին» ՀՀ օրենքի համաձայն ընտրված կազմակերպություն
A18: Արդյունքի չափորոշիչներ
A19: Միջոցառման վրա կատարվող ծախսը (հազար դրամ) | C19: ='1.'!D18 -> -12920
A23: Ծրագրի դասիչը` | B23: 1011 | C23: Ցուցանիշների փոփոխությունը (ավելացումը նշված է դրական նշանով)
A24: Միջոցառման դասիչը` | B24: 11007 | C24: Տարի
A25: Միջոցառման անվանումը` | B25: Սոցիալական բնակարանային ֆոնդի սպասարկման ծառայությունների տրամադրում
A26: Նկարագրությունը` | B26: Սոցբնակ. ֆոնդի շենք. բնակ. իրավունք ունեցող անձանց սոցաջակց. ծրագր. շրջանակ. օրենսդր. սահմանվ. ծառ. մատուցում բազմաբն. սոց.բնակ. ֆոնդի շենքերի պահպան., տեխ. սպասարկ. և սոցաջակց. ծրագր. նախատեսվ. բնաիր. օգնութ. պահպան. և բաշխման աշխատ. կազմում
A27: Միջոցառման տեսակը` | B27: Ծառայությունների մատուցում
A28: Միջոցառումն իրականացնողի անվանումը | B28: Մասնագիտացված կազմակերպություն
A29: Արդյունքի չափորոշիչներ
A30: Միջոցառման վրա կատարվող ծախսը (հազար դրամ) | C30: ='1.'!D24 -> 1600
A33: Ծրագրի դասիչը | B33: Ծրագրի անվանումը
A34: 1205 | B34: Սոցիալական ապահովություն
A35: Ծրագրի միջոցառումները
A37: Ծրագրի դասիչը` | B37: 1205 | C37: Ցուցանիշների փոփոխությունը (ավելացումը նշված է դրական նշանով)
A38: Միջոցառման դասիչը` | B38: 12024 | C38: Տարի
A39: Միջոցառման անվանումը` | B39: ='1.'!C51 -> ՀՀ Սյունիքի մարզի Շուռնուխ և Որոտան բնակավայրերում գտնվող և Ադրբեջանի վերահսկողության տակ անցած բնակելի անշարժ գույքի հասցեում հաշվառված կամ այդ հասցեում փաստացի բնակված, սակայն նույն բնակավայրի այլ հասցեում հաշվառված քաղաքացիներին դրամական աջակցություն
A40: Նկարագրությունը` | B40: ='1.'!C53 -> ՀՀ Սյունիքի մարզի Շուռնուխ և Որոտան բնակավայրերում գտնվող և Ադրբեջանի վերահսկողության տակ անցած բնակելի անշարժ գույքի հասցեում հաշվառված կամ այդ հասցեում փաստացի բնակված, սակայն նույն բնակավայրի այլ հասցեում հաշվառված քաղաքացիներին դրամական աջակցություն
A41: Միջոցառման տեսակը` | B41: Տրանսֆերտների տրամադրում
A42: Շահառուների ընտրության չափանիշները | B42: ՀՀ կառավարության 2021 թ․ փետրվարի 4-ի N 112-Լ որոշման պահանջներին համապատասխան
A43: Արդյունքի չափորոշիչներ
A44: Միջոցառման վրա կատարվող ծախսը (հազար դրամ) | C44: ='1.'!D50 -> 12920
A46: Ծրագրի դասիչը | B46: Ծրագրի անվանումը
A47: 1141 | B47: Ընտանիքներին, կանանց և երեխաներին աջակցություն
A49: Ծրագրի դասիչը` | B49: 1141 | C49: Ցուցանիշների փոփոխությունը (նվազեցումը նշված է փակագծերում)
A50: Միջոցառման դասիչը` | B50: 11018 | C50: Տարի
...

Sheet 5
C1: Հավելված N 5
C2: ՀՀ կառավարության 2023 թվականի
C3: -----------------ի N -----------Ն որոշման
A5: ՀԱՅԱՍՏԱՆԻ ՀԱՆՐԱՊԵՏՈՒԹՅԱՆ ԿԱՌԱՎԱՐՈՒԹՅԱՆ 2022 ԹՎԱԿԱՆԻ ԴԵԿՏԵՄԲԵՐԻ 29-Ի N 2111-Ն N 9.1 ՀԱՎԵԼՎԱԾԻ N 9.1.15 ԵՎ 9.1.19 ԱՂՅՈՒՍԱԿՈՒՄ ԿԱՏԱՐՎՈՂ ՓՈՓՈԽՈՒԹՅՈՒՆՆԵՐԸ ԵՎ ԼՐԱՑՈՒՄՆԵՐԸ
A6: Հայաստանի Հանրապետության աշխատանքի և սոցիալական հարցերի նախարարություն
A8: ՄԱՍ 1. ՊԵՏԱԿԱՆ ՄԱՐՄՆԻ ԳԾՈՎ ԱՐԴՅՈՒՆՔԱՅԻՆ (ԿԱՏԱՐՈՂԱԿԱՆ) ՑՈՒՑԱՆԻՇՆԵՐԸ
A10: Ծրագրի դասիչը | B10: Ծրագրի անվանումը
A11: 1011 | B11: Անապահով սոցիալական խմբերին աջակցություն
A14: Ծրագրի դասիչը` | B14: 1011 | C14: Ցուցանիշների փոփոխությունը (ավելացումը նշված է դրական նշանով)
A15: Միջոցառման դասիչը` | B15: 11007 | C15: Տարի
A16: Միջոցառման անվանումը` | B16: Սոցիալական բնակարանային ֆոնդի սպասարկման ծառայությունների տրամադրում
A17: Նկարագրությունը` | B17: Սոցբնակ. ֆոնդի շենք. բնակ. իրավունք ունեցող անձանց սոցաջակց. ծրագր. շրջանակ. օրենսդր. սահմանվ. ծառ. մատուցում բազմաբն. սոց.բնակ. ֆոնդի շենքերի պահպան., տեխ. սպասարկ. և սոցաջակց. ծրագր. նախատեսվ. բնաիր. օգնութ. պահպան. և բաշխման աշխատ. կազմում
A18: Միջոցառման տեսակը` | B18: Ծառայությունների մատուցում
A19: Միջոցառումն իրականացնողի անվանումը | B19: Մասնագիտացված կազմակերպություն
A20: Արդյունքի չափորոշիչներ
A21: Միջոցառման վրա կատարվող ծախսը (հազար դրամ) | C21: ='1.'!D24 -> 1600
A23: Ծրագրի դասիչը | B23: Ծրագրի անվանումը
A24: 1141 | B24: Ընտանիքներին, կանանց և երեխաներին աջակցություն
A26: Ծրագրի դասիչը` | B26: 1141 | C26: Ցուցանիշների փոփոխությունը (նվազեցումը նշված է փակագծերում)
A27: Միջոցառման դասիչը` | B27: 11018 | C27: Տարի
A28: Միջոցառման անվանումը` | B28: Երեխաների խնամքի ցերեկային ծառայությունների տրամադրում
A29: Նկարագրությունը` | B29: Կյանքի դժվար. իրավիճ. հայտնված, հաշմանդ. ունեցող երեխ. ցերեկ. խնամքի ծառ. տրամադր.է, հասարակ. ներառելը՛ մատչելի սոց-հոգեբան., մանկավարժ. վերականգնող. ծառ. տրամադրման, կրթ. կարողութ. զարգացման, ինչպես նաև երեխ. շուրջօրյա հաստատ. մուտքի կանխարգ. միջոցով
A30: Միջոցառման տեսակը` | B30: Ծառայությունների մատուցում
A31: Միջոցառումն իրականացնողի անվանումը? | B31: Մրցույթի արդյունքում ընտրված հավաստագրված հասարակական կազմակերպություն
A32: Արդյունքի չափորոշիչներ
A33: Միջոցառման վրա կատարվող ծախսը (հազար դրամ) | C33: ='1.'!D37 -> -1600
A35: ՀՀ աշխատանքի և սոցիալական հարցերի նախարարության միասնական սոցիալական ծառայություն
A37: Ծրագրի դասիչը | B37: Ծրագրի անվանումը
A38: 1205 | B38: Սոցիալական ապահովություն
A39: Ծրագրի միջոցառումները
A41: Ծրագրի դասիչը` | B41: 1205 | C41: Ցուցանիշների փոփոխությունը (ավելացումը նշված է դրական նշանով)
A42: Միջոցառման դասիչը` | B42: 12024 | C42: Տարի
A43: Միջոցառման անվանումը` | B43: ='1.'!C51 -> ՀՀ Սյունիքի մարզի Շուռնուխ և Որոտան բնակավայրերում գտնվող և Ադրբեջանի վերահսկողության տակ անցած բնակելի անշարժ գույքի հասցեում հաշվառված կամ այդ հասցեում փաստացի բնակված, սակայն նույն բնակավայրի այլ հասցեում հաշվառված քաղաքացիներին դրամական աջակցություն
A44: Նկարագրությունը` | B44: ='1.'!C53 -> ՀՀ Սյունիքի մարզի Շուռնուխ և Որոտան բնակավայրերում գտնվող և Ադրբեջանի վերահսկողության տակ անցած բնակելի անշարժ գույքի հասցեում հաշվառված կամ այդ հասցեում փաստացի բնակված, սակայն նույն բնակավայրի այլ հասցեում հաշվառված քաղաքացիներին դրամական աջակցություն
A45: Միջոցառման տեսակը` | B45: Տրանսֆերտների տրամադրում
A46: Շահառուների ընտրության չափանիշները | B46: ՀՀ կառավարության 2021 թ․ փետրվարի 4-ի N 112-Լ որոշման պահանջներին համապատասխան
A47: Արդյունքի չափորոշիչներ
A48: Միջոցառման վրա կատարվող ծախսը (հազար դրամ) | C48: ='1.'!D50 -> 12920
A50: Ծրագրի դասիչը | B50: Ծրագրի անվանումը
A51: 1011 | B51: Անապահով սոցիալական խմբերին աջակցություն
...

Sheet 6
I1: Հավելված N 6
I2: ՀՀ կառավարության 2022 թվականի
I3: -----------------ի N -----------Ն որոշման
A5: ՀԱՅԱՍՏԱՆԻ ՀԱՆՐԱՊԵՏՈՒԹՅԱՆ ԿԱՌԱՎԱՐՈՒԹՅԱՆ 2022 ԹՎԱԿԱՆԻ ԴԵԿՏԵՄԲԵՐԻ 29-Ի N 2111-Ն ՈՐՈՇՄԱՆ N 10 ՀԱՎԵԼՎԱԾՈՒՄ ԿԱՏԱՐՎՈՂ ՓՈՓՈԽՈՒԹՅՈՒՆԸ
A7: Գնման առարկայի | G7: Միավորի գինը ( դրամ) | H7: Ցուցանիշների փոփոխությունը (նվազեցումները նշված են փակագծերում)
A8: Կոդը | D8: Անվանումը | E8: Գնման ձևը | F8: Չափման միավորը | H8: Քանակը | I8: Գումարը (հազար դրամ)
A9: ՀՀ աշխատանքի և սոցիալական հարցերի նախարարության միասնական սոցիալական ծառայություն | I9: =I10 -> -12920
A10: Բաժին N 10 | B10: Խումբ N 09 | C10: Դաս N 02 | D10: ='2.'!F32 -> Անապահով սոցիալական խմբերին աջակցություն | I10: =+I11 -> -12920
A11: 1011 11001 | B11: =+'2.'!F34 -> Ընտանիքի կենսամակարդակի բարձրացմանն ուղղված նպաստների իրականացման ապահովում | I11: =I13 -> -12920
B12: ՄԱՍ III. ԾԱՌԱՅՈՒԹՅՈՒՆՆԵՐ
A13: 79571100-1 | B13: փոստային առաքման ծառայություններ | E13: ՄԱ | F13: դրամ | I13: =+'2.'!G34 -> -12920
