Workbook
Name AgencyCode: #REF!
Name AgencyCode: #REF!
Name AgencyName: #REF!
Name AgencyName: #REF!
Name davit: #REF!
Name davit: #REF!
Name Functional1: #REF!
Name Functional1: #REF!
Name ggg: #REF!
Name ggg: #REF!
Name PANature: #REF!
Name PANature: #REF!
Name PAType: #REF!
Name PAType: #REF!
Name Performance2: #REF!
Name Performance2: #REF!
Name PerformanceType: #REF!
Name PerformanceType: #REF!
Name Հավելված: #REF!
Name Հավելված: #REF!
Name Մաս: #REF!
Name Մաս: #REF!
Name շախմատիստ: #REF!
Name շախմատիստ: #REF!

Sheet h1
E1: Հավելված N 1
E2: ՀՀ կառավարության 2023 թվականի
E3: ______________ ի ___Ն որոշման
B5: «ՀԱՅԱՍՏԱՆԻ ՀԱՆՐԱՊԵՏՈՒԹՅԱՆ 2023 ԹՎԱԿԱՆԻ ՊԵՏԱԿԱՆ ԲՅՈՒՋԵԻ ՄԱՍԻՆ» ՕՐԵՆՔԻ N 1 ՀԱՎԵԼՎԱԾԻ N 2 ԱՂՅՈՒՍԱԿՈՒՄ ՎԵՐԱԲԱՇԽՈՒՄ ԵՎ ՀԱՅԱՍՏԱՆԻ ՀԱՆՐԱՊԵՏՈՒԹՅԱՆ ԿԱՌԱՎԱՐՈՒԹՅԱՆ 2022 ԹՎԱԿԱՆԻ ԴԵԿՏԵՄԲԵՐԻ 29-Ի N 2111-Ն ՈՐՈՇՄԱՆ N 5 ՀԱՎԵԼՎԱԾԻ N 1 ԱՂՅՈՒՍԱԿՈՒՄ ԿԱՏԱՐՎՈՂ ՓՈՓՈԽՈՒԹՅՈՒՆՆԵՐԸ ԵՎ ԼՐԱՑՈՒՄՆԵՐԸ
B8: Ծրագրային դասիչը | D8: Բյուջետային հատկացումների գլխավոր կարգադրիչների, ծրագրերի և միջոցառումների անվանումները | E8: Ցուցանիշների փոփոխությունը (ավելացումները նշված են դրական նշանով, իսկ նվազեցումները` փակագծերում)
B9: Ծրագիր | C9: Միջոցառում | E9: Տարի
D10: ԸՆԴԱՄԵՆԸ | E10: =E11 -> 0
D11: ՀՀ տարածքային կառավարման և ենթակառուցվածքների նախարարություն | E11: =E12 -> 0
B12: 1049 | D12: Ծրագրի անվանումը` | E12: =E18+E24 -> 0
D13: Ճանապարհային ցանցի բարելավում
D14: Ծրագրի նպատակը`
D15: Ճանապարհային ցանցի բարելավում և անվտանգ երթևեկության ապահովում
D16: Վերջնական արդյունքի նկարագրությունը`
D17: Ճանապարհների ծածկի որակի և փոխադրումների արդյունավետության բարելավում, ճանապարհների վիճակով պայմանավորված պատահարների նվազում
C18: 11002 | D18: Միջոցառման անվանումը` | E18: -4746
D19: Մարզային նշանակության ավտոճանապարհների պահպանման և անվտանգ երթևեկության ծառայություններ
D20: Միջոցառման նկարագրությունը`
D21: Հողային պաստառի, երթևեկելի մասի, արհեստական կառույցների և կահավորման տարրերի նորմատիվ մակարդակում պահպանում և շահագործում
D22: Միջոցառման տեսակը
D23: Ծառայությունների մատուցում
C24: 21001 | D24: Միջոցառման անվանումը` | E24: =-E18 -> 4746
D25: Պետական նշանակության ավտոճանապարհների հիմնանորոգում
D26: Միջոցառման նկարագրությունը`
D27: Միջպետական, հանրապետական և մարզային նշանակության ավտոճոնապարհների քայքայված ծածկի վերանորոգում, մաշված ծածկի փոխարինում
D28: Միջոցառման տեսակը
D29: Հանրության կողմից անմիջականորեն օգտագործվող ակտիվների հետ կապված միջոցառումներ

Sheet h2
A1: Հավելված N2
A2: ՀՀ կառավարության 2023 թվականի
A3: ______________ ի ___Ն որոշման
A5: «ՀԱՅԱՍՏԱՆԻ ՀԱՆՐԱՊԵՏՈՒԹՅԱՆ 2023 ԹՎԱԿԱՆԻ ՊԵՏԱԿԱՆ ԲՅՈՒՋԵԻ ՄԱՍԻՆ» ՀԱՅԱՍՏԱՆԻ ՀԱՆՐԱՊԵՏՈՒԹՅԱՆ ՕՐԵՆՔԻ N 1 ՀԱՎԵԼՎԱԾԻ N 3 ԱՂՅՈՒՍԱԿՈՒՄ ԿԱՏԱՐՎՈՂ ԼՐԱՑՈՒՄԸ
G6: հազար դրամներով
A7: Ծրագրային դասիչ | C7: Բյուջետային գլխավոր կարգադրիչների, ծրագրերի, միջոցառումների և ուղղությունների անվանումները | D7: Ցուցանիշների փոփոխությունը (ավելացումները նշված են դրական նշանով, իսկ նվազեցումները` փակագծերում)
D8: Ընդամենը, | E8: այդ թվում՝
A9: Ծրագիր | B9: Միջոցառում | E9: Կառուցման աշխատանքներ | F9: Վերակառուցման, վերանորոգման և վերականգնման աշխատանքներ | G9: Նախագծահե- տազոտական, գեոդեզիա- քարտեզագրա- կան աշխա- տանքներ | H9: Ոչ ֆինանսական այլ ակտիվների ձեռքբերում
C10: ԸՆԴԱՄԵՆԸ | D10: =G10 -> 4746 | F10: 0 | G10: =G12 -> 4746
C11: այդ թվում՝
C12: ՀՀ ՏԱՐԱԾՔԱՅԻՆ ԿԱՌԱՎԱՐՄԱՆ ԵՎ ԵՆԹԱԿԱՌՈՒՑՎԱԾՔՆԵՐԻ ՆԱԽԱՐԱՐՈՒԹՅՈՒՆ | D12: =G12 -> 4746 | F12: 0 | G12: =+G14 -> 4746
C13: այդ թվում`
A14: 1049 | B14: 21001 | C14: ='h1'!D25 -> Պետական նշանակության ավտոճանապարհների հիմնանորոգում | D14: =G14 -> 4746 | E14: =+E16 -> 0 | F14: =+F16 -> 0 | G14: =+G16 -> 4746 | H14: =+H16 -> 0
C15: այդ թվում` | F15: 0
C16: Տ-4-57, /Մ-11/ (Վարդենիս)-Այրք-Ներքին Շորժա և Տ-4-42, /Տ-4-57/-Վերին Շորժա մարզային նշանակության ավտոճանապարհների կոպճային ծածկով անցանելիության ապահովման աշխատանքներ | D16: =G16 -> 4746 | E16: 0 | F16: 0 | G16: 4746 | H16: 0

Sheet h3
F1: Հավելված 3
F2: ՀՀ կառավարության 2023 թվականի
F3: ______________ ի ___Ն որոշման
A5: ՀԱՅԱՍՏԱՆԻ ՀԱՆՐԱՊԵՏՈՒԹՅԱՆ ԿԱՌԱՎԱՐՈՒԹՅԱՆ 2022 ԹՎԱԿԱՆԻ ԴԵԿՏԵՄԲԵՐԻ 29-Ի N 2111-Ն ՈՐՈՇՄԱՆ NN 3 ԵՎ 4 ՀԱՎԵԼՎԱԾՆԵՐՈՒՄ ԿԱՏԱՐՎՈՂ ՓՈՓՈԽՈՒԹՅՈՒՆՆԵՐԸ ԵՎ ԼՐԱՑՈՒՄՆԵՐԸ
A8: Գործառական դասիչը | D8: Ծրագրային դասիչը | F8: Բյուջետային ծախսերի գործառական դասակարգման բաժինների, խմբերի և դասերի, բյուջետային ծրագրերի, միջոցառումների բյուջետային հատկացումնեյի գլխավոր կարկադրիչների անվանումները | G8: Ցուցանիշների փոփոխությունը (ավելացումները նշված են դրական նշանով, իսկ նվազեցումները` փակագծերում)
A9: Բաժին | B9: Խումբ | C9: Դաս | D9: Ծրագիր | E9: Միջոցառում | G9: Տարի
F10: ԸՆԴԱՄԵՆԸ | G10: =G11 -> 0
F11: ='h1'!D11 -> ՀՀ տարածքային կառավարման և ենթակառուցվածքների նախարարություն | G11: =G12 -> 0
A12: 04 | F12: ՏՆՏԵՍԱԿԱՆ ՀԱՐԱԲԵՐՈՒԹՅՈՒՆՆԵՐ | G12: =G14 -> 0
F13: այդ թվում`
B14: 05 | F14: Տրանսպորտ | G14: =G16 -> 0
F15: այդ թվում`
C16: 01 | F16: Ճանապարհային տրանսպորտ | G16: =G18 -> 0
F17: այդ թվում`
D18: 1049 | F18: Ճանապարհային ցանցի բարելավում | G18: =G20+G29 -> 0
F19: այդ թվում`
E20: 11002 | F20: Մարզային նշանակության ավտոճանապարհների պահպանման և անվտանգ երթևեկության ծառայություններ | G20: =G22 -> -4746
F21: այդ թվում` ըստ կատարողների
F22: ՀՀ Գեղարքունիքի մարզպետի աշխատակազմ | G22: =G24 -> -4746
F23: այդ թվում` բյուջետային ծախսերի տնտեսագիտական դասակարգման հոդվածներ
F24: ԸՆԴԱՄԵՆԸ ԾԱԽՍԵՐ | G24: =G28 -> -4746
F25: ԸՆԹԱՑԻԿ ԾԱԽՍԵՐ | G25: =G28 -> -4746
F26: ԾԱՌԱՅՈՒԹՅՈՒՆՆԵՐԻ ԵՎ ԱՊՐԱՆՔՆԵՐԻ ՁԵՌՔԲԵՐՈՒՄ | G26: =G28 -> -4746
F27: Ընթացիկ նորոգում և պահպանում (ծառայություններ և նյութեր) | G27: =G28 -> -4746
F28: - Շենքերի և կառույցների ընթացիկ նորոգում և պահպանում | G28: -4746
E29: 21001 | F29: Պետական նշանակության ավտոճանապարհների հիմնանորոգում | G29: =G31 -> 4746
F30: այդ թվում` ըստ կատարողների
F31: =F22 -> ՀՀ Գեղարքունիքի մարզպետի աշխատակազմ | G31: =-G22 -> 4746
F32: այդ թվում` բյուջետային ծախսերի տնտեսագիտական դասակարգման հոդվածներ
F33: ԸՆԴԱՄԵՆԸ ԾԱԽՍԵՐ | G33: =-G24 -> 4746
F34: ՈՉ ՖԻՆԱՆՍԱԿԱՆ ԱԿՏԻՎՆԵՐԻ ԳԾՈՎ ԾԱԽՍԵՐ | G34: =-G25 -> 4746
F35: ՀԻՄՆԱԿԱՆ ՄԻՋՈՑՆԵՐ | G35: =-G26 -> 4746
F36: ԱՅԼ ՀԻՄՆԱԿԱՆ ՄԻՋՈՑՆԵՐ | G36: =-G27 -> 4746
F37: - Նախագծահետազոտական ծախսեր | G37: =-G28 -> 4746

Sheet h4
A1: Հավելված N4
A2: ՀՀ կառավարության 2023 թվականի
A3: ______________ ի ___Ն որոշման
A5: ՀԱՅԱՍՏԱՆԻ ՀԱՆՐԱՊԵՏՈՒԹՅԱՆ ԿԱՌԱՎԱՐՈՒԹՅԱՆ 2022 ԹՎԱԿԱՆԻ ԴԵԿՏԵՄԲԵՐԻ 29-Ի N 2111-Ն ՈՐՈՇՄԱՆ N 5 ՀԱՎԵԼՎԱԾԻ N 2 ԱՂՅՈՒՍԱԿՈՒՄ ԿԱՏԱՐՎՈՂ ԼՐԱՑՈՒՄՆԵՐԸ
A7: Ծրագրային դասիչ | C7: Բյուջետային գլխավոր կարգադրիչների, ծրագրերի, միջոցառումների և ուղղությունների անվանումները | D7: Ցուցանիշների փոփոխությունը (ավելացումները նշված են դրական նշանով, իսկ նվազեցումները` փակագծերում)
A8: Ծրագիր | B8: Միջոցառում | D8: Տարի
C9: ԸՆԴԱՄԵՆԸ | D9: =D11 -> 4746
C10: այդ թվում՝
C11: ='h2'!C12 -> ՀՀ ՏԱՐԱԾՔԱՅԻՆ ԿԱՌԱՎԱՐՄԱՆ ԵՎ ԵՆԹԱԿԱՌՈՒՑՎԱԾՔՆԵՐԻ ՆԱԽԱՐԱՐՈՒԹՅՈՒՆ | D11: =D12 -> 4746
A12: 1049 | B12: 21001 | C12: ='h2'!C14 -> Պետական նշանակության ավտոճանապարհների հիմնանորոգում | D12: =D16 -> 4746
C13: այդ թվում` ըստ կատարողների
C14: ՀՀ Գեղարքունիքի մարզպետի աշխատակազմ | D14: =D16 -> 4746
C15: այդ թվում` ըստ ուղղությունների
C16: Տ-4-57, /Մ-11/ (Վարդենիս)-Այրք-Ներքին Շորժա և Տ-4-42, /Տ-4-57/-Վերին Շորժա մարզային նշանակության ավտոճանապարհների կոպճային ծածկով անցանելիության ապահովման աշխատանքներ | D16: ='h1'!E24 -> 4746

Sheet h5
D1: Հավելված N 5
D2: ՀՀ կառավարության 2023 թվականի
D3: ______________ ի ___Ն որոշման
B5: ՀԱՅԱՍՏԱՆԻ ՀԱՆՐԱՊԵՏՈՒԹՅԱՆ ԿԱՌԱՎԱՐՈՒԹՅԱՆ 2022 ԹՎԱԿԱՆԻ ԴԵԿՏԵՄԲԵՐԻ 29-Ի N 2111-Ն ՈՐՈՇՄԱՆ N 9 ՀԱՎԵԼՎԱԾԻ NN 9.7 ԱՂՅՈՒՍԱԿՈՒՄ ԿԱՏԱՐՎՈՂ ՓՈՓՈԽՈՒԹՅՈՒՆՆԵՐԸ ԵՎ ԼՐԱՑՈՒՄՆԵՐԸ
D7: Աղյուսակ 9.7
B8: ՀՀ տարածքային կառավարման և ենթակառուցվածքների նախարարություն
B9: ՄԱՍ 2. ՊԵՏԱԿԱՆ ՄԱՐՄՆԻ ԳԾՈՎ ԱՐԴՅՈՒՆՔԱՅԻՆ (ԿԱՏԱՐՈՂԱԿԱՆ) ՑՈՒՑԱՆԻՇՆԵՐԸ
B11: Ծրագրի դասիչը | C11: Ծրագրի անվանումը
B12: =C15 -> 1049 | C12: ='h1'!D13 -> Ճանապարհային ցանցի բարելավում
B14: Ծրագրի միջոցառումները
B15: Ծրագրի դասիչը` | C15: 1049 | D15: Ցուցանիշների փոփոխությունը (նվազեցումները նշված են փակագծերում)
B16: Միջոցառման դասիչը` | C16: 11002 | D16: Տարի
B17: Միջոցառման անվանումը` | C17: Մարզային նշանակության ավտոճանապարհների պահպանման և անվտանգ երթևեկության ծառայություններ
B18: Նկարագրությունը` | C18: Հողային պաստառի, երթևեկելի մասի, արհեստական կառույցների և կահավորման տարրերի նորմատիվ մակարդակում պահպանում և շահագործում
B19: Միջոցառման տեսակը` | C19: Ծառայությունների մատուցում
B20: Միջոցառումն իրականացնողի անվանումը | C20: Մարզպետարան, մրցութային կարգով ընտրված կազմակերպություններ
B21: Արդյունքի չափորոշիչներ
B22: Միջոցառման վրա կատարվող ծախսը (հազար դրամ) | D22: ='h1'!E18 -> -4746
B24: Ծրագրի դասիչը | C24: Ծրագրի անվանումը
B25: 1049 | C25: Ճանապարհային ցանցի բարելավում
B27: Ծրագրի միջոցառումները
B28: Ծրագրի դասիչը` | C28: 1049 | D28: Ցուցանիշների փոփոխությունը (ավելացումները նշված են դրական նշանով)
B29: Միջոցառման դասիչը` | C29: 21001 | D29: Տարի
B30: Միջոցառման անվանումը` | C30: Պետական նշանակության ավտոճանապարհների հիմնանորոգում
B31: Նկարագրությունը` | C31: Միջպետական, հանրապետական և մարզային նշանակության ավտոճոնապարհների քայքայված ծածկի վերանորոգում, մաշված ծածկի փոխարինում
B32: Միջոցառման տեսակը` | C32: Հանրության կողմից անմիջականորեն օգտագործվող ակտիվների հետ կապված միջոցառումներ
B33: Միջոցառումն իրականացնողի անվանումը | C33: Մասնագիտացված միավոր
B34: Արդյունքի չափորոշիչներ
B35: Նախագծերի փաթեթ, հատ | D35: 1
B36: Միջոցառման վրա կատարվող ծախսը (հազար դրամ) | D36: ='h1'!E24 -> 4746

Sheet h6
D1: Հավելված N 6
D2: ՀՀ կառավարության 2023 թվականի
D3: ______________ ի ___Ն որոշման
B4: ՀԱՅԱՍՏԱՆԻ ՀԱՆՐԱՊԵՏՈՒԹՅԱՆ ԿԱՌԱՎԱՐՈՒԹՅԱՆ 2022 ԹՎԱԿԱՆԻ ԴԵԿՏԵՄԲԵՐԻ 29-Ի N 2111-Ն ՈՐՈՇՄԱՆ N 9.1 ՀԱՎԵԼՎԱԾԻ NN9.1.51 ԱՂՅՈՒՍԱԿՈՒՄ ԿԱՏԱՐՎՈՂ ՓՈՓՈԽՈՒԹՅՈՒՆՆԵՐԸ ԵՎ ԼՐԱՑՈՒՄՆԵՐԸ
D6: Աղյուսակ 9.1.51
B7: ՀՀ Գեղարքունիքի մարզպետի աշխատակազմ
B8: ՄԱՍ 2. ՊԵՏԱԿԱՆ ՄԱՐՄՆԻ ԳԾՈՎ ԱՐԴՅՈՒՆՔԱՅԻՆ (ԿԱՏԱՐՈՂԱԿԱՆ) ՑՈՒՑԱՆԻՇՆԵՐԸ
B10: Ծրագրի դասիչը | C10: Ծրագրի անվանումը
B11: =C14 -> 1049 | C11: ='h1'!D13 -> Ճանապարհային ցանցի բարելավում
B13: Ծրագրի միջոցառումները
B14: Ծրագրի դասիչը` | C14: 1049 | D14: ='h5'!D15 -> Ցուցանիշների փոփոխությունը (նվազեցումները նշված են փակագծերում)
B15: Միջոցառման դասիչը` | C15: 11002 | D15: Տարի
B16: Միջոցառման անվանումը` | C16: Մարզային նշանակության ավտոճանապարհների պահպանման և անվտանգ երթևեկության ծառայություններ
B17: Նկարագրությունը` | C17: Հողային պաստառի, երթևեկելի մասի, արհեստական կառույցների և կահավորման տարրերի նորմատիվ մակարդակում պահպանում և շահագործում
B18: Միջոցառման տեսակը` | C18: Ծառայությունների մատուցում
B19: Միջոցառումն իրականացնողի անվանումը | C19: Մարզպետարան, մրցութային կարգով ընտրված կազմակերպություններ
B20: Արդյունքի չափորոշիչներ
B21: Միջոցառման վրա կատարվող ծախսը (հազար դրամ) | D21: ='h5'!D22 -> -4746
B24: Ծրագրի դասիչը` | C24: 1049 | D24: Ցուցանիշների փոփոխությունը (ավելացումները նշված են դրական նշանով)
B25: Միջոցառման դասիչը` | C25: 21001 | D25: Տարի
B26: Միջոցառման անվանումը` | C26: Պետական նշանակության ավտոճանապարհների հիմնանորոգում
B27: Նկարագրությունը` | C27: Միջպետական, հանրապետական և մարզային նշանակության ավտոճոնապարհների քայքայված ծածկի վերանորոգում, մաշված ծածկի փոխարինում
B28: Միջոցառման տեսակը` | C28: Հանրության կողմից անմիջականորեն օգտագործվող ակտիվների հետ կապված միջոցառումներ
B29: Միջոցառումն իրականացնողի անվանումը | C29: Մասնագիտացված միավոր
B30: Արդյունքի չափորոշիչներ
B31: Նախագծերի փաթեթ, հատ | D31: 1
B32: Միջոցառման վրա կատարվող ծախսը (հազար դրամ) | D32: ='h1'!E24 -> 4746

Sheet h7
A1: Հավելված N7
A2: ՀՀ կառավարության 2023 թվականի
A3: ______________ ի ___Ն որոշման
A6: ՀԱՅԱՍՏԱՆԻ ՀԱՆՐԱՊԵՏՈՒԹՅԱՆ ԿԱՌԱՎԱՐՈՒԹՅԱՆ 2022 ԹՎԱԿԱՆԻ ԴԵԿՏԵՄԲԵՐԻ 29-Ի N 2111-Ն ՈՐՈՇՄԱՆ N 10 ՀԱՎԵԼՎԱԾՈՒՄ ԿԱՏԱՐՎՈՂ ՓՈՓՈԽՈՒԹՅՈՒՆՆԵՐԸ ԵՎ ԼՐԱՑՈՒՄՆԵՐԸ
A8: Կոդը | B8: Անվանումը | C8: Գնման ձևը | D8: Չափման միավորը | E8: Միավորի գինը | F8: Ցուցանիշների փոփոխությունը (ավելացումները նշված են դրական նշանով)
F9: Քանակը | G9: Գումարը (հազար դրամով)
B10: ՀՀ ԳԵՂԱՐՔՈՒՆԻՔԻ ՄԱՐԶՊԵՏԻ ԱՇԽԱՏԱԿԱԶՄ | G10: =G11 -> 0
A11: Բաժին N 04 | B11: Խումբ N 05 | C11: Դաս N 01 | D11: Ճանապարհային տրանսպորտ | G11: =G12+G16 -> 0
A12: 1049/21001 | B12: ='h1'!D25 -> Պետական նշանակության ավտոճանապարհների հիմնանորոգում | G12: =+G13 -> 4746
B13: ՄԱՍ III. ԾԱՌԱՅՈՒԹՅՈՒՆՆԵՐ | G13: =SUM(G14:G15) -> 4746
A14: 71241200/501 | B14: նախագծերի պատրաստում, ծախսերի գնահատում | C14: ԳՀ | D14: դրամ | E14: 4296000 | F14: 1 | G14: 4296
A15: 50531140 | B15: փորձաքննության ծառայություններ | C15: ԳՀ | D15: դրամ | E15: 450000 | F15: 1 | G15: 450
A16: 1049/11002 | B16: Մարզային նշանակության ավտաճանապարհների պահպանման և անվտանգ երթևեկության ծառայություններ | G16: -4746
B17: ՄԱՍ II. ԱՇԽԱՏԱՆՔՆԵՐ | G17: =G18+G19 -> -4746
A18: 45231176/1 | B18: ճանապարհների պահպանման աշխատանքներ | C18: ՀԲՄ | D18: դրամ | G18: -3246
A19: 45231176/2 | B19: ճանապարհների պահպանման աշխատանքներ | C19: ԳՀ | D19: դրամ | G19: -1500
