Workbook
Name a: #REF!
Name a: #REF!
Name AgencyCode: #REF!
Name AgencyCode: #REF!
Name AgencyCode: #REF!
Name AgencyCode: #REF!
Name AgencyName: #REF!
Name AgencyName: #REF!
Name AgencyName: #REF!
Name AgencyName: #REF!
Name davit: #REF!
Name davit: #REF!
Name davit: #REF!
Name Functional1: #REF!
Name Functional1: #REF!
Name Functional1: #REF!
Name Functional1: #REF!
Name ggg: #REF!
Name ggg: #REF!
Name ggg: #REF!
Name HAVELVAC10: #REF!
Name PANature: #REF!
Name PANature: #REF!
Name PANature: #REF!
Name PANature: #REF!
Name PAType: #REF!
Name PAType: #REF!
Name PAType: #REF!
Name PAType: #REF!
Name Performance2: #REF!
Name Performance2: #REF!
Name Performance2: #REF!
Name Performance2: #REF!
Name PerformanceType: #REF!
Name PerformanceType: #REF!
Name PerformanceType: #REF!
Name PerformanceType: #REF!
Name Հավելված: #REF!
Name Հավելված: #REF!
Name Հավելված: #REF!
Name Մաս: #REF!
Name Մաս: #REF!
Name Մաս: #REF!
Name շախմատիստ: #REF!
Name շախմատիստ: #REF!
Name շախմատիստ: #REF!

Sheet Havelvats 1
D1: Հավելված N 1
D2: ՀՀ կառավարության 2023 թվականի
D3: ______________ ի ___Ն որոշման
A5: «ՀԱՅԱUՏԱՆԻ ՀԱՆՐԱՊԵՏՈՒԹՅԱՆ 2023 ԹՎԱԿԱՆԻ ՊԵՏԱԿԱՆ ԲՅՈՒՋԵԻ ՄԱUԻՆ» ՀԱՅԱUՏԱՆԻ ՀԱՆՐԱՊԵՏՈՒԹՅԱՆ OՐԵՆՔԻ N 1 ՀԱՎԵԼՎԱԾԻ N 2 ԱՂՅՈՒՍԱԿՈՒՄ ԿԱՏԱՐՎՈՂ ՎԵՐԱԲԱՇԽՈՒՄԸ ԵՎ ՀԱՅԱՍՏԱՆԻ ՀԱՆՐԱՊԵՏՈՒԹՅԱՆ ԿԱՌԱՎԱՐՈՒԹՅԱՆ 2022 ԹՎԱԿԱՆԻ ԴԵԿՏԵՄԲԵՐԻ 29-Ի N 2111-Ն ՈՐՈՇՄԱՆ N 5 ՀԱՎԵԼՎԱԾԻ N 1 ԱՂՅՈՒՍԱԿՈՒՄ ԿԱՏԱՐՎՈՂ ՓՈՓՈԽՈՒԹՅՈՒՆՆԵՐԸ ԵՎ ԼՐԱՑՈՒՄՆԵՐԸ
D6: հազար դրամներով
A7: Ծրագրային դասիչը | C7: Բյուջետային հատկացումների գլխավոր կարգադրիչների, ծրագրերի և միջոցառումների անվանումները | D7: Ցուցանիշների փոփոխությունը (ավելացումները նշված են դրական նշանով, իսկ նվազեցումները՝ փակագծերում)
A8: Ծրագիր | B8: Միջոցառում | D8: Տարի
C9: ԸՆԴԱՄԵՆԸ | D9: =+D11+D31 -> 0
C10: այդ թվում
C11: ՀՀ ԿՐԹՈՒԹՅԱՆ, ԳԻՏՈՒԹՅԱՆ, ՄՇԱԿՈՒՅԹԻ ԵՎ ՍՊՈՐՏԻ ՆԱԽԱՐԱՐՈՒԹՅՈՒՆ | D11: =D12 -> 0
A12: 1041 | C12: Ծրագրի անվանումը` | D12: =D25+D19 -> 0
C13: Մեծ նվաճումների սպորտ
C14: Ծրագրի նպատակը`
C15: Նպաստել Հայաստանում մեծ սպորտի շարունակական զարգացմանը և միջազգային հարթակներում ՀՀ դիրքի բարելավմանը
C16: Վերջնական արդյունքի նկարագրությունը`
C17: ՀՀ առաջնությունների ընդլայնում, միջազգային սպորտային միջոցառումներին մասնակցության և նվաճումների ապահովում
C18: Ծրագրի միջոցառումներ
B19: 11041 | C19: Միջոցառման անվանումը` | D19: -338263.8
C20: Միջազգային մրցաշարերին մասնակցության և մասնագիտական մարզահագուստով ապահովման նպատակով մարզական ֆեդերացիաներին լրացուցիչ աջակցության հատկացում
C21: Միջոցառման նկարագրությունը`
C22: Մարզական ֆեդերացիաներին միջազգային մրցաշարերի մասնակցության և մասնագիտական մարզահագուստով ապահովում
C23: Միջոցառման տեսակը
C24: Ծառայությունների մատուցում
B25: 11044 | C25: Միջոցառման անվանումը` | D25: 338263.8
C26: Երևանում կայանալիք բռնցքամարտի աշխարհի ավագ տարիքի պատանիների առաջնության անցկացում
C27: Միջոցառման նկարագրությունը`
C28: Երևանում կայանալիք բռնցքամարտի աշխարհի ավագ տարիքի պատանիների առաջնության կազմակերպում և անցկացում
C29: Միջոցառման տեսակը
C30: Ծառայությունների մատուցում
C31: ՀՀ ԿԱՌԱՎԱՐՈՒԹՅՈՒՆ | D31: =+D32 -> 0
A32: 1139 | C32: Ծրագրի անվանումը` | D32: =+D38+D44 -> 0
C33: ՀՀ կառավարության պահուստային ֆոնդ
C34: Ծրագրի նպատակը`
C35: Պետական բյուջեում չկանխատեսված, ինչպես նաև բյուջետային երաշխիքների ապահովման ծախսերի ֆինանսավորման ապահովում
C36: Վերջնական արդյունքի նկարագրությունը`
C37: Պահուստային ֆոնդի կառավարման արդյունավետության և թափանցիկության ապահովում
B38: 11001 | C38: Միջոցառման անվանումը` | D38: -338263.8
C39: ՀՀ կառավարության պահուստային ֆոնդ
C40: Միջոցառման նկարագրությունը`
C41: ՀՀ պետական բյուջեում նախատեսված ելքերի լրացուցիչ ֆինանսավորման՝ պետական բյուջեում չկանխատեսված ելքերի, ինչպես նաև բյուջետային երաշխիքների ապահովման ելքերի ֆինանսավորման ապահովում
C42: Միջոցառման տեսակը
C43: Ծառայությունների մատուցում
B44: 11001 | C44: Միջոցառման անվանումը` | D44: 338263.8
C45: ՀՀ կառավարության պահուստային ֆոնդ
C46: Միջոցառման նկարագրությունը`
C47: ՀՀ պետական բյուջեում նախատեսված ելքերի լրացուցիչ ֆինանսավորման՝ պետական բյուջեում չկանխատեսված ելքերի, ինչպես նաև բյուջետային երաշխիքների ապահովման ելքերի ֆինանսավորման ապահովում
C48: Միջոցառման տեսակը
C49: Ծառայությունների մատուցում

Sheet Havelvats 2 
G1: Հավելված N 2
G2: ՀՀ կառավարության 2023 թվականի
G3: ______________ ի ___Ն որոշման
A5: ՀԱՅԱՍՏԱՆԻ ՀԱՆՐԱՊԵՏՈՒԹՅԱՆ ԿԱՌԱՎԱՐՈՒԹՅԱՆ 2022 ԹՎԱԿԱՆԻ ԴԵԿՏԵՄԲԵՐԻ 29-Ի N 2111-Ն ՈՐՈՇՄԱՆ N 3 ԵՎ N 4 ՀԱՎԵԼՎԱԾՆԵՐՈՒՄ ԿԱՏԱՐՎՈՂ ՓՈՓՈԽՈՒԹՅՈՒՆՆԵՐԸ ԵՎ ԼՐԱՑՈՒՄՆԵՐԸ
G8: հազար դրամներով
A9: Գործառական դասիչը | D9: Ծրագրային դասիչը | F9: Բյուջետային հատկացումների գլխավոր կարգադրիչների, ծրագրերի, միջոցառումների և միջոցառումները կատարող պետական մարմինների անվանումները | G9: Ցուցանիշների փոփոխությունը (ավելացումները նշված են դրական նշանով, իսկ նվազեցումները՝ փակագծերում)
A10: Բաժին | B10: Խումբ | C10: Դաս | D10: Ծրագիր | E10: Միջոցառում | G10: Տարի
F11: ԸՆԴԱՄԵՆԸ | G11: =G13+G42 -> 0
F12: այդ թվում
F13: ՀՀ ԿՐԹՈՒԹՅԱՆ, ԳԻՏՈՒԹՅԱՆ, ՄՇԱԿՈՒՅԹԻ ԵՎ ՍՊՈՐՏԻ ՆԱԽԱՐԱՐՈՒԹՅՈՒՆ | G13: =G14 -> 0
A14: 08 | F14: ՀԱՆԳԻՍՏ, ՄՇԱԿՈՒՅԹ ԵՎ ԿՐՈՆ | G14: =G16 -> 0
F15: այդ թվում`
B16: 01 | F16: Հանգստի և սպորտի ծառայություններ | G16: =G18 -> 0
F17: այդ թվում`
C18: 01 | F18: Հանգստի և սպորտի ծառայություններ | G18: =G20 -> 0
F19: այդ թվում`
F20: ՀՀ կրթության, գիտության, մշակույթի և սպորտի նախարարություն | G20: =G22 -> 0
F21: այդ թվում`
D22: 1041 | E22: Մեծ նվաճումների սպորտ | G22: =+G33+G24 -> 0
F23: այդ թվում`
E24: 11041 | F24: Միջազգային մրցաշարերին մասնակցության և մասնագիտական մարզահագուստով ապահովման նպատակով մարզական ֆեդերացիաներին լրացուցիչ աջակցության հատկացում | G24: =G26 -> -338263.8
F25: այդ թվում` ըստ կատարողների
F26: ՀՀ կրթության, գիտության, մշակույթի և սպորտի նախարարություն | G26: =G28 -> -338263.8
F27: այդ թվում՝ բյուջետային ծախսերի տնտեսագիտական դասակարգման հոդվածներ
F28: ԸՆԴԱՄԵՆԸ ԾԱԽՍԵՐ | G28: =G29 -> -338263.8
F29: ԸՆԹԱՑԻԿ ԾԱԽՍԵՐ | G29: =+G30 -> -338263.8
F30: ԴՐԱՄԱՇՆՈՐՀՆԵՐ | G30: =G31 -> -338263.8
F31: Ընթացիկ դրամաշնորհներ պետական հատվածի այլ մակարդակներին | G31: =G32 -> -338263.8
F32: - Այլ ընթացիկ դրամաշնորհներ | G32: ='Havelvats 1'!D19 -> -338263.8
E33: 11044 | F33: Երևանում կայանալիք բռնցքամարտի աշխարհի ավագ տարիքի պատանիների առաջնության անցկացում | G33: =G35 -> 338263.8
F34: այդ թվում` ըստ կատարողների
F35: ՀՀ կրթության, գիտության, մշակույթի և սպորտի նախարարություն | G35: =G37 -> 338263.8
F36: այդ թվում՝ բյուջետային ծախսերի տնտեսագիտական դասակարգման հոդվածներ
F37: ԸՆԴԱՄԵՆԸ ԾԱԽՍԵՐ | G37: =G38 -> 338263.8
F38: ԸՆԹԱՑԻԿ ԾԱԽՍԵՐ | G38: =+G39 -> 338263.8
F39: ԴՐԱՄԱՇՆՈՐՀՆԵՐ | G39: =G40 -> 338263.8
F40: Ընթացիկ դրամաշնորհներ պետական հատվածի այլ մակարդակներին | G40: =G41 -> 338263.8
F41: - Այլ ընթացիկ դրամաշնորհներ | G41: ='Havelvats 1'!D25 -> 338263.8
F42: ՀՀ ԿԱՌԱՎԱՐՈՒԹՅՈՒՆ | G42: =+G43 -> 0
A43: 11 | F43: ՀԻՄՆԱԿԱՆ ԲԱԺԻՆՆԵՐԻՆ ՉԴԱՍՎՈՂ ՊԱՀՈՒՍՏԱՅԻՆ ՖՈՆԴԵՐ | G43: =+G45 -> 0
F44: այդ թվում`
B45: 01 | F45: ՀՀ կառավարության և համայնքների պահուստային ֆոնդ | G45: =+G47 -> 0
F46: այդ թվում`
C47: 01 | F47: ՀՀ կառավարության պահուստային ֆոնդ | G47: =G49 -> 0
F48: այդ թվում`
F49: ՀՀ կառավարություն | G49: =+G51 -> 0
F50: այդ թվում`
D51: 1139 | E51: ՀՀ կառավարության պահուստային ֆոնդ | F51: ՀՀ կառավարության պահուստային ֆոնդ | G51: =+G60+G68 -> 0
F52: այդ թվում`
E53: 11001 | F53: ՀՀ կառավարության պահուստային ֆոնդ | G53: =+G55 -> -338263.8
F54: այդ թվում` ըստ կատարողների
F55: ՀՀ կառավարություն | G55: =+G57 -> -338263.8
F56: այդ թվում` բյուջետային ծախսերի տնտեսագիտական դասակարգման հոդվածներ
F57: ԸՆԴԱՄԵՆԸ ԾԱԽՍԵՐ | G57: =+G58 -> -338263.8
F58: ԸՆԹԱՑԻԿ ԾԱԽՍԵՐ | G58: =+G59 -> -338263.8
F59: ԱՅԼ ԾԱԽՍԵՐ | G59: =+G60 -> -338263.8
F60: Պահուստային միջոցներ | G60: ='Havelvats 1'!D38 -> -338263.8
E61: 11001 | F61: ՀՀ կառավարության պահուստային ֆոնդ | G61: =+G63 -> 338263.8
F62: այդ թվում` ըստ կատարողների
F63: ՀՀ կառավարություն | G63: =+G65 -> 338263.8
F64: այդ թվում` բյուջետային ծախսերի տնտեսագիտական դասակարգման հոդվածներ
F65: ԸՆԴԱՄԵՆԸ ԾԱԽՍԵՐ | G65: =+G66 -> 338263.8
F66: ԸՆԹԱՑԻԿ ԾԱԽՍԵՐ | G66: =+G67 -> 338263.8
F67: ԱՅԼ ԾԱԽՍԵՐ | G67: =+G68 -> 338263.8
F68: Պահուստային միջոցներ | G68: ='Havelvats 1'!D44 -> 338263.8

Sheet Havelvac 3
F1: Հավելված N 3
F2: ՀՀ կառավարության 2023 թվականի
F3: ______________ ի ___Ն որոշման
A6: ՀԱՅԱՍՏԱՆԻ ՀԱՆՐԱՊԵՏՈՒԹՅԱՆ ԿԱՌԱՎԱՐՈՒԹՅԱՆ 2022 ԹՎԱԿԱՆԻ ԴԵԿՏԵՄԲԵՐԻ 29-Ի N 2111-Ն ՈՐՈՇՄԱՆ N 5 ՀԱՎԵԼՎԱԾԻ N 7 ԱՂՅՈՒՍԱԿՈՒՄ ԿԱՏԱՐՎՈՂ ՓՈՓՈԽՈՒԹՅՈՒՆՆԵՐԸ ԵՎ ԼՐԱՑՈՒՄՆԵՐԸ
G7: հազար դրամներով
A8: Ծրագրային դասիչը | C8: Բյուջետային հատկացումների գլխավոր կարգադրիչների, ծրագրերի, միջոցառումների և միջոցառումները կատարող պետական մարմինների անվանումները | F8: Միջոցառումները կատարող պետական մարմինների և դրամաշնորհ ստացող տնտեսվարող սուբյեկտների անվանումները | G8: Ցուցանիշների փոփոխությունը (ավելացումները նշված են դրական նշանով իսկ նվազեցումները՝ փակագծերում)
A9: Ծրագիր | B9: Միջոցառում | G9: Տարի
A10: ՀՀ կրթության, գիտության, մշակույթի և սպորտի նախարարություն | G10: =+G11 -> 0
A11: 1041 | B11: Մեծ նվաճումների սպորտ | G11: =+G12+G14 -> 0
B12: 11044 | C12: Երևանում կայանալիք բռնցքամարտի աշխարհի ավագ տարիքի պատանիների առաջնության անցկացում | F12: ՀՀ կրթության, գիտության, մշակույթի և սպորտի նախարարություն | G12: =SUM(G13:G13) -> 338263.8
F13: «Հայաստանի Հանրապետության բռնցքամարտի ֆեդերացիա» ՀԿ | G13: ='Havelvats 1'!D25 -> 338263.8
B14: 11041 | C14: Միջազգային մրցաշարերին մասնակցության և մասնագիտական մարզահագուստով ապահովման նպատակով մարզական ֆեդերացիաներին լրացուցիչ աջակցության հատկացում | F14: ՀՀ կրթության, գիտության, մշակույթի և սպորտի նախարարություն | G14: =+G15 -> -338263.8
F15: «Հայաստանի ֆուտբոլի ֆեդերացիա» ՀԿ | G15: ='Havelvats 1'!D19 -> -338263.8

Sheet Havelvats 4
A1: Հավելված N 4
A2: ՀՀ կառավարության 2023 թվականի
A3: ______________ ի ___Ն որոշման
B5: ՀԱՅԱՍՏԱՆԻ ՀԱՆՐԱՊԵՏՈՒԹՅԱՆ ԿԱՌԱՎԱՐՈՒԹՅԱՆ 2022 ԹՎԱԿԱՆԻ ԴԵԿՏԵՄԲԵՐԻ 29-Ի N 2111-Ն ՈՐՈՇՄԱՆ N 9 ՀԱՎԵԼՎԱԾԻ N 9.13 և 9.47 ԱՂՅՈՒՍԱԿՆԵՐՈՒՄ ԿԱՏԱՐՎՈՂ ՓՈՓՈԽՈՒԹՅՈՒՆՆԵՐԸ ԵՎ ԼՐԱՑՈՒՄՆԵՐԸ
A7: Աղյուսակ 9․13
C8: ՀՀ կրթության, գիտության, մշակույթի և սպորտի նախարարություն
B9: ՄԱՍ 2. ՊԵՏԱԿԱՆ ՄԱՐՄՆԻ ԳԾՈՎ ԱՐԴՅՈՒՆՔԱՅԻՆ (ԿԱՏԱՐՈՂԱԿԱՆ) ՑՈՒՑԱՆԻՇՆԵՐԸ
B12: Ծրագրի դասիչը | C12: Ծրագրի անվանումը
B13: 1041 | C13: Մեծ նվաճումների սպորտ
B15: Ծրագրի միջոցառումները
B16: Ծրագրի դասիչը՝ | C16: 1041 | D16: Ցուցանիշների փոփոխությունը (ավելացումները նշված են դրական նշանով)
B17: Միջոցառման դասիչը՝ | C17: 11044 | D17: Տարի
B18: Միջոցառման անվանումը՝ | C18: Երևանում կայանալիք բռնցքամարտի աշխարհի ավագ տարիքի պատանիների առաջնության անցկացում
B19: Նկարագրությունը՝ | C19: Երևանում կայանալիք բռնցքամարտի աշխարհի ավագ տարիքի պատանիների առաջնության կազմակերպում և անցկացում
B20: Միջոցառման տեսակը՝ | C20: Ծառայությունների մատուցում
B21: Միջոցառումն իրականացնողի անվանումը | C21: Մասնագիտացված կազմակերպություններ
B22: Արդյունքի չափորոշիչներ
B23: Միջոցառումների քանակ, հատ | D23: 1
B24: Ղեկավար և տեխնիկական անձնակազմ, մարդ | D24: 81
B25: Միջոցառման վրա կատարվող ծախսը (հազ. դրամ) | D25: ='Havelvats 1'!D25 -> 338263.8
B27: Ծրագրի միջոցառումները
B28: Ծրագրի դասիչը՝ | C28: 1041 | D28: Ցուցանիշների փոփոխությունը (նվազեցումները նշված են փակագծերում)
B29: Միջոցառման դասիչը՝ | C29: 11041 | D29: Տարի
B30: Միջոցառման անվանումը՝ | C30: Միջազգային մրցաշարերին մասնակցության և մասնագիտական մարզահագուստով ապահովման նպատակով մարզական ֆեդերացիաներին լրացուցիչ աջակցության հատկացում
B31: Նկարագրությունը՝ | C31: Մարզական ֆեդերացիաներին միջազգային մրցաշարերի մասնակցության և մասնագիտական մարզահագուստով ապահովում
B32: Միջոցառման տեսակը՝ | C32: Ծառայությունների մատուցում
B33: Միջոցառումն իրականացնողի անվանումը | C33: Մասնագիտացված կազմակերպություններ
B34: Արդյունքի չափորոշիչներ
B35: Ֆուտբոլի Հայաստանի ազգային հավաքականի կողմից իրականացված միջոցառումների թիվը, հատ | D35: -3
B36: Միջոցառման վրա կատարվող ծախսը (հազ. դրամ) | D36: ='Havelvats 1'!D19 -> -338263.8
A38: Աղյուսակ 9․47
C39: ՀՀ կառավարություն
B40: ՄԱՍ 2. ՊԵՏԱԿԱՆ ՄԱՐՄՆԻ ԳԾՈՎ ԱՐԴՅՈՒՆՔԱՅԻՆ (ԿԱՏԱՐՈՂԱԿԱՆ) ՑՈՒՑԱՆԻՇՆԵՐԸ
B43: Ծրագրի դասիչը | C43: Ծրագրի անվանումը
B44: 1139 | C44: ՀՀ կառավարության պահուստային ֆոնդ
B46: Ծրագրի միջոցառումները
B47: Ծրագրի դասիչը՝ | C47: 1139 | D47: Ցուցանիշների փոփոխությունը (նվազեցումները նշված են փակագծերում)
B48: Միջոցառման դասիչը՝ | C48: 11001 | D48: Տարի
B49: Միջոցառման անվանումը՝ | C49: ՀՀ կառավարության պահուստային ֆոնդ
B50: Նկարագրությունը՝ | C50: ՀՀ պետական բյուջեում նախատեսված ելքերի լրացուցիչ ֆինանսավորման՝ պետական բյուջեում չկանխատեսված ելքերի, ինչպես նաև բյուջետային երաշխիքների ապահովման ելքերի ֆինանսավորման ապահովում
B51: Միջոցառման տեսակը՝ | C51: Ծառայությունների մատուցում
B52: Միջոցառումն իրականացնողի անվանումը | C52: ՀՀ կառավարություն
C53: Արդյունքի չափորոշիչներ
B54: Միջոցառման վրա կատարվող ծախսը (հազ. դրամ) | D54: ='Havelvats 1'!D38 -> -338263.8
B56: Ծրագրի միջոցառումները
B57: Ծրագրի դասիչը՝ | C57: 1139 | D57: Ցուցանիշների փոփոխությունը (ավելացումները նշված են դրական նշանով)
B58: Միջոցառման դասիչը՝ | C58: 11001 | D58: Տարի
B59: Միջոցառման անվանումը՝ | C59: ՀՀ կառավարության պահուստային ֆոնդ
B60: Նկարագրությունը՝ | C60: ՀՀ պետական բյուջեում նախատեսված ելքերի լրացուցիչ ֆինանսավորման՝ պետական բյուջեում չկանխատեսված ելքերի, ինչպես նաև բյուջետային երաշխիքների ապահովման ելքերի ֆինանսավորման ապահովում
B61: Միջոցառման տեսակը՝ | C61: Ծառայությունների մատուցում
B62: Միջոցառումն իրականացնողի անվանումը | C62: ՀՀ կառավարություն
C63: Արդյունքի չափորոշիչներ
B64: Միջոցառման վրա կատարվող ծախսը (հազ. դրամ) | D64: ='Havelvats 1'!D44 -> 338263.8

Sheet Havelvats 5
E1: Հավելված N 5
D2: ՀՀ կառավարության 2023 թվականի
D3: ______________ ի ___Ն որոշման
B5: ՀԱՅԱՍՏԱՆԻ ՀԱՆՐԱՊԵՏՈՒԹՅԱՆ ԿԱՌԱՎԱՐՈՒԹՅԱՆ 2022 ԹՎԱԿԱՆԻ ԴԵԿՏԵՄԲԵՐԻ 29-Ի N 2111-Ն ՈՐՈՇՄԱՆ N 9․1 ՀԱՎԵԼՎԱԾԻ N 9.1․13 ԵՎ 9.1.58 ԱՂՅՈՒՍԱԿՆԵՐՈՒՄ ԿԱՏԱՐՎՈՂ ՓՈՓՈԽՈՒԹՅՈՒՆՆԵՐԸ ԵՎ ԼՐԱՑՈՒՄՆԵՐԸ
A7: Աղյուսակ 9․1․13
C9: ՀՀ կրթության, գիտության, մշակույթի և սպորտի նախարարություն
B10: ՄԱՍ 1. ՊԵՏԱԿԱՆ ՄԱՐՄՆԻ ԳԾՈՎ ԱՐԴՅՈՒՆՔԱՅԻՆ (ԿԱՏԱՐՈՂԱԿԱՆ) ՑՈՒՑԱՆԻՇՆԵՐԸ
B12: Ծրագրի դասիչը | C12: Ծրագրի անվանումը
B13: 1041 | C13: Մեծ նվաճումների սպորտ
B15: Ծրագրի միջոցառումները
B16: Ծրագրի դասիչը՝ | C16: 1041 | D16: Ցուցանիշների փոփոխությունը (ավելացումները նշված են դրական նշանով)
B17: Միջոցառման դասիչը՝ | C17: 11044 | D17: Տարի
B18: Միջոցառման անվանումը՝ | C18: Երևանում կայանալիք բռնցքամարտի աշխարհի ավագ տարիքի պատանիների առաջնության անցկացում
B19: Նկարագրությունը՝ | C19: Երևանում կայանալիք բռնցքամարտի աշխարհի ավագ տարիքի պատանիների առաջնության կազմակերպում և անցկացում
B20: Միջոցառման տեսակը՝ | C20: Ծառայությունների մատուցում
B21: Միջոցառումն իրականացնողի անվանումը | C21: Մասնագիտացված կազմակերպություններ
B22: Արդյունքի չափորոշիչներ
B23: Միջոցառումների քանակ, հատ | D23: 1
B24: Ղեկավար և տեխնիկական անձնակազմ, մարդ | D24: 81
B25: Միջոցառման վրա կատարվող ծախսը (հազ. դրամ) | D25: ='Havelvats 1'!D25 -> 338263.8
B27: Ծրագրի միջոցառումները
B28: Ծրագրի դասիչը՝ | C28: 1041 | D28: Ցուցանիշների փոփոխությունը (նվազեցումները նշված են փակագծերում)
B29: Միջոցառման դասիչը՝ | C29: 11041 | D29: Տարի
B30: Միջոցառման անվանումը՝ | C30: Միջազգային մրցաշարերին մասնակցության և մասնագիտական մարզահագուստով ապահովման նպատակով մարզական ֆեդերացիաներին լրացուցիչ աջակցության հատկացում
B31: Նկարագրությունը՝ | C31: Մարզական ֆեդերացիաներին միջազգային մրցաշարերի մասնակցության և մասնագիտական մարզահագուստով ապահովում
B32: Միջոցառման տեսակը՝ | C32: Ծառայությունների մատուցում
B33: Միջոցառումն իրականացնողի անվանումը | C33: Մասնագիտացված կազմակերպություններ
B34: Արդյունքի չափորոշիչներ
B35: Ֆուտբոլի Հայաստանի ազգային հավաքականի կողմից իրականացված միջոցառումների թիվը, հատ | D35: -3
B36: Միջոցառման վրա կատարվող ծախսը (հազ. դրամ) | D36: ='Havelvats 1'!D19 -> -338263.8
A39: Աղյուսակ 9․1.58
C40: ՀՀ կառավարություն
B41: ՄԱՍ 1. ՊԵՏԱԿԱՆ ՄԱՐՄՆԻ ԳԾՈՎ ԱՐԴՅՈՒՆՔԱՅԻՆ (ԿԱՏԱՐՈՂԱԿԱՆ) ՑՈՒՑԱՆԻՇՆԵՐԸ
B44: Ծրագրի դասիչը | C44: Ծրագրի անվանումը
B45: 1139 | C45: ՀՀ կառավարության պահուստային ֆոնդ
B47: Ծրագրի միջոցառումները
B48: Ծրագրի դասիչը՝ | C48: 1139 | D48: Ցուցանիշների փոփոխությունը (նվազեցումները նշված են փակագծերում)
B49: Միջոցառման դասիչը՝ | C49: 11001 | D49: Տարի
B50: Միջոցառման անվանումը՝ | C50: ՀՀ կառավարության պահուստային ֆոնդ
B51: Նկարագրությունը՝ | C51: ՀՀ պետական բյուջեում նախատեսված ելքերի լրացուցիչ ֆինանսավորման՝ պետական բյուջեում չկանխատեսված ելքերի, ինչպես նաև բյուջետային երաշխիքների ապահովման ելքերի ֆինանսավորման ապահովում
B52: Միջոցառման տեսակը՝ | C52: Ծառայությունների մատուցում
B53: Միջոցառումն իրականացնողի անվանումը | C53: ՀՀ կառավարություն
C54: Արդյունքի չափորոշիչներ
B55: Միջոցառման վրա կատարվող ծախսը (հազ. դրամ) | D55: ='Havelvats 4'!D54 -> -338263.8
B57: Ծրագրի միջոցառումները
B58: Ծրագրի դասիչը՝ | C58: 1139 | D58: Ցուցանիշների փոփոխությունը (ավելացումները նշված են դրական նշանով)
B59: Միջոցառման դասիչը՝ | C59: 11001 | D59: Տարի
B60: Միջոցառման անվանումը՝ | C60: ՀՀ կառավարության պահուստային ֆոնդ
B61: Նկարագրությունը՝ | C61: ՀՀ պետական բյուջեում նախատեսված ելքերի լրացուցիչ ֆինանսավորման՝ պետական բյուջեում չկանխատեսված ելքերի, ինչպես նաև բյուջետային երաշխիքների ապահովման ելքերի ֆինանսավորման ապահովում
B62: Միջոցառման տեսակը՝ | C62: Ծառայությունների մատուցում
B63: Միջոցառումն իրականացնողի անվանումը | C63: ՀՀ կառավարություն
C64: Արդյունքի չափորոշիչներ
B65: Միջոցառման վրա կատարվող ծախսը (հազ. դրամ) | D65: ='Havelvats 4'!D64 -> 338263.8
