Workbook
Name AgencyCode: #REF!
Name AgencyCode: #REF!
Name AgencyCode: #REF!
Name AgencyCode: #REF!
Name AgencyCode: #REF!
Name AgencyCode: #REF!
Name AgencyCode: #REF!
Name AgencyName: #REF!
Name AgencyName: #REF!
Name AgencyName: #REF!
Name AgencyName: #REF!
Name AgencyName: #REF!
Name åû: #REF!
Name åû: #REF!
Name davit: #REF!
Name davit: #REF!
Name Functional1: #REF!
Name Functional1: #REF!
Name Functional1: #REF!
Name Functional1: #REF!
Name Functional1: #REF!
Name ggg: #REF!
Name ggg: #REF!
Name mas: #REF!
Name mas: #REF!
Name mass: #REF!
Name mass: #REF!
Name PANature: #REF!
Name PANature: #REF!
Name PANature: #REF!
Name PANature: #REF!
Name PANature: #REF!
Name PAType: #REF!
Name PAType: #REF!
Name PAType: #REF!
Name PAType: #REF!
Name PAType: #REF!
Name Performance2: #REF!
Name Performance2: #REF!
Name Performance2: #REF!
Name Performance2: #REF!
Name Performance2: #REF!
Name PerformanceType: #REF!
Name PerformanceType: #REF!
Name PerformanceType: #REF!
Name PerformanceType: #REF!
Name PerformanceType: #REF!
Name x: #REF!
Name x: #REF!
Name Հավելված: #REF!
Name Հավելված: #REF!
Name Հավելված: #REF!
Name Հավելված: #REF!
Name Մաս: #REF!
Name Մաս: #REF!
Name Մաս: #REF!
Name Մաս: #REF!
Name շախմատիստ: #REF!
Name շախմատիստ: #REF!
Name շախմատիստ: #REF!

Sheet Հ1
H1: Հավելված N 1
H2: ՀՀ կառավարության 2023 թվականի
H3: ______________ ի ___Ն որոշման
A4: «ՀԱՅԱՍՏԱՆԻ ՀԱՆՐԱՊԵՏՈՒԹՅԱՆ 2023 ԹՎԱԿԱՆԻ ՊԵՏԱԿԱՆ ԲՅՈՒՋԵԻ ՄԱՍԻՆ» ՕՐԵՆՔԻ N 1 ՀԱՎԵԼՎԱԾԻ N 3 ԱՂՅՈՒՍԱԿՈՒՄ ԿԱՏԱՐՎՈՂ ՓՈՓՈԽՈՒԹՅՈՒՆՆԵՐԸ ԵՎ ԼՐԱՑՈՒՄՆԵՐԸ
G5: հազ. դրամ
A6: Ծրագրային դասիչ | C6: Բյուջետային գլխավոր կարգադրիչների, ծրագրերի, միջոցառումների և ուղղությունների անվանումները | D6: Ցուցանիշների փոփոխությունը (Ավելացումները նշված են դրական նշանով, իսկ նվազեցումները` փակագծերում)
D7: Ընդամենը, | E7: այդ թվում՝
A8: Ծրագիր | B8: Միջոցառում | E8: Կառուցման աշխատանքներ | F8: Վերակառուցման, վերանորոգման և վերականգնման աշխատանքներ | G8: Նախագծահե- տազոտական, գեոդեզիա- քարտեզագրա- կան աշխա- տանքներ | H8: Ոչ ֆինանսական այլ ակտիվների ձեռքբերում
C9: ԸՆԴԱՄԵՆԸ | D9: =+E9+F9+G9+H9 -> 1565826.4 | E9: =+E11 -> 0 | F9: =+F11 -> 1470517.9 | G9: =+G11 -> 95308.5 | H9: =+H11 -> 0
C10: այդ թվում՝
C11: ՀՀ ՏԱՐԱԾՔԱՅԻՆ ԿԱՌԱՎԱՐՄԱՆ ԵՎ ԵՆԹԱԿԱՌՈՒՑՎԱԾՔՆԵՐԻ ՆԱԽԱՐԱՐՈՒԹՅՈՒՆ | D11: =+E11+F11+G11+H11 -> 1565826.4 | E11: =E13+E43+E50 -> 0 | F11: =F13+F43+F50 -> 1470517.9 | G11: =G13+G43+G50 -> 95308.5 | H11: =H13+H43+H50 -> 0
C12: այդ թվում`
A13: 1049 | B13: 21001 | C13: Պետական նշանակության ավտոճանապարհների հիմնանորոգում | D13: =+E13+F13+G13+H13 -> -967175.3 | E13: =E15+E23+E27 -> 0 | F13: =F15+F23+F27 -> -1041812.8 | G13: =G15+G23+G27 -> 74637.5 | H13: 0
C14: այդ թվում`
B15: 1 | C15: =[1]Հ6!D18 -> Միջպետական նշանակության ավտոճանապարհներ, այդ թվում | D15: =+E15+F15+G15+H15 -> -377164.1 | E15: =SUM(E16:E22) -> 0 | F15: =SUM(F16:F22) -> -377164.1 | G15: =SUM(G16:G22) -> 0 | H15: =SUM(H16:H22) -> 0
C16: Մ-1, Երևան-Գյումրի-Վրաստանի սահման միջպետական նշանակության ավտոճանապարհի կմ113+200-կմ 118+900 հատվածի հիմնանորոգում | D16: =+E16+F16+G16+H16 -> -99320 | E16: 0 | F16: -99320 | G16: 0 | H16: 0
C17: Մ-1, Երևան-Գյումրի-Վրաստանի սահման միջպետական նշանակության ավտոճանապարհի կմ 141+500-կմ143+300 հատվածի հիմնանորոգում | D17: =+E17+F17+G17+H17 -> -13595.8 | E17: 0 | F17: -13595.8 | G17: 0 | H17: 0
C18: Մ-2, Երևան-Երասխ-Գորիս-Մեղրի-Իրանի սահման միջպետական նշանակության ավտոճանապարհի կմ131+500 - կմ139+000 հատվածի հիմնանորոգում | D18: =+E18+F18+G18+H18 -> -12108.9 | E18: 0 | F18: -12108.9 | G18: 0 | H18: 0
C19: Մ-2, Երևան-Երասխ-Գորիս-Մեղրի-Իրանի սահման միջպետական նշանակության ավտոճանապարհի կմ142+000 - կմ150+700 հատվածի հիմնանորոգում | D19: =+E19+F19+G19+H19 -> -3815.3 | E19: 0 | F19: -3815.3 | G19: 0 | H19: 0
C20: Մ-2, (Սյունիք) /Մ-2/ - Աղվանի- Տաթև - /Մ-2/ միջպետական նշանակության ավտոճանապարհի Վերին Խոտանանը շրջանցող ճանապարհահատվածի կառուցում (I փուլ) | D20: =+E20+F20+G20+H20 -> -243969.9 | E20: 0 | F20: -243969.9 | G20: 0 | H20: 0
C21: Մ-2, Երևան-Երասխ-Գորիս-Մեղրի-Իրանի սահման միջպետական նշանակության ավտոճանապարհի կմ329+820 - կմ338+100 հատվածի հիմնանորոգում | D21: =+E21+F21+G21+H21 -> -22284.7 | E21: 0 | F21: -22284.7 | G21: 0 | H21: 0
C22: Մ-16, /Մ-4/ - Ոսկեպար - Նոյեմբերյան - /Մ-6/ միջպետական նշանակության ավտոճանապարհի կմ0+070-կմ7+000 հատվածի հիմնանորոգում | D22: =+E22+F22+G22+H22 -> 17930.5 | E22: 0 | F22: 17930.5 | G22: 0 | H22: 0
B23: 2 | C23: =[1]Հ6!D37 -> Հանրապետական նշանակության ավտոճանապարհներ, այդ թվում | D23: =+E23+F23+G23+H23 -> -427009.4 | E23: =SUM(E24:E26) -> 0 | F23: =SUM(F24:F26) -> -428999.4 | G23: =SUM(G24:G26) -> 1990 | H23: =SUM(H24:H26) -> 0
C24: Հ-1, Վ. Պտղնու տրանսպորտային հանգույց - Ջրաբեր-Հրազդան -Հրազդանի քրեակատարողական հիմնարկ հանրապետական նշանակության ավտոճանապարհի կմ0+000 - կմ5+023 հատվածի հիմնանորոգում | D24: =+E24+F24+G24+H24 -> 1990 | E24: 0 | G24: 1990 | H24: 0
C25: Հ-7, /Հ-5/ - Կարենիս - Չարենցավան /Հ-1/ (Ֆանտան)հանրապետական նշանակության ավտոճանապարհի կմ7+580 - կմ10+200 հատվածի հիմնանորոգում | D25: =+E25+F25+G25+H25 -> 217735.1 | E25: 0 | F25: 217735.1 | G25: 0 | H25: 0
C26: Հ-36, /Մ-4/ (Իջևան) - Նավուր - Բերդ - Այգեպար հանրապետական նշանակության ավտոճանապարհի կմ 5+600-կմ 42+100 հատվածի հիմնանորոգում | D26: =+E26+F26+G26+H26 -> -646734.5 | E26: 0 | F26: -646734.5 | H26: 0
B27: 3 | C27: =[1]Հ6!D58 -> Մարզային նշանակության ավտոճանապարհներ, այդ թվում | D27: =+E27+F27+G27+H27 -> -163001.8 | E27: =SUM(E28:E42) -> 0 | F27: =SUM(F28:F42) -> -235649.3 | G27: =SUM(G28:G42) -> 72647.5 | H27: =SUM(H28:H42) -> 0
C28: Տ-1-15, /Հ-21/ - Ծաղկահովիտ ավտոճանապարհի կմ0+000 - կմ1+300 հատվածի հիմնանորոգում | D28: =+E28+F28+G28+H28 -> -4591.5 | E28: 0 | F28: -4591.5 | H28: 0
C29: Տ-1-52, /Հ-21/ - Գեղաձոր ավտոճանապարհի կմ0+000-կմ1+600 հատվածի հիմնանորոգում | D29: =+E29+F29+G29+H29 -> -1660.9 | E29: 0 | F29: -1660.9 | H29: 0
C30: Զարինջա - Ձիթհանքով ավտոճանապարհի 4.3 կմ երկարությամբ հատվածի հիմնանորոգում | D30: =+E30+F30+G30+H30 -> 3349.5 | E30: 0 | G30: 3349.5 | H30: 0
C31: Տ-3-11 /Հ-15/ (Արմավիր գ.) – Նալբանդյան – Գետաշեն – Նոր Կեսարիա – /Մ-5/ ավտոճանապարհի կմ6+000-կմ10+000 հատվածի հիմնանորոգում | D31: =+E31+F31+G31+H31 -> 598930.3 | E31: 0 | F31: 598930.3 | H31: 0
C32: Տ-5-7, /Մ-7/ (Շիրակամուտ) - Լեռնավան (Տ-5-38) ավտոճանապարհի կմ0+000 - կմ1+142 հատվածի հիմնանորոգում | D32: =+E32+F32+G32+H32 -> -897.5 | E32: 0 | F32: -897.5 | H32: 0
C33: Տ-5-93, /Հ-70/ - Մարց մարզային նշանակության ավտոճանապարհի կմ0+000 - կմ0+800 հատվածի հիմնանորոգում | D33: =+E33+F33+G33+H33 -> -380.3 | E33: 0 | F33: -380.3 | H33: 0
C34: Տ-9-19, /Մ-2/ - Հերհեր -Կարմրաշեն մարզային նշանակության ավտոճանապարհի կմ10+000 - կմ18+700 հատվածի հիմնանորոգում | D34: =+E34+F34+G34+H34 -> -3607.8 | F34: -3607.8
C35: Իջևան քաղաքի Սարիբեկ-Օհանյան փողոցի կմ0+000-կմ1+145 հատվածի հիմնանորոգում | D35: =+E35+F35+G35+H35 -> 15719.2 | E35: 0 | F35: 15719.2 | H35: 0
C36: Վանաձոր քաղաքային համայնքի Նարեկացի փողոց-Կոմիտաս վարդապետ Հրապարակ էստակադայի հիմնանորոգում | D36: =+E36+F36+G36+H36 -> -6803.2 | E36: 0 | F36: -6803.2 | H36: 0
C37: Մ-5, Երևան - Արմավիր - Թուրքիայի սահման միջպետական նշանակության ավտոճանապարհից դեպի «Արմենիա միջազգային օդանավակայաններ» ՓԲ Ընկերության բեռնային համալիր տանող 1.7կմ երկարությամբ ճանապարհի հիմնանորոգում | D37: =+E37+F37+G37+H37 -> -5643.8 | E37: 0 | F37: -5643.8 | H37: 0
C38: Տ-8-93, Լծեն-Տաթև ավտոճանապարհի վերակառուցում | D38: =+E38+F38+G38+H38 -> -139877.2 | E38: 0 | F38: -139877.2 | H38: 0
C39: Տ-8-49,/Տ-8-48/-Լծեն ավտոճանապարհի վերակառուցում | D39: =+E39+F39+G39+H39 -> -40982.6 | E39: 0 | F39: -40982.6 | H39: 0
C40: Ուրցաձորից դեպի Մարտունի տանող ավտոճանապարհի կառուցում | D40: =+E40+F40+G40+H40 -> 50899 | E40: 0 | G40: 50899 | H40: 0
C41: ՀՀ Արագածոտնի մարզի Լուսագյուղ գյուղից դեպի Հանքավան տանող ավտոճանապարհի կառուցում | D41: =+E41+F41+G41+H41 -> 18399 | E41: 0 | G41: 18399 | H41: 0
C42: /Մ-12/-Կոռնիձոր-ՀՀ սահման ավտոճանապարհի կմ9+000- կմ11+779.75 հատվածի վերակառուցում | D42: =+E42+F42+G42+H42 -> -645854 | E42: 0 | F42: -645854 | G42: 0 | H42: 0
A43: 1049 | B43: 21002 | C43: Տրանսպորտային օբյեկտների հիմնանորոգում, այդ թվում | D43: =+E43+F43+G43+H43 -> 14218 | E43: =SUM(E44:E49) -> 0 | F43: =SUM(F44:F49) -> -6453 | G43: =SUM(G44:G49) -> 20671 | H43: =SUM(H44:H49) -> 0
C44: Մ-6, Վանաձոր (Մ-3 հատման կետ) – Ալավերդի - Վրաստանի սահման միջպետական նշանակության ավտոճանապարհի կմ 51+100-ում գտնող փլուզված հենապատի վերականգում | D44: =+E44+F44+G44+H44 -> 1375 | E44: 0 | F44: 0 | G44: 1375 | H44: 0
C45: Հ-13,/Մ-3/ (Վաղարշապատ) - Մասիս - /Մ-2/ հանրապետական նշանակության ավտոճանապարհի կմ9+800-ում գտնվող կամուրջի հիմնանորոգում | D45: =+E45+F45+G45+H45 -> 4140 | E45: 0 | F45: 0 | G45: 4140 | H45: 0
C46: Տ-3-36, Աղավնատուն (Տ-3-44) - Ամբերդ – Այգեշատ - Դաշտ (Տ-3-64) տեղական նշանակության ավտոճանապարհի կմ2+610-ում գտնվող կամուրջի հիմնանորոգում | D46: =+E46+F46+G46+H46 -> 2736 | E46: 0 | F46: 0 | G46: 2736 | H46: 0
C47: Մ-3, Թուրքիայի սահման-Մարգարա-Վանաձոր-Տաշիր-Վրաստանի սահման միջպետական նշանակության ավտոճանապարհի կմ11+400 հատվածում գտնվող կամրջի հիմնանորոգում | D47: =+E47+F47+G47+H47 -> -6453 | E47: 0 | F47: -6453 | H47: 0
C48: Սևանի տրանսպորտային հանգույցի հիմնանորոգում | D48: =+E48+F48+G48+H48 -> 420 | E48: 0 | F48: 0 | G48: 420 | H48: 0
C49: Մ-7, /Մ-3/ - Սպիտակ – Գյումրի - Թուրքիայի Հանրապետության սահման միջպետական նշանակության ավտոճանապարհի կմ4+500-ում գտնվող Նալբանդի թունելի հիմնանորոգում | D49: =+E49+F49+G49+H49 -> 12000 | E49: 0 | F49: 0 | G49: 12000 | H49: 0
A50: 1049 | B50: 21020 | C50: Միջպետական և հանրապետական նշանակության ավտոճանապարհների միջին նորոգում | D50: =+E50+F50+G50+H50 -> 2518783.7 | E50: =E52 -> 0 | F50: =F52+F56 -> 2518783.7 | G50: =G52 -> 0 | H50: =H52 -> 0
C51: այդ թվում`
B52: =+'[2]3'!B17 -> 1 | C52: =+'[2]3'!C17 -> Միջպետական նշանակության ավտոճանապարհներ, այդ թվում | D52: =+E52+F52+G52+H52 -> 1893780.5 | E52: =SUM(E53:E53) -> 0 | F52: =SUM(F53:F55) -> 1893780.5 | G52: =SUM(G53:G53) -> 0 | H52: =SUM(H53:H53) -> 0
C53: Մ-2, Երևան-Երասխ-Գորիս-Մեղրի–Իրանի Իսլամական Հանրապետության սահման միջպետական նշանակության ավտոճանապարհի կմ36+312-կմ47+490 (ձախ գոտի) հատվածի միջին նորոգում | D53: =+E53+F53+G53+H53 -> 612000 | E53: 0 | F53: 612000 | G53: 0 | H53: 0
C54: Մ-10, Սևան-Մարտունի-Գետափ-/Մ-2/ միջպետական նշանակության ավտոճանապարհի կմ104+866- կմ 108+800 հատվածի միջին նորոգում | D54: =+E54+F54+G54+H54 -> 235680 | E54: 0 | F54: 235680 | G54: 0 | H54: 0
C55: Մ17, /Մ-2/ Կապան-Ծավ-/Մ-2/ միջպետական նշանակության ավտոճանապարհի կմ 73+600-կմ90+800 հատվածի միջին նորոգում | D55: =+E55+F55+G55+H55 -> 1046100.5 | F55: 1046100.5
B56: 2 | C56: =Հ5!D63 -> Հանրապետական նշանակության ավտոճանապարհներ, այդ թվում | D56: =+E56+F56+G56+H56 -> 625003.2 | E56: =SUM(E57:E57) -> 0 | F56: =SUM(F57:F57) -> 625003.2 | G56: =SUM(G57:G57) -> 0 | H56: =SUM(H57:H57) -> 0
C57: Հ-6, /Հ-2/ –Նոր Գեղի - Եղվարդի տրանսպորտային հանգույց - /Մ-1/ հանրապետական նշանակության ավտոճանապարհի կմ0+000 - կմ1+577, կմ2+217-կմ12+000 և Հ-6, Մոտեցում Եղվարդին հանրապատական նշանակության ավտոճանապարհի կմ+000-կմ 3+150 հատվածի միջին նորոգում | D57: =+E57+F57+G57+H57 -> 625003.2 | E57: 0 | F57: 625003.2 | H57: 0
C59: ՀԱՅԱՍՏԱՆԻ ՀԱՆՐԱՊԵՏՈՒԹՅԱՆ
C60: ՎԱՐՉԱՊԵՏԻ ԱՇԽԱՏԱԿԱԶՄԻ
C61: ՂԵԿԱՎԱՐ ՝ | D61: Ա. ՀԱՐՈՒԹՅՈՒՆՅԱՆ

Sheet Հ2
D2: Հավելված N 2
D3: ՀՀ կառավարության 2023 թվականի
D4: ______________ ի ___Ն որոշման
A6: «ՀԱՅԱՍՏԱՆԻ ՀԱՆՐԱՊԵՏՈՒԹՅԱՆ 2023 ԹՎԱԿԱՆԻ ՊԵՏԱԿԱՆ ԲՅՈՒՋԵԻ ՄԱՍԻՆ» ՕՐԵՆՔԻ N 1 ՀԱՎԵԼՎԱԾԻ N 2 ԱՂՅՈՒՍԱԿՈՒՄ ՎԵՐԱԲԱՇԽՈՒՄ ԵՎ ՀԱՅԱՍՏԱՆԻ ՀԱՆՐԱՊԵՏՈՒԹՅԱՆ ԿԱՌԱՎԱՐՈՒԹՅԱՆ 2022 ԹՎԱԿԱՆԻ ԴԵԿՏԵՄԲԵՐԻ 29-Ի N 2111-Ն ՈՐՈՇՄԱՆ N 5 ՀԱՎԵԼՎԱԾԻ N 1 ԱՂՅՈՒՍԱԿՈՒՄ ԿԱՏԱՐՎՈՂ ՓՈՓՈԽՈՒԹՅՈՒՆՆԵՐԸ ԵՎ ԼՐԱՑՈՒՄՆԵՐԸ
D8: հազար դրամ
A9: Ծրագրային դասիչը | C9: Բյուջետային հատկացումների գլխավոր կարգադրիչների, ծրագրերի և միջոցառումների անվանումները | D9: Ցուցանիշների փոփոխությունը (ավելացումները նշված են դրական նշանով, իսկ նվազեցումները` փակագծերում)
A10: Ծրագիր | B10: Միջոցառում | D10: Տարի
B11: ԸՆԴԱՄԵՆԸ | D11: =D12 -> 0
C12: ՀՀ տարածքային կառավարման և ենթակառուցվածքների նախարարություն | D12: =D14 -> 0
A13: 1049 | C13: Ծրագրի անվանումը՝
C14: Ճանապարհային ցանցի բարելավում | D14: =D20+D27+D34+D40+D59+D53+D47 -> 0
C15: Ծրագրի նպատակը՝
C16: Ճանապարհային ցանցի բարելավում և անվտանգ երթևեկության ապահովում
C17: Վերջնական արդյունքի նկարագրությունը՝
C18: Ճանապարհների ծածկի որակի և փոխադրումների արդյունավետության բարելավում, ճանապարհների վիճակով պայմանավորված պատահարների նվազում
C19: Ծրագրի միջոցառումներ
B20: 11001 | C20: Միջոցառման անվանումը` | D20: ='Հ3 '!G23 -> -558156.2
C21: Միջպետական և հանրապետական նշանակության ավտոճանապարհների պահպանման և անվտանգ երթևեկության ծառայություններ
C22: Միջոցառման նկարագրությունը`
C23: Հողային պաստառի, երթևեկելի մասի, արհեստական կառույցների և կահավորման տարրերի նորմատիվ մակարդակում պահպանում և շահագործում
C24: Միջոցառման տեսակը
C25: Ծառայությունների մատուցում
C26: Ծրագրի միջոցառումներ
B27: 11016 | C27: Միջոցառման անվանումը` | D27: ='Հ3 '!G32 -> -201957.5
C28: Հյուսիս-հարավ ճանապարհային միջանցքի զարգացման ծրագրի Սիսիան-Քաջարան 60կմ-ի համակարգում և կառավարում
C29: Միջոցառման նկարագրությունը`
C30: Հյուսիս-հարավ ճանապարհային միջանցքի զարգացման ծրագրի շրջանակներում հողերի օտարում (Սիսիան-Քաջարան 60կմ)
C31: Միջոցառման տեսակը
C32: Ծառայությունների մատուցում
A33: Ծրագրի միջոցառումներ
B34: 21001 | C34: Միջոցառման անվանումը` | D34: ='Հ3 '!G41 -> -967175.3
C35: Պետական նշանակության ավտոճանապարհների հիմնանորոգում
C36: Միջոցառման նկարագրությունը`
C37: Միջպետական, հանրապետական և մարզային նշանակության ավտոճոնապարհների քայքայված ծածկի վերանորոգում, մաշված ծածկի փոխարինում
C38: Միջոցառման տեսակը
C39: Հանրության կողմից անմիջականորեն օգտագործվող ակտիվների հետ կապված միջոցառումներ
B40: 21002 | C40: Միջոցառման անվանումը` | D40: ='Հ3 '!G52 -> 14218
C41: Տրանսպորտային օբյեկտների հիմնանորոգում
C42: Միջոցառման նկարագրությունը`
C43: Ավտոմոբիլային ճանապարհների վրա գտնվող կամուրջների հիմնանորոգում
C44: Միջոցառման տեսակը
C45: Հանրության կողմից անմիջականորեն օգտագործվող ակտիվների հետ կապված միջոցառումներ
C46: Ծրագրի միջոցառումներ
B47: 21009 | C47: Միջոցառման անվանումը` | D47: ='Հ3 '!G63 -> -400000
C48: Եվրոպական ներդրումային բանկի աջակցությամբ իրականացվող Հյուսիս-հարավ միջանցքի զարգացման վարկային ծրագիր, Տրանշ 3
C49: Միջոցառման նկարագրությունը`
C50: Լանջիկ-Գյումրի 27.47 կմ երկարությամբ ճանապարհային հատվածի կառուցում
C51: Միջոցառման տեսակը
C52: Հանրության կողմից անմիջականորեն օգտագործվող ակտիվների հետ կապված միջոցառումներ
B53: 21012 | C53: Միջոցառման անվանումը` | D53: ='Հ3 '!G72 -> -405712.7
C54: Եվրասիական զարգացման բանկի աջակցությամբ իրականացվող Հյուսիս-հարավ միջանցքի զարգացման ծրագիր
C55: Միջոցառման նկարագրությունը`
C56: Ճանապարհաշինական աշխատանքներ
C57: Միջոցառման տեսակը
C58: Հանրության կողմից անմիջականորեն օգտագործվող ակտիվների հետ կապված միջոցառումներ
B59: 21020 | C59: Միջոցառման անվանումը` | D59: ='Հ3 '!G81 -> 2518783.7
C60: Միջպետական և հանրապետական նշանակության ավտոճանապարհների միջին նորոգում
C61: Միջոցառման նկարագրությունը`
C62: Միջպետական և հանրապետական նշանակության ավտոճանապարհների պատվածքի մաշված վերին շերտի վերականգնում և շինարարական նորմերով նախատեսված սկզբնական որակական ցուցանիշների ապահովում
C63: Միջոցառման տեսակը
C64: Հանրության կողմից անմիջականորեն օգտագործվող ակտիվների հետ կապված միջոցառումներ
A67: ՀԱՅԱՍՏԱՆԻ ՀԱՆՐԱՊԵՏՈՒԹՅԱՆ
A68: ՎԱՐՉԱՊԵՏԻ ԱՇԽԱՏԱԿԱԶՄԻ
B69: ՂԵԿԱՎԱՐ ՝ Ա. ՀԱՐՈՒԹՅՈՒՆՅԱՆ

Sheet Հ3 
G1: Հավելված N 3
G2: ՀՀ կառավարության 2023 թվականի
G3: ______________ ի ___Ն որոշման
A5: ՀԱՅԱՍՏԱՆԻ ՀԱՆՐԱՊԵՏՈՒԹՅԱՆ ԿԱՌԱՎԱՐՈՒԹՅԱՆ 2022 ԹՎԱԿԱՆԻ ԴԵԿՏԵՄԲԵՐԻ 29-Ի N 2111-Ն ՈՐՈՇՄԱՆ N 3 ԵՎ N 4 ՀԱՎԵԼՎԱԾՆԵՐՈՒՄ ԿԱՏԱՐՎՈՂ ՓՈՓՈԽՈՒԹՅՈՒՆՆԵՐԸ ԵՎ ԼՐԱՑՈՒՄՆԵՐԸ
G7: հազար դրամներով
A8: Գործառական դասիչը | D8: Ծրագրային դասիչը | F8: Բյուջետային հատկացումների գլխավոր կարգադրիչների, ծրագրերի, միջոցառումների և միջոցառումները կատարող պետական մարմինների անվանումները | G8: Ցուցանիշների փոփոխությունը (ավելացումները նշված են դրական նշանով, իսկ նվազեցումները` փակագծերում)
A9: Բաժին | B9: Խումբ | C9: Դաս | D9: Ծրագիր | E9: Միջոցառում | G9: Տարի
F10: ԸՆԴԱՄԵՆԸ | G10: =G12 -> 0
F11: այդ թվում
F12: ՀՀ տարածքային կառավարման և ենթակառուցվածքների նախարարություն | G12: 0
A13: 04 | F13: ՏՆՏԵՍԱԿԱՆ ՀԱՐԱԲԵՐՈՒԹՅՈՒՆՆԵՐ | G13: 0
F14: այդ թվում`
B15: 05 | F15: Տրանսպորտ | G15: 0
F16: այդ թվում`
C17: 01 | F17: Ճանապարհային տրանսպորտ | G17: 0
F18: այդ թվում`
F19: ՀՀ տարածքային կառավարման և ենթակառուցվածքների նախարարություն | G19: 0
F20: այդ թվում`
D21: 1049 | F21: Ճանապարհային ցանցի բարելավում | G21: =G23+G32+G41+G52+G72+G81+G63 -> 0
F22: այդ թվում`
E23: 11001 | F23: Միջպետական և հանրապետական նշանակության ավտոճանապարհների պահպանման և անվտանգ երթևեկության ծառայություններ | G23: =+G25 -> -558156.2
F24: այդ թվում` ըստ կատարողների
F25: ՀՀ տարածքային կառավարման և ենթակառուցվածքների նախարարություն | G25: =+G27 -> -558156.2
F26: այդ թվում` բյուջետային ծախսերի տնտեսագիտական դասակարգման հոդվածներ
F27: ԸՆԴԱՄԵՆԸ ԾԱԽՍԵՐ | G27: =+G28 -> -558156.2
F28: ԸՆԹԱՑԻԿ ԾԱԽՍԵՐ | G28: =+G29 -> -558156.2
F29: ԾԱՌԱՅՈՒԹՅՈՒՆՆԵՐԻ ԵՎ ԱՊՐԱՆՔՆԵՐԻ ՁԵՌՔԲԵՐՈՒՄ | G29: =+G30 -> -558156.2
F30: Ընթացիկ նորոգում և պահպանում (ծառայություններ և նյութեր) | G30: =+G31 -> -558156.2
F31: - Շենքերի և կառույցների ընթացիկ նորոգում և պահպանում | G31: =Հ6!D12 -> -558156.2
E32: 11016 | F32: Հյուսիս-հարավ ճանապարհային միջանցքի զարգացման ծրագրի Սիսիան-Քաջարան 60կմ-ի համակարգում և կառավարում | G32: =+G34 -> -201957.5
F33: այդ թվում` ըստ կատարողների
F34: ՀՀ տարածքային կառավարման և ենթակառուցվածքների նախարարություն | G34: =+G36 -> -201957.5
F35: այդ թվում` բյուջետային ծախսերի տնտեսագիտական դասակարգման հոդվածներ
F36: ԸՆԴԱՄԵՆԸ ԾԱԽՍԵՐ | G36: =+G37 -> -201957.5
F37: ԸՆԹԱՑԻԿ ԾԱԽՍԵՐ | G37: =+G38 -> -201957.5
F38: ԴՐԱՄԱՇՆՈՐՀՆԵՐ | G38: =+G39 -> -201957.5
F39: Կապիտալ դրամաշնորհներ պետական հատվածի այլ մակարդակներին | G39: =+G40 -> -201957.5
F40: - Այլ կապիտալ դրամաշնորհներ | G40: =-201957.5 -> -201957.5
E41: 21001 | F41: Պետական նշանակության ավտոճանապարհների հիմնանորոգում | G41: =G43 -> -967175.3
F42: այդ թվում` ըստ կատարողների
F43: ՀՀ տարածքային կառավարման և ենթակառուցվածքների նախարարություն | G43: =G45 -> -967175.3
F44: այդ թվում`բյուջետային ծախսերի տնտեսագիտական դասակարգման հոդվածներ
F45: ԸՆԴԱՄԵՆԸ ԾԱԽՍԵՐ | G45: =+G46 -> -967175.3
F46: ՈՉ ՖԻՆԱՆՍԱԿԱՆ ԱԿՏԻՎՆԵՐԻ ԳԾՈՎ ԾԱԽՍԵՐ | G46: =G47 -> -967175.3
F47: ՀԻՄՆԱԿԱՆ ՄԻՋՈՑՆԵՐ | G47: =+G48+G50 -> -967175.3
F48: ՇԵՆՔԵՐ ԵՎ ՇԻՆՈՒԹՅՈՒՆՆԵՐ | G48: =+G49 -> -1041812.8
F49: - Շենքերի և շինությունների կապիտալ վերանորոգում | G49: =Հ1!F13 -> -1041812.8
F50: ԱՅԼ ՀԻՄՆԱԿԱՆ ՄԻՋՈՑՆԵՐ | G50: =+G51 -> 74637.5
F51: - Նախագծահետազոտական ծախսեր | G51: =Հ1!G13 -> 74637.5
E52: 21002 | F52: Տրանսպորտային օբյեկտների հիմնանորոգում | G52: =+G54 -> 14218
F53: այդ թվում` ըստ կատարողների
F54: ՀՀ տարածքային կառավարման և ենթակառուցվածքների նախարարություն | G54: =G56 -> 14218
F55: այդ թվում`բյուջետային ծախսերի տնտեսագիտական դասակարգման հոդվածներ
F56: ԸՆԴԱՄԵՆԸ ԾԱԽՍԵՐ | G56: =+G57 -> 14218
F57: ՈՉ ՖԻՆԱՆՍԱԿԱՆ ԱԿՏԻՎՆԵՐԻ ԳԾՈՎ ԾԱԽՍԵՐ | G57: =G58 -> 14218
F58: ՀԻՄՆԱԿԱՆ ՄԻՋՈՑՆԵՐ | G58: =G59+G61 -> 14218
F59: ՇԵՆՔԵՐ ԵՎ ՇԻՆՈՒԹՅՈՒՆՆԵՐ | G59: =+G60 -> -6453
F60: - Շենքերի և շինությունների կապիտալ վերանորոգում | G60: =Հ1!F43 -> -6453
F61: ԱՅԼ ՀԻՄՆԱԿԱՆ ՄԻՋՈՑՆԵՐ | G61: =+G62 -> 20671
F62: - Նախագծահետազոտական ծախսեր | G62: =Հ1!G43 -> 20671
E63: 21009 | F63: Եվրոպական ներդրումային բանկի աջակցությամբ իրականացվող Հյուսիս-հարավ միջանցքի զարգացման վարկային ծրագիր, Տրանշ 3 | G63: =G65 -> -400000
F64: այդ թվում` ըստ կատարողների
F65: ՀՀ տարածքային կառավարման և ենթակառուցվածքների նախարարություն | G65: =G67 -> -400000
F66: այդ թվում`բյուջետային ծախսերի տնտեսագիտական դասակարգման հոդվածներ
F67: ԸՆԴԱՄԵՆԸ ԾԱԽՍԵՐ | G67: =+G68 -> -400000
F68: ՈՉ ՖԻՆԱՆՍԱԿԱՆ ԱԿՏԻՎՆԵՐԻ ԳԾՈՎ ԾԱԽՍԵՐ | G68: =G69 -> -400000
F69: ՀԻՄՆԱԿԱՆ ՄԻՋՈՑՆԵՐ | G69: =+G70 -> -400000
F70: ՇԵՆՔԵՐ ԵՎ ՇԻՆՈՒԹՅՈՒՆՆԵՐ | G70: =G71 -> -400000
F71: - Շենքերի և շինությունների շինարարություն | G71: -400000
E72: 21012 | F72: Եվրասիական զարգացման բանկի աջակցությամբ իրականացվող Հյուսիս-հարավ միջանցքի զարգացման ծրագիր | G72: =G74 -> -405712.7
F73: այդ թվում` ըստ կատարողների
F74: ՀՀ տարածքային կառավարման և ենթակառուցվածքների նախարարություն | G74: =G76 -> -405712.7
F75: այդ թվում`բյուջետային ծախսերի տնտեսագիտական դասակարգման հոդվածներ
F76: ԸՆԴԱՄԵՆԸ ԾԱԽՍԵՐ | G76: =+G77 -> -405712.7
F77: ՈՉ ՖԻՆԱՆՍԱԿԱՆ ԱԿՏԻՎՆԵՐԻ ԳԾՈՎ ԾԱԽՍԵՐ | G77: =G78 -> -405712.7
F78: ՀԻՄՆԱԿԱՆ ՄԻՋՈՑՆԵՐ | G78: =+G79 -> -405712.7
F79: ՇԵՆՔԵՐ ԵՎ ՇԻՆՈՒԹՅՈՒՆՆԵՐ | G79: =+G80 -> -405712.7
F80: - Շենքերի և շինությունների շինարարություն | G80: -405712.7
E81: 21020 | F81: Միջպետական և հանրապետական նշանակության ավտոճանապարհների միջին նորոգում | G81: =G83 -> 2518783.7
F82: այդ թվում` ըստ կատարողների
F83: ՀՀ տարածքային կառավարման և ենթակառուցվածքների նախարարություն | G83: =G85 -> 2518783.7
F84: այդ թվում`բյուջետային ծախսերի տնտեսագիտական դասակարգման հոդվածներ
F85: ԸՆԴԱՄԵՆԸ ԾԱԽՍԵՐ | G85: =+G86 -> 2518783.7
F86: ՈՉ ՖԻՆԱՆՍԱԿԱՆ ԱԿՏԻՎՆԵՐԻ ԳԾՈՎ ԾԱԽՍԵՐ | G86: =G87 -> 2518783.7
F87: ՀԻՄՆԱԿԱՆ ՄԻՋՈՑՆԵՐ | G87: =+G88 -> 2518783.7
F88: ՇԵՆՔԵՐ ԵՎ ՇԻՆՈՒԹՅՈՒՆՆԵՐ | G88: =+G89 -> 2518783.7
F89: - Շենքերի և շինությունների կապիտալ վերանորոգում | G89: =Հ1!D50 -> 2518783.7
A91: ՀԱՅԱՍՏԱՆԻ ՀԱՆՐԱՊԵՏՈՒԹՅԱՆ
A92: ՎԱՐՉԱՊԵՏԻ ԱՇԽԱՏԱԿԱԶՄԻ
B93: ՂԵԿԱՎԱՐ ՝ Ա. ՀԱՐՈՒԹՅՈՒՆՅԱՆ

Sheet Հ4
G1: Հավելված N 4
G2: ՀՀ կառավարության 2023 թվականի
G3: ______________ ի ___Ն որոշման
B5: «ՀԱՅԱUՏԱՆԻ ՀԱՆՐԱՊԵՏՈՒԹՅԱՆ 2023 ԹՎԱԿԱՆԻ ՊԵՏԱԿԱՆ ԲՅՈՒՋԵԻ ՄԱUԻՆ» OՐԵՆՔԻ N 1 ՀԱՎԵԼՎԱԾԻ N 4 ԱՂՅՈՒՍԱԿՈՒՄ ԵՎ ՀԱՅԱՍՏԱՆԻ ՀԱՆՐԱՊԵՏՈՒԹՅԱՆ ԿԱՌԱՎԱՐՈՒԹՅԱՆ 2022 ԹՎԱԿԱՆԻ ԴԵԿՏԵՄԲԵՐԻ 29-Ի N 2111-Ն ՈՐՈՇՄԱՆ N 5 ՀԱՎԵԼՎԱԾԻ N 3 ԱՂՅՈՒՍԱԿՈՒՄ ԿԱՏԱՐՎՈՂ ՓՈՓՈԽՈՒԹՅՈՒՆՆԵՐԸ
G6: հազ. դրամ
B7: Ծրագրային դասիչը | D7: Բյուջետային գլխավոր կարգադրիչների, ծրագրերի և միջոցառումների անվանումները | E7: Ցուցանիշների փոփոխությունը (ավելացումները նշված են դրական նշանով, իսկ նվազեցումները` փակագծերում)
E8: Տարի
E9: Ընդամենը | F9: այդ թվում`
B10: Ծրագիր | C10: Միջոց առում | F10: Վարկային միջոցներ | G10: Համաֆինանսավորում
D11: ԸՆԴԱՄԵՆԸ_x000D_ այդ թվում` | E11: =E12+E13 -> -1007670.2 | F11: =F12+F13 -> 0 | G11: =G12+G13 -> -1007670.2
D12: - ԸՆԹԱՑԻԿ ԾԱԽՍԵՐ | E12: =E14 -> -1007670.2 | F12: =F14 -> 0 | G12: =G14 -> -1007670.2
D13: - ՈՉ ՖԻՆԱՆՍԱԿԱՆ ԱԿՏԻՎՆԵՐԻ ԳԾՈՎ ԾԱԽՍԵՐ
D14: ՀՀ ՏԱՐԱԾՔԱՅԻՆ ԿԱՌԱՎԱՐՄԱՆ ԵՎ ԵՆԹԱԿԱՌՈՒՑՎԱԾՔՆԵՐԻ ՆԱԽԱՐԱՐՈՒԹՅՈՒՆ_x000D_ այդ թվում` | E14: =E15 -> -1007670.2 | F14: =F15 -> 0 | G14: =G15 -> -1007670.2
B15: 1049 | D15: ='Հ3 '!F21 -> Ճանապարհային ցանցի բարելավում | E15: =E17+E35+E26 -> -1007670.2 | F15: =F17+F35+F26 -> 0 | G15: =G17+G35+G26 -> -1007670.2
D16: այդ թվում`
C17: 11016 | D17: ='Հ3 '!F32 -> Հյուսիս-հարավ ճանապարհային միջանցքի զարգացման ծրագրի Սիսիան-Քաջարան 60կմ-ի համակարգում և կառավարում | E17: =F17+G17 -> -201957.5 | F17: =F19 -> 0 | G17: =G19 -> -201957.5
D18: այդ թվում` ըստ կատարողների
D19: ՀՀ տարածքային կառավարման և ենթակառուցվածքների նախարարություն | E19: =F19+G19 -> -201957.5 | F19: =F24 -> 0 | G19: =G24 -> -201957.5
D20: այդ թվում` բյուջետային ծախսերի տնտեսագիտական դասակարգման հոդվածներ | E20: =F20+G20 -> 0
D21: ԸՆԴԱՄԵՆԸ ԾԱԽՍԵՐ | E21: =F21+G21 -> -201957.5 | F21: =F22 -> 0 | G21: =G22 -> -201957.5
D22: ԸՆԹԱՑԻԿ ԾԱԽՍԵՐ | E22: =F22+G22 -> -201957.5 | F22: =F23 -> 0 | G22: =G23 -> -201957.5
D23: ԴՐԱՄԱՇՆՈՐՀՆԵՐ | E23: =F23+G23 -> -201957.5 | F23: =F24 -> 0 | G23: =G24 -> -201957.5
D24: Կապիտալ դրամաշնորհներ պետական հատվածի այլ մակարդակներին | E24: =F24+G24 -> -201957.5 | F24: =F25 -> 0 | G24: =G25 -> -201957.5
D25: - Այլ կապիտալ դրամաշնորհներ | E25: =F25+G25 -> -201957.5 | F25: 0 | G25: ='Հ3 '!G40 -> -201957.5
C26: 21009 | D26: =+'[3]Հ3 '!F63 -> Եվրոպական ներդրումային բանկի աջակցությամբ իրականացվող Հյուսիս-հարավ միջանցքի զարգացման վարկային ծրագիր, Տրանշ 3 | E26: =F26+G26 -> -400000 | F26: =F28 -> 0 | G26: =G28 -> -400000
D27: այդ թվում` ըստ կատարողների | E27: =F27+G27 -> 0
D28: ՀՀ տարածքային կառավարման և ենթակառուցվածքների նախարարություն | E28: =F28+G28 -> -400000 | F28: =F33 -> 0 | G28: =G30 -> -400000
D29: այդ թվում` բյուջետային ծախսերի տնտեսագիտական դասակարգման հոդվածներ | E29: =F29+G29 -> 0
D30: ԸՆԴԱՄԵՆԸ ԾԱԽՍԵՐ | E30: =F30+G30 -> -400000 | F30: =F31 -> 0 | G30: =G31 -> -400000
D31: ՈՉ ՖԻՆԱՆՍԱԿԱՆ ԱԿՏԻՎՆԵՐԻ ԳԾՈՎ ԾԱԽՍԵՐ | E31: =F31+G31 -> -400000 | F31: =F32 -> 0 | G31: =G32 -> -400000
D32: ՀԻՄՆԱԿԱՆ ՄԻՋՈՑՆԵՐ | E32: =F32+G32 -> -400000 | F32: =F33 -> 0 | G32: =+G33 -> -400000
D33: ՇԵՆՔԵՐ ԵՎ ՇԻՆՈՒԹՅՈՒՆՆԵՐ | E33: =F33+G33 -> -400000 | F33: =F34 -> 0 | G33: =G34 -> -400000
D34: - Շենքերի և շինությունների շինարարություն | E34: =F34+G34 -> -400000 | F34: 0 | G34: =+'[3]Հ3 '!G71 -> -400000
C35: 21012 | D35: ='Հ3 '!F72 -> Եվրասիական զարգացման բանկի աջակցությամբ իրականացվող Հյուսիս-հարավ միջանցքի զարգացման ծրագիր | E35: =F35+G35 -> -405712.7 | F35: =F37 -> 0 | G35: =G37 -> -405712.7
D36: այդ թվում` ըստ կատարողների | E36: =F36+G36 -> 0
D37: ՀՀ տարածքային կառավարման և ենթակառուցվածքների նախարարություն | E37: =F37+G37 -> -405712.7 | F37: =F42 -> 0 | G37: =G39 -> -405712.7
D38: այդ թվում` բյուջետային ծախսերի տնտեսագիտական դասակարգման հոդվածներ | E38: =F38+G38 -> 0
D39: ԸՆԴԱՄԵՆԸ ԾԱԽՍԵՐ | E39: =F39+G39 -> -405712.7 | F39: =F40 -> 0 | G39: =G40 -> -405712.7
D40: ՈՉ ՖԻՆԱՆՍԱԿԱՆ ԱԿՏԻՎՆԵՐԻ ԳԾՈՎ ԾԱԽՍԵՐ | E40: =F40+G40 -> -405712.7 | F40: =F41 -> 0 | G40: =G41 -> -405712.7
D41: ՀԻՄՆԱԿԱՆ ՄԻՋՈՑՆԵՐ | E41: =F41+G41 -> -405712.7 | F41: =F42 -> 0 | G41: =G42 -> -405712.7
D42: ՇԵՆՔԵՐ ԵՎ ՇԻՆՈՒԹՅՈՒՆՆԵՐ | E42: =F42+G42 -> -405712.7 | F42: =F43 -> 0 | G42: =G43 -> -405712.7
D43: - Շենքերի և շինությունների շինարարություն | E43: =F43+G43 -> -405712.7 | F43: 0 | G43: ='Հ3 '!G80 -> -405712.7
D45: ՀԱՅԱՍՏԱՆԻ ՀԱՆՐԱՊԵՏՈՒԹՅԱՆ ՎԱՐՉԱՊԵՏԻ ԱՇԽԱՏԱԿԱԶՄԻ ՂԵԿԱՎԱՐ՝ | E45: Ա. ՀԱՐՈՒԹՅՈՒՆՅԱՆ

Sheet Հ5
E1: Հավելված N 5
E2: ՀՀ կառավարության 2023 թվականի
E3: ______________ ի ___Ն որոշման
A5: ՀԱՅԱՍՏԱՆԻ ՀԱՆՐԱՊԵՏՈՒԹՅԱՆ ԿԱՌԱՎԱՐՈՒԹՅԱՆ 2022 ԹՎԱԿԱՆԻ ԴԵԿՏԵՄԲԵՐԻ 29-Ի N 2111-Ն ՈՐՈՇՄԱՆ N 5 ՀԱՎԵԼՎԱԾԻ N 2 ԱՂՅՈՒՍԱԿՈՒՄ ԿԱՏԱՐՎՈՂ ՓՈՓՈԽՈՒԹՅՈՒՆՆԵՐԸ ԵՎ ԼՐԱՑՈՒՄՆԵՐԸ
E7: հազար դրամներով
B8: Ծրագրային դասիչը | D8: Հատկացումների տրամադրման նպատակները և բյուջետային գլխավոր կարգադրիչների, ծրագրերի, միջոցառումների և կատարող պետական մարմնի անվանումները | E8: Ցուցանիշների փոփոխությունը (ավելացումները նշված են դրական նշանով, իսկ նվազեցումները` փակագծերում)
B9: Ծրագիր | C9: Միջոցառում | E9: Տարի
D10: ԸՆԴԱՄԵՆԸ | E10: =+E12 -> 1565826.4
D11: այդ թվում՝
D12: ՀՀ ՏԱՐԱԾՔԱՅԻՆ ԿԱՌԱՎԱՐՄԱՆ ԵՎ ԵՆԹԱԿԱՌՈՒՑՎԱԾՔՆԵՐԻ ՆԱԽԱՐԱՐՈՒԹՅՈՒՆ | E12: =E14+E46+E56 -> 1565826.4
D13: այդ թվում`
B14: 1049 | C14: 21001 | D14: Պետական նշանակության ավտոճանապարհների հիմնանորոգում | E14: =+E16 -> -967175.3
D15: այդ թվում` ըստ կատարողների
D16: ՀՀ տարածքային կառավարման և ենթակառուցվածքների նախարարություն | E16: =+E18+E26+E30 -> -967175.3
D17: այդ թվում՝ ըստ ուղղությունների
C18: 1 | D18: Միջպետական նշանակության ավտոճանապարհներ, այդ թվում | E18: =SUM(E19:E25) -> -377164.1
D19: =Հ1!C16 -> Մ-1, Երևան-Գյումրի-Վրաստանի սահման միջպետական նշանակության ավտոճանապարհի կմ113+200-կմ 118+900 հատվածի հիմնանորոգում | E19: =Հ1!D16 -> -99320
D20: =Հ1!C17 -> Մ-1, Երևան-Գյումրի-Վրաստանի սահման միջպետական նշանակության ավտոճանապարհի կմ 141+500-կմ143+300 հատվածի հիմնանորոգում | E20: =Հ1!D17 -> -13595.8
D21: =Հ1!C18 -> Մ-2, Երևան-Երասխ-Գորիս-Մեղրի-Իրանի սահման միջպետական նշանակության ավտոճանապարհի կմ131+500 - կմ139+000 հատվածի հիմնանորոգում | E21: =Հ1!D18 -> -12108.9
D22: =Հ1!C19 -> Մ-2, Երևան-Երասխ-Գորիս-Մեղրի-Իրանի սահման միջպետական նշանակության ավտոճանապարհի կմ142+000 - կմ150+700 հատվածի հիմնանորոգում | E22: =Հ1!D19 -> -3815.3
D23: =Հ1!C20 -> Մ-2, (Սյունիք) /Մ-2/ - Աղվանի- Տաթև - /Մ-2/ միջպետական նշանակության ավտոճանապարհի Վերին Խոտանանը շրջանցող ճանապարհահատվածի կառուցում (I փուլ) | E23: =Հ1!D20 -> -243969.9
D24: =Հ1!C21 -> Մ-2, Երևան-Երասխ-Գորիս-Մեղրի-Իրանի սահման միջպետական նշանակության ավտոճանապարհի կմ329+820 - կմ338+100 հատվածի հիմնանորոգում | E24: =Հ1!D21 -> -22284.7
D25: =Հ1!C22 -> Մ-16, /Մ-4/ - Ոսկեպար - Նոյեմբերյան - /Մ-6/ միջպետական նշանակության ավտոճանապարհի կմ0+070-կմ7+000 հատվածի հիմնանորոգում | E25: =Հ1!D22 -> 17930.5
C26: 2 | D26: Հանրապետական նշանակության ավտոճանապարհներ, այդ թվում | E26: =SUM(E27:E29) -> -427009.4
D27: =Հ1!C24 -> Հ-1, Վ. Պտղնու տրանսպորտային հանգույց - Ջրաբեր-Հրազդան -Հրազդանի քրեակատարողական հիմնարկ հանրապետական նշանակության ավտոճանապարհի կմ0+000 - կմ5+023 հատվածի հիմնանորոգում | E27: =Հ1!D24 -> 1990
D28: =Հ1!C25 -> Հ-7, /Հ-5/ - Կարենիս - Չարենցավան /Հ-1/ (Ֆանտան)հանրապետական նշանակության ավտոճանապարհի կմ7+580 - կմ10+200 հատվածի հիմնանորոգում | E28: =Հ1!D25 -> 217735.1
D29: =Հ1!C26 -> Հ-36, /Մ-4/ (Իջևան) - Նավուր - Բերդ - Այգեպար հանրապետական նշանակության ավտոճանապարհի կմ 5+600-կմ 42+100 հատվածի հիմնանորոգում | E29: =Հ1!D26 -> -646734.5
C30: 3 | D30: Մարզային նշանակության ավտոճանապարհներ, այդ թվում | E30: =SUM(E31:E45) -> -163001.8
D31: =Հ1!C28 -> Տ-1-15, /Հ-21/ - Ծաղկահովիտ ավտոճանապարհի կմ0+000 - կմ1+300 հատվածի հիմնանորոգում | E31: =Հ1!D28 -> -4591.5
D32: =Հ1!C29 -> Տ-1-52, /Հ-21/ - Գեղաձոր ավտոճանապարհի կմ0+000-կմ1+600 հատվածի հիմնանորոգում | E32: =Հ1!D29 -> -1660.9
D33: =Հ1!C30 -> Զարինջա - Ձիթհանքով ավտոճանապարհի 4.3 կմ երկարությամբ հատվածի հիմնանորոգում | E33: =Հ1!D30 -> 3349.5
D34: =Հ1!C31 -> Տ-3-11 /Հ-15/ (Արմավիր գ.) – Նալբանդյան – Գետաշեն – Նոր Կեսարիա – /Մ-5/ ավտոճանապարհի կմ6+000-կմ10+000 հատվածի հիմնանորոգում | E34: =Հ1!D31 -> 598930.3
D35: =Հ1!C32 -> Տ-5-7, /Մ-7/ (Շիրակամուտ) - Լեռնավան (Տ-5-38) ավտոճանապարհի կմ0+000 - կմ1+142 հատվածի հիմնանորոգում | E35: =Հ1!D32 -> -897.5
D36: =Հ1!C33 -> Տ-5-93, /Հ-70/ - Մարց մարզային նշանակության ավտոճանապարհի կմ0+000 - կմ0+800 հատվածի հիմնանորոգում | E36: =Հ1!D33 -> -380.3
D37: =Հ1!C34 -> Տ-9-19, /Մ-2/ - Հերհեր -Կարմրաշեն մարզային նշանակության ավտոճանապարհի կմ10+000 - կմ18+700 հատվածի հիմնանորոգում | E37: =Հ1!D34 -> -3607.8
D38: =Հ1!C35 -> Իջևան քաղաքի Սարիբեկ-Օհանյան փողոցի կմ0+000-կմ1+145 հատվածի հիմնանորոգում | E38: =Հ1!D35 -> 15719.2
D39: =Հ1!C36 -> Վանաձոր քաղաքային համայնքի Նարեկացի փողոց-Կոմիտաս վարդապետ Հրապարակ էստակադայի հիմնանորոգում | E39: =Հ1!D36 -> -6803.2
D40: =Հ1!C37 -> Մ-5, Երևան - Արմավիր - Թուրքիայի սահման միջպետական նշանակության ավտոճանապարհից դեպի «Արմենիա միջազգային օդանավակայաններ» ՓԲ Ընկերության բեռնային համալիր տանող 1.7կմ երկարությամբ ճանապարհի հիմնանորոգում | E40: =Հ1!D37 -> -5643.8
D41: =Հ1!C38 -> Տ-8-93, Լծեն-Տաթև ավտոճանապարհի վերակառուցում | E41: =Հ1!D38 -> -139877.2
D42: =Հ1!C39 -> Տ-8-49,/Տ-8-48/-Լծեն ավտոճանապարհի վերակառուցում | E42: =Հ1!D39 -> -40982.6
... D45: =Հ1!C42 -> /Մ-12/-Կոռնիձոր-ՀՀ սահման ավտոճանապարհի կմ9+000- կմ11+779.75 հատվածի վերակառուցում | E45: =Հ1!D42 -> -645854
B46: 1049 | C46: 21002 | D46: Տրանսպորտային օբյեկտների հիմնանորոգում | E46: =+E48 -> 14218
D47: այդ թվում` ըստ կատարողների
D48: ՀՀ տարածքային կառավարման և ենթակառուցվածքների նախարարություն | E48: =SUM(E50:E55) -> 14218
D49: այդ թվում՝ ըստ ուղղությունների
D50: =Հ1!C44 -> Մ-6, Վանաձոր (Մ-3 հատման կետ) – Ալավերդի - Վրաստանի սահման միջպետական նշանակության ավտոճանապարհի կմ 51+100-ում գտնող փլուզված հենապատի վերականգում | E50: =Հ1!D44 -> 1375
D51: =Հ1!C45 -> Հ-13,/Մ-3/ (Վաղարշապատ) - Մասիս - /Մ-2/ հանրապետական նշանակության ավտոճանապարհի կմ9+800-ում գտնվող կամուրջի հիմնանորոգում | E51: =Հ1!D45 -> 4140
D52: =Հ1!C46 -> Տ-3-36, Աղավնատուն (Տ-3-44) - Ամբերդ – Այգեշատ - Դաշտ (Տ-3-64) տեղական նշանակության ավտոճանապարհի կմ2+610-ում գտնվող կամուրջի հիմնանորոգում | E52: =Հ1!D46 -> 2736
D53: =Հ1!C47 -> Մ-3, Թուրքիայի սահման-Մարգարա-Վանաձոր-Տաշիր-Վրաստանի սահման միջպետական նշանակության ավտոճանապարհի կմ11+400 հատվածում գտնվող կամրջի հիմնանորոգում | E53: =Հ1!D47 -> -6453
D54: =Հ1!C48 -> Սևանի տրանսպորտային հանգույցի հիմնանորոգում | E54: =Հ1!D48 -> 420
D55: =Հ1!C49 -> Մ-7, /Մ-3/ - Սպիտակ – Գյումրի - Թուրքիայի Հանրապետության սահման միջպետական նշանակության ավտոճանապարհի կմ4+500-ում գտնվող Նալբանդի թունելի հիմնանորոգում | E55: =Հ1!D49 -> 12000
B56: 1049 | C56: 21020 | D56: =Հ1!C50 -> Միջպետական և հանրապետական նշանակության ավտոճանապարհների միջին նորոգում | E56: =E57 -> 2518783.7
D57: ՀՀ տարածքային կառավարման և ենթակառուցվածքների նախարարություն | E57: =E59+E63 -> 2518783.7
D58: այդ թվում՝ ըստ ուղղությունների
C59: 1 | D59: Միջպետական նշանակության ավտոճանապարհներ, այդ թվում | E59: =SUM(E60:E62) -> 1893780.5
D60: =Հ1!C53 -> Մ-2, Երևան-Երասխ-Գորիս-Մեղրի–Իրանի Իսլամական Հանրապետության սահման միջպետական նշանակության ավտոճանապարհի կմ36+312-կմ47+490 (ձախ գոտի) հատվածի միջին նորոգում | E60: =Հ1!D53 -> 612000
D61: =Հ1!C54 -> Մ-10, Սևան-Մարտունի-Գետափ-/Մ-2/ միջպետական նշանակության ավտոճանապարհի կմ104+866- կմ 108+800 հատվածի միջին նորոգում | E61: =Հ1!D54 -> 235680
D62: =Հ1!C55 -> Մ17, /Մ-2/ Կապան-Ծավ-/Մ-2/ միջպետական նշանակության ավտոճանապարհի կմ 73+600-կմ90+800 հատվածի միջին նորոգում | E62: =Հ1!D55 -> 1046100.5
C63: 2 | D63: Հանրապետական նշանակության ավտոճանապարհներ, այդ թվում | E63: =Հ1!D56 -> 625003.2
D64: =Հ1!C57 -> Հ-6, /Հ-2/ –Նոր Գեղի - Եղվարդի տրանսպորտային հանգույց - /Մ-1/ հանրապետական նշանակության ավտոճանապարհի կմ0+000 - կմ1+577, կմ2+217-կմ12+000 և Հ-6, Մոտեցում Եղվարդին հանրապատական նշանակության ավտոճանապարհի կմ+000-կմ 3+150 հատվածի միջին նորոգում | E64: =Հ1!D57 -> 625003.2
C67: ՀԱՅԱՍՏԱՆԻ ՀԱՆՐԱՊԵՏՈՒԹՅԱՆ
C68: ՎԱՐՉԱՊԵՏԻ ԱՇԽԱՏԱԿԱԶՄԻ
C69: ՂԵԿԱՎԱՐ ՝ | D69: Ա. ՀԱՐՈՒԹՅՈՒՆՅԱՆ

Sheet Հ6
D2: Հավելված N 6
B3: ՀՀ կառավարության 2023 թվականի
B4: ______________ ի ___Ն որոշման
A6: «ՀԱՅԱՍՏԱՆԻ ՀԱՆՐԱՊԵՏՈՒԹՅԱՆ 2023 ԹՎԱԿԱՆԻ ՊԵՏԱԿԱՆ ԲՅՈՒՋԵԻ ՄԱՍԻՆ» ՕՐԵՆՔԻ N 1 ՀԱՎԵԼՎԱԾԻ N 6 ԱՂՅՈՒՍԱԿՈՒՄ ԿԱՏԱՐՎՈՂ ՎԵՐԱԲԱՇԽՈՒՄ, ՀԱՅԱՍՏԱՆԻ ՀԱՆՐԱՊԵՏՈՒԹՅԱՆ ԿԱՌԱՎԱՐՈՒԹՅԱՆ 2022 ԹՎԱԿԱՆԻ ԴԵԿՏԵՄԲԵՐԻ 23-Ի N 2111-Ն ՈՐՈՇՄԱՆ N 5 ՀԱՎԵԼՎԱԾԻ N 5 ԱՂՅՈՒՍԱԿՈՒՄ ԿԱՏԱՐՎՈՂ ՓՈՓՈԽՈՒԹՅՈՒՆՆԵՐԸ ԵՎ ԼՐԱՑՈՒՄՆԵՐԸ
D8: հազար դրամ
A9: Ծրագրային դասիչը | C9: Բյուջետային ծրագրերի, միջոցառումների և աշխատանքների անվանումները | D9: Տարի
A10: Ծրագիր | B10: Միջոցառում
A11: 1049 | C11: Ճանապարհային ցանցի բարելավում
B12: 11001 | C12: Միջպետական և հանրապետական նշանակության ավտոճանապարհների պահպանման և անվտանգ երթևեկության ծառայություններ¸ այդ թվում՝ | D12: =D13+D16 -> -558156.2
C13: 1. Ավտոճանապարհների ձմեռային և ընթացիկ պահպանում, այդ թվում` | D13: =D14+D15 -> -485831.3
C14: 1.1 Միջպետական և հանրապետական նշանակության ավտոճանապարհների ձմեռային և ընթացիկ պահպանում | D14: =-614242.8 -> -614242.8
C15: 1.2 Միջպետական և հանրապետական նշանակության ավտոճանապարհների նշագծում | D15: 128411.5
C16: 2. Արհեստական կառույցների պահպանում և շահագործում, այդ թվում` | D16: =D17+D18+D19+D20+D21+D22 -> -72324.9
C17: 2.1 Պուշկինի թունել Լոռու մարզ | D17: -12014.2
C18: 2.2 Դիլիջանի թունել Գեղարքունիքի և Տավուշի մարզեր | D18: -47228
C19: 2.3 Նալբանդի թունել Լոռու մարզ | D19: -12449.9
C20: 2.5 Հ-6 Աբովյան-Եղվարդ-Աշտարակ ա/ճ-ի Հրազդան գետի վրայի կամուրջ Կոտայքի մարզ | D20: -205.7
C21: 2.6 Մ-1 Երևան-Գյումրի-Վրաստանի սահման ա/ճ-ի Քասախ գետի վրայի կամուրջ Արագածոտնի մարզ | D21: -205.7
C22: 2.8 Ջերմուկ քաղաքի կամուրջ Վայոց Ձորի մարզ | D22: -221.4
A25: ՀԱՅԱՍՏԱՆԻ ՀԱՆՐԱՊԵՏՈՒԹՅԱՆ
A26: ՎԱՐՉԱՊԵՏԻ ԱՇԽԱՏԱԿԱԶՄԻ
B27: ՂԵԿԱՎԱՐ ՝ Ա. ՀԱՐՈՒԹՅՈՒՆՅԱՆ

Sheet Հ7 
D1: Հավելված N 7
D2: ՀՀ կառավարության 2023 թվականի
D3: ______________ ի ___Ն որոշման
B5: ՀԱՅԱՍՏԱՆԻ ՀԱՆՐԱՊԵՏՈՒԹՅԱՆ ԿԱՌԱՎԱՐՈՒԹՅԱՆ 2022 ԹՎԱԿԱՆԻ ԴԵԿՏԵՄԲԵՐԻ 29-Ի N 2111-Ն ՈՐՈՇՄԱՆ N 9 ՀԱՎԵԼՎԱԾԻ N 9.7 և N 9․1 ՀԱՎԵԼՎԱԾԻ N 9.1․7 ԱՂՅՈՒՍԱԿՆԵՐՈՒՄ ԿԱՏԱՐՎՈՂ ՓՈՓՈԽՈՒԹՅՈՒՆՆԵՐԸ ԵՎ ԼՐԱՑՈՒՄՆԵՐԸ
D7: Աղյուսակ 9.7
D8: Աղյուսակ 9.1.7
B10: ՀՀ տարածքային կառավարման և ենթակառուցվածքների նախարարություն
B11: ՄԱՍ 1. ՊԵՏԱԿԱՆ ՄԱՐՄՆԻ ԳԾՈՎ ԱՐԴՅՈՒՆՔԱՅԻՆ (ԿԱՏԱՐՈՂԱԿԱՆ) ՑՈՒՑԱՆԻՇՆԵՐԸ
B13: Ծրագրի դասիչը | C13: Ծրագրի անվանումը
B14: 1049 | C14: Ճանապարհային ցանցի բարելավում
B16: Ծրագրի միջոցառումները
B18: Ծրագրի դասիչը` | C18: 1049 | D18: Ցուցանիշների փոփոխությունը (նվազեցումները նշված են փակագծերում)
B19: Միջոցառման դասիչը` | C19: =Հ2!B20 -> 11001 | D19: Տարի
B20: Միջոցառման անվանումը` | C20: =Հ2!C21 -> Միջպետական և հանրապետական նշանակության ավտոճանապարհների պահպանման և անվտանգ երթևեկության ծառայություններ
B21: Նկարագրությունը` | C21: =Հ2!C23 -> Հողային պաստառի, երթևեկելի մասի, արհեստական կառույցների և կահավորման տարրերի նորմատիվ մակարդակում պահպանում և շահագործում
B22: Միջոցառման տեսակը` | C22: Հանրության կողմից անմիջականորեն օգտագործվող ակտիվների հետ կապված միջոցառումներ
B23: Միջոցառումն իրականացնողի անվանումը | C23: ՀՀ տարածքային կառավարման և ենթակառուցվածքների նախարարություն, մրցութային կարգով ընտրված կազմակերպություններ
B24: Արդյունքի չափորոշիչներ
B25: Միջոցառման վրա կատարվող ծախսը (հազար դրամ) | D25: ='Հ3 '!G23 -> -558156.2
B27: Ծրագրի միջոցառումները
B29: Ծրագրի դասիչը` | C29: 1049 | D29: Ցուցանիշների փոփոխությունը (նվազեցումները նշված են փակագծերում)
B30: Միջոցառման դասիչը` | C30: 11016 | D30: Տարի
B31: Միջոցառման անվանումը` | C31: Հյուսիս-հարավ ճանապարհային միջանցքի զարգացման ծրագրի Սիսիան-Քաջարան 60կմ-ի համակարգում և կառավարում
B32: Նկարագրությունը` | C32: Հյուսիս-հարավ ճանապարհային միջանցքի զարգացման ծրագրի շրջանակներում հողերի օտարում (Սիսիան-Քաջարան 60կմ)
B33: Միջոցառման տեսակը` | C33: Ծառայությունների մատուցում
B34: Միջոցառումն իրականացնողի անվանումը | C34: Մասնագիտացված միավոր
B35: Արդյունքի չափորոշիչներ
B36: Հողերի օտարում, շահառուների քանակ | D36: -100
B37: ՀՕՏԾ իրականացման ծառայություն | D37: 2
B38: Միջոցառման վրա կատարվող ծախսը (հազար դրամ) | D38: ='Հ3 '!G32 -> -201957.5
B40: Ծրագրի միջոցառումները
B42: Ծրագրի դասիչը` | C42: 1049 | D42: Ցուցանիշների փոփոխությունը (ավելացումները նշված են դրական նշանով, իսկ նվազեցումները` փակագծերում)
B43: Միջոցառման դասիչը` | C43: 21001 | D43: Տարի
B44: Միջոցառման անվանումը` | C44: Պետական նշանակության ավտոճանապարհների հիմնանորոգում
B45: Նկարագրությունը` | C45: Միջպետական, հանրապետական և մարզային նշանակության ավտոճոնապարհների քայքայված ծածկի վերանորոգում, մաշված ծածկի փոխարինում
B46: Միջոցառման տեսակը` | C46: Հանրության կողմից անմիջականորեն օգտագործվող ակտիվների հետ կապված միջոցառումներ
B47: Միջոցառումն իրականացնողի անվանումը | C47: Մասնագիտացված միավոր
B48: Արդյունքի չափորոշիչներ
B49: Միջպետական նշանակության ավտոճանապարհներ | D49: -0.2
B50: Հանրապետական նշանակության ավտոճանապարհներ | D50: -6.7
B51: Մարզային նշանակության ավտոճանապարհներ | D51: 4
B52: Միջոցառման վրա կատարվող ծախսը (հազար դրամ) | D52: ='Հ3 '!G41 -> -967175.3
B54: Ծրագրի միջոցառումները
B56: Ծրագրի դասիչը` | C56: 1049 | D56: Ցուցանիշների փոփոխությունը (ավելացումները նշված են դրական նշանով)
B57: Միջոցառման դասիչը` | C57: 21002 | D57: Տարի
B58: Միջոցառման անվանումը` | C58: Տրանսպորտային օբյեկտների հիմնանորոգում
B59: Նկարագրությունը` | C59: Ավտոմոբիլային ճանապարհների վրա գտնվող կամուրջների հիմնանորոգում
B60: Միջոցառման տեսակը` | C60: Հանրության կողմից անմիջականորեն օգտագործվող ակտիվների հետ կապված միջոցառումներ
B61: Միջոցառումն իրականացնողի անվանումը | C61: Մասնագիտացված միավոր
B62: Արդյունքի չափորոշիչներ
B63: Միջոցառման վրա կատարվող ծախսը (հազար դրամ) | D63: ='Հ3 '!G52 -> 14218
B65: Ծրագրի միջոցառումները
B67: Ծրագրի դասիչը` | C67: 1049 | D67: Ցուցանիշների փոփոխությունը (նվազեցումները նշված են փակագծերում)
B68: Միջոցառման դասիչը` | C68: 21009 | D68: Տարի
B69: Միջոցառման անվանումը` | C69: =Հ2!C48 -> Եվրոպական ներդրումային բանկի աջակցությամբ իրականացվող Հյուսիս-հարավ միջանցքի զարգացման վարկային ծրագիր, Տրանշ 3
B70: Նկարագրությունը` | C70: =Հ2!C50 -> Լանջիկ-Գյումրի 27.47 կմ երկարությամբ ճանապարհային հատվածի կառուցում
B71: Միջոցառման տեսակը` | C71: =Հ2!C52 -> Հանրության կողմից անմիջականորեն օգտագործվող ակտիվների հետ կապված միջոցառումներ
B72: Միջոցառումն իրականացնողի անվանումը | C72: Մասնագիտացված միավոր
B73: Արդյունքի չափորոշիչներ
B74: Միջոցառման վրա կատարվող ծախսը (հազար դրամ) | D74: ='Հ3 '!G63 -> -400000
B76: Ծրագրի միջոցառումները
B78: Ծրագրի դասիչը` | C78: 1049 | D78: Ցուցանիշների փոփոխությունը (նվազեցումները նշված են փակագծերում)
B79: Միջոցառման դասիչը` | C79: 21012 | D79: Տարի
B80: Միջոցառման անվանումը` | C80: =Հ2!C54 -> Եվրասիական զարգացման բանկի աջակցությամբ իրականացվող Հյուսիս-հարավ միջանցքի զարգացման ծրագիր
B81: Նկարագրությունը` | C81: =Հ2!C56 -> Ճանապարհաշինական աշխատանքներ
B82: Միջոցառման տեսակը` | C82: =Հ2!C58 -> Հանրության կողմից անմիջականորեն օգտագործվող ակտիվների հետ կապված միջոցառումներ
B83: Միջոցառումն իրականացնողի անվանումը | C83: Մասնագիտացված միավոր
B84: Արդյունքի չափորոշիչներ
B85: Միջոցառման վրա կատարվող ծախսը (հազար դրամ) | D85: ='Հ3 '!G72 -> -405712.7
B87: Ծրագրի միջոցառումները
B89: Ծրագրի դասիչը` | C89: 1049 | D89: Ցուցանիշների փոփոխությունը (ավելացումները նշված են դրական նշանով)
B90: Միջոցառման դասիչը` | C90: 21020 | D90: Տարի
B91: Միջոցառման անվանումը` | C91: =Հ2!C60 -> Միջպետական և հանրապետական նշանակության ավտոճանապարհների միջին նորոգում
B92: Նկարագրությունը` | C92: =Հ2!C62 -> Միջպետական և հանրապետական նշանակության ավտոճանապարհների պատվածքի մաշված վերին շերտի վերականգնում և շինարարական նորմերով նախատեսված սկզբնական որակական ցուցանիշների ապահովում
B93: Միջոցառման տեսակը` | C93: =Հ2!C64 -> Հանրության կողմից անմիջականորեն օգտագործվող ակտիվների հետ կապված միջոցառումներ
B94: Միջոցառումն իրականացնողի անվանումը | C94: ՀՀ տարածքային կառավարման և ենթակառուցվածքների նախարարություն, մրցութային կարգով ընտրված կազմակերպություններ
C95: Արդյունքի չափորոշիչներ
B96: Միջին նորոգման ենթակա ճանապարհների երկարությունը, կիլոմետր | D96: 46.9
B97: Միջոցառման վրա կատարվող ծախսը (հազար դրամ) | D97: ='Հ3 '!G81 -> 2518783.7
C100: ՀԱՅԱՍՏԱՆԻ ՀԱՆՐԱՊԵՏՈՒԹՅԱՆ ՎԱՐՉԱՊԵՏԻ ԱՇԽԱՏԱԿԱԶՄԻ ՂԵԿԱՎԱՐ՝ | D100: Ա. ՀԱՐՈՒԹՅՈՒՆՅԱՆ

Sheet Հ8
H1: Հավելված N 8
H2: ՀՀ կառավարության 2023 թվականի
H3: ______________ ի ___Ն որոշման
B5: ՀԱՅԱՍՏԱՆԻ ՀԱՆՐԱՊԵՏՈՒԹՅԱՆ ԿԱՌԱՎԱՐՈՒԹՅԱՆ 2022 ԹՎԱԿԱՆԻ ԴԵԿՏԵՄԲԵՐԻ 29-Ի N 2111-Ն ՈՐՈՇՄԱՆ N 10 ՀԱՎԵԼՎԱԾՈՒՄ ԿԱՏԱՐՎՈՂ ԼՐԱՑՈՒՄՆԵՐԸ
B6: Կոդը | C6: Անվանումը | D6: Գնման ձևը | E6: Չափման միավորը | F6: Միավորի գինը | G6: Ցուցանիշների փոփոխությունը (ավելացումները նշված են դրական նշանով, իսկ նվազեցումները` փակագծերում)
G7: Քանակը | H7: Գումարը (հազար դրամով)
B8: ՀՀ տարածքային կառավարման և ենթակառուցվածքների նախարարություն | H8: =+H9 -> 991530.74
B9: Բաժին N 04 | C9: Խումբ N 05 | D9: Դաս N 01 | E9: Ճանապարհային տրանսպորտ | H9: =H10+H41+H76+H87 -> 991530.74
B10: 1049 11001 | C10: ='[4]Հ3 '!F23 -> Միջպետական և հանրապետական նշանակության ավտոճանապարհների պահպանման և անվտանգ երթևեկության ծառայություններ | H10: =H11 -> -558156.2
B11: ՄԱՍ II. ԱՇԽԱՏԱՆՔՆԵՐ | H11: =SUM(H12:H40) -> -558156.2
B12: 45231176/1 | C12: ճանապարհների պահպանման աշխատանքներ | D12: ԲՄ | E12: դրամ | G12: 0 | H12: -153772.14
B13: 45231176/14 | C13: ճանապարհների պահպանման աշխատանքներ | D13: ՀԲՄ | E13: դրամ | G13: 0 | H13: -9430.276
B14: 45231176/23 | C14: ճանապարհների պահպանման աշխատանքներ | D14: ՀԲՄ | E14: դրամ | G14: 0 | H14: -2218.839
B15: 45231176/25 | C15: ճանապարհների պահպանման աշխատանքներ | D15: ՀԲՄ | E15: դրամ | G15: 0 | H15: -92930.332
B16: 45231176/27 | C16: ճանապարհների պահպանման աշխատանքներ | D16: ՀԲՄ | E16: դրամ | G16: 0 | H16: -11936.639
B17: 45231176/30 | C17: ճանապարհների պահպանման աշխատանքներ | D17: ՀԲՄ | E17: դրամ | G17: 0 | H17: -1070.466
B18: 45231176/32 | C18: ճանապարհների պահպանման աշխատանքներ | D18: ՀԲՄ | E18: դրամ | G18: 0 | H18: -4798.25
B19: 45231176/33 | C19: ճանապարհների պահպանման աշխատանքներ | D19: ՀԲՄ | E19: դրամ | G19: 0 | H19: -455.944
B20: 45231176/34 | C20: ճանապարհների պահպանման աշխատանքներ | D20: ՀԲՄ | E20: դրամ | G20: 0 | H20: -2180.112
B21: 45231176/36 | C21: ճանապարհների պահպանման աշխատանքներ | D21: ՀԲՄ | E21: դրամ | G21: 0 | H21: -36733.274
B22: 45231176/37 | C22: ճանապարհների պահպանման աշխատանքներ | D22: ՀԲՄ | E22: դրամ | G22: 0 | H22: -48757.151
B23: 45231176/40 | C23: ճանապարհների պահպանման աշխատանքներ | D23: ՀԲՄ | E23: դրամ | G23: 0 | H23: -13868.152
... B40: 45231176/67 | C40: ճանապարհների պահպանման աշխատանքներ | D40: ՀԲՄ | E40: դրամ | G40: 0 | H40: -2318.76
B41: 1049 21001 | C41: ='[4]Հ3 '!F41 -> Պետական նշանակության ավտոճանապարհների հիմնանորոգում | H41: =H42+H63 -> -982894.73
B42: ՄԱՍ II. ԱՇԽԱՏԱՆՔՆԵՐ | H42: =SUM(H43:H62) -> -1072807.4
B43: 45231177/603 | C43: ճանապարհների վերանորոգման աշխատանքներ | D43: ՀԲՄ | E43: դրամ | G43: 0 | H43: -99320
B44: 45231177/625 | C44: ճանապարհների վերանորոգման աշխատանքներ | D44: ԲՄ | E44: դրամ | G44: 0 | H44: -13595.8
B45: 45231177/628 | C45: ճանապարհների վերանորոգման աշխատանքներ | D45: ԲՄ | E45: դրամ | G45: 0 | H45: -12108.9
B46: 45231177/629 | C46: ճանապարհների վերանորոգման աշխատանքներ | D46: ԲՄ | E46: դրամ | G46: 0 | H46: -3815.3
B47: 45231177/127 | C47: ճանապարհների վերանորոգման աշխատանքներ | D47: ՀՄԱ | E47: դրամ | G47: 0 | H47: -243969.9
B48: 45231177/42 | C48: ճանապարհների վերանորոգման աշխատանքներ | D48: ՀԲՄ | E48: դրամ | G48: 0 | H48: -22284.7
B49: 45231177/503 | C49: ճանապարհների վերանորոգման աշխատանքներ | D49: ՀԲՄ | E49: դրամ | F49: 17930442 | G49: 1 | H49: 17930.442
B50: 45231177/521 | C50: ճանապարհների վերանորոգման աշխատանքներ | D50: ԲՄ | E50: դրամ | F50: 214172431 | G50: 1 | H50: 214172.43
B51: 45231177/48 | C51: ճանապարհների վերանորոգման աշխատանքներ | D51: ԲՄ | E51: դրամ | G51: 0 | H51: -646734.5
B52: 45231177/96 | C52: ճանապարհների վերանորոգման աշխատանքներ | D52: ՀԲՄ | E52: դրամ | G52: 0 | H52: -4591.5
B53: 45231177/97 | C53: ճանապարհների վերանորոգման աշխատանքներ | D53: ՀԲՄ | E53: դրամ | G53: 0 | H53: -1660.9
B54: 45231177/531 | C54: ճանապարհների վերանորոգման աշխատանքներ | D54: ՀԲՄ | E54: դրամ | F54: 587217600 | G54: 1 | H54: 587217.6
B55: 45231177/92 | C55: ճանապարհների վերանորոգման աշխատանքներ | D55: ՀԲՄ | E55: դրամ | G55: 0 | H55: -897.5
B56: 45231177/612 | C56: ճանապարհների վերանորոգման աշխատանքներ | D56: ՀԲՄ | E56: դրամ | G56: 0 | H56: -380.3
B57: 45231177/44 | C57: ճանապարհների վերանորոգման աշխատանքներ | D57: ԲՄ | E57: դրամ | G57: 0 | H57: -3607.8
B58: 45231177/560 | C58: ճանապարհների վերանորոգման աշխատանքներ | D58: ՀԲՄ | E58: դրամ | G58: 0 | H58: -6803.2
B59: 45231177/622 | C59: ճանապարհների վերանորոգման աշխատանքներ | D59: ՀԲՄ | E59: դրամ | G59: 0 | H59: -5643.8
B60: 45231177/28 | C60: ճանապարհների վերանորոգման աշխատանքներ | D60: ՀՄԱ | E60: դրամ | G60: 0 | H60: -139877.2
B61: 45231177/43 | C61: ճանապարհների վերանորոգման աշխատանքներ | D61: ՀԲՄ | E61: դրամ | G61: 0 | H61: -40982.6
B62: 45231177/29 | C62: ճանապարհների վերանորոգման աշխատանքներ | D62: ՀԲՄ | E62: դրամ | G62: 0 | H62: -645854
B63: ՄԱՍ III. ԾԱՌԱՅՈՒԹՅՈՒՆՆԵՐ | H63: =SUM(H64:H75) -> 89912.7
B64: 71241200/502 | C64: նախագծերի պատրաստում, ծախսերի գնահատում | D64: ՀԲՄ | E64: դրամ | F64: 1800000 | G64: 1 | H64: 1800
B65: 71241200/546 | C65: նախագծերի պատրաստում, ծախսերի գնահատում | D65: ԲՄ | E65: դրամ | F65: 3150000 | G65: 1 | H65: 3150
B66: 71241200/529 | C66: նախագծերի պատրաստում, ծախսերի գնահատում | D66: ՀԲՄ | E66: դրամ | F66: 50100000 | G66: 1 | H66: 50100
B67: 71241200/530 | C67: նախագծերի պատրաստում, ծախսերի գնահատում | D67: ՀԲՄ | E67: դրամ | F67: 18000000 | G67: 1 | H67: 18000
B68: 50531140/514 | C68: փորձաքննության ծառայություններ | D68: ԳՀ | E68: դրամ | F68: 190000 | G68: 1 | H68: 190
B69: 50531140/540 | C69: փորձաքննության ծառայություններ | D69: ԳՀ | E69: դրամ | F69: 199500 | G69: 1 | H69: 199.5
B70: 50531140/529 | C70: փորձաքննության ծառայություններ | D70: ԳՀ | E70: դրամ | F70: 799000 | G70: 1 | H70: 799
B71: 50531140/530 | C71: փորձաքննության ծառայություններ | D71: ԳՀ | E71: դրամ | F71: 399000 | G71: 1 | H71: 399
B72: 71351540/527 | C72: տեխնիկական հսկողության ծառայություններ | D72: ԲՄ | E72: դրամ | F72: 2056021 | G72: 1 | H72: 2056.021
B73: 71351540/531 | C73: տեխնիկական հսկողության ծառայություններ | D73: ՀԲՄ | E73: դրամ | F73: 7367724 | G73: 1 | H73: 7367.724
B74: 98111140/ | C74: հեղինակային հսկողության ծառայություններ | D74: ՄԱ | E74: դրամ | F74: 1506553 | G74: 1 | H74: 1506.553
B75: 98111140/ | C75: հեղինակային հսկողության ծառայություններ | D75: ՄԱ | E75: դրամ | F75: 4344902 | G75: 1 | H75: 4344.902
B76: 1049 21002 | C76: ='[4]Հ3 '!F52 -> Տրանսպորտային օբյեկտների հիմնանորոգում | H76: =H79+H77 -> 13798
B77: ՄԱՍ II. ԱՇԽԱՏԱՆՔՆԵՐ | H77: =H78 -> -6453
B78: 45221117 /503 | C78: տրանսպորտային օբյեկտների վերանորոգման աշխատանքներ | D78: ՀԲՄ | E78: դրամ | G78: 0 | H78: -6453
B79: ՄԱՍ III. ԾԱՌԱՅՈՒԹՅՈՒՆՆԵՐ | H79: =SUM(H80:H86) -> 20251
B80: 71241200/ | C80: նախագծերի պատրաստում, ծախսերի գնահատում | D80: ՀՄԱ | E80: դրամ | F80: 1250000 | G80: 1 | H80: 1250
B81: 71241200/548 | C81: նախագծերի պատրաստում, ծախսերի գնահատում | D81: ՀԲՄ | E81: դրամ | F81: 3600000 | G81: 1 | H81: 3600
B82: 71241200/549 | C82: նախագծերի պատրաստում, ծախսերի գնահատում | D82: ՀԲՄ | E82: դրամ | F82: 2400000 | G82: 1 | H82: 2400
B83: 71241200/547 | C83: նախագծերի պատրաստում, ծախսերի գնահատում | D83: ԲՄ | E83: դրամ | F83: 12000000 | G83: 1 | H83: 12000
B84: 50531140/ | C84: փորձաքննության ծառայություններ | D84: ՀՄԱ | E84: դրամ | F84: 125000 | G84: 1 | H84: 125
B85: 50531140/542 | C85: փորձաքննության ծառայություններ | D85: ԳՀ | E85: դրամ | F85: 540000 | G85: 1 | H85: 540
B86: 50531140/543 | C86: փորձաքննության ծառայություններ | D86: ԳՀ | E86: դրամ | F86: 336000 | G86: 1 | H86: 336
B87: 1049 21020 | C87: ='[4]Հ3 '!F63 -> Միջպետական և հանրապետական նշանակության ավտոճանապարհների միջին նորոգում | H87: =+H88 -> 2518783.7
B88: ՄԱՍ II. ԱՇԽԱՏԱՆՔՆԵՐ | H88: =+H89+H90+H91+H92 -> 2518783.7
B89: 45231177/613 | C89: ճանապարհների վերանորոգման աշխատանքներ | D89: ՀԲՄ | E89: դրամ | F89: 612000000 | G89: 1 | H89: =+G89*F89/1000 -> 612000
B90: 45231176/572 | C90: ճանապարհների վերանորոգման աշխատանքներ | D90: ՀԲՄ | E90: դրամ | F90: 1046100468 | G90: 1 | H90: =+G90*F90/1000 -> 1046100.5
B91: 45231177/643 | C91: ճանապարհների վերանորոգման աշխատանքներ | D91: ՀԲՄ | E91: դրամ | F91: 235680000 | G91: 1 | H91: =+G91*F91/1000 -> 235680
B92: 45231176/571 | C92: ճանապարհների վերանորոգման աշխատանքներ | D92: ՀԲՄ | E92: դրամ | F92: 625003200 | G92: 1 | H92: =+G92*F92/1000 -> 625003.2
C94: ՀԱՅԱՍՏԱՆԻ ՀԱՆՐԱՊԵՏՈՒԹՅԱՆ
C95: ՎԱՐՉԱՊԵՏԻ ԱՇԽԱՏԱԿԱԶՄԻ
C96: ՂԵԿԱՎԱՐ ՝ | D96: Ա. ՀԱՐՈՒԹՅՈՒՆՅԱՆ
