Workbook

Sheet Հավելված 1
D1: Հավելված № 1
D2: ՀՀ կառավարության 2023 թվականի
D3: ------------ N ---------- որոշման
A5: «ՀԱՅԱՍՏԱՆԻ ՀԱՆՐԱՊԵՏՈՒԹՅԱՆ 2023 ԹՎԱԿԱՆԻ ՊԵՏԱԿԱՆ ԲՅՈՒՋԵԻ ՄԱՍԻՆ» ՕՐԵՆՔԻ N 1 ՀԱՎԵԼՎԱԾԻ N 2 ԱՂՅՈՒՍԱԿՈՒՄ ԿԱՏԱՐՎՈՂ ՎԵՐԱԲԱՇԽՈՒՄԸ ԵՎ ՀԱՅԱՍՏԱՆԻ ՀԱՆՐԱՊԵՏՈՒԹՅԱՆ ԿԱՌԱՎԱՐՈՒԹՅԱՆ 2022 ԹՎԱԿԱՆԻ ԴԵԿՏԵՄԲԵՐԻ 29-Ի N 2111-Ն ՈՐՈՇՄԱՆN 5 ՀԱՎԵԼՎԱԾԻ N 1 ԱՂՅՈՒՍԱԿՈՒՄ ԿԱՏԱՐՎՈՂ ՓՈՓՈԽՈՒԹՅՈՒՆՆԵՐԸ
D6: հազար դրամներով
A7: Ծրագրային դասիչը | C7: Բյուջետային հատկացումների գլխավոր կարգադրիչների, ծրագրերի և միջոցառումների անվանումները | D7: Ցուցանիշների փոփոխությունները (ավելացումները նշված են դրական նշանով, իսկ նվազեցումները` փակագծերում)
D8: Տարի
A9: Ծրագիր | B9: Միջոցառում
C10: ԸՆԴԱՄԵՆԸ | D10: =+D11 -> 0
C11: ՀՀ էկոնոմիկայի նախարարություն | D11: =+D12+D31+D44 -> 0
A12: 1059 | C12: Ծրագրի անվանումը` | D12: =+D25+D19 -> 20100
C13: Բուսաբուծության խթանում և բույսերի պաշտպանություն
C14: Ծրագրի նպատակը`
C15: Հողագործությունից ստացվող արդյունքի բարելավում
C16: Վերջնական արդյունքի նկարագրությունը`
C17: Մշակաբույսերի միջին բերքատվության բարձրացում:ՀՀ գյուղատնտեսական նշանակության ողջ հողատարածքի համար կազմված ագրոքիմիական քարտեզներով ապահովվածություն: Հացահատիկի և հատիկաընդեղենի արտադրության ծավալների ավելացում:
A18: Ծրագրի միջոցառումներ
B19: 11001 | C19: Միջոցառման անվանումը` | D19: 7105
C20: Բուսասանիտարիայի ծառայությունների, հողերի ագրոքիմիական հետազոտության և բերրիության բարձրացման միջոցառումների իրականացում
C21: Միջոցառման նկարագրությունը`
C22: Հանրապետության գյուղատնտեսական նշանակության հողատեսքերում բույսերի վնասակար օրգանիզմների հայտնաբերման և ագրոքիմիական քարտեզների և պարարտացման կիրառման գիտականորեն հիմնավորված երաշխավորագրերի կազմման նպատակով դաշտային հետազոտությունների իրականացում
C23: Միջոցառման տեսակը
C24: Ծառայությունների մատուցում
B25: 11002 | C25: Միջոցառման անվանումը` | D25: 12995
C26: Բույսերի պաշտպանության միջոցառումներ
C27: Միջոցառման նկարագրությունը`
C28: Մկնանման կրծողների և մորեխների դեմ կենտրոնացված պայքարի միջոցառումներ
C29: Միջոցառման տեսակը
C30: Ծառայությունների մատուցում
A31: 1116 | C31: Ծրագրի անվանումը` | D31: =+D38 -> -16000
C32: Անասնաբուժական ծառայություններ
C33: Ծրագրի նպատակը`
C34: Անասնահամաճարակային կայուն ֆոնի ապահովում
C35: Վերջնական արդյունքի նկարագրությունը`
C36: Գյուղատնտեսական կենդանիների վարակամերժության ապահովում
A37: Ծրագրի միջոցառումներ
B38: 11001 | C38: Միջոցառման անվանումը` | D38: -16000
C39: Գյուղատնտեսական կենդանիների պատվաստում
C40: Միջոցառման նկարագրությունը`
C41: Անասնաբուժական ծառայության հակահամաճարակային միջոցառումների, կենդանիների հիվանդությունների կանխարգելման աշխատանքների կազմակերպում և համակարգում, անհրաժեշտ նյութերի ձեռքբերում:
...

Sheet Հավելված 2
G1: Հավելված № 2
G2: ՀՀ կառավարության 2023 թվականի
G3: ------------ N ---------- որոշման
A5: ՀԱՅԱՍՏԱՆԻ ՀԱՆՐԱՊԵՏՈՒԹՅԱՆ ԿԱՌԱՎԱՐՈՒԹՅԱՆ 2022 ԹՎԱԿԱՆԻ ԴԵԿՏԵՄԲԵՐԻ 29 Ի N 2111-Ն ՈՐՈՇՄԱՆ N 3 և N 4 ՀԱՎԵԼՎԱԾՆԵՐՈՒՄ ԿԱՏԱՐՎՈՂ ՓՈՓՈԽՈՒԹՅՈՒՆՆԵՐԸ
G6: հազար դրամ
A7: Գործառական դասիչը | D7: Ծրագրային դասիչը | F7: Բյուջետային ծախսերի գործառական դասակարգման բաժինների, խմբերի և դասերի, բյուջետային ծրագրերի միջոցառումների, բյուջետային հատկացումների գլխավոր կարգադրիչների անվանումները | G7: Ցուցանիշների փոփոխությունները (ավելացումները նշված են դրական նշանով, իսկ նվազեցումները` փակագծերում)
G8: Տարի
A9: Բաժին | B9: Խումբ | C9: Դաս | D9: Ծրագիր | E9: Միջոցառում
F10: ԸՆԴԱՄԵՆԸ ԾԱԽՍԵՐ | G10: =+G13 -> 0
F11: ՀՀ Էկոնոմիկայի նախարարություն | G11: =+G13 -> 0
F12: այդ թվում`
A13: 04 | F13: ՏՆՏԵՍԱԿԱՆ ՀԱՐԱԲԵՐՈՒԹՅՈՒՆՆԵՐ | G13: =+G15 -> 0
F14: այդ թվում`
B15: 02 | F15: Գյուղատնտեսություն, անտառային տնտեսություն, ձկնորսություն և որսորդություն | G15: =+G17 -> 0
F16: այդ թվում`
C17: 01 | F17: Գյուղատնտեսություն | G17: =+G21+G30+G39+G50 -> 0
F18: այդ թվում`
D19: 1059 | F19: Բուսաբուծության խթանում և բույսերի պաշտպանություն | G19: =+G21+G30 -> 20100
F20: այդ թվում`
E21: 11001 | F21: =+'Հավելված 1'!C20 -> Բուսասանիտարիայի ծառայությունների, հողերի ագրոքիմիական հետազոտության և բերրիության բարձրացման միջոցառումների իրականացում | G21: =+G23 -> 7105
F22: այդ թվում` ըստ կատարողների
F23: ՀՀ էկոնոմիկայի նախարարություն | G23: =+G25 -> 7105
F24: այդ թվում` բյուջետային ծախսերի տնտեսագիտական դասակարգման հոդվածներ
F25: ԸՆԴԱՄԵՆԸ ԾԱԽՍԵՐ | G25: =+G26 -> 7105
F26: ԸՆԹԱՑԻԿ ԾԱԽՍԵՐ | G26: =+G27 -> 7105
F27: ԴՐԱՄԱՇՆՈՐՀՆԵՐ | G27: =+G28 -> 7105
F28: Ընթացիկ դրամաշնորհներ պետական հատվածի այլ մակարդակներին | G28: =+G29 -> 7105
F29: - Ընթացիկ դրամաշնորհներ պետական և համայնքների ոչ առևտրային կազմակերպություններին | G29: =+'Հավելված 1'!D19 -> 7105
E30: 11002 | F30: Բույսերի պաշտպանության միջոցառումներ | G30: =+G32 -> 12995
F31: այդ թվում` ըստ կատարողների
F32: ՀՀ էկոնոմիկայի նախարարություն | G32: =+G34 -> 12995
F33: այդ թվում` բյուջետային ծախսերի տնտեսագիտական դասակարգման հոդվածներ
F34: ԸՆԴԱՄԵՆԸ ԾԱԽՍԵՐ | G34: =+G35 -> 12995
F35: ԸՆԹԱՑԻԿ ԾԱԽՍԵՐ | G35: =+G36 -> 12995
F36: ԴՐԱՄԱՇՆՈՐՀՆԵՐ | G36: =+G37 -> 12995
F37: Ընթացիկ դրամաշնորհներ պետական հատվածի այլ մակարդակներին | G37: =+G38 -> 12995
F38: - Ընթացիկ դրամաշնորհներ պետական և համայնքների ոչ առևտրային կազմակերպություններին | G38: =+'Հավելված 1'!D25 -> 12995
D39: 1116 | F39: Անասնաբուժական ծառայություններ | G39: =+G41 -> -16000
F40: այդ թվում`
E41: 11001 | F41: Գյուղատնտեսական կենդանիների պատվաստում | G41: =+G43 -> -16000
...

Sheet Հավելված 3
G1: Հավելված № 3
F2: ՀՀ կառավարության 2023 թվականի
G3: № ------------ -Ն որոշման
B5: ՀԱՅԱՍՏԱՆԻ ՀԱՆՐԱՊԵՏՈՒԹՅԱՆ ԿԱՌԱՎԱՐՈՒԹՅԱՆ 2022 ԹՎԱԿԱՆԻ ԴԵԿՏԵՄԲԵՐԻ 29-Ի N 2111-Ն ՈՐՈՇՄԱՆ N 5 ՀԱՎԵԼՎԱԾԻ 7 ԱՂՅՈՒՍԱԿՈՒՄ ԿԱՏԱՐՎՈՂ ՓՈՓՈԽՈՒԹՅՈՒՆՆԵՐԸ ԵՎ ԼՐԱՑՈՒՄԸ
H6: հազար դրամներով
B7: Ծրագրային դասիչ | D7: Բյուջետային հատկացումների գլխավոր կարգադրիչների, ծրագրերի, միջոցառումների, ծախսային ուղղությունների անվանումները | G7: Միջոցառումները կատարող պետական մարմինների և դրամաշնորհ ստացող տնտեսվարող սուբյեկտների անվանումները | H7: Տարի
B8: Ծրագիր | C8: Միջոցառում | H8: Ցուցանիշների փոփոխությունը (ավելացումները նշված են դրական նշանով, իսկ նվազեցումները` փակագծերում)
B9: 1 | C9: 2 | D9: 3 | G9: 4 | H9: 5
B10: ԸՆԴԱՄԵՆԸ | H10: =+H11 -> 4100
B11: ՀՀ էկոնոմիկայի նախարարություն | H11: =+H12+H17 -> 4100
B12: 1059 | C12: Բուսաբուծության խթանում և բույսերի պաշտպանություն | H12: =+H13+H15 -> 20100
C13: 11001 | D13: Բուսասանիտարիայի ծառայությունների, հողերի ագրոքիմիական հետազոտության և բերրիության բարձրացման միջոցառումների իրականացում | G13: ՀՀ էկոնոմիկայի նախարարություն | H13: =+H14 -> 7105
G14: «Գյուղատնտեսական ծառայությունների կենտրոն» ՊՈԱԿ | H14: =+'Հավելված 1'!D19 -> 7105
C15: 11002 | D15: Բույսերի պաշտպանության միջոցառումներ | G15: ՀՀ էկոնոմիկայի նախարարություն | H15: =+H16 -> 12995
G16: «Գյուղատնտեսական ծառայությունների կենտրոն» ՊՈԱԿ | H16: =+'Հավելված 1'!D25 -> 12995
B17: 1116 | C17: Անասնաբուժական ծառայություններ | H17: =+H18 -> -16000
C18: 11001 | D18: Գյուղատնտեսական կենդանիների պատվաստում | G18: ՀՀ էկոնոմիկայի նախարարություն | H18: =+H19 -> -16000
G19: «Գյուղատնտեսական ծառայությունների կենտրոն» ՊՈԱԿ | H19: =+'Հավելված 1'!D38 -> -16000

Sheet Հավելված 4 
C1: Հավելված № 4
C2: ՀՀ կառավարության 2023 թվականի
C3: № ------------ -Ն որոշման
A5: ՀԱՅԱՍՏԱՆԻ ՀԱՆՐԱՊԵՏՈՒԹՅԱՆ ԿԱՌԱՎԱՐՈՒԹՅԱՆ 2022 ԹՎԱԿԱՆԻ ԴԵԿՏԵՄԲԵՐԻ 29-Ի N 2111-Ն ՈՐՈՇՄԱՆ N 9 ՀԱՎԵԼՎԱԾԻ N 9.10 ԱՂՅՈՒՍԱԿՈՒՄ ԵՎ N 9.1 ՀԱՎԵԼՎԱԾԻ N 9.1.10 ԱՂՅՈՒՍԱԿՈՒՄ ԿԱՏԱՐՎՈՂ ՓՈՓՈԽՈՒԹՅՈՒՆԸ
A7: ՀՀ էկոնոմիկայի նախարարություն
A8: ՄԱՍ 1. ՊԵՏԱԿԱՆ ՄԱՐՄՆԻ ԳԾՈՎ ԱՐԴՅՈՒՆՔԱՅԻՆ (ԿԱՏԱՐՈՂԱԿԱՆ) ՑՈՒՑԱՆԻՇՆԵՐԸ
D9: ՀԱՅԱՍՏԱՆԻ ՀԱՆՐԱՊԵՏՈՒԹՅԱՆ ԿԱՌԱՎԱՐՈՒԹՅԱՆ 2021 ԹՎԱԿԱՆԻ ԴԵԿՏԵՄԲԵՐԻ 23-Ի N 2121-Ն ՈՐՈՇՄԱՆ N 9 ՀԱՎԵԼՎԱԾԻ 9.10 ԱՂՅՈՒՍԱԿՈՒՄ N 9.1 ՀԱՎԵԼՎԱԾԻ 9.1.10 ԱՂՅՈՒՍԱԿՈՒՄ ԿԱՏԱՐՎՈՂ ՓՈՓՈԽՈՒԹՅՈՒՆՆԵՐԸ ԵՎ ԼՐԱՑՈՒՄԸ
A10: Ծրագրի դասիչը | B10: Ծրագրի անվանումը
A11: 1059 | B11: Բուսաբուծության խթանում և բույսերի պաշտպանություն
A13: Ծրագրի միջոցառումները
A14: Ծրագրի դասիչը` | B14: 1059 | C14: Ցուցանիշների փոփոխությունները (ավելացումները նշված են դրական նշանով)
A15: Միջոցառման դասիչը` | B15: 11001 | C15: Տարի
A16: Միջոցառման անվանումը` | B16: Բուսասանիտարիայի ծառայությունների, հողերի ագրոքիմիական հետազոտության և բերրիության բարձրացման միջոցառումների իրականացում
A17: Նկարագրությունը` | B17: Հանրապետության գյուղատնտեսական նշանակության հողատեսքերում բույսերի վնասակար օրգանիզմների հայտնաբերման և ագրոքիմիական քարտեզների և պարարտացման կիրառման գիտականորեն հիմնավորված երաշխավորագրերի կազմման նպատակով դաշտային հետազոտությունների իրականացում
A18: Միջոցառման տեսակը` | B18: Ծառայությունների մատուցում
A19: Միջոցառումն իրականացնողի անվանումը՛ | B19: Մասնագիտացված կազմակերպություններ
A20: Արդյունքի չափորոշիչներ
A21: Վնասակար օրգանիզմների հայտնաբերման նպատակով հետազոտված տարածքներ, հա | C21: 4940
A22: Միջոցառման վրա կատարվող ծախսը (հազար դրամ) | C22: =+'Հավելված 1'!D19 -> 7105
A24: Ծրագրի միջոցառումները
A25: Ծրագրի դասիչը` | B25: 1059 | C25: Ցուցանիշների փոփոխությունները (ավելացումները նշված են դրական նշանով)
A26: Միջոցառման դասիչը` | B26: 11002 | C26: Տարի
A27: Միջոցառման անվանումը` | B27: Բույսերի պաշտպանության միջոցառումներ
A28: Նկարագրությունը` | B28: Մկնանման կրծողների և մորեխների դեմ կենտրոնացված պայքարի միջոցառումներ
A29: Միջոցառման տեսակը` | B29: Ծառայությունների մատուցում
A30: Միջոցառումն իրականացնողի անվանումը՛ | B30: Մասնագիտացված կազմակերպություններ
A31: Արդյունքի չափորոշիչներ
A32: Գյուղատնտեսական մշակաբույսերի առավել վնասակար օրգանիզմների դեմ տարվող պայքարի տարածք, հա | C32: 31250
A33: Միջոցառման վրա կատարվող ծախսը (հազար դրամ) | C33: =+'Հավելված 1'!D25 -> 12995
A35: Ծրագրի դասիչը | B35: Ծրագրի անվանումը
A36: 1116 | B36: Անասնաբուժական ծառայություններ
A38: Ծրագրի միջոցառումները
A39: Ծրագրի դասիչը` | B39: 1116 | C39: Ցուցանիշների փոփոխությունները (նվազեցումները նշված են փակագծերում)
A40: Միջոցառման դասիչը` | B40: 11001 | C40: Տարի
A41: Միջոցառման անվանումը` | B41: Գյուղատնտեսական կենդանիների պատվաստում
A42: Նկարագրությունը` | B42: Անասնաբուժական ծառայության հակահամաճարակային միջոցառումների, կենդանիների հիվանդությունների կանխարգելման աշխատանքների կազմակերպում և համակարգում, անհրաժեշտ նյութերի ձեռքբերում:
A43: Միջոցառման տեսակը` | B43: Ծառայությունների մատուցում
A44: Շահառուների ընտրության չափանիշները | B44: Մասնագիտացված կազմակերպություններ
A45: Արդյունքի չափորոշիչներ
A46: Կանխարգելիչ (պատվաստումներ) միջոցառումների քանակը, այդ թվում , հատ | C46: -80000
...

Sheet Sheet1
B4: լիտր | C4: 2500 | D4: 5200 | E4: =+C4*D4 -> 13000000
B5: ha | C5: =12.5*C4 -> 31250 | D5: 163.6 | E5: =+C5*D5 -> 5112500
B6: monitoring | C6: 4940 | D6: 163.6 | E6: =+C6*D6 -> 808184
B8: AAH | E8: =+(E4+E5+E6)*20% -> 3784136.8
E9: =SUM(E4:E8) -> 22704821
E11: 18605232
E12: =+E9-E11 -> 4099588.8
E15: 2605232
E19: =+E9-E15 -> 20099589
