Workbook
Name _tab10: #REF!
Name _tab10: #REF!
Name _tab11: #REF!
Name _tab11: #REF!
Name _tab12: #REF!
Name _tab12: #REF!
Name _tab13: #REF!
Name _tab13: #REF!
Name _tab14: #REF!
Name _tab14: #REF!
Name _tab15: #REF!
Name _tab15: #REF!
Name _tab16: #REF!
Name _tab16: #REF!
Name _tab17: #REF!
Name _tab17: #REF!
Name _tab18: #REF!
Name _tab18: #REF!
Name _tab19: #REF!
Name _tab19: #REF!
Name _tab20: #REF!
Name _tab20: #REF!
Name _tab21: #REF!
Name _tab21: #REF!
Name _tab22: #REF!
Name _tab22: #REF!
Name _tab22222: #REF!
Name _tab23: #REF!
Name _tab23: #REF!
Name _tab24: #REF!
Name _tab24: #REF!
Name _tab5: #REF!
Name _tab5: #REF!
Name _tab6: #REF!
Name _tab6: #REF!
Name _tab7: #REF!
Name _tab7: #REF!
Name _tab8: #REF!
Name _tab8: #REF!
Name _tab9: #REF!
Name _tab9: #REF!
Name aaaaaaaaaaaa: #REF!
Name hhhh: #REF!
Name hunvar: #REF!,#REF!,#REF!,#REF!,#REF!,#REF!,#REF!,#REF!,#REF!,#REF!,#REF!,#REF!,#REF!,#REF!,#REF!
Name par_count: #REF!,#REF!,#REF!,#REF!,#REF!,#REF!,#REF!,#REF!,#REF!,#REF!,#REF!,#REF!,#REF!,#REF!,#REF!
Name par_count: #REF!,#REF!,#REF!,#REF!,#REF!,#REF!,#REF!,#REF!,#REF!,#REF!,#REF!,#REF!,#REF!,#REF!,#REF!
Name par_qual: #REF!,#REF!,#REF!,#REF!,#REF!
Name par_qual: #REF!,#REF!,#REF!,#REF!,#REF!
Name par_time: #REF!,#REF!,#REF!,#REF!
Name par_time: #REF!,#REF!,#REF!,#REF!
Name par2.12s: #REF!
Name par2.12s: #REF!
Name par2.4s: #REF!,#REF!,#REF!,#REF!,#REF!,#REF!,#REF!,#REF!,#REF!,#REF!,#REF!,#REF!,#REF!,#REF!,#REF!,#REF!
Name par2.4s: #REF!,#REF!,#REF!,#REF!,#REF!,#REF!,#REF!,#REF!,#REF!,#REF!,#REF!,#REF!,#REF!,#REF!,#REF!,#REF!
Name par2.5s: #REF!,#REF!
Name par2.5s: #REF!,#REF!
Name par2.6s: #REF!,#REF!,#REF!,#REF!
Name par2.6s: #REF!,#REF!,#REF!,#REF!
Name par2.7s: #REF!,#REF!
Name par2.7s: #REF!,#REF!

Sheet 1
B1: Հավելված № 1
B2: ՀՀ կառավարության 2023 թվականի
B3: __________ «____» -ի
B4: N_____ -Ն որոշման
B6: «ՀԱՅԱՍՏԱՆԻ ՀԱՆՐԱՊԵՏՈՒԹՅԱՆ 2023 ԹՎԱԿԱՆԻ ՊԵՏԱԿԱՆ ԲՅՈՒՋԵԻ ՄԱՍԻՆ» ՕՐԵՆՔԻ N 2 ՀՈԴՎԱԾԻ ԱՂՅՈՒՍԱԿՈՒՄ ԿԱՏԱՐՎՈՂ ՓՈՓՈԽՈՒԹՅՈՒՆՆԵՐԸ
C8: հազ. դրամ
B9: 1. Եկամուտների գծով
B10: 2. Ծախսերի գծով | C10: -170704.53
B11: 3. Դեֆիցիտը (պակասուրդը) | C11: -170704.53

Sheet 2
B1: Հավելված № 2
B2: ՀՀ կառավարության 2023 թվականի
B3: __________ «____» -ի
B4: N_____ -Ն որոշման
B5: «ՀԱՅԱՍՏԱՆԻ ՀԱՆՐԱՊԵՏՈՒԹՅԱՆ 2023 ԹՎԱԿԱՆԻ ՊԵՏԱԿԱՆ ԲՅՈՒՋԵԻ ՄԱՍԻՆ» ՀԱՅԱՍՏԱՆԻ ՀԱՆՐԱՊԵՏՈՒԹՅԱՆ ՕՐԵՆՔԻ 3-ՐԴ ՀՈԴՎԱԾԻ ԱՂՅՈՒՍԱԿՈՒՄ, N 3 ՀԱՎԵԼՎԱԾԻ N 1 ԱՂՅՈՒՍԱԿՈՒՄ ԵՎ ՀԱՅԱՍՏԱՆԻ ՀԱՆՐԱՊԵՏՈՒԹՅԱՆ ԿԱՌԱՎԱՐՈՒԹՅԱՆ 2022 ԹՎԱԿԱՆԻ ԴԵԿՏԵՄԲԵՐԻ 29-Ի N 2111-Ն ՈՐՈՇՄԱՆ N 1 ՀԱՎԵԼՎԱԾԻ N 1 ԱՂՅՈՒՍԱԿՈՒՄ ԿԱՏԱՐՎՈՂ ԼՐԱՑՈՒՄՆԵՐԸ ԵՎ ՓՈՓՈԽՈՒԹՅՈՒՆՆԵՐԸ
C6: հազար դրամ
B7: Պետական բյուջեի դեֆիցիտի ֆինանսավորման աղբյուրներն ու դրանց տարրերի անվանումները | C7: Ցուցանիշների փոփոխությունները (նվազեցումները նշված են փակագծերում)
C8: Տարի
B9: ԸՆԴԱՄԵՆԸ | C9: =C11 -> -170704.53
B10: այդ թվում`
B11: Ա.Ներքին աղբյուրներ-ընդամենը | C11: =C13 -> -170704.53
B12: այդ թվում`
B13: 2.Ֆինանսական զուտ ակտիվներ | C13: =C16 -> -170704.53
B14: այդ թվում`
B15: 2.2 Բաժնետոմսերի և կապիտալում այլ մասնակցության ձեռքբերում | C15: =C16 -> -170704.53
B16: ՀՀ առողջապահության նախարարություն | C16: =+C18+C20+C19 -> -170704.53
B17: որից`
B18: «Ավան» հոգեկան առողջության կենտրոն» ՓԲԸ | C18: -99915.13
B19: ««Յոլյան» արյունաբանության և ուռուցքաբանության կենտրոն» ՓԲԸ-ում տնտեսական երկարաժամկետ զարգացմանն ուղղված միջոցառում | C19: -40004.4
B20: «Սևան» հոգեկան առողջության կենտրոն ՓԲԸ | C20: -30785
B23: ՀԱՅԱՍՏԱՆԻ ՀԱՆՐԱՊԵՏՈՒԹՅԱՆ
B24: ՎԱՐՉԱՊԵՏԻ ԱՇԽԱՏԱԿԱԶՄԻ
B25: ՂԵԿԱՎԱՐ | C25: Ա. ՀԱՐՈՒԹՅՈՒՆՅԱՆ

Sheet 3
B1: Հավելված № 3
B2: ՀՀ կառավարության 2023 թվականի
B3: __________ «____» -ի
B4: N_____ -Ն որոշման
B5: «ՀԱՅԱՍՏԱՆԻ ՀԱՆՐԱՊԵՏՈՒԹՅԱՆ 2023 ԹՎԱԿԱՆԻ ՊԵՏԱԿԱՆ ԲՅՈՒՋԵԻ ՄԱՍԻՆ» ՀԱՅԱՍՏԱՆԻ ՀԱՆՐԱՊԵՏՈՒԹՅԱՆ ՕՐԵՆՔԻ N 3 ՀԱՎԵԼՎԱԾԻ N 1.1 ԱՂՅՈՒՍԱԿՈՒՄ ԵՎ ՀԱՅԱՍՏԱՆԻ ՀԱՆՐԱՊԵՏՈՒԹՅԱՆ ԿԱՌԱՎԱՐՈՒԹՅԱՆ 2022 ԹՎԱԿԱՆԻ ԴԵԿՏԵՄԲԵՐԻ 29-Ի N 2111-Ն ՈՐՈՇՄԱՆ N 1 ՀԱՎԵԼՎԱԾԻ N 2 ԱՂՅՈՒՍԱԿՈՒՄ ԿԱՏԱՐՎՈՂ ԼՐԱՑՈՒՄՆԵՐԸ ԵՎ ՓՈՓՈԽՈՒԹՅՈՒՆՆԵՐԸ
E6: հազար դրամ
B7: Ծրագրային դասիչը | D7: Բյուջետային հատկացումների գլխավոր կարգադրիչների, ծրագրերի և միջոցառումների անվանումները | E7: Ցուցանիշների փոփոխությունները (ավելացումները նշված են դրական նշանով)
B8: Ծրագիր | C8: Միջոցառում | E8: Տարի
D9: ԸՆԴԱՄԵՆԸ | E9: =+E10 -> 170704.53
D10: ՀՀ առողջապահության նախարարություն | E10: =+E12 -> 170704.53
B11: 1126 | D11: Ծրագրի անվանումը
D12: Առողջապահության ոլորտում պետական քաղաքականության մշակում, ծրագրերի համակարգում և մոնիտորինգ | E12: =+E18+E25+E32 -> 170704.53
D13: Ծրագրի նպատակը
D14: Մարդու և հանրության առողջության պահպանում, բնակչության առողջության բարելավում, հիվանդությունների կանխարգելում, հաշմանդամության և մահացության ցուցանիշների նվազեցում
D15: Վերջնական արդյունքի նկարագրությունը
D16: Առողջապահության ոլորտում իրականացվող ծրագրերի ազդեցության և արդյունավետության բարելավում
B17: Ծրագրի միջոցառումներ
C18: 44001 | D18: Միջոցառման անվանումը | E18: =-'2'!C18 -> 99915.13
D19: «Ավան» հոգեկան առողջության կենտրոն» ՓԲԸ-ում տնտեսական երկարաժամկետ զարգացմանն ուղղված միջոցառում
D20: Միջոցառման նկարագրությունը
D21: Ներդրումների խթանում
D22: Միջոցառման տեսակը
D23: Բաժնեմասերի ձեռքբերում
C25: 44003 | D25: Միջոցառման անվանումը | E25: =-'2'!C19 -> 40004.4
D26: ««Յոլյան» արյունաբանության և ուռուցքաբանության կենտրոն» ՓԲԸ-ում տնտեսական երկարաժամկետ զարգացմանն ուղղված միջոցառում
D27: Միջոցառման նկարագրությունը
D28: Ներդրումների խթանում
D29: Միջոցառման տեսակը
D30: Բաժնեմասերի ձեռքբերում
C32: 44006 | D32: Միջոցառման անվանումը | E32: =-'2'!C20 -> 30785
D33: «Սևան» հոգեկան առողջության կենտրոն» ՓԲԸ-ում տնտեսական երկարաժամկետ զարգացմանն ուղղված միջոցառում
D34: Միջոցառման նկարագրությունը
D35: Ներդրումների խթանում
D36: Միջոցառման տեսակը
D37: Բաժնեմասերի ձեռքբերում

Sheet 4
B1: Հավելված № 4
B2: ՀՀ կառավարության 2023 թվականի
B3: __________ «____» -ի
B4: N_____ -Ն որոշման
B6: ՀԱՅԱՍՏԱՆԻ ՀԱՆՐԱՊԵՏՈՒԹՅԱՆ ԿԱՌԱՎԱՐՈՒԹՅԱՆ 2022 ԹՎԱԿԱՆԻ ԴԵԿՏԵՄԲԵՐԻ 29-Ի № 2111-Ն ՈՐՈՇՄԱՆ № 1 ՀԱՎԵԼՎԱԾԻ № 5 ԱՂՅՈՒՍԱԿՈՒՄ ԿԱՏԱՐՎՈՂ ԼՐԱՑՈՒՄԸ
B7: ՀՀ Առողջապահության նախարարություն
B8: ՄԱՍ 2. ՊԵՏԱԿԱՆ ՄԱՐՄՆԻ ԳԾՈՎ ԱՐԴՅՈՒՆՔԱՅԻՆ (ԿԱՏԱՐՈՂԱԿԱՆ) ՑՈՒՑԱՆԻՇՆԵՐԸ
B10: Ծրագրի դասիչը | C10: Ծրագրի անվանումը
B11: 1126 | C11: Առողջապահության ոլորտում պետական քաղաքականության մշակում, ծրագրերի համակարգում և մոնիտորինգ
B13: Ծրագրի միջոցառումները
B14: Ծրագրի դասիչը` | C14: 1126 | D14: Ցուցանիշների փոփոխությունները (ավելացումները նշված են դրական նշանով)
B15: Միջոցառման դասիչը` | C15: 44001 | D15: Տարի
B16: Միջոցառման անվանումը` | C16: «Ավան» հոգեկան առողջության կենտրոն» ՓԲԸ-ում տնտեսական երկարաժամկետ զարգացմանն ուղղված միջոցառում
B17: Նկարագրությունը` | C17: Ներդրումների խթանում
B18: Միջոցառման տեսակը` | C18: Բաժնեմասերի ձեռքբերում
B19: Միջոցառումն իրականացնողի անվանումը | C19: ««Ավան» հոգեկան առողջության կենտրոն» ՓԲԸ
B20: Արդյունքի չափորոշիչներ
B21: Ներդրումային ֆոնդի ներդրումների քանակը (հատ) | D21: 1
B22: Միջոցառման վրա կատարվող ծախսը (հազար դրամ) | D22: =-'2'!C18 -> 99915.13
B24: Ծրագրի միջոցառումները
B25: Ծրագրի դասիչը` | C25: 1126 | D25: Ցուցանիշների փոփոխությունը (ավելացումները նշված են դրական նշանով)
B26: Միջոցառման դասիչը` | C26: 44003 | D26: Տարի
B27: Միջոցառման անվանումը` | C27: ««Յոլյան» արյունաբանության և ուռուցքաբանության կենտրոն» ՓԲԸ-ում տնտեսական երկարաժամկետ զարգացմանն ուղղված միջոցառում
B28: Նկարագրությունը` | C28: Ներդրումների խթանում
B29: Միջոցառման տեսակը` | C29: Բաժնեմասերի ձեռքբերում
B30: Միջոցառումն իրականացնողի անվանումը | C30: ««Յոլյան» արյունաբանության և ուռուցքաբանության կենտրոն» ՓԲԸ
B31: Արդյունքի չափորոշիչներ
B32: Ներդրումային ֆոնդի ներդրումների քանակը (հատ) | D32: 1
B33: Միջոցառման վրա կատարվող ծախսը (հազար դրամ) | D33: =-'2'!C19 -> 40004.4
B35: Ծրագրի միջոցառումները
B36: Ծրագրի դասիչը` | C36: 1126 | D36: Ցուցանիշների փոփոխությունները (ավելացումները նշված են դրական նշանով)
B37: Միջոցառման դասիչը` | C37: 44006 | D37: Տարի
B38: Միջոցառման անվանումը` | C38: «Սևան» հոգեկան առողջության կենտրոն» ՓԲԸ-ում տնտեսական երկարաժամկետ զարգացմանն ուղղված միջոցառում
B39: Նկարագրությունը` | C39: Ներդրումների խթանում
B40: Միջոցառման տեսակը` | C40: Բաժնեմասերի ձեռքբերում
B41: Միջոցառումն իրականացնողի անվանումը | C41: «Սևան» հոգեկան առողջության կենտրոն» ՓԲԸ
B42: Արդյունքի չափորոշիչներ
B43: Ներդրումային ֆոնդի ներդրումների քանակը (հատ) | D43: 1
B44: Միջոցառման վրա կատարվող ծախսը (հազար դրամ) | D44: =-'2'!C20 -> 30785

Sheet 5
B1: Հավելված № 5
B2: ՀՀ կառավարության 2023 թվականի
B3: __________ «____» -ի
B4: N_____ -Ն որոշման
B6: «ՀԱՅԱՍՏԱՆԻ ՀԱՆՐԱՊԵՏՈՒԹՅԱՆ 2023 ԹՎԱԿԱՆԻ ՊԵՏԱԿԱՆ ԲՅՈՒՋԵԻ ՄԱՍԻՆ» ՀԱՅԱՍՏԱՆԻ ՀԱՆՐԱՊԵՏՈՒԹՅԱՆ ՕՐԵՆՔԻ № 1 ՀԱՎԵԼՎԱԾԻ № 2 ԱՂՅՈՒՍԱԿՈՒՄ ԿԱՏԱՐՎՈՂ ՎԵՐԱԲԱՇԽՈՒՄԸ ԵՎ ՀԱՅԱՍՏԱՆԻ ՀԱՆՐԱՊԵՏՈՒԹՅԱՆ ԿԱՌԱՎԱՐՈՒԹՅԱՆ 2022 ԹՎԱԿԱՆԻ ԴԵԿՏԵՄԲԵՐԻ 29-Ի № 2111-Ն ՈՐՈՇՄԱՆ № 5 ՀԱՎԵԼՎԱԾԻ № 1 ԱՂՅՈՒՍԱԿՈՒՄ ԿԱՏԱՐՎՈՂ ՓՈՓՈԽՈՒԹՅՈՒՆՆԵՐԸ ԵՎ ԼՐԱՑՈՒՄՆԵՐԸ
B7: (հազ. դրամ)
B8: Ծրագրային դասիչը | D8: Բյուջետային հատկացումների գլխավոր կարգադրիչների, ծրագրերի և միջոցառումների անվանումները | E8: Ցուցանիշների փոփոխությունները (ավելացումները նշված են դրական նշանով, իսկ նվազեցումները` փակագծերում)
B9: Ծրագիր | C9: Միջոցառում | E9: Տարի
D10: ԸՆԴԱՄԵՆԸ | E10: =+E11+E46 -> -170704.53
D11: ՀՀ առողջապահության նախարարություն | E11: =+E12+E25 -> -370701.02
B12: 1053 | D12: Ծրագրի անվանումը` | E12: =+E19 -> 340000
D13: Առողջապահության համակարգի արդիականացման և արդյունավետության բարձրացման ծրագիր
D14: Ծրագրի նպատակը`
D15: Առողջապահության համակարգի արդիականացում և զարգացում
D16: Վերջնական արդյունքի նկարագրությունը`
D17: Առողջապահական ենթակառուցվածքների բարելավում, կարողությունների զարգացում
B18: Ծրագրի միջոցառումներ
C19: 32005 | D19: Միջոցառման անվանումը` | E19: 340000
D20: Համաշխարհային բանկի աջակցությամբ իրականացվող ոչ վարակիչ հիվանդությունների կանխարգելման և վերահսկման ծրագրի լրացուցիչ ֆինանսավորման շրջանակներում շենքային պայմանների բարելավում
D21: Միջոցառման նկարագրությունը`
D22: Վայոց ձորի մարզային հիվանդանոցի նոր շենքի կառուցում
D23: Միջոցառման տեսակը
D24: Այլ պետական կազմակերպությունների կողմից օգտագործվող ոչ ֆինանսական ակտիվների հետ գործառնություններ
B25: 1126 | D25: Ծրագրի անվանումը | E25: =+E32+E39 -> -710701.02
D26: Առողջապահության ոլորտում պետական քաղաքականության մշակում, ծրագրերի համակարգում և մոնիտորինգ
D27: Ծրագրի նպատակը
D28: Մարդու և հանրության առողջության պահպանում, բնակչության առողջության բարելավում, հիվանդությունների կանխարգելում, հաշմանդամության և մահացության ցուցանիշների նվազեցում
D29: Վերջնական արդյունքի նկարագրությունը
D30: Առողջապահության ոլորտում իրականացվող ծրագրերի ազդեցության և արդյունավետության բարելավում
B31: Ծրագրի միջոցառումներ
C32: 12006 | D32: Միջոցառման անվանումը | E32: 347539.6
D33: Առողջապահական համակարգի պետական առևտրային և ոչ առևտրային կազմակերպություններին ֆինանսական աջակցության հատկացում
D34: Միջոցառման նկարագրությունը
D35: Առողջապահական համակարգի պետական առևտրային և ոչ առևտրային կազմակերպություններին ֆինանսական աջակցության տրամադրում ընթացիկ գործունեության արդյունավետության բարձրացմանն ուղղված
D36: Միջոցառման տեսակը
D37: Տրանսֆերտի տրամադրում
C39: 31003 | D39: Միջոցառման անվանումը | E39: -1058240.6
D40: Առողջապահական կազմակերպությունների կառուցում, վերակառուցում
D41: Միջոցառման նկարագրությունը
D42: Բնակչությանը որակյալ բժշկական օգնության և սպասարկման ծառայություններ մատուցելու նպատակով առողջապահական կազմակերպությունների վերազինում
D43: Միջոցառման տեսակը
D44: Պետական մարմինների կողմից օգտագործվող ոչ ֆինանսական ակտիվների հետ գործառնություններ
D46: ՀՀ կառավարություն | E46: =+E47+E61 -> 199996.49
B47: 1139 | D47: Ծրագրի անվանումը | E47: =+E54 -> 547536.09
D48: ՀՀ կառավարության պահուստային ֆոնդ
D49: Ծրագրի նպատակը
D50: Պետական բյուջեում չկանխատեսված, ինչպես նաեւ բյուջետային երաշխիքների ապահովման ծախսերի ֆինանսավորման ապահովում
D51: Վերջնական արդյունքի նկարագրությունը
D52: Պահուստային ֆոնդի կառավարման արդյունավետության և թափանցիկության ապահովում
B53: Ծրագրի միջոցառումներ
C54: 11001 | D54: Միջոցառման անվանումը | E54: 547536.09
D55: ՀՀ կառավարության պահուստային ֆոնդ
D56: Միջոցառման նկարագրությունը
D57: ՀՀ պետական բյուջեում նախատեսված ելքերի լրացուցիչ ֆինանսավորման, պետական բյուջեում չկանխատեսված ելքերի, ինչպես նաև բյուջետային երաշխիքների ապահովման ելքերի ֆինանսավորման ապահովում
D58: Միջոցառման տեսակը
D59: Ծառայությունների մատուցում
B61: 1139 | D61: Ծրագրի անվանումը | E61: =+E68 -> -347539.6
D62: ՀՀ կառավարության պահուստային ֆոնդ
D63: Ծրագրի նպատակը
D64: Պետական բյուջեում չկանխատեսված, ինչպես նաեւ բյուջետային երաշխիքների ապահովման ծախսերի ֆինանսավորման ապահովում
D65: Վերջնական արդյունքի նկարագրությունը
D66: Պահուստային ֆոնդի կառավարման արդյունավետության և թափանցիկության ապահովում
B67: Ծրագրի միջոցառումներ
C68: 11001 | D68: Միջոցառման անվանումը | E68: -347539.6
D69: ՀՀ կառավարության պահուստային ֆոնդ
D70: Միջոցառման նկարագրությունը
D71: ՀՀ պետական բյուջեում նախատեսված ելքերի լրացուցիչ ֆինանսավորման, պետական բյուջեում չկանխատեսված ելքերի, ինչպես նաև բյուջետային երաշխիքների ապահովման ելքերի ֆինանսավորման ապահովում
D72: Միջոցառման տեսակը
D73: Ծառայությունների մատուցում

Sheet 6
B1: Հավելված № 6
B2: ՀՀ կառավարության 2023 թվականի
B3: __________ «____» -ի
B4: N_____ -Ն որոշման
B5: «ՀԱՅԱUՏԱՆԻ ՀԱՆՐԱՊԵՏՈՒԹՅԱՆ 2023 ԹՎԱԿԱՆԻ ՊԵՏԱԿԱՆ ԲՅՈՒՋԵԻ ՄԱUԻՆ» ՀԱՅԱUՏԱՆԻ ՀԱՆՐԱՊԵՏՈՒԹՅԱՆ OՐԵՆՔԻ N 1 ՀԱՎԵԼՎԱԾԻ N 4 ԱՂՅՈՒՍԱԿՈՒՄ ԵՎ ՀԱՅԱՍՏԱՆԻ ՀԱՆՐԱՊԵՏՈՒԹՅԱՆ ԿԱՌԱՎԱՐՈՒԹՅԱՆ 2022 ԹՎԱԿԱՆԻ ԴԵԿՏԵՄԲԵՐԻ 29-Ի N 2111-Ն ՈՐՈՇՄԱՆ N 5 ՀԱՎԵԼՎԱԾԻ N 3 ԱՂՅՈՒՍԱԿՈՒՄ ԿԱՏԱՐՎՈՂ ՓՈՓՈԽՈՒԹՅՈՒՆՆԵՐԸ
B6: հազար դրամ
B7: Ծրագրային դասիչը | D7: Բյուջետային հատկացումների գլխավոր կարգադրիչների, ծրագրերի, միջոցառումների և միջոցառումները կատարող պետական մարմինների անվանումները | E7: Տարի Ցուցանիշների փոփոխությունները (ավելացումները նշված են դրական նշանով)
E8: Ընդամենը | F8: այդ թվում`
B9: Ծրագիր | C9: Միջոցառում | F9: Վարկային միջոցներ | G9: Համաֆինանսավորում
D10: ԸՆԴԱՄԵՆԸ | E10: =+E12+E13 -> 340000 | F10: =+F12+F13 -> 0 | G10: =+G12+G13 -> 340000
D11: այդ թվում`
D12: ԸՆԹԱՑԻԿ ԾԱԽՍԵՐ
D13: ՈՉ ՖԻՆԱՆՍԱԿԱՆ ԱԿՏԻՎՆԵՐԻ ԳԾՈՎ ԾԱԽՍԵՐ | E13: =+E23 -> 340000 | F13: =+F23 -> 0 | G13: =+G23 -> 340000
D14: ՀՀ առողջապահության նախարարություն | E14: =+E16 -> 340000 | F14: =+F16 -> 0 | G14: =+G16 -> 340000
D15: այդ թվում`
B16: 1053 | D16: Առողջապահության համակարգի արդիականացման և արդյունավետության բարձրացման ծրագիր | E16: =+E18 -> 340000 | F16: =+F18 -> 0 | G16: =+G18 -> 340000
D17: այդ թվում`
C18: 32005 | D18: Համաշխարհային բանկի աջակցությամբ իրականացվող ոչ վարակիչ հիվանդությունների կանխարգելման և վերահսկման ծրագրի լրացուցիչ ֆինանսավորման շրջանակներում շենքային պայմանների բարելավում | E18: =+E20 -> 340000 | F18: =+F20 -> 0 | G18: =+G20 -> 340000
D19: այդ թվում` ըստ կատարողների
D20: ՀՀ առողջապահության նախարարություն | E20: =+E22 -> 340000 | F20: =+F22 -> 0 | G20: =+G22 -> 340000
D21: այդ թվում` բյուջետային ծախսերի տնտեսագիտական դասակարգման հոդվածներ
D22: ԸՆԴԱՄԵՆԸ ԾԱԽՍԵՐ | E22: =+E23 -> 340000 | F22: =+F23 -> 0 | G22: =+G23 -> 340000
D23: ՈՉ ՖԻՆԱՆՍԱԿԱՆ ԱԿՏԻՎՆԵՐԻ ԳԾՈՎ ԾԱԽՍԵՐ | E23: =+E24 -> 340000 | F23: =+F24 -> 0 | G23: =+G24 -> 340000
D24: ՀԻՄՆԱԿԱՆ ՄԻՋՈՑՆԵՐ | E24: =+E25 -> 340000 | F24: =+F25 -> 0 | G24: =+G25 -> 340000
D25: ՇԵՆՔԵՐ ԵՎ ՇԻՆՈՒԹՅՈՒՆՆԵՐ | E25: =+E26 -> 340000 | F25: =+F26 -> 0 | G25: =+G26 -> 340000
D26: - Շենքերի և շինությունների շինարարություն | E26: =+F26+G26 -> 340000 | F26: 0 | G26: =+'5'!E19 -> 340000

Sheet 7
B1: Հավելված № 7
B2: ՀՀ կառավարության 2023 թվականի
B3: __________ «____» -ի
B4: N_____ -Ն որոշման
B6: (հազ. դրամ)
B7: «ՀԱՅԱՍՏԱՆԻ ՀԱՆՐԱՊԵՏՈՒԹՅԱՆ 2023 ԹՎԱԿԱՆԻ ՊԵՏԱԿԱՆ ԲՅՈՒՋԵԻ ՄԱՍԻՆ» ՀԱՅԱՍՏԱՆԻ ՀԱՆՐԱՊԵՏՈՒԹՅԱՆ ՕՐԵՆՔԻ № 1 ՀԱՎԵԼՎԱԾԻ № 3 ԱՂՅՈՒՍԱԿՈՒՄ ԿԱՏԱՐՎՈՂ ՓՈՓՈԽՈՒԹՅՈՒՆՆԵՐԸ
B8: Ծրագրային դասիչ | D8: Բյուջետային գլխավոր կարգադրիչների, ծրագրերի, միջոցառումների և ուղղությունների անվանումները | E8: Ցուցանիշների փոփոխությունները (նվազեցումները նշված են փակագծերում)
E9: Ընդամենը | F9: այդ թվում
B10: Ծրագիր | C10: Միջոցառում | F10: Կառուցման աշխատանքներ | G10: Վերակառուցման, վերանորոգման և վերականգնման աշխատանքներ | H10: Նախագծահե- տազոտական, գեոդեզիա- քարտեզագրա- կան աշխա- տանքներ | I10: Ոչ ֆինանսական այլ ակտիվների ձեռքբերում
D11: ՀՀ ԱՌՈՂՋԱՊԱՀՈՒԹՅԱՆ ՆԱԽԱՐԱՐՈՒԹՅՈՒՆ | E11: =+E13 -> -1058240.6 | G11: =+G13 -> -1058240.6
D12: այդ թվում`
B13: 1126 | C13: 31003 | D13: Առողջապահական կազմակերպությունների կառուցում, վերակառուցում | E13: =+F13+G13+H13+I13 -> -1058240.6 | G13: =+G14+G17 -> -1058240.6
D14: Երևան քաղաք | E14: =+E15+E16 -> -514290.44 | G14: =+G15+G16 -> -514290.44
D15: «Հոգեկան առողջության պահպանման ազգային կենտրոն» ՓԲԸ | E15: =+F15+G15+H15+I15 -> -260950 | G15: -260950
D16: «Ինֆեկցիոն հիվանդությունների ազգային կենտրոն» ՓԲԸ | E16: =+F16+G16+H16+I16 -> -253340.44 | G16: -253340.44
D17: Առողջապահական կազմակերպությունների կառուցում, վերակառուցում | E17: =+F17+G17+H17+I17 -> -543950.18 | G17: -543950.18

Sheet 8
B1: Հավելված № 8
B2: ՀՀ կառավարության 2023 թվականի
B3: __________ «____» -ի
B4: N_____ -Ն որոշման
B5: ՀԱՅԱՍՏԱՆԻ ՀԱՆՐԱՊԵՏՈՒԹՅԱՆ ԿԱՌԱՎԱՐՈՒԹՅԱՆ 2022 ԹՎԱԿԱՆԻ ԴԵԿՏԵՄԲԵՐԻ 29-Ի № 2111-Ն ՈՐՈՇՄԱՆ №№ 3 և 4 ՀԱՎԵԼՎԱԾՆԵՐՈՒՄ ԿԱՏԱՐՎՈՂ ՓՈՓՈԽՈՒԹՅՈՒՆՆԵՐԸ ԵՎ ԼՐԱՑՈՒՄՆԵՐԸ
B6: (հազ. դրամ)
B7: Գործառական դասիչը | E7: Ծրագրային դասիչը | G7: Բյուջետային հատկացումների գլխավոր կարգադրիչների, ծրագրերի, միջոցառումների և միջոցառումները կատարող պետական մարմինների անվանումները | H7: Ցուցանիշների փոփոխությունները (ավելացումները նշված են դրական նշանով, իսկ նվազեցումները` փակագծերում)
B8: բաժին | C8: խումբ | D8: դաս | E8: Ծրագիր | F8: Միջոցառում | H8: Տարի
B9: ԸՆԴԱՄԵՆԸ | H9: =+H10+H63 -> -170704.53
B10: 07 | G10: ԱՌՈՂՋԱՊԱՀՈՒԹՅՈՒՆ | H10: =+H12 -> -370701.02
G11: այդ թվում՝
C12: 06 | G12: Առողջապահություն (այլ դասերին չպատկանող) | H12: =+H14+H29 -> -370701.02
G13: այդ թվում՝
D14: 01 | G14: Առողջապահական հարակից ծառայություններ և ծրագրեր | H14: =+H16 -> 340000
G15: այդ թվում՝
G16: ՀՀ առողջապահության նախարարություն | H16: =+H18 -> 340000
G17: այդ թվում՝
E18: 1053 | G18: Առողջապահության համակարգի արդիականացման և արդյունավետության բարձրացման ծրագիր | H18: =+H20 -> 340000
G19: այդ թվում՝
F20: 32005 | G20: Համաշխարհային բանկի աջակցությամբ իրականացվող ոչ վարակիչ հիվանդությունների կանխարգելման և վերահսկման ծրագրի լրացուցիչ ֆինանսավորման շրջանակներում շենքային պայմանների բարելավում | H20: =H24 -> 340000
G21: այդ թվում` ըստ կատարողների
G22: ՀՀ առողջապահության նախարարություն | H22: =H24 -> 340000
G23: այդ թվում` բյուջետային ծախսերի տնտեսագիտական դասակարգման հոդվածներ
G24: ԸՆԴԱՄԵՆԸ ԾԱԽՍԵՐ | H24: =H25 -> 340000
G25: ՈՉ ՖԻՆԱՆՍԱԿԱՆ ԱԿՏԻՎՆԵՐԻ ԳԾՈՎ ԾԱԽՍԵՐ | H25: =H26 -> 340000
G26: ՀԻՄՆԱԿԱՆ ՄԻՋՈՑՆԵՐ | H26: =H27 -> 340000
G27: ՇԵՆՔԵՐ ԵՎ ՇԻՆՈՒԹՅՈՒՆՆԵՐ | H27: =+H28 -> 340000
G28: - Շենքերի և շինությունների շինարարություն | H28: =+'5'!E19 -> 340000
D29: 02 | G29: Առողջապահություն (այլ դասերին չպատկանող) | H29: =+H31 -> -710701.02
G30: այդ թվում՝
G31: ՀՀ առողջապահության նախարարություն | H31: =+H33 -> -710701.02
G32: այդ թվում՝
E33: 1126 | G33: Առողջապահության ոլորտում պետական քաղաքականության մշակում, ծրագրերի համակարգում և մոնիտորինգ | H33: =+H35+H47 -> -710701.02
G34: այդ թվում՝
F35: 12006 | G35: Առողջապահական համակարգի պետական առևտրային և ոչ առևտրային կազմակերպություններին ֆինանսական աջակցության հատկացում | H35: =H39 -> 347539.6
G36: այդ թվում ըստ կատարողների
G37: ՀՀ առողջապահության նախարարություն | H37: =H39 -> 347539.6
G38: այդ թվում` բյուջետային ծախսերի տնտեսագիտական դասակարգման հոդվածներ
G39: ԸՆԴԱՄԵՆԸ ԾԱԽՍԵՐ | H39: =H40 -> 347539.6
G40: ԸՆԹԱՑԻԿ ԾԱԽՍԵՐ | H40: =H41 -> 347539.6
G41: ԴՐԱՄԱՇՆՈՐՀՆԵՐ | H41: =+H42+H44 -> 347539.6
G42: Ընթացիկ դրամաշնորհներ պետական հատվածի այլ մակարդակներին | H42: =+H43 -> 46640
G43: - Ընթացիկ դրամաշնորհներ պետական և համայնքների առևտրային կազմակերպություններին | H43: 46640
G44: Կապիտալ դրամաշնորհներ պետական հատվածի այլ մակարդակներին | H44: =+H45+H46 -> 300899.6
G45: - Կապիտալ դրամաշնորհներ պետական և համայնքային ոչ առևտրային կազմակերպություններին | H45: 221999.6
G46: - Կապիտալ դրամաշնորհներ պետական և համայնքային առևտրային կազմակերպություններին | H46: 78900
F47: 31003 | G47: Առողջապահական կազմակերպությունների կառուցում, վերակառուցում | H47: =+H49+H56 -> -1058240.6
G48: այդ թվում ըստ կատարողների
G49: ՀՀ առողջապահության նախարարություն | H49: =+H51 -> -514290.44
G50: այդ թվում` բյուջետային ծախսերի տնտեսագիտական դասակարգման հոդվածներ
G51: ԸՆԴԱՄԵՆԸ ԾԱԽՍԵՐ | H51: =H52 -> -514290.44
G52: ՈՉ ՖԻՆԱՆՍԱԿԱՆ ԱԿՏԻՎՆԵՐԻ ԳԾՈՎ ԾԱԽՍԵՐ | H52: =H53 -> -514290.44
G53: ՀԻՄՆԱԿԱՆ ՄԻՋՈՑՆԵՐ | H53: =H54 -> -514290.44
G54: ՇԵՆՔԵՐ ԵՎ ՇԻՆՈՒԹՅՈՒՆՆԵՐ | H54: =+H55 -> -514290.44
G55: - Շենքերի և շինությունների կապիտալ վերանորոգում | H55: -514290.44
G56: ՀՀ կառավարություն | H56: =+H58 -> -543950.18
G57: այդ թվում` բյուջետային ծախսերի տնտեսագիտական դասակարգման հոդվածներ
G58: ԸՆԴԱՄԵՆԸ ԾԱԽՍԵՐ | H58: =+H59 -> -543950.18
G59: ՈՉ ՖԻՆԱՆՍԱԿԱՆ ԱԿՏԻՎՆԵՐԻ ԳԾՈՎ ԾԱԽՍԵՐ | H59: =+H60 -> -543950.18
G60: ՀԻՄՆԱԿԱՆ ՄԻՋՈՑՆԵՐ | H60: =+H61 -> -543950.18
G61: ՇԵՆՔԵՐ ԵՎ ՇԻՆՈՒԹՅՈՒՆՆԵՐ | H61: =+H62 -> -543950.18
G62: - Շենքերի և շինությունների կապիտալ վերանորոգում | H62: -543950.18
B63: 11 | G63: ՀԻՄՆԱԿԱՆ ԲԱԺԻՆՆԵՐԻՆ ՉԴԱՍՎՈՂ ՊԱՀՈՒՍՏԱՅԻՆ ՖՈՆԴԵՐ | H63: =+H65+H81 -> 199996.49
G64: այդ թվում՝
C65: 01 | G65: ՀՀ կառավարության և համայնքների պահուստային ֆոնդ | H65: =+H67 -> 547536.09
G66: այդ թվում՝
D67: 01 | G67: ՀՀ կառավարության պահուստային ֆոնդ | H67: =+H69 -> 547536.09
G68: այդ թվում՝
G69: ՀՀ կառավարություն | H69: =+H71 -> 547536.09
G70: այդ թվում՝
E71: 1139 | G71: ՀՀ կառավարության պահուստային ֆոնդ | H71: =+H73 -> 547536.09
G72: այդ թվում`
F73: 11001 | G73: ՀՀ կառավարության պահուստային ֆոնդ | H73: =+H75 -> 547536.09
G74: այդ թվում ըստ կատարողների
G75: ՀՀ կառավարություն | H75: =+H77 -> 547536.09
G76: այդ թվում` բյուջետային ծախսերի տնտեսագիտական դասակարգման հոդվածներ
G77: ԸՆԴԱՄԵՆԸ ԾԱԽՍԵՐ | H77: =+H78 -> 547536.09
G78: ԸՆԹԱՑԻԿ ԾԱԽՍԵՐ | H78: =+H79 -> 547536.09
G79: ԱՅԼ ԾԱԽՍԵՐ | H79: =+H80 -> 547536.09
G80: Պահուստային միջոցներ | H80: =+'5'!E54 -> 547536.09
C81: 01 | G81: ՀՀ կառավարության և համայնքների պահուստային ֆոնդ | H81: =+H83 -> -347539.6
G82: այդ թվում՝
D83: 01 | G83: ՀՀ կառավարության պահուստային ֆոնդ | H83: =+H85 -> -347539.6
G84: այդ թվում՝
G85: ՀՀ կառավարություն | H85: =+H87 -> -347539.6
G86: այդ թվում՝
E87: 1139 | G87: ՀՀ կառավարության պահուստային ֆոնդ | H87: =+H89 -> -347539.6
G88: այդ թվում`
F89: 11001 | G89: ՀՀ կառավարության պահուստային ֆոնդ | H89: =+H91 -> -347539.6
G90: այդ թվում ըստ կատարողների
G91: ՀՀ կառավարություն | H91: =+H93 -> -347539.6
G92: այդ թվում` բյուջետային ծախսերի տնտեսագիտական դասակարգման հոդվածներ
G93: ԸՆԴԱՄԵՆԸ ԾԱԽՍԵՐ | H93: =+H94 -> -347539.6
G94: ԸՆԹԱՑԻԿ ԾԱԽՍԵՐ | H94: =+H95 -> -347539.6
G95: ԱՅԼ ԾԱԽՍԵՐ | H95: =+H96 -> -347539.6
G96: Պահուստային միջոցներ | H96: -347539.6

Sheet 9
B1: Հավելված № 9
B2: ՀՀ կառավարության 2023 թվականի
B3: __________ «____» -ի
B4: N_____ -Ն որոշման
B6: ՀԱՅԱՍՏԱՆԻ ՀԱՆՐԱՊԵՏՈՒԹՅԱՆ ԿԱՌԱՎԱՐՈՒԹՅԱՆ 2022 ԹՎԱԿԱՆԻ ԴԵԿՏԵՄԲԵՐԻ 29-Ի № 2111-Ն ՈՐՈՇՄԱՆ № 5 ՀԱՎԵԼՎԱԾԻ № 2 ԱՂՅՈՒՍԱԿՈՒՄ ԿԱՏԱՐՎՈՂ ՓՈՓՈԽՈՒԹՅՈՒՆՆԵՐԸ ԵՎ ԼՐԱՑՈՒՄՆԵՐԸ
B7: (հազ. դրամ)
B8: Ծրագրային դասիչ | D8: Բյուջետային գլխավոր կարգադրիչների, ծրագրերի, միջոցառումների և ուղղությունների անվանումները | E8: Ցուցանիշների փոփոխությունները (նվազեցումները նշված են փակագծերում)
B9: Ծրագիր | C9: Միջոցառում | E9: Տարի
D10: ՀՀ ԱՌՈՂՋԱՊԱՀՈՒԹՅԱՆ ՆԱԽԱՐԱՐՈՒԹՅՈՒՆ | E10: =+E12 -> -1058240.6
D11: այդ թվում`
B12: 1126 | C12: 31003 | D12: Առողջապահական կազմակերպությունների կառուցում, վերակառուցում | E12: =+E14+E20 -> -1058240.6
D13: այդ թվում՝ ըստ կատարողների
D14: ՀՀ առողջապահության նախարարություն | E14: =+E16 -> -514290.44
D15: այդ թվում՝ ըստ ուղղությունների
D16: Երևան քաղաք | E16: =+E17+E18 -> -514290.44
D17: «Հոգեկան առողջության պահպանման ազգային կենտրոն» ՓԲԸ | E17: =+'7'!G15 -> -260950
D18: «Ինֆեկցիոն հիվանդությունների ազգային կենտրոն» ՓԲԸ | E18: =+'7'!G16 -> -253340.44
D19: այդ թվում՝ ըստ կատարողների
D20: ՀՀ կառավարություն | E20: =+E21 -> -543950.18
D21: Առողջապահական կազմակերպությունների կառուցում, վերակառուցում | E21: -543950.18

Sheet 10
B1: Հավելված № 10
B2: ՀՀ կառավարության 2023 թվականի
B3: __________ «____» -ի
B4: N_____ -Ն որոշման
B5: ՀԱՅԱՍՏԱՆԻ ՀԱՆՐԱՊԵՏՈՒԹՅԱՆ ԿԱՌԱՎԱՐՈՒԹՅԱՆ 2022 ԹՎԱԿԱՆԻ ԴԵԿՏԵՄԲԵՐԻ 29-Ի ԹԻՎ 2111-Ն ՈՐՈՇՄԱՆ N5 ՀԱՎԵԼՎԱԾԻ N 7 ԱՂՅՈՒՍԱԿՈՒՄ ԿԱՏԱՐՎՈՂ ՓՈՓՈԽՈՒԹՅՈՒՆՆԵՐԸ ԵՎ ԼՐԱՑՈՒՄՆԵՐԸ
H6: հազար դրամ
B7: Ծրագրային դասիչ | D7: Բյուջետային հատկացումների գլխավոր կարգադրիչների, ծրագրերի, միջոցառումների, ծախսային ուղղությունների անվանումները | G7: Միջոցառումները կատարող պետական մարմինների և դրամաշնորհ ստացող տնտեսվարող սուբյեկտների անվանումները | H7: Տարի Ցուցանիշների փոփոխությունները (ավելացումները նշված են դրական նշանով)
B8: Ծրագիր | C8: Միջոցառում
B9: ՀՀ առողջապահության նախարարություն | H9: =+H10 -> 347539.6
B10: 1126 | C10: Առողջապահության ոլորտում պետական քաղաքականության մշակում, ծրագրերի համակարգում և մոնիտորինգ | H10: =+H11 -> 347539.6
C11: 12006 | D11: Առողջապահական համակարգի պետական առևտրային և ոչ առևտրային կազմակերպություններին ֆինանսական աջակցության հատկացում | G11: ՀՀ առողջապահության նախարարություն | H11: =SUM(H12:H17) -> 347539.6
G12: «Դատաբժշկական գիտագործնական կենտրոն» ՊՈԱԿ | H12: 118499.6
G13: «Քրեկատարողական բժշկական կենտրոն» ՊՈԱԿ | H13: 90000
G14: «Թոքաբանության ազգային կենտրոն» ՊՈԱԿ | H14: 13500
G15: «Կախվածությունների բուժման ազգային կենտրոն» ՓԲԸ | H15: 78900
G16: «Ինֆեկցիոն հիվանդությունների ազգային կենտրոն» ՓԲԸ | H16: 13700
G17: «Վայոց Ձորի մարզային հիվանդանոց» ՓԲԸ | H17: 32940

Sheet 11
B1: Հավելված № 11
B2: ՀՀ կառավարության 2023 թվականի
B3: __________ «____» -ի
B4: N_____ -Ն որոշման
B6: ՀԱՅԱՍՏԱՆԻ ՀԱՆՐԱՊԵՏՈՒԹՅԱՆ ԿԱՌԱՎԱՐՈՒԹՅԱՆ 2022 ԹՎԱԿԱՆԻ ԴԵԿՏԵՄԲԵՐԻ 29-Ի № 2111-Ն ՈՐՈՇՄԱՆ № 9 ՀԱՎԵԼՎԱԾԻ № 9.8 ԱՂՅՈՒՍԱԿՈՒՄ ԿԱՏԱՐՎՈՂ ՓՈՓՈԽՈՒԹՅՈՒՆՆԵՐԸ ԵՎ ԼՐԱՑՈՒՄՆԵՐԸ
B7: ՀՀ Առողջապահության նախարարություն
B8: ՄԱՍ 2. ՊԵՏԱԿԱՆ ՄԱՐՄՆԻ ԳԾՈՎ ԱՐԴՅՈՒՆՔԱՅԻՆ (ԿԱՏԱՐՈՂԱԿԱՆ) ՑՈՒՑԱՆԻՇՆԵՐԸ
B9: (հազ. դրամ)
B10: Ծրագրի դասիչը | C10: Ծրագրի անվանումը
B11: 1053 | C11: Առողջապահության համակարգի արդիականացման և արդյունավետության բարձրացման ծրագիր
B13: Ծրագրի միջոցառումները
B14: Ծրագրի դասիչը` | C14: 1053 | D14: Ցուցանիշների փոփոխությունները (ավելացումները նշված են դրական նշանով)
B15: Միջոցառման դասիչը` | C15: 32005 | D15: Տարի
B16: Միջոցառման անվանումը` | C16: Համաշխարհային բանկի աջակցությամբ իրականացվող ոչ վարակիչ հիվանդությունների կանխարգելման և վերահսկման ծրագրի լրացուցիչ ֆինանսավորման շրջանակներում շենքային պայմանների բարելավում
B17: Նկարագրությունը` | C17: Վայոց ձորի մարզային հիվանդանոցի նոր շենքի կառուցում
B18: Միջոցառման տեսակը` | C18: Այլ պետական կազմակերպությունների կողմից օգտագործվող ոչ ֆինանսական ակտիվների հետ գործառնություններ
B19: Ակտիվն օգտագործող կազմակերպության (ների) անվանում(ներ)ը | C19: Մասնագիտացված միավոր
B20: Արդյունքի չափորոշիչներ
B22: Միջոցառման վրա կատարվող ծախսը (հազար դրամ) | D22: 340000
B24: Ծրագրի դասիչը | C24: Ծրագրի անվանումը
B25: 1126 | C25: Առողջապահության ոլորտում պետական քաղաքականության մշակում, ծրագրերի համակարգում և մոնիտորինգ
B27: Ծրագրի միջոցառումները
B28: Ծրագրի դասիչը` | C28: 1126 | D28: Ցուցանիշների փոփոխությունները (ավելացումները նշված են դրական նշանով)
B29: Միջոցառման դասիչը` | C29: 12006 | D29: Տարի
B30: Միջոցառման անվանումը` | C30: Առողջապահական համակարգի պետական առևտրային և ոչ առևտրային կազմակերպություններին ֆինանսական աջակցության հատկացում
B31: Նկարագրությունը` | C31: Առողջապահական համակարգի պետական առևտրային և ոչ առևտրային կազմակերպություններին ֆինանսական աջակցության տրամադրում ընթացիկ գործունեության արդյունավետության բարձրացմանն ուղղված
B32: Միջոցառման տեսակը` | C32: Տրանսֆերտի տրամադրում
B33: Ակտիվն օգտագործող կազմակերպության (ների) անվանում(ներ)ը | C33: Առողջապահական կազմակերպություններ
B34: Արդյունքի չափորոշիչներ
B35: Ֆինանսական աջակցություն ստացող բժշկական հաստատությունների թիվ, հատ | D35: 6
B36: Միջոցառման վրա կատարվող ծախսը (հազար դրամ) | D36: =+'5'!E32 -> 347539.6
B38: Ծրագրի դասիչը` | C38: 1126 | D38: Ցուցանիշների փոփոխությունը (նվազեցումները նշված են փակագծերում)
B39: Միջոցառման դասիչը` | C39: 31003 | D39: Տարի
B40: Միջոցառման անվանումը` | C40: Առողջապահական կազմակերպությունների կառուցում, վերակառուցում
B41: Նկարագրությունը` | C41: Բնակչությանը որակյալ բժշկական օգնության և սպասարկման ծառայություններ մատուցելու նպատակով առողջապահական կազմակերպությունների կառուցում, վերակառուցում
B42: Միջոցառման տեսակը` | C42: Պետական մարմինների կողմից օգտագործվող ոչ ֆինանսական ակտիվների հետ գործառնություններ
B43: Ակտիվն օգտագործող կազմակերպության (ների) անվանում(ներ)ը | C43: ՀՀ գնումների մասին օրենսդրությանը համապատասխան ընտրված կազմակերպություններ
B44: Արդյունքի չափորոշիչներ
B45: Միջոցառման վրա կատարվող ծախսը (հազար դրամ) | D45: =+'5'!E39 -> -1058240.6
B47: ՀՀ կառավարություն
B48: ՀԱՅԱՍՏԱՆԻ ՀԱՆՐԱՊԵՏՈՒԹՅԱՆ ԿԱՌԱՎԱՐՈՒԹՅԱՆ 2021 ԹՎԱԿԱՆԻ ԴԵԿՏԵՄԲԵՐԻ 23-Ի N 2121-Ն ՈՐՈՇՄԱՆ N 9 ՀԱՎԵԼՎԱԾԻ 9.47 ԱՂՅՈՒՍԱԿՈՒՄ ԿԱՏԱՐՎՈՂ ՓՈՓՈԽՈՒԹՅՈՒՆԸ
B49: ՄԱՍ 2. ՊԵՏԱԿԱՆ ՄԱՐՄՆԻ ԳԾՈՎ ԱՐԴՅՈՒՆՔԱՅԻՆ (ԿԱՏԱՐՈՂԱԿԱՆ) ՑՈՒՑԱՆԻՇՆԵՐԸ
B50: հազար դրամ
B51: Ծրագրի դասիչը | C51: Ծրագրի անվանումը
B52: 1139 | C52: ՀՀ կառավարության պահուստային ֆոնդ
B53: Ծրագրի միջոցառումները
B54: Ծրագրի դասիչը` | C54: 1139 | D54: Ցուցանիշների փոփոխությունները (ավելացումները նշված են դրական նշանով)
B55: Միջոցառման դասիչը` | C55: 11001 | D55: Տարի
B56: Միջոցառման անվանումը` | C56: ՀՀ կառավարության պահուստային ֆոնդ
B57: Նկարագրությունը` | C57: ՀՀ պետական բյուջեում նախատեսված ելքերի լրացուցիչ ֆինանսավորման, պետական բյուջեում չկանխատեսված ելքերի, ինչպես նաև բյուջետային երաշխիքների ապահովման ելքերի ֆինանսավորման ապահովում
B58: Միջոցառման տեսակը` | C58: Ծառայությունների մատուցում
B59: Արդյունքի չափորոշիչներ
B60: Միջոցառման վրա կատարվող ծախսը (հազար դրամ) | D60: =+'5'!E54 -> 547536.09
B62: Ծրագրի դասիչը | C62: Ծրագրի անվանումը
B63: 1139 | C63: ՀՀ կառավարության պահուստային ֆոնդ
B64: Ծրագրի միջոցառումները
B65: Ծրագրի դասիչը` | C65: 1139 | D65: Ցուցանիշների փոփոխությունը (նվազեցումը նշված է փակագծերում)
B66: Միջոցառման դասիչը` | C66: 11001 | D66: Տարի
B67: Միջոցառման անվանումը` | C67: ՀՀ կառավարության պահուստային ֆոնդ
B68: Նկարագրությունը` | C68: ՀՀ պետական բյուջեում նախատեսված ելքերի լրացուցիչ ֆինանսավորման, պետական բյուջեում չկանխատեսված ելքերի, ինչպես նաև բյուջետային երաշխիքների ապահովման ելքերի ֆինանսավորման ապահովում
B69: Միջոցառման տեսակը` | C69: Ծառայությունների մատուցում
B70: Արդյունքի չափորոշիչներ
B71: Միջոցառման վրա կատարվող ծախսը (հազար դրամ) | D71: -347539.6

Sheet 12
B1: Հավելված № 12
B2: ՀՀ կառավարության 2023 թվականի
B3: __________ «____» -ի
B4: N_____ -Ն որոշման
B6: ՀԱՅԱՍՏԱՆԻ ՀԱՆՐԱՊԵՏՈՒԹՅԱՆ ԿԱՌԱՎԱՐՈՒԹՅԱՆ 2022 ԹՎԱԿԱՆԻ ԴԵԿՏԵՄԲԵՐԻ 29-Ի № 2111-Ն ՈՐՈՇՄԱՆ № 9.1 ՀԱՎԵԼՎԱԾԻ № 9.1.8 ԱՂՅՈՒՍԱԿՈՒՄ ԿԱՏԱՐՎՈՂ ՓՈՓՈԽՈՒԹՅՈՒՆՆԵՐԸ
B7: ՀՀ Առողջապահության նախարարություն
B8: ՄԱՍ 1. ՊԵՏԱԿԱՆ ՄԱՐՄՆԻ ԳԾՈՎ ԱՐԴՅՈՒՆՔԱՅԻՆ (ԿԱՏԱՐՈՂԱԿԱՆ) ՑՈՒՑԱՆԻՇՆԵՐԸ
B10: Ծրագրի դասիչը | C10: Ծրագրի անվանումը
B11: 1053 | C11: Առողջապահության համակարգի արդիականացման և արդյունավետության բարձրացման ծրագիր
B13: Ծրագրի միջոցառումները
B14: Ծրագրի դասիչը` | C14: 1053 | D14: Ցուցանիշների փոփոխությունները (ավելացումները նշված են դրական նշանով)
B15: Միջոցառման դասիչը` | C15: 32005 | D15: Տարի
B16: Միջոցառման անվանումը` | C16: Համաշխարհային բանկի աջակցությամբ իրականացվող ոչ վարակիչ հիվանդությունների կանխարգելման և վերահսկման ծրագրի լրացուցիչ ֆինանսավորման շրջանակներում շենքային պայմանների բարելավում
B17: Նկարագրությունը` | C17: Վայոց ձորի մարզային հիվանդանոցի նոր շենքի կառուցում
B18: Միջոցառման տեսակը` | C18: Այլ պետական կազմակերպությունների կողմից օգտագործվող ոչ ֆինանսական ակտիվների հետ գործառնություններ
B19: Ակտիվն օգտագործող կազմակերպության (ների) անվանում(ներ)ը | C19: Մասնագիտացված միավոր
B20: Արդյունքի չափորոշիչներ
B22: Միջոցառման վրա կատարվող ծախսը (հազար դրամ) | D22: 340000
B24: Ծրագրի դասիչը | C24: Ծրագրի անվանումը
B25: 1126 | C25: Առողջապահության ոլորտում պետական քաղաքականության մշակում, ծրագրերի համակարգում և մոնիտորինգ
B27: Ծրագրի միջոցառումները
B28: Ծրագրի դասիչը` | C28: 1126 | D28: Ցուցանիշների փոփոխությունները (ավելացումները նշված են դրական նշանով)
B29: Միջոցառման դասիչը` | C29: 12006 | D29: Տարի
B30: Միջոցառման անվանումը` | C30: Առողջապահական համակարգի պետական առևտրային և ոչ առևտրային կազմակերպություններին ֆինանսական աջակցության հատկացում
B31: Նկարագրությունը` | C31: Առողջապահական համակարգի պետական առևտրային և ոչ առևտրային կազմակերպություններին ֆինանսական աջակցության տրամադրում ընթացիկ գործունեության արդյունավետության բարձրացմանն ուղղված
B32: Միջոցառման տեսակը` | C32: Տրանսֆերտի տրամադրում
B33: Ակտիվն օգտագործող կազմակերպության (ների) անվանում(ներ)ը | C33: Առողջապահական կազմակերպություններ
B34: Արդյունքի չափորոշիչներ
B35: Ֆինանսական աջակցություն ստացող բժշկական հաստատությունների թիվ, հատ | D35: 6
B36: Միջոցառման վրա կատարվող ծախսը (հազար դրամ) | D36: =+'5'!E32 -> 347539.6
B38: Ծրագրի դասիչը` | C38: 1126 | D38: Ցուցանիշների փոփոխությունը (նվազեցումները նշված են փակագծերում)
B39: Միջոցառման դասիչը` | C39: 31003 | D39: Տարի
B40: Միջոցառման անվանումը` | C40: Առողջապահական կազմակերպությունների կառուցում, վերակառուցում
B41: Նկարագրությունը` | C41: Բնակչությանը որակյալ բժշկական օգնության և սպասարկման ծառայություններ մատուցելու նպատակով առողջապահական կազմակերպությունների կառուցում, վերակառուցում
B42: Միջոցառման տեսակը` | C42: Պետական մարմինների կողմից օգտագործվող ոչ ֆինանսական ակտիվների հետ գործառնություններ
B43: Ակտիվն օգտագործող կազմակերպության (ների) անվանում(ներ)ը | C43: ՀՀ գնումների մասին օրենսդրությանը համապատասխան ընտրված կազմակերպություններ
B44: Արդյունքի չափորոշիչներ
B45: Միջոցառման վրա կատարվող ծախսը (հազար դրամ) | D45: =+'7'!G14 -> -514290.44
B47: ՀԱՅԱՍՏԱՆԻ ՀԱՆՐԱՊԵՏՈՒԹՅԱՆ ԿԱՌԱՎԱՐՈՒԹՅԱՆ 2022 ԹՎԱԿԱՆԻ ԴԵԿՏԵՄԲԵՐԻ 29-Ի № 2111-Ն ՈՐՈՇՄԱՆ № 9.1 ՀԱՎԵԼՎԱԾԻ № 9.1.58 ԱՂՅՈՒՍԱԿՈՒՄ ԿԱՏԱՐՎՈՂ ՓՈՓՈԽՈՒԹՅՈՒՆՆԵՐԸ ԵՎ ԼՐԱՑՈՒՄՆԵՐԸ
B48: ՀՀ կառավարություն
B49: ՄԱՍ 1. ՊԵՏԱԿԱՆ ՄԱՐՄՆԻ ԳԾՈՎ ԱՐԴՅՈՒՆՔԱՅԻՆ (ԿԱՏԱՐՈՂԱԿԱՆ) ՑՈՒՑԱՆԻՇՆԵՐԸ
B50: (հազ. դրամ)
B51: Ծրագրի դասիչը | C51: Ծրագրի անվանումը
B52: 1126 | C52: Առողջապահության ոլորտում պետական քաղաքականության մշակում, ծրագրերի համակարգում և մոնիտորինգ
B54: Ծրագրի միջոցառումները
B55: Ծրագրի դասիչը` | C55: 1126 | D55: Ցուցանիշների փոփոխությունը (նվազեցումները նշված են փակագծերում)
B56: Միջոցառման դասիչը` | C56: 31003 | D56: Տարի
B57: Միջոցառման անվանումը` | C57: Առողջապահական կազմակերպությունների կառուցում, վերակառուցում
B58: Նկարագրությունը` | C58: Բնակչությանը որակյալ բժշկական օգնության և սպասարկման ծառայություններ մատուցելու նպատակով առողջապահական կազմակերպությունների կառուցում, վերակառուցում
B59: Միջոցառման տեսակը` | C59: Պետական մարմինների կողմից օգտագործվող ոչ ֆինանսական ակտիվների հետ գործառնություններ
B60: Միջոցառումն իրականացնողի անվանումը | C60: ՀՀ գնումների մասին օրենսդրությանը համապատասխան ընտրված կազմակերպություններ
B61: Արդյունքի չափորոշիչներ
B63: Միջոցառման վրա կատարվող ծախսը (հազար դրամ) | D63: =+'7'!G17 -> -543950.18
B65: Ծրագրի դասիչը | C65: Ծրագրի անվանումը
B66: 1139 | C66: ՀՀ կառավարության պահուստային ֆոնդ
B67: Ծրագրի միջոցառումները
B68: Ծրագրի դասիչը` | C68: 1139 | D68: Ցուցանիշների փոփոխությունները (ավելացումները նշված են դրական նշանով)
B69: Միջոցառման դասիչը` | C69: 11001 | D69: Տարի
B70: Միջոցառման անվանումը` | C70: ՀՀ կառավարության պահուստային ֆոնդ
B71: Նկարագրությունը` | C71: ՀՀ պետական բյուջեում նախատեսված ելքերի լրացուցիչ ֆինանսավորման, պետական բյուջեում չկանխատեսված ելքերի, ինչպես նաև բյուջետային երաշխիքների ապահովման ելքերի ֆինանսավորման ապահովում
B72: Միջոցառման տեսակը` | C72: Ծառայությունների մատուցում
B73: Արդյունքի չափորոշիչներ
B74: Միջոցառման վրա կատարվող ծախսը (հազար դրամ) | D74: =+'5'!E54 -> 547536.09
B76: Ծրագրի դասիչը | C76: Ծրագրի անվանումը
B77: 1139 | C77: ՀՀ կառավարության պահուստային ֆոնդ
B78: Ծրագրի միջոցառումները
B79: Ծրագրի դասիչը` | C79: 1139 | D79: Ցուցանիշների փոփոխությունը (նվազեցումը նշված է փակագծերում)
B80: Միջոցառման դասիչը` | C80: 11001 | D80: Տարի
B81: Միջոցառման անվանումը` | C81: ՀՀ կառավարության պահուստային ֆոնդ
B82: Նկարագրությունը` | C82: ՀՀ պետական բյուջեում նախատեսված ելքերի լրացուցիչ ֆինանսավորման, պետական բյուջեում չկանխատեսված ելքերի, ինչպես նաև բյուջետային երաշխիքների ապահովման ելքերի ֆինանսավորման ապահովում
B83: Միջոցառման տեսակը` | C83: Ծառայությունների մատուցում
B84: Արդյունքի չափորոշիչներ
B85: Միջոցառման վրա կատարվող ծախսը (հազար դրամ) | D85: -347539.6

Sheet 13
B1: Հավելված № 13
B2: ՀՀ կառավարության 2023 թվականի
B3: __________ «____» -ի
B4: N_____ -Ն որոշման
B5: ՀԱՅԱՍՏԱՆԻ ՀԱՆՐԱՊԵՏՈՒԹՅԱՆ ԿԱՌԱՎԱՐՈՒԹՅԱՆ 2022 ԹՎԱԿԱՆԻ ԴԵԿՏԵՄԲԵՐԻ 29-Ի № 2111-Ն ՈՐՈՇՄԱՆ № 10 ՀԱՎԵԼՎԱԾՈՒՄ ԿԱՏԱՐՎՈՂ ՓՈՓՈԽՈՒԹՅՈՒՆՆԵՐԸ
B6: Կոդը | C6: Անվանումը | F6: Գնման ձևը | G6: Չափման միավորը | H6: Միավորի գինը | I6: Քանակը | J6: Ցուցանիշների փոփոխությունները (նվազեցումները նշված են փակագծերում)
J7: Գումարը (հազար դրամով)
B8: ՀՀ առողջապահության նախարարություն | J8: =+J10 -> -514290.44
B9: Բաժին N 07 | C9: Խումբ N 06 | D9: Դաս N 02 | E9: Առողջապահություն (այլ դասերին չպատկանող) | J9: =J10 -> -514290.44
B10: 1126 31003 | C10: Առողջապահական կազմակերպությունների կառուցում, վերակառուցում | J10: =+J11+J14 -> -514290.44
C11: ՄԱՍ II. ԱՇԽԱՏԱՆՔՆԵՐ | J11: =+J12+J13 -> -502456.68
B12: 45451700-1 | C12: վերակառուցման աշխատանքներ | F12: ԲՄ | G12: դրամ | J12: -256781
B13: 45451700-3 | C13: վերակառուցման աշխատանքներ | F13: ԲՄ | G13: դրամ | J13: -245675.68
C14: ՄԱՍ III. ԾԱՌԱՅՈՒԹՅՈՒՆՆԵՐ | J14: =+J15+J16+J17+J18 -> -11833.758
B15: 71351540-1 | C15: տեխնիկական հսկողության ծառայություններ | F15: ԳՀ | G15: դրամ | J15: -2598
B16: 71351540-3 | C16: տեխնիկական հսկողության ծառայություններ | F16: ԳՀ | G16: դրամ | J16: -5678.1273
B17: 98111140-1 | C17: հեղինակային հսկողության ծառայություններ | F17: ՄԱ | G17: դրամ | J17: -1571
B18: 98111140-3 | C18: հեղինակային հսկողության ծառայություններ | F18: ՄԱ | G18: դրամ | J18: -1986.631

Sheet 14
B1: Հավելված № 14
B2: ՀՀ կառավարության 2023 թվականի
B3: __________ «____» -ի
B4: N_____ -Ն որոշման
B5: ՀԱՅԱՍՏԱՆԻ ՀԱՆՐԱՊԵՏՈՒԹՅԱՆ 2023 ԹՎԱԿԱՆԻ ՊԵՏԱԿԱՆ ԲՅՈՒՋԵՈՎ ՆԱԽԱՏԵՍՎԱԾ՝ ՀԱՅԱՍՏԱՆԻ ՀԱՆՐԱՊԵՏՈՒԹՅԱՆ ԿԱՌԱՎԱՐՈՒԹՅԱՆ ՊԱՀՈՒՍՏԱՅԻՆ ՖՈՆԴԻՑ ՀԱՏԿԱՑՈՒՄՆԵՐ ԿԱՏԱՐԵԼՈՒ ՎԵՐԱԲԵՐՅԱԼ
B6: (հազ. դրամ)
B7: Գործառական դասիչը | E7: Ծրագրային դասիչը | G7: Բյուջետային հատկացումների գլխավոր կարգադրիչների, ծրագրերի, միջոցառումների և միջոցառումները կատարող պետական մարմինների անվանումները | H7: Ցուցանիշների փոփոխությունները (ավելացումները նշված են դրական նշանով, իսկ նվազեցումները` փակագծերում)
B8: բաժին | C8: խումբ | D8: դաս | E8: Ծրագիր | F8: Միջոցառում | H8: Տարի
B9: ԸՆԴԱՄԵՆԸ | H9: =+H10+H32 -> 0
B10: 07 | G10: ԱՌՈՂՋԱՊԱՀՈՒԹՅՈՒՆ | H10: =+H12 -> 347539.6
G11: այդ թվում՝
C12: 06 | G12: Առողջապահություն (այլ դասերին չպատկանող) | H12: =+H14 -> 347539.6
G13: այդ թվում՝
D14: 02 | G14: Առողջապահություն (այլ դասերին չպատկանող) | H14: =+H16 -> 347539.6
G15: այդ թվում՝
G16: ՀՀ առողջապահության նախարարություն | H16: =+H18 -> 347539.6
G17: այդ թվում՝
E18: 1126 | G18: Առողջապահության ոլորտում պետական քաղաքականության մշակում, ծրագրերի համակարգում և մոնիտորինգ | H18: =+H20 -> 347539.6
G19: այդ թվում՝
F20: 12006 | G20: Առողջապահական համակարգի պետական առևտրային և ոչ առևտրային կազմակերպություններին ֆինանսական աջակցության հատկացում | H20: =H24 -> 347539.6
G21: այդ թվում ըստ կատարողների
G22: ՀՀ առողջապահության նախարարություն | H22: =H24 -> 347539.6
G23: այդ թվում` բյուջետային ծախսերի տնտեսագիտական դասակարգման հոդվածներ
G24: ԸՆԴԱՄԵՆԸ ԾԱԽՍԵՐ | H24: =H25 -> 347539.6
G25: ԸՆԹԱՑԻԿ ԾԱԽՍԵՐ | H25: =+H26 -> 347539.6
G26: ԴՐԱՄԱՇՆՈՐՀՆԵՐ | H26: =+H27+H29 -> 347539.6
G27: Ընթացիկ դրամաշնորհներ պետական հատվածի այլ մակարդակներին | H27: =+H28 -> 46640
G28: - Ընթացիկ դրամաշնորհներ պետական և համայնքների առևտրային կազմակերպություններին | H28: 46640
G29: Կապիտալ դրամաշնորհներ պետական հատվածի այլ մակարդակներին | H29: =+H30+H31 -> 300899.6
G30: - Կապիտալ դրամաշնորհներ պետական և համայնքային ոչ առևտրային կազմակերպություններին | H30: 221999.6
G31: - Կապիտալ դրամաշնորհներ պետական և համայնքային առևտրային կազմակերպություններին | H31: 78900
B32: 11 | G32: ՀԻՄՆԱԿԱՆ ԲԱԺԻՆՆԵՐԻՆ ՉԴԱՍՎՈՂ ՊԱՀՈՒՍՏԱՅԻՆ ՖՈՆԴԵՐ | H32: =+H34 -> -347539.6
G33: այդ թվում՝
C34: 01 | G34: ՀՀ կառավարության և համայնքների պահուստային ֆոնդ | H34: =+H36 -> -347539.6
G35: այդ թվում՝
D36: 01 | G36: ՀՀ կառավարության պահուստային ֆոնդ | H36: =+H38 -> -347539.6
G37: այդ թվում՝
G38: ՀՀ կառավարություն | H38: =+H40 -> -347539.6
G39: այդ թվում՝
E40: 1139 | G40: ՀՀ կառավարության պահուստային ֆոնդ | H40: =+H42 -> -347539.6
G41: այդ թվում`
F42: 11001 | G42: ՀՀ կառավարության պահուստային ֆոնդ | H42: =+H44 -> -347539.6
G43: այդ թվում ըստ կատարողների
G44: ՀՀ կառավարություն | H44: =+H46 -> -347539.6
G45: այդ թվում` բյուջետային ծախսերի տնտեսագիտական դասակարգման հոդվածներ
G46: ԸՆԴԱՄԵՆԸ ԾԱԽՍԵՐ | H46: =+H47 -> -347539.6
G47: ԸՆԹԱՑԻԿ ԾԱԽՍԵՐ | H47: =+H48 -> -347539.6
G48: ԱՅԼ ԾԱԽՍԵՐ | H48: =+H49 -> -347539.6
G49: Պահուստային միջոցներ | H49: -347539.6
