Workbook
Name a: #REF!
Name a: #REF!
Name AgencyCode: #REF!
Name AgencyCode: #REF!
Name AgencyCode: #REF!
Name AgencyCode: #REF!
Name AgencyCode: #REF!
Name AgencyCode: #REF!
Name AgencyName: #REF!
Name AgencyName: #REF!
Name AgencyName: #REF!
Name davit: #REF!
Name davit: #REF!
Name Functional1: #REF!
Name Functional1: #REF!
Name Functional1: #REF!
Name ggg: #REF!
Name ggg: #REF!
Name PANature: #REF!
Name PANature: #REF!
Name PANature: #REF!
Name PAType: #REF!
Name PAType: #REF!
Name PAType: #REF!
Name Performance2: #REF!
Name Performance2: #REF!
Name Performance2: #REF!
Name PerformanceType: #REF!
Name PerformanceType: #REF!
Name PerformanceType: #REF!
Name Հավելված: #REF!
Name Հավելված: #REF!
Name Մաս: #REF!
Name Մաս: #REF!
Name շախմատիստ: #REF!
Name շախմատիստ: #REF!

Sheet Հավելված N 1
C1: Հավելված N 1
C2: ՀՀ կառավարության 2023 թվականի
C3: ______________ ի ___Ն որոշման
A6: «ՀԱՅԱUՏԱՆԻ ՀԱՆՐԱՊԵՏՈՒԹՅԱՆ 2023 ԹՎԱԿԱՆԻ ՊԵՏԱԿԱՆ ԲՅՈՒՋԵԻ ՄԱUԻՆ» ՀԱՅԱUՏԱՆԻ ՀԱՆՐԱՊԵՏՈՒԹՅԱՆ OՐԵՆՔԻ N 1 ՀԱՎԵԼՎԱԾԻ N 2 ԱՂՅՈՒՍԱԿՈՒՄ ԿԱՏԱՐՎՈՂ ՎԵՐԱԲԱՇԽՈՒՄԸ ԵՎ ՀԱՅԱՍՏԱՆԻ ՀԱՆՐԱՊԵՏՈՒԹՅԱՆ ԿԱՌԱՎԱՐՈՒԹՅԱՆ 2022 ԹՎԱԿԱՆԻ ԴԵԿՏԵՄԲԵՐԻ 29-Ի N 2111-Ն ՈՐՈՇՄԱՆ N 5 ՀԱՎԵԼՎԱԾԻ N 1 ԱՂՅՈՒՍԱԿՈՒՄ ԿԱՏԱՐՎՈՂ ՓՈՓՈԽՈՒԹՅՈՒՆՆԵՐԸ ԵՎ ԼՐԱՑՈՒՄՆԵՐԸ
D8: հազ. դրամներով
A9: Ծրագրային դասիչը | C9: Բյուջետային հատկացումների գլխավոր կարգադրիչների, ծրագրերի և միջոցառումների անվանումները | D9: Ցուցանիշների փոփոխությունը (ավելացումները նշված են դրական նշանով, իսկ նվազեցումները փակագծերում)
A10: Ծրագիր | B10: Միջոցառում | D10: Տարի
A11: 1192 | C11: ԸՆԴԱՄԵՆԸ | D11: =+D13 -> 1.1823431e-11
C12: այդ թվում
C13: ՀՀ ԿՐԹՈՒԹՅԱՆ, ԳԻՏՈՒԹՅԱՆ, ՄՇԱԿՈՒՅԹԻ ԵՎ ՍՊՈՐՏԻ ՆԱԽԱՐԱՐՈՒԹՅՈՒՆ | D13: =+D15+D28 -> 1.1823431e-11
A14: 1130 | C14: Ծրագրի անվանումը`
C15: Կրթության, գիտության, մշակույթի և սպորտի բնագավառի պետական քաղաքականության մշակում, ծրագրերի համակարգում և մոնիտորինգ | D15: =+D22 -> 2523.8
C16: Ծրագրի նպատակը`
C17: Ապահովել համընդհանուր, հավասարապես հասանելի, ներառական և որակյալ կրթություն՛ բավարարելով տնտեսության ու հասարակության պահանջները, լիարժեք ծառայելով ազգային շահերին
C18: Վերջնական արդյունքի նկարագրությունը`
C19: Կրթության, գիտության, մշակույթի և սպորտի բնագավառում իրականացվող ծրագրերի ազդեցության և արդյունավետության բարելավում
C20: Ծրագրի միջոցառումներ
B21: 31001 | C21: Միջոցառման անվանումը`
C22: ՀՀ կրթության, գիտության, մշակույթի և սպորտի նախարարության կարողությունների զարգացում և տեխնիկական հագեցվածության ապահովում | D22: =+'Հավելված N 2'!G57 -> 2523.8
C23: Միջոցառման նկարագրությունը`
C24: ՀՀ կրթության, գիտության, մշակույթի և սպորտի նախարարության աշխատանքային պայմանների բարելավման համար վարչական սարքավորումների ձեռք բերում
C25: Միջոցառման տեսակը
C26: Պետական մարմինների կողմից օգտագործվող ոչ ֆինանսական ակտիվների հետ գործառնություններ
A27: 1183 | C27: Ծրագրի անվանումը`
C28: Ապահով դպրոց | D28: =+D35+D41 -> -2523.8
C29: Ծրագրի նպատակը`
C30: Դպրոցներին սպառնացող աղետների ռիսկի կառավարման կարողությունների հզորացում, դպրոցի անձնակազմի և աշակերտների անվտանգության ապահովման մակարդակի բարձրացում՛ կիրառելով ներառական և երեխայակենտրոն մոտեցում
C31: Վերջնական արդյունքի նկարագրությունը`
C32: Դպրոցական միջավայրի բարելավում
C33: Ծրագրի միջոցառումներ
B34: 32003 | C34: Միջոցառման անվանումը`
C35: Փոքրաքանակ երեխաներով համալրված հանրակրթական դպրոցների և կրթահամալիրներ մոդուլային շենքերի կառուցում | D35: =+'Հավելված N 2'!G24 -> -279945.4
C36: Միջոցառման նկարագրությունը`
C37: Կրթական հաստատությունների կառուցում համայնքային կենտրոնների մոդելով
C38: Միջոցառման տեսակը
C39: Այլ պետական կազմակերպությունների կողմից օգտագործվող ոչ ֆինանսական ակտիվների հետ գործառնություններ
B40: 32012 | C40: Միջոցառման անվանումը`
C41: Հանրակրթական դպրոցների գույքով և տեխնիկայով ապահովում | D41: =+'Հավելված N 2'!G33 -> 277421.6
C42: Միջոցառման նկարագրությունը`
C43: Կրթական ժամանակակից նորմերին համապատասխանող գույքի ձեռքբերում
C44: Միջոցառման տեսակը
C45: Այլ պետական կազմակերպությունների կողմից օգտագործվող ոչ ֆինանսական ակտիվների հետ գործառնություններ

Sheet Հավելված N 2
F1: Հավելված N 2
F2: ՀՀ կառավարության 2023 թվականի
F3: ______________ ի ___Ն որոշման
A6: ՀԱՅԱՍՏԱՆԻ ՀԱՆՐԱՊԵՏՈՒԹՅԱՆ ԿԱՌԱՎԱՐՈՒԹՅԱՆ 2022 ԹՎԱԿԱՆԻ ԴԵԿՏԵՄԲԵՐԻ 29-Ի N2111-Ն ՈՐՈՇՄԱՆ N 3 ԵՎ N 4 ՀԱՎԵԼՎԱԾՆԵՐՈՒՄ ԿԱՏԱՐՎՈՂ ՓՈՓՈԽՈՒԹՅՈՒՆՆԵՐԸ ԵՎ ԼՐԱՑՈՒՄՆԵՐԸ
G8: հազ. դրամներով
A9: Գործառական դասիչը | D9: Ծրագրային դասիչը | F9: Բյուջետային հատկացումների գլխավոր կարգադրիչների, ծրագրերի, միջոցառումների և միջոցառումները կատարող պետական մարմինների անվանումները | G9: Ցուցանիշների փոփոխությունը (ավելացումները նշված են դրական նշանով, իսկ նվազեցումները փակագծերում)
A10: Բաժին | B10: Խումբ | C10: Դաս | D10: Ծրագիր | E10: Միջոցառում | G10: Տարի
F11: ԸՆԴԱՄԵՆԸ | G11: =+G13 -> 1.1823431e-11
F12: այդ թվում
F13: ՀՀ ԿՐԹՈՒԹՅԱՆ, ԳԻՏՈՒԹՅԱՆ, ՄՇԱԿՈՒՅԹԻ ԵՎ ՍՊՈՐՏԻ ՆԱԽԱՐԱՐՈՒԹՅՈՒՆ | G13: =+G14 -> 1.1823431e-11
A14: 09 | F14: ԿՐԹՈՒԹՅՈՒՆ | G14: =+G16+G49 -> 1.1823431e-11
F15: այդ թվում`
B16: 06 | F16: Կրթությանը տրամադրվող օժանդակ ծառայություններ | G16: =+G18 -> -2523.8
F17: այդ թվում`
C18: 01 | F18: Կրթությանը տրամադրվող օժանդակ ծառայություններ | G18: =+G20 -> -2523.8
F19: այդ թվում`
F20: ՀՀ կրթության, գիտության, մշակույթի և սպորտի նախարարություն | G20: =+G22 -> -2523.8
F21: այդ թվում`
D22: 1183 | E22: Ապահով դպրոց | G22: =+G24+G33 -> -2523.8
F23: այդ թվում`
E24: 32003 | F24: Փոքրաքանակ երեխաներով համալրված հանրակրթական դպրոցների և կրթահամալիրների մոդուլային շենքերի կառուցում | G24: =+G26 -> -279945.4
F25: այդ թվում` ըստ կատարողների
F26: ՀՀ կառավարություն | G26: =+G28 -> -279945.4
F27: այդ թվում՝ բյուջետային ծախսերի տնտեսագիտական դասակարգման հոդվածներ
F28: ԸՆԴԱՄԵՆԸ ԾԱԽՍԵՐ | G28: =+G29 -> -279945.4
F29: ՈՉ ՖԻՆԱՆՍԱԿԱՆ ԱԿՏԻՎՆԵՐԻ ԳԾՈՎ ԾԱԽՍԵՐ | G29: =+G30 -> -279945.4
F30: ՀԻՄՆԱԿԱՆ ՄԻՋՈՑՆԵՐ | G30: =+G31 -> -279945.4
F31: ՇԵՆՔԵՐ ԵՎ ՇԻՆՈՒԹՅՈՒՆՆԵՐ | G31: =+G32 -> -279945.4
F32: - Շենքերի և շինությունների շինարարություն | G32: =+'Հավելված N 4'!E17 -> -279945.4
E33: 32012 | F33: Հանրակրթական դպրոցների գույքով և տեխնիկայով ապահովում | G33: =+G35+G42 -> 277421.6
F34: այդ թվում` ըստ կատարողների
F35: ՀՀ կրթության , գիտության, մշակույթի և սպորտի նախարարություն | G35: =+'Հավելված N 4'!E20 -> 235421.6
F36: այդ թվում՝ բյուջետային ծախսերի տնտեսագիտական դասակարգման հոդվածներ
F37: ԸՆԴԱՄԵՆԸ ԾԱԽՍԵՐ | G37: =+G38 -> 70178.8
F38: ՈՉ ՖԻՆԱՆՍԱԿԱՆ ԱԿՏԻՎՆԵՐԻ ԳԾՈՎ ԾԱԽՍԵՐ | G38: =+G39 -> 70178.8
F39: ՀԻՄՆԱԿԱՆ ՄԻՋՈՑՆԵՐ | G39: =+G40 -> 70178.8
F40: ՄԵՔԵՆԱՆԵՐ ԵՎ ՍԱՐՔԱՎՈՐՈՒՄՆԵՐ | G40: =+G41 -> 70178.8
F41: - Վարչական սարքավորումներ | G41: =+'Հավելված N 7'!I19 -> 70178.8
F42: ՀՀ Գեղարքունիքի մարզպետի աշխատակազմ | G42: =+G44 -> 42000
F43: այդ թվում՝ բյուջետային ծախսերի տնտեսագիտական դասակարգման հոդվածներ
F44: ԸՆԴԱՄԵՆԸ ԾԱԽՍԵՐ | G44: =+G45 -> 42000
F45: ՈՉ ՖԻՆԱՆՍԱԿԱՆ ԱԿՏԻՎՆԵՐԻ ԳԾՈՎ ԾԱԽՍԵՐ | G45: =+G46 -> 42000
F46: ՀԻՄՆԱԿԱՆ ՄԻՋՈՑՆԵՐ | G46: =+G47 -> 42000
F47: ՄԵՔԵՆԱՆԵՐ ԵՎ ՍԱՐՔԱՎՈՐՈՒՄՆԵՐ | G47: =+G48 -> 42000
F48: - Վարչական սարքավորումներ | G48: =+'Հավելված N 4'!E44 -> 42000
B49: 08 | F49: Կրթություն (այլ դասերին չպատկանող) | G49: =+G51 -> 2523.8
F50: այդ թվում`
C51: 01 | F51: Կրթություն (այլ դասերին չպատկանող) | G51: =+G53 -> 2523.8
F52: այդ թվում`
F53: ՀՀ կրթության, գիտության, մշակույթի և սպորտի նախարարություն | G53: =+G55 -> 2523.8
F54: այդ թվում`
D55: 1130 | E55: Կրթության, գիտության, մշակույթի և սպորտի բնագավառի պետական քաղաքականության մշակում, ծրագրերի համակարգում և մոնիտորինգ | G55: =+G57 -> 2523.8
F56: այդ թվում`
E57: 31001 | F57: ՀՀ կրթության, գիտության, մշակույթի և սպորտի նախարարության կարողությունների զարգացում և տեխնիկական հագեցվածության ապահովում | G57: =+G59 -> 2523.8
F58: այդ թվում` ըստ կատարողների
F59: ՀՀ կրթության , գիտության, մշակույթի և սպորտի նախարարություն | G59: =+G61 -> 2523.8
F60: այդ թվում՝ բյուջետային ծախսերի տնտեսագիտական դասակարգման հոդվածներ
F61: ԸՆԴԱՄԵՆԸ ԾԱԽՍԵՐ | G61: =+G62 -> 2523.8
F62: ՈՉ ՖԻՆԱՆՍԱԿԱՆ ԱԿՏԻՎՆԵՐԻ ԳԾՈՎ ԾԱԽՍԵՐ | G62: =+G63 -> 2523.8
F63: ՀԻՄՆԱԿԱՆ ՄԻՋՈՑՆԵՐ | G63: =+G64 -> 2523.8
F64: ՄԵՔԵՆԱՆԵՐ ԵՎ ՍԱՐՔԱՎՈՐՈՒՄՆԵՐ | G64: =+G65 -> 2523.8
F65: - Վարչական սարքավորումներ | G65: =+'Հավելված N 4'!E14 -> 2523.8

Sheet Հավելված N 3
F1: Հավելված N 3
F2: ՀՀ կառավարության 2023 թվականի
F3: ______________ ի ___Ն որոշման
A5: «ՀԱՅԱUՏԱՆԻ ՀԱՆՐԱՊԵՏՈՒԹՅԱՆ 2023 ԹՎԱԿԱՆԻ ՊԵՏԱԿԱՆ ԲՅՈՒՋԵԻ ՄԱUԻՆ» ՀԱՅԱUՏԱՆԻ ՀԱՆՐԱՊԵՏՈՒԹՅԱՆ OՐԵՆՔԻ N 1 ՀԱՎԵԼՎԱԾԻ N 3 ԱՂՅՈՒՍԱԿՈՒՄ ԿԱՏԱՐՎՈՂ ՓՈՓՈԽՈՒԹՅՈՒՆԸ ԵՎ ԼՐԱՑՈՒՄՆԵՐԸ
G8: հազ. դրամներով
A9: Ծրագրային դասիչ | C9: Բյուջետային գլխավոր կարգադրիչների, ծրագրերի, միջոցառումների, միջոցառումները կատարող պետական մարմինների և ուղղությունների անվանումները | D9: Ընդամենը | E9: Ցուցանիշների փոփոխությունը (ավելացումները նշված են դրական նշանով, իսկ նվազեցումները՝ փակագծերում)
A10: Ծրագիր | B10: Միջոցառում | E10: Կառուցման աշխատանքներ | F10: Վերակառուցման, վերանորոգման և վերականգնման աշխատանքներ | G10: Նախագծահե- տազոտական, գեոդեզիա- քարտեզագրա- կան աշխա- տանքներ | H10: Ոչ ֆինանսական այլ ակտիվների ձեռքբերում
C11: ԸՆԴԱՄԵՆԸ | D11: =SUM(E11:H11) -> 0 | E11: =+E13 -> -279945.4 | F11: =+F13 -> 0 | G11: =+G13 -> 0 | H11: =+H13 -> 279945.4
C12: այդ թվում՝
C13: ՀՀ ԿՐԹՈՒԹՅԱՆ, ԳԻՏՈՒԹՅԱՆ, ՄՇԱԿՈՒՅԹԻ ԵՎ ՍՊՈՐՏԻ ՆԱԽԱՐԱՐՈՒԹՅՈՒՆ | D13: =SUM(E13:H13) -> 0 | E13: =+E15+E16+E19 -> -279945.4 | F13: =+F15+F16+F19 -> 0 | G13: =+G15+G16+G19 -> 0 | H13: =+H15+H16+H19 -> 279945.4
C14: այդ թվում`
A15: 1130 | B15: 31001 | C15: ՀՀ կրթության, գիտության, մշակույթի և սպորտի նախարարության կարողությունների զարգացում և տեխնիկական հագեցվածության ապահովում | D15: =+E15+F15+G15+H15 -> 2523.8 | E15: 0 | F15: 0 | G15: 0 | H15: =+'Հավելված N 7'!I16 -> 2523.8
A16: 1183 | B16: 32003 | C16: Փոքրաքանակ երեխաներով համալրված հանրակրթական դպրոցների և կրթահամալիրների մոդուլային շենքերի կառուցում | D16: =SUM(E16:H16) -> -279945.4 | E16: =+E18 -> -279945.4 | F16: =+F18 -> 0 | G16: =+G18 -> 0 | H16: =+H18 -> 0
C17: այդ թվում`
C18: Փոքրաքանակ երեխաներով համալրված հանրակրթական դպրոցների և կրթահամալիրների մոդուլային շենքերի կառուցում | D18: =+E18+F18+G18+H18 -> -279945.4 | E18: =-D19-D15 -> -279945.4
A19: 1183 | B19: 32012 | C19: Հանրակրթական դպրոցների գույքով և տեխնիկայով ապահովում | D19: =SUM(E19:H19) -> 277421.6 | E19: =+E21+E28+E30+E33+E36+E37+E39+E42 -> 0 | F19: =+F21+F28+F30+F33+F36+F37+F39+F42 -> 0 | G19: =+G21+G28+G30+G33+G36+G37+G39+G42 -> 0 | H19: =+H21+H28+H30+H33+H36+H37+H39+H42 -> 277421.6
C20: այդ թվում`
C21: Երևան քաղաք | D21: =SUM(E21:H21) -> 106026.3 | E21: =SUM(E22:E27) -> 0 | F21: =SUM(F22:F27) -> 0 | G21: =SUM(G22:G27) -> 0 | H21: =SUM(H22:H27) -> 106026.3
C22: «Երևանի Հակոբ Կարապենցի անվան թիվ 6 հիմնական դպրոց» ՊՈԱԿ | D22: =+E22+F22+G22+H22 -> 17164.1 | H22: 17164.1
C23: «Երևանի թիվ 116 հիմնական դպրոց» ՊՈԱԿ | D23: =+E23+F23+G23+H23 -> 21195.6 | H23: 21195.6
C24: «Հերացի» ավագ դպրոց» ՊՈԱԿ | D24: =+E24+F24+G24+H24 -> 15377 | H24: 15377
C25: «Երևանի Մուրացանի անվան թիվ 18 հիմնական դպրոց» ՊՈԱԿ | D25: =+E25+F25+G25+H25 -> 17091.9 | H25: 17091.9
C26: «Երևանի Ալեքսանդր Բլոկի անվան համար 122 հիմնական դպրոց» ՊՈԱԿ | D26: =+E26+F26+G26+H26 -> 17682.3 | H26: 17682.3
C27: «Երևանի Ջ. Աբրահամյանի անվան թիվ 111 հիմնական դպրոց» ՊՈԱԿ | D27: =+E27+F27+G27+H27 -> 17515.4 | H27: 17515.4
C28: ՀՀ Արագածոտնի մարզ | D28: =SUM(E28:H28) -> 18176.8 | E28: =+E29 -> 0 | F28: =+F29 -> 0 | G28: =+G29 -> 0 | H28: =+H29 -> 18176.8
C29: «Օհանավանի Ս. Ավետիսյանի անվան միջնակարգ դպրոց» ՊՈԱԿ | D29: =+E29+F29+G29+H29 -> 18176.8 | H29: 18176.8
C30: ՀՀ Արարատի մարզ | D30: =SUM(E30:H30) -> 39438.2 | E30: =SUM(E31:E32) -> 0 | F30: =SUM(F31:F32) -> 0 | G30: =SUM(G31:G32) -> 0 | H30: =SUM(H31:H32) -> 39438.2
C31: Դեղձուտի մրջնակարգ դպրոց ՊՈԱԿ | D31: =+E31+F31+G31+H31 -> 11268.8 | H31: 11268.8
C32: «Մասիսի թիվ 5 ավագ դպրոց» ՊՈԱԿ | D32: =+E32+F32+G32+H32 -> 28169.4 | H32: 28169.4
C33: ՀՀ Արմավիրի մարզ | D33: =SUM(E33:H33) -> 30061.9 | E33: =SUM(E34:E35) -> 0 | F33: =SUM(F34:F35) -> 0 | G33: =SUM(G34:G35) -> 0 | H33: =SUM(H34:H35) -> 30061.9
C34: Արգինայի միջնակարգ դպրոց ՊՈԱԿ | D34: =+E34+F34+G34+H34 -> 13116.1 | H34: 13116.1
C35: «Պտղունքի Տիգրան Մեծի անվան միջնակարգ դպրոց» ՊՈԱԿ | D35: =+E35+F35+G35+H35 -> 16945.8 | H35: 16945.8
C36: ՀՀ Գեղարքունիքի մարզ | D36: =SUM(E36:H36) -> 42000 | E36: 0 | F36: 0 | G36: 0 | H36: =+'Հավելված N 7'!I79 -> 42000
C37: ՀՀ Լոռու մարզ | D37: =SUM(E37:H37) -> 10121.9 | E37: =+E38 -> 0 | F37: =+F38 -> 0 | G37: =+G38 -> 0 | H37: =+H38 -> 10121.9
C38: «Հագվու հիմնական դպրոց» ՊՈԱԿ | D38: =+E38+F38+G38+H38 -> 10121.9 | H38: 10121.9
C39: ՀՀ Կոտայքի մարզ | D39: =SUM(E39:H39) -> 21980.2 | E39: =SUM(E40:E41) -> 0 | F39: =SUM(F40:F41) -> 0 | G39: =SUM(G40:G41) -> 0 | H39: =SUM(H40:H41) -> 21980.2
C40: Ջրառատի միջնակարգ դպրոց ՊՈԱԿ | D40: =+E40+F40+G40+H40 -> 10907.7 | H40: 10907.7
C41: Կաթնաղբյուրի հիմնական դպրոց ՊՈԱԿ | D41: =+E41+F41+G41+H41 -> 11072.5 | H41: 11072.5
C42: ՀՀ Վայոց Ձորի մարզ | D42: =SUM(E42:H42) -> 9616.3 | E42: =+E43 -> 0 | F42: =+F43 -> 0 | G42: =+G43 -> 0 | H42: =+H43 -> 9616.3
C43: Եղեգիսի միջնակարգ դպրոց ՊՈԱԿ | D43: =+E43+F43+G43+H43 -> 9616.3 | H43: 9616.3

Sheet Հավելված N 4
D1: Հավելված N 4
D2: ՀՀ կառավարության 2023 թվականի
D3: ______________ ի ___Ն որոշման
B5: ՀԱՅԱՍՏԱՆԻ ՀԱՆՐԱՊԵՏՈՒԹՅԱՆ ԿԱՌԱՎԱՐՈՒԹՅԱՆ 2022 ԹՎԱԿԱՆԻ ԴԵԿՏԵՄԲԵՐԻ 29-Ի N 2111-Ն ՈՐՈՇՄԱՆ N 5 ՀԱՎԵԼՎԱԾԻ N 2 ԱՂՅՈՒՍԱԿՈՒՄ ԿԱՏԱՐՎՈՂ ՓՈՓՈԽՈՒԹՅՈՒՆԸ ԵՎ ԼՐԱՑՈՒՄՆԵՐԸ
E7: հազ. դրամներով
B8: Ծրագրային դասիչ | D8: Բյուջետային գլխավոր կարգադրիչների, ծրագրերի, միջոցառումների, միջոցառումները կատարող պետական մարմինների և ուղղությունների անվանումները | E8: Ցուցանիշների փոփոխությունը (ավելացումները նշված են դրական նշանով, իսկ նվազեցումները փակագծերում)
B9: Ծրագիր | C9: Միջոցառում | E9: Տարի
D10: ՀՀ ԿՐԹՈՒԹՅԱՆ, ԳԻՏՈՒԹՅԱՆ, ՄՇԱԿՈՒՅԹԻ ԵՎ ՍՊՈՐՏԻ ՆԱԽԱՐԱՐՈՒԹՅՈՒՆ | E10: =+E12+E15+E18 -> 0
D11: այդ թվում՝
B12: 1130 | C12: 31001 | D12: ՀՀ կրթության, գիտության, մշակույթի և սպորտի նախարարության կարողությունների զարգացում և տեխնիկական հագեցվածության ապահովում | E12: =+E14 -> 2523.8
D13: այդ թվում` ըստ կատարողների
D14: ՀՀ կրթության, գիտության, մշակույթի և սպորտի նախարարություն | E14: =+'Հավելված N 3'!D15 -> 2523.8
B15: 1183 | C15: 32003 | D15: Փոքրաքանակ երեխաներով համալրված հանրակրթական դպրոցների և կրթահամալիրների մոդուլային շենքերի կառուցում | E15: =+E17 -> -279945.4
D16: այդ թվում` ըստ կատարողների
D17: ՀՀ կառավարություն | E17: =+'Հավելված N 3'!D18 -> -279945.4
B18: 1183 | C18: 32012 | D18: Հանրակրթական դպրոցների գույքով և տեխնիկայով ապահովում | E18: =+E20+E44 -> 277421.6
D19: այդ թվում` ըստ կատարողների
D20: ՀՀ կրթության, գիտության, մշակույթի և սպորտի նախարարություն | E20: =+E22+E29+E31+E34+E37+E39+E42 -> 235421.6
D21: այդ թվում՝ ըստ ուղղությունների
D22: Երևան քաղաք | E22: =SUM(E23:E28) -> 106026.3
D23: «Երևանի Հակոբ Կարապենցի անվան թիվ 6 հիմնական դպրոց» ՊՈԱԿ | E23: =+'Հավելված N 3'!D22 -> 17164.1
D24: «Երևանի թիվ 116 հիմնական դպրոց» ՊՈԱԿ | E24: =+'Հավելված N 3'!D23 -> 21195.6
D25: «Հերացի» ավագ դպրոց» ՊՈԱԿ | E25: =+'Հավելված N 3'!D24 -> 15377
D26: «Երևանի Մուրացանի անվան թիվ 18 հիմնական դպրոց» ՊՈԱԿ | E26: =+'Հավելված N 3'!D25 -> 17091.9
D27: «Երևանի Ալեքսանդր Բլոկի անվան համար 122 հիմնական դպրոց» ՊՈԱԿ | E27: =+'Հավելված N 3'!D26 -> 17682.3
D28: «Երևանի Ջ. Աբրահամյանի անվան թիվ 111 հիմնական դպրոց» ՊՈԱԿ | E28: =+'Հավելված N 3'!D27 -> 17515.4
D29: ՀՀ Արագածոտնի մարզ | E29: =+E30 -> 18176.8
D30: «Օհանավանի Ս. Ավետիսյանի անվան միջնակարգ դպրոց» ՊՈԱԿ | E30: =+'Հավելված N 3'!D29 -> 18176.8
D31: ՀՀ Արարատի մարզ | E31: =SUM(E32:E33) -> 39438.2
D32: Դեղձուտի մրջնակարգ դպրոց ՊՈԱԿ | E32: =+'Հավելված N 3'!D31 -> 11268.8
D33: «Մասիսի թիվ 5 ավագ դպրոց» ՊՈԱԿ | E33: =+'Հավելված N 3'!D32 -> 28169.4
D34: ՀՀ Արմավիրի մարզ | E34: =SUM(E35:E36) -> 30061.9
D35: Արգինայի միջնակարգ դպրոց ՊՈԱԿ | E35: =+'Հավելված N 3'!D34 -> 13116.1
D36: «Պտղունքի Տիգրան Մեծի անվան միջնակարգ դպրոց» ՊՈԱԿ | E36: =+'Հավելված N 3'!D35 -> 16945.8
D37: ՀՀ Լոռու մարզ | E37: =+E38 -> 10121.9
D38: «Հագվու հիմնական դպրոց» ՊՈԱԿ | E38: =+'Հավելված N 3'!D38 -> 10121.9
D39: ՀՀ Կոտայքի մարզ | E39: =SUM(E40:E41) -> 21980.2
D40: Ջրառատի միջնակարգ դպրոց ՊՈԱԿ | E40: =+'Հավելված N 3'!D40 -> 10907.7
D41: Կաթնաղբյուրի հիմնական դպրոց ՊՈԱԿ | E41: =+'Հավելված N 3'!D41 -> 11072.5
D42: ՀՀ Վայոց Ձորի մարզ | E42: =+E43 -> 9616.3
D43: Եղեգիսի միջնակարգ դպրոց ՊՈԱԿ | E43: =+'Հավելված N 3'!D43 -> 9616.3
D44: ՀՀ Գեղարքունիքի մարզպետի աշխատակազմ | E44: =+E46+E53+E55+E58+E61+E63+E66 -> 42000
D45: այդ թվում՝ ըստ ուղղությունների
D46: ՀՀ Գեղարքունիքի մարզ | E46: =+'Հավելված N 3'!D36 -> 42000

Sheet Հավելված N 5
C1: Հավելված N 5
C2: ՀՀ կառավարության 2023 թվականի
C3: ______________ ի ___Ն որոշման
B6: ՀԱՅԱՍՏԱՆԻ ՀԱՆՐԱՊԵՏՈՒԹՅԱՆ ԿԱՌԱՎԱՐՈՒԹՅԱՆ 2022 ԹՎԱԿԱՆԻ ԴԵԿՏԵՄԲԵՐԻ 29-Ի N 2111-Ն ՈՐՈՇՄԱՆ N 9 ՀԱՎԵԼՎԱԾԻ N 9.13 ԱՂՅՈՒՍԱԿՈՒՄ ԿԱՏԱՐՎՈՂ ՓՈՓՈԽՈՒԹՅՈՒՆՆԵՐԸ ԵՎ ԼՐԱՑՈՒՄՆԵՐԸ
A8: Աղյուսակ 9․13
C9: ՀՀ կրթության, գիտության, մշակույթի և սպորտի նախարարություն
B10: ՄԱՍ 2. ՊԵՏԱԿԱՆ ՄԱՐՄՆԻ ԳԾՈՎ ԱՐԴՅՈՒՆՔԱՅԻՆ (ԿԱՏԱՐՈՂԱԿԱՆ) ՑՈՒՑԱՆԻՇՆԵՐԸ
B13: Ծրագրի դասիչը | C13: Ծրագրի անվանումը
B14: 1130 | C14: Կրթության, գիտության, մշակույթի և սպորտի բնագավառի պետական քաղաքականության մշակում, ծրագրերի համակարգում և մոնիտորինգ
B16: Ծրագրի միջոցառումները
B17: Ծրագրի դասիչը՝ | C17: 1130 | D17: Ցուցանիշների փոփոխությունը (ավելացումները նշված են դրական նշանով)
B18: Միջոցառման դասիչը՝ | C18: 31001 | D18: Տարի
B19: Միջոցառման անվանումը` | C19: ՀՀ կրթության, գիտության, մշակույթի և սպորտի նախարարության կարողությունների զարգացում և տեխնիկական հագեցվածության ապահովում
B20: Նկարագրությունը` | C20: ՀՀ կրթության, գիտության, մշակույթի և սպորտի նախարարության աշխատանքային պայմանների բարելավման համար վարչական սարքավորումների ձեռք բերում
B21: Միջոցառման տեսակը` | C21: Պետական մարմինների կողմից օգտագործվող ոչ ֆինանսական ակտիվների հետ գործառնություններ
B22: Միջոցառումն իրականացնողի անվանումը | C22: ՀՀ կրթության, գիտության, մշակույթի և սպորտի նախարարություն
B23: Արդյունքի չափորոշիչներ
B24: Համակարգչային ծրագրերի քանակ, հատ | D24: 1
B25: Միջոցառման վրա կատարվող ծախսը (հազար դրամ) | D25: =+'Հավելված N 1'!D22 -> 2523.8
B27: Ծրագրի դասիչը | C27: Ծրագրի անվանումը
B28: 1183 | C28: Ապահով դպրոց
B30: Ծրագրի միջոցառումները
B31: Ծրագրի դասիչը՝ | C31: 1183 | D31: Ցուցանիշների փոփոխությունը (նվազեցումները նշված են փակագծերում)
B32: Միջոցառման դասիչը՝ | C32: 32003 | D32: Տարի
B33: Միջոցառման անվանումը` | C33: Փոքրաքանակ երեխաներով համալրված հանրակրթական դպրոցների և կրթահամալիրներ մոդուլային շենքերի կառուցում
B34: Նկարագրությունը` | C34: Կրթական հաստատությունների կառուցում համայնքային կենտրոնների մոդելով
B35: Միջոցառման տեսակը` | C35: Այլ պետական կազմակերպությունների կողմից օգտագործվող ոչ ֆինանսական ակտիվների հետ գործառնություններ
B36: Ակտիվն օգտագործող կազմակերպությունների անվանումները | C36: Փոքրաքանակ երեխաներով համալրված հանրակրթական դպրոցներ
B37: Արդյունքի չափորոշիչներ
B38: Միջոցառման վրա կատարվող ծախսը (հազար դրամ) | D38: =+'Հավելված N 1'!D35 -> -279945.4
B40: Ծրագրի դասիչը՝ | C40: 1183 | D40: Ցուցանիշների փոփոխությունը (ավելացումները նշված են դրական նշանով)
B41: Միջոցառման դասիչը՝ | C41: 32012 | D41: Տարի
B42: Միջոցառման անվանումը` | C42: Հանրակրթական դպրոցների գույքով և տեխնիկայով ապահովում
B43: Նկարագրությունը` | C43: Կրթական ժամանակակից նորմերին համապատասխանող գույքի ձեռքբերում
B44: Միջոցառման տեսակը` | C44: Այլ պետական կազմակերպությունների կողմից օգտագործվող ոչ ֆինանսական ակտիվների հետ գործառնություններ
B45: Ակտիվն օգտագործող կազմակերպությունների անվանումները | C45: Հանրակրթական դպրոցներ
B46: Արդյունքի չափորոշիչներ
B47: Ոչ մոդուլային դպրոցների թիվը, որոնք ապահովվում են գույքով, հատ | D47: 2
B48: Մոդուլային դպրոցների թիվը, որոնք ապահովվում են գույքով, հատ | D48: 6
B49: Սեյսմիկ անվտանգության բարելավման ծրագրի շրջանակներում կառուցված/վերակառուցված դպրոցների թիվը, որոնք ապահովվում են գույքով, հատ | D49: 8
B50: Միջոցառման վրա կատարվող ծախսը (հազար դրամ) | D50: =+'Հավելված N 1'!D41 -> 277421.6

Sheet Հավելված N 6
C1: Հավելված N 6
C2: ՀՀ կառավարության 2023 թվականի
C3: ______________ ի ___Ն որոշման
B6: ՀԱՅԱՍՏԱՆԻ ՀԱՆՐԱՊԵՏՈՒԹՅԱՆ ԿԱՌԱՎԱՐՈՒԹՅԱՆ 2022 ԹՎԱԿԱՆԻ ԴԵԿՏԵՄԲԵՐԻ 29-Ի N 2111-Ն ՈՐՈՇՄԱՆ N 9.1 ՀԱՎԵԼՎԱԾԻ N 9.1.13 ԵՎ 9.1.51 ԵՎ 9.1.58 ԱՂՅՈՒՍԱԿՆԵՐՈՒՄ ԿԱՏԱՐՎՈՂ ՓՈՓՈԽՈՒԹՅՈՒՆՆԵՐԸ ԵՎ ԼՐԱՑՈՒՄՆԵՐԸ
A8: Աղյուսակ 9․1.13
C9: ՀՀ կրթության, գիտության, մշակույթի և սպորտի նախարարություն
B10: ՄԱՍ 1. ՊԵՏԱԿԱՆ ՄԱՐՄՆԻ ԳԾՈՎ ԱՐԴՅՈՒՆՔԱՅԻՆ (ԿԱՏԱՐՈՂԱԿԱՆ) ՑՈՒՑԱՆԻՇՆԵՐԸ
B13: Ծրագրի դասիչը | C13: Ծրագրի անվանումը
B14: 1130 | C14: Կրթության, գիտության, մշակույթի և սպորտի բնագավառի պետական քաղաքականության մշակում, ծրագրերի համակարգում և մոնիտորինգ
B16: Ծրագրի միջոցառումները
B17: Ծրագրի դասիչը՝ | C17: 1130 | D17: Ցուցանիշների փոփոխությունը (ավելացումները նշված են դրական նշանով)
B18: Միջոցառման դասիչը՝ | C18: 31001 | D18: Տարի
B19: Միջոցառման անվանումը` | C19: ՀՀ կրթության, գիտության, մշակույթի և սպորտի նախարարության կարողությունների զարգացում և տեխնիկական հագեցվածության ապահովում
B20: Նկարագրությունը` | C20: ՀՀ կրթության, գիտության, մշակույթի և սպորտի նախարարության աշխատանքային պայմանների բարելավման համար վարչական սարքավորումների ձեռք բերում
B21: Միջոցառման տեսակը` | C21: Պետական մարմինների կողմից օգտագործվող ոչ ֆինանսական ակտիվների հետ գործառնություններ
B22: Միջոցառումն իրականացնողի անվանումը | C22: ՀՀ կրթության, գիտության, մշակույթի և սպորտի նախարարություն
B23: Արդյունքի չափորոշիչներ
B24: Համակարգչային ծրագրերի քանակ, հատ | D24: 1
B25: Միջոցառման վրա կատարվող ծախսը (հազար դրամ) | D25: =+'Հավելված N 2'!G59 -> 2523.8
B27: Ծրագրի դասիչը | C27: Ծրագրի անվանումը
B28: 1183 | C28: Ապահով դպրոց
B30: Ծրագրի դասիչը՝ | C30: 1183 | D30: Ցուցանիշների փոփոխությունը (ավելացումները նշված են դրական նշանով)
B31: Միջոցառման դասիչը՝ | C31: 32012 | D31: Տարի
B32: Միջոցառման անվանումը` | C32: Հանրակրթական դպրոցների գույքով և տեխնիկայով ապահովում
B33: Նկարագրությունը` | C33: Կրթական ժամանակակից նորմերին համապատասխանող գույքի ձեռքբերում
B34: Միջոցառման տեսակը` | C34: Այլ պետական կազմակերպությունների կողմից օգտագործվող ոչ ֆինանսական ակտիվների հետ գործառնություններ
B35: Ակտիվն օգտագործող կազմակերպությունների անվանումները | C35: Հանրակրթական դպրոցներ
B36: Արդյունքի չափորոշիչներ
B37: Ոչ մոդուլային դպրոցների թիվը, որոնք ապահովվում են գույքով, հատ | D37: 1
B38: Մոդուլային դպրոցների թիվը, որոնք ապահովվում են գույքով, հատ | D38: 6
B39: Սեյսմիկ անվտանգության բարելավման ծրագրի շրջանակներում կառուցված/վերակառուցված դպրոցների թիվը, որոնք ապահովվում են գույքով, հատ | D39: 8
B40: Միջոցառման վրա կատարվող ծախսը (հազար դրամ) | D40: =+'Հավելված N 2'!G35 -> 235421.6
A46: Աղյուսակ 9․1.51
C47: ՀՀ Գեղարքունիքի մարզպետի աշխատակազմ
B48: ՄԱՍ 1. ՊԵՏԱԿԱՆ ՄԱՐՄՆԻ ԳԾՈՎ ԱՐԴՅՈՒՆՔԱՅԻՆ (ԿԱՏԱՐՈՂԱԿԱՆ) ՑՈՒՑԱՆԻՇՆԵՐԸ
B51: Ծրագրի դասիչը | C51: Ծրագրի անվանումը
B52: 1183 | C52: Ապահով դպրոց
B54: Ծրագրի միջոցառումները
B55: Ծրագրի դասիչը՝ | C55: 1183 | D55: Ցուցանիշների փոփոխությունը (ավելացումները նշված են դրական նշանով)
B56: Միջոցառման դասիչը՝ | C56: 32012 | D56: Տարի
B57: Միջոցառման անվանումը` | C57: Հանրակրթական դպրոցների գույքով և տեխնիկայով ապահովում
B58: Նկարագրությունը` | C58: Կրթական ժամանակակից նորմերին համապատասխանող գույքի ձեռքբերում
B59: Միջոցառման տեսակը` | C59: Այլ պետական կազմակերպությունների կողմից օգտագործվող ոչ ֆինանսական ակտիվների հետ գործառնություններ
B60: Ակտիվն օգտագործող կազմակերպությունների անվանումները | C60: Հանրակրթական դպրոցներ
B61: Արդյունքի չափորոշիչներ
B62: Ոչ մոդուլային դպրոցների թիվը, որոնք ապահովվում են գույքով, հատ | D62: 1
B63: Միջոցառման վրա կատարվող ծախսը (հազար դրամ) | D63: =+'Հավելված N 2'!G42 -> 42000
A69: Աղյուսակ 9․1.58
C70: ՀՀ կառավարություն
B71: ՄԱՍ 1. ՊԵՏԱԿԱՆ ՄԱՐՄՆԻ ԳԾՈՎ ԱՐԴՅՈՒՆՔԱՅԻՆ (ԿԱՏԱՐՈՂԱԿԱՆ) ՑՈՒՑԱՆԻՇՆԵՐԸ
B74: Ծրագրի դասիչը | C74: Ծրագրի անվանումը
B75: 1183 | C75: Ապահով դպրոց
B77: Ծրագրի միջոցառումները
B78: Ծրագրի դասիչը՝ | C78: 1183 | D78: Ցուցանիշների փոփոխությունը (նվազեցումները նշված են փակագծերում)
B79: Միջոցառման դասիչը՝ | C79: 32003 | D79: Տարի
B80: Միջոցառման անվանումը` | C80: Փոքրաքանակ երեխաներով համալրված հանրակրթական դպրոցների և կրթահամալիրներ մոդուլային շենքերի կառուցում
B81: Նկարագրությունը` | C81: Կրթական հաստատությունների կառուցում համայնքային կենտրոնների մոդելով
B82: Միջոցառման տեսակը` | C82: Այլ պետական կազմակերպությունների կողմից օգտագործվող ոչ ֆինանսական ակտիվների հետ գործառնություններ
B83: Ակտիվն օգտագործող կազմակերպությունների անվանումները | C83: Փոքրաքանակ երեխաներով համալրված հանրակրթական դպրոցներ
B84: Արդյունքի չափորոշիչներ
B85: Միջոցառման վրա կատարվող ծախսը (հազար դրամ) | D85: =+'Հավելված N 2'!G26 -> -279945.4

Sheet Հավելված N 7
H1: Հավելված N 7
H2: ՀՀ կառավարության 2023 թվականի
H3: ______________ ի ___Ն որոշման
A6: ՀԱՅԱՍՏԱՆԻ ՀԱՆՐԱՊԵՏՈՒԹՅԱՆ ԿԱՌԱՎԱՐՈՒԹՅԱՆ 2022 ԹՎԱԿԱՆԻ ԴԵԿՏԵՄԲԵՐԻ 29-Ի N 2111-Ն N 10 ՀԱՎԵԼՎԱԾՈՒՄ ԿԱՏԱՐՎՈՂ ՓՈՓՈԽՈՒԹՅՈՒՆԸ ԵՎ ԼՐԱՑՈՒՄՆԵՐԸ
A10: Կոդը | B10: Անվանումը | E10: Գնման ձևը | F10: Չափման միավորը | G10: Միավորի գինը | H10: Ցուցանիշների փոփոխությունը (ավելացումները նշված են դրական նշանով, իսկ նվազեցումները՝ փակագծերում)
H11: Քանակը | I11: Գումարը (հազար դրամ)
A12: 1 | B12: 2 | E12: 3 | F12: 4 | G12: 5 | H12: 6 | I12: 7
A13: ՀՀ կրթության, գիտության, մշակույթի և սպորտի նախարարություն | I13: =+I14+I18 -> 72702.6
A14: Բաժին N 09 | B14: Խումբ N 08 | C14: Դաս N 01 | D14: Կրթություն (այլ դասերին չպատկանող) | I14: =+I15 -> 2523.8
A15: 1130-31001 | B15: ՀՀ կրթության, գիտության, մշակույթի և սպորտի նախարարության կարողությունների զարգացում և տեխնիկական հագեցվածության ապահովում | I15: =+I16 -> 2523.8
B16: ՄԱՍ I. ԱՊՐԱՆՔՆԵՐ | I16: =SUM(I17:I17) -> 2523.8
A17: 48441300 | B17: հաշվապահական համակարգչային ծրագրային փաթեթներ | E17: ՄԱ | F17: հատ | G17: 2523750 | H17: 1 | I17: =+ROUND(H17*G17/1000,1) -> 2523.8
A18: Բաժին N 09 | B18: Խումբ N 06 | C18: Դաս N 01 | D18: Կրթությանը տրամադրվող օժանդակ ծառայություններ | I18: =+I19 -> 70178.8
A19: 1183-32012 | B19: Հանրակրթական դպրոցների գույքով և տեխնիկայով ապահովում | I19: =+I20 -> 70178.8
B20: ՄԱՍ I. ԱՊՐԱՆՔՆԵՐ | I20: =ROUND(SUM(I21:I74),1) -> 70178.8
A21: 39111140-510 | B21: աթոռներ | E21: ԷԱՃ | F21: հատ | G21: 15000 | H21: 15 | I21: =+H21*G21/1000 -> 225
A22: 39111140-511 | B22: աթոռներ | E22: ԷԱՃ | F22: հատ | G22: 23867 | H22: 18 | I22: =+H22*G22/1000 -> 429.606
A23: 39111140-512 | B23: աթոռներ | E23: ԷԱՃ | F23: հատ | G23: 8667 | H23: 108 | I23: =+H23*G23/1000 -> 936.036
A24: 39121100 | B24: գրասեղաններ | E24: ԷԱՃ | F24: հատ | G24: 45000 | H24: 6 | I24: =+H24*G24/1000 -> 270
A25: 39121100-505 | B25: գրասեղաններ | E25: ԷԱՃ | F25: հատ | G25: 26667 | H25: 9 | I25: =+H25*G25/1000 -> 240.003
A26: 39132220-503 | B26: կախիչներ | E26: ԷԱՃ | F26: հատ | G26: 7600 | H26: 33 | I26: =+H26*G26/1000 -> 250.8
A27: 39121520-508 | B27: գրապահարաններ | E27: ԷԱՃ | F27: հատ | G27: 29489.11 | H27: 34 | I27: =+H27*G27/1000 -> 1002.6297
A28: 39292600-503 | B28: ամբիոն | E28: ԷԱՃ | F28: հատ | G28: 71430 | H28: 6 | I28: =+H28*G28/1000 -> 428.58
A29: 39111220-503 | B29: բազկաթոռ` ղեկավարի | E29: ԷԱՃ | F29: հատ | G29: 127680 | H29: 1 | I29: =+H29*G29/1000 -> 127.68
A30: 39121360-502 | B30: սեղան` ղեկավարի | E30: ԷԱՃ | F30: հատ | G30: 75105 | H30: 6 | I30: =+H30*G30/1000 -> 450.63
A31: 39141260-505 | B31: զգեստապահարաններ | E31: ԷԱՃ | F31: հատ | G31: 27002 | H31: 15 | I31: =+H31*G31/1000 -> 405.03
A32: 39141260-507 | B32: զգեստապահարաններ | E32: ԷԱՃ | F32: հատ | G32: 59983 | H32: 9 | I32: =+H32*G32/1000 -> 539.847
A33: 39141260-508 | B33: զգեստապահարաններ | E33: ԷԱՃ | F33: հատ | G33: 56626.3 | H33: 24 | I33: =+H33*G33/1000 -> 1359.0312
A34: 39132210-502 | B34: տեսակավորման դարակաշարեր | E34: ԷԱՃ | F34: հատ | G34: 91200 | H34: 18 | I34: =+H34*G34/1000 -> 1641.6
A35: 39292110-508 | B35: գրատախտակներ | E35: ԷԱՃ | F35: հատ | G35: 93333.33 | H35: 9 | I35: =+H35*G35/1000 -> 839.99997
A36: 39111320-502 | B36: նստարաններ | E36: ԷԱՃ | F36: հատ | G36: 40000 | H36: 9 | I36: =+H36*G36/1000 -> 360
A37: 39121200-503 | B37: սեղաններ | E37: ԷԱՃ | F37: հատ | G37: 20667 | H37: 27 | I37: =+H37*G37/1000 -> 558.009
A38: 39292110 | B38: գրատախտակներ | E38: ԷԱՃ | F38: հատ | G38: 65000 | H38: 6 | I38: =+H38*G38/1000 -> 390
A39: 39515410 | B39: ներքին շերտավարգույրներ | E39: ԷԱՃ | F39: մ2 | G39: 10250 | H39: 1362.03 | I39: =+H39*G39/1000 -> 13960.808
A40: 44421300 | B40: չհրկիզվող պահարաններ | E40: ԷԱՃ | F40: հատ | G40: 180000 | H40: 12 | I40: =+H40*G40/1000 -> 2160
A41: 37421142 | B41: բարձրացատկի կանգնակ և ձող | E41: ԷԱՃ | F41: լրակազմ | G41: 162000 | H41: 6 | I41: =+H41*G41/1000 -> 972
A42: 37421300 | B42: մարմնամարզական ներքնակներ | E42: ԷԱՃ | F42: հատ | G42: 35000 | H42: 36 | I42: =+H42*G42/1000 -> 1260
A43: 37421152 | B43: մարմնամարզական կամրջակ | E43: ԷԱՃ | F43: հատ | G43: 142000 | H43: 6 | I43: =+H43*G43/1000 -> 852
A44: 37451581 | B44: վոլեյբոլի կանգնակ | E44: ԷԱՃ | F44: հատ | G44: 450000 | H44: 6 | I44: =+H44*G44/1000 -> 2700
A45: 37451420 | B45: բասկետբոլի ամբողջական խաղային կոմպլեքսներ | E45: ԷԱՃ | F45: հատ | G45: 450000 | H45: 6 | I45: =+H45*G45/1000 -> 2700
A46: 37451861 | B46: ֆուտբոլի դարպասներ | E46: ԷԱՃ | F46: հատ | G46: 470000 | H46: 6 | I46: =+H46*G46/1000 -> 2820
A47: 37421141 | B47: պտտաձող | E47: ԷԱՃ | F47: հատ | G47: 240000 | H47: 6 | I47: =+H47*G47/1000 -> 1440
A48: 37421181 | B48: մարմնամարզական պարան` մագլցման համար | E48: ԷԱՃ | F48: հատ | G48: 51000 | H48: 12 | I48: =+H48*G48/1000 -> 612
A49: 37421170 | B49: մարմնամարզական օղակներ | E49: ԷԱՃ | F49: հատ | G49: 7000 | H49: 54 | I49: =+H49*G49/1000 -> 378
... A74: 39515100 | B74: վարագույրներ | E74: ԷԱՃ | F74: մ2 | G74: 28500 | H74: 143 | I74: =+H74*G74/1000 -> 4075.5
A76: ՀՀ Գեղարքունիքի մարզպետի աշխատակազմ | I76: =+I77 -> 42000
A77: Բաժին N 09 | B77: Խումբ N 06 | C77: Դաս N 01 | D77: Կրթությանը տրամադրվող օժանդակ ծառայություններ | I77: =+I78 -> 42000
A78: 1183-32012 | B78: Հանրակրթական դպրոցների գույքով և տեխնիկայով ապահովում | I78: =+I79 -> 42000
B79: ՄԱՍ I. ԱՊՐԱՆՔՆԵՐ | I79: =SUM(I80:I81) -> 42000
A80: 39121470 | B80: սեղան` աշակերտական, միաձույլ մետաղյա կարկասով | E80: ԳՀ | F80: հատ | G80: 10500 | H80: 2038 | I80: =+ROUND(H80*G80/1000,1) -> 21399
A81: 39138110 | B81: աթոռ մետաղյա | E81: ԳՀ | F81: հատ | G81: 4058.51 | H81: 5076 | I81: =+ROUND(H81*G81/1000,1) -> 20601
