Workbook
Name a: #REF!
Name a: #REF!
Name AgencyCode: #REF!
Name AgencyCode: #REF!
Name AgencyCode: #REF!
Name AgencyCode: #REF!
Name AgencyCode: #REF!
Name AgencyCode: #REF!
Name AgencyName: #REF!
Name AgencyName: #REF!
Name AgencyName: #REF!
Name davit: #REF!
Name davit: #REF!
Name Functional1: #REF!
Name Functional1: #REF!
Name Functional1: #REF!
Name ggg: #REF!
Name ggg: #REF!
Name PANature: #REF!
Name PANature: #REF!
Name PANature: #REF!
Name PAType: #REF!
Name PAType: #REF!
Name PAType: #REF!
Name Performance2: #REF!
Name Performance2: #REF!
Name Performance2: #REF!
Name PerformanceType: #REF!
Name PerformanceType: #REF!
Name PerformanceType: #REF!
Name Հավելված: #REF!
Name Հավելված: #REF!
Name Մաս: #REF!
Name Մաս: #REF!
Name շախմատիստ: #REF!
Name շախմատիստ: #REF!

Sheet Հավելված N 1
C1: Հավելված N 3
C2: ՀՀ կառավարության 2023 թվականի
C3: ______________ ի ___Ն որոշման
A6: «ՀԱՅԱUՏԱՆԻ ՀԱՆՐԱՊԵՏՈՒԹՅԱՆ 2023 ԹՎԱԿԱՆԻ ՊԵՏԱԿԱՆ ԲՅՈՒՋԵԻ ՄԱUԻՆ» ՀԱՅԱUՏԱՆԻ ՀԱՆՐԱՊԵՏՈՒԹՅԱՆ OՐԵՆՔԻ N 1 ՀԱՎԵԼՎԱԾԻ N 2 ԱՂՅՈՒՍԱԿՈՒՄ ԿԱՏԱՐՎՈՂ ՎԵՐԱԲԱՇԽՈՒՄԸ ԵՎ ՀԱՅԱՍՏԱՆԻ ՀԱՆՐԱՊԵՏՈՒԹՅԱՆ ԿԱՌԱՎԱՐՈՒԹՅԱՆ 2022 ԹՎԱԿԱՆԻ ԴԵԿՏԵՄԲԵՐԻ 29-Ի N 2111-Ն ՈՐՈՇՄԱՆ N 5 ՀԱՎԵԼՎԱԾԻ N 1 ԱՂՅՈՒՍԱԿՈՒՄ ԿԱՏԱՐՎՈՂ ՓՈՓՈԽՈՒԹՅՈՒՆՆԵՐԸ ԵՎ ԼՐԱՑՈՒՄՆԵՐԸ
D8: հազ. դրամներով
A9: Ծրագրային դասիչը | C9: Բյուջետային հատկացումների գլխավոր կարգադրիչների, ծրագրերի և միջոցառումների անվանումները | D9: Ցուցանիշների փոփոխությունը (ավելացումները նշված են դրական նշանով, իսկ նվազեցումները փակագծերում)
A10: Ծրագիր | B10: Միջոցառում | D10: Տարի
A11: 1192 | C11: ԸՆԴԱՄԵՆԸ | D11: =+D13 -> 0
C12: այդ թվում
C13: ՀՀ ԿՐԹՈՒԹՅԱՆ, ԳԻՏՈՒԹՅԱՆ, ՄՇԱԿՈՒՅԹԻ ԵՎ ՍՊՈՐՏԻ ՆԱԽԱՐԱՐՈՒԹՅՈՒՆ | D13: =+D15 -> 0
A14: 1183 | C14: Ծրագրի անվանումը`
C15: Ապահով դպրոց | D15: =+D22+D28+D34 -> 0
C16: Ծրագրի նպատակը`
C17: Դպրոցներին սպառնացող աղետների ռիսկի կառավարման կարողությունների հզորացում, դպրոցի անձնակազմի և աշակերտների անվտանգության ապահովման մակարդակի բարձրացում՛ կիրառելով ներառական և երեխայակենտրոն մոտեցում
C18: Վերջնական արդյունքի նկարագրությունը`
C19: Դպրոցական միջավայրի բարելավում
C20: Ծրագրի միջոցառումներ
B21: 32007 | C21: Միջոցառման անվանումը`
C22: Հանրակրթական կրթություն իրականացնող ուսումնական հաստատությունների նոր մարզադահլիճների կառուցում | D22: =+'Հավելված N 2'!G24 -> -38827.7
C23: Միջոցառման նկարագրությունը`
C24: Հանրակրթական ուսուցում իրականացնող ուսումնական հաստատությունների նոր մարզադահլիճների կառուցման նախագծանախահաշվային փաստաթղթերի մշակում
C25: Միջոցառման տեսակը
C26: Այլ պետական կազմակերպությունների կողմից օգտագործվող ոչ ֆինանսական ակտիվների հետ գործառնություններ
B27: 32009 | C27: Միջոցառման անվանումը`
C28: Հանրակրթական կրթություն իրականացնող ուսումնական հաստատությունների մարզադահլիճների վերակառուցում | D28: =+'Հավելված N 2'!G33 -> 15028.5
C29: Միջոցառման նկարագրությունը`
C30: Հանրակրթական ուսուցում իրականացնող ուսումնական հաստատությունների մարզադահլիճների վերակառուցման նախագծանախահաշվային փաստաթղթերի մշակում
C31: Միջոցառման տեսակը
C32: Այլ պետական կազմակերպությունների կողմից օգտագործվող ոչ ֆինանսական ակտիվների հետ գործառնություններ
B33: 32012 | C33: Միջոցառման անվանումը`
C34: Հանրակրթական դպրոցների գույքով և տեխնիկայով ապահովում | D34: =+'Հավելված N 2'!G42 -> 23799.2
C35: Միջոցառման նկարագրությունը`
C36: Կրթական ժամանակակից նորմերին համապատասխանող գույքի ձեռքբերում
C37: Միջոցառման տեսակը
C38: Այլ պետական կազմակերպությունների կողմից օգտագործվող ոչ ֆինանսական ակտիվների հետ գործառնություններ

Sheet Հավելված N 2
F1: Հավելված N 2
F2: ՀՀ կառավարության 2023 թվականի
F3: ______________ ի ___Ն որոշման
A6: ՀԱՅԱՍՏԱՆԻ ՀԱՆՐԱՊԵՏՈՒԹՅԱՆ ԿԱՌԱՎԱՐՈՒԹՅԱՆ 2022 ԹՎԱԿԱՆԻ ԴԵԿՏԵՄԲԵՐԻ 29-Ի N2111-Ն ՈՐՈՇՄԱՆ N 3 ԵՎ N 4 ՀԱՎԵԼՎԱԾՆԵՐՈՒՄ ԿԱՏԱՐՎՈՂ ՓՈՓՈԽՈՒԹՅՈՒՆՆԵՐԸ ԵՎ ԼՐԱՑՈՒՄՆԵՐԸ
G8: հազ. դրամներով
A9: Գործառական դասիչը | D9: Ծրագրային դասիչը | F9: Բյուջետային հատկացումների գլխավոր կարգադրիչների, ծրագրերի, միջոցառումների և միջոցառումները կատարող պետական մարմինների անվանումները | G9: Ցուցանիշների փոփոխությունը (ավելացումները նշված են դրական նշանով, իսկ նվազեցումները փակագծերում)
A10: Բաժին | B10: Խումբ | C10: Դաս | D10: Ծրագիր | E10: Միջոցառում | G10: Տարի
F11: ԸՆԴԱՄԵՆԸ | G11: =+G13 -> 0
F12: այդ թվում
F13: ՀՀ ԿՐԹՈՒԹՅԱՆ, ԳԻՏՈՒԹՅԱՆ, ՄՇԱԿՈՒՅԹԻ ԵՎ ՍՊՈՐՏԻ ՆԱԽԱՐԱՐՈՒԹՅՈՒՆ | G13: =+G14 -> 0
A14: 09 | F14: ԿՐԹՈՒԹՅՈՒՆ | G14: =+G16 -> 0
F15: այդ թվում`
B16: 06 | F16: Կրթությանը տրամադրվող օժանդակ ծառայություններ | G16: =+G18 -> 0
F17: այդ թվում`
C18: 01 | F18: Կրթությանը տրամադրվող օժանդակ ծառայություններ | G18: =+G20 -> 0
F19: այդ թվում`
F20: ՀՀ կրթության, գիտության, մշակույթի և սպորտի նախարարություն | G20: =+G22 -> 0
F21: այդ թվում`
D22: 1183 | E22: Ապահով դպրոց | G22: =+G24+G33+G42 -> 0
F23: այդ թվում`
E24: 32007 | F24: Հանրակրթական կրթություն իրականացնող ուսումնական հաստատությունների մարզադահլիճների կառուցում | G24: =+G26 -> -38827.7
F25: այդ թվում` ըստ կատարողների
F26: ՀՀ քաղաքաշինության կոմիտե | G26: =+G28 -> -38827.7
F27: այդ թվում՝ բյուջետային ծախսերի տնտեսագիտական դասակարգման հոդվածներ
F28: ԸՆԴԱՄԵՆԸ ԾԱԽՍԵՐ | G28: =+G29 -> -38827.7
F29: ՈՉ ՖԻՆԱՆՍԱԿԱՆ ԱԿՏԻՎՆԵՐԻ ԳԾՈՎ ԾԱԽՍԵՐ | G29: =+G30 -> -38827.7
F30: ՀԻՄՆԱԿԱՆ ՄԻՋՈՑՆԵՐ | G30: =+G31 -> -38827.7
F31: ՇԵՆՔԵՐ ԵՎ ՇԻՆՈՒԹՅՈՒՆՆԵՐ | G31: =+G32 -> -38827.7
F32: - Շենքերի և շինությունների շինարարություն | G32: =+'Հավելված N 4'!E14 -> -38827.7
E33: 32009 | F33: Հանրակրթական կրթություն իրականացնող ուսումնական հաստատությունների մարզադահլիճների վերակառուցում | G33: =+G35 -> 15028.5
F34: այդ թվում` ըստ կատարողների
F35: ՀՀ քաղաքաշինության կոմիտե | G35: =+G37 -> 15028.5
F36: այդ թվում՝ բյուջետային ծախսերի տնտեսագիտական դասակարգման հոդվածներ
F37: ԸՆԴԱՄԵՆԸ ԾԱԽՍԵՐ | G37: =+G38 -> 15028.5
F38: ՈՉ ՖԻՆԱՆՍԱԿԱՆ ԱԿՏԻՎՆԵՐԻ ԳԾՈՎ ԾԱԽՍԵՐ | G38: =+G39 -> 15028.5
F39: ՀԻՄՆԱԿԱՆ ՄԻՋՈՑՆԵՐ | G39: =+G40 -> 15028.5
F40: ՇԵՆՔԵՐ ԵՎ ՇԻՆՈՒԹՅՈՒՆՆԵՐ | G40: =+G41 -> 15028.5
F41: - Շենքերի և շինությունների կապիտալ վերանորոգում | G41: =+'Հավելված N 4'!E20 -> 15028.5
E42: 32012 | F42: Հանրակրթական դպրոցների գույքով և տեխնիկայով ապահովում | G42: =+G44 -> 23799.2
F43: այդ թվում` ըստ կատարողների
F44: ՀՀ կրթության , գիտության, մշակույթի և սպորտի նախարարություն | G44: =+'Հավելված N 4'!E28 -> 23799.2
F45: այդ թվում՝ բյուջետային ծախսերի տնտեսագիտական դասակարգման հոդվածներ
F46: ԸՆԴԱՄԵՆԸ ԾԱԽՍԵՐ | G46: =+G47 -> 23799.2
F47: ՈՉ ՖԻՆԱՆՍԱԿԱՆ ԱԿՏԻՎՆԵՐԻ ԳԾՈՎ ԾԱԽՍԵՐ | G47: =+G48 -> 23799.2
F48: ՀԻՄՆԱԿԱՆ ՄԻՋՈՑՆԵՐ | G48: =+G49 -> 23799.2
F49: ՄԵՔԵՆԱՆԵՐ ԵՎ ՍԱՐՔԱՎՈՐՈՒՄՆԵՐ | G49: =+G50 -> 23799.2
F50: - Վարչական սարքավորումներ | G50: =+'Հավելված N 4'!E28 -> 23799.2

Sheet Հավելված N 3
F1: Հավելված N 3
F2: ՀՀ կառավարության 2023 թվականի
F3: ______________ ի ___Ն որոշման
A5: «ՀԱՅԱUՏԱՆԻ ՀԱՆՐԱՊԵՏՈՒԹՅԱՆ 2023 ԹՎԱԿԱՆԻ ՊԵՏԱԿԱՆ ԲՅՈՒՋԵԻ ՄԱUԻՆ» ՀԱՅԱUՏԱՆԻ ՀԱՆՐԱՊԵՏՈՒԹՅԱՆ OՐԵՆՔԻ N 1 ՀԱՎԵԼՎԱԾԻ N 3 ԱՂՅՈՒՍԱԿՈՒՄ ԿԱՏԱՐՎՈՂ ՓՈՓՈԽՈՒԹՅՈՒՆՆԵՐԸ ԵՎ ԼՐԱՑՈՒՄՆԵՐԸ
G8: հազ. դրամներով
A9: Ծրագրային դասիչ | C9: Բյուջետային գլխավոր կարգադրիչների, ծրագրերի, միջոցառումների, միջոցառումները կատարող պետական մարմինների և ուղղությունների անվանումները | D9: Ընդամենը | E9: Ցուցանիշների փոփոխությունը (ավելացումները նշված են դրական նշանով, իսկ նվազեցումները՝ փակագծերում)
A10: Ծրագիր | B10: Միջոցառում | E10: Կառուցման աշխատանքներ | F10: Վերակառուցման, վերանորոգման և վերականգնման աշխատանքներ | G10: Նախագծահե- տազոտական, գեոդեզիա- քարտեզագրա- կան աշխա- տանքներ | H10: Ոչ ֆինանսական այլ ակտիվների ձեռքբերում
C11: ԸՆԴԱՄԵՆԸ | D11: =SUM(E11:H11) -> 0 | E11: =+E13 -> -38827.7 | F11: =+F13 -> 15028.5 | G11: =+G13 -> 0 | H11: =+H13 -> 23799.2
C12: այդ թվում՝
C13: ՀՀ ԿՐԹՈՒԹՅԱՆ, ԳԻՏՈՒԹՅԱՆ, ՄՇԱԿՈՒՅԹԻ ԵՎ ՍՊՈՐՏԻ ՆԱԽԱՐԱՐՈՒԹՅՈՒՆ | D13: =SUM(E13:H13) -> 0 | E13: =+E15+E19+E25 -> -38827.7 | F13: =+F15+F19+F25 -> 15028.5 | G13: =+G15+G19+G25 -> 0 | H13: =+H15+H19+H25 -> 23799.2
C14: այդ թվում`
A15: 1183 | B15: 32007 | C15: Հանրակրթական կրթություն իրականացնող ուսումնական հաստատությունների նոր մարզադահլիճների կառուցում | D15: =SUM(E15:H15) -> -38827.7 | E15: =+E17 -> -38827.7 | F15: =+F17 -> 0 | G15: =+G17 -> 0 | H15: =+H17 -> 0
C16: այդ թվում`
C17: Երևան քաղաք | D17: =SUM(E17:H17) -> -38827.7 | E17: =+E18 -> -38827.7 | F17: =+F18 -> 0 | G17: =+G18 -> 0 | H17: =+H18 -> 0
C18: «Երևանի Ս. Խանզադյանի անվան հ. 184 ավագ դպրոց» ՊՈԱԿ | D18: =+E18+F18+G18+H18 -> -38827.7 | E18: =+'Հավելված N 7'!I95+'Հավելված N 7'!I97+'Հավելված N 7'!I98 -> -38827.7
A19: 1183 | B19: 32009 | C19: Հանրակրթական կրթություն իրականացնող ուսումնական հաստատությունների մարզադահլիճների վերակառուցում | D19: =SUM(E19:H19) -> 15028.5 | E19: =+E21 -> 0 | F19: =+F21 -> 15028.5 | G19: =+G21 -> 0 | H19: =+H21 -> 0
C20: այդ թվում`
C21: ՀՀ Արմավիրի մարզ | D21: =SUM(E21:H21) -> 15028.5 | E21: =+E22+E23+E24 -> 0 | F21: =+F22+F23+F24 -> 15028.5 | G21: =+G22+G23+G24 -> 0 | H21: =+H22+H23+H24 -> 0
C22: «Փշատավանի միջնակարգ դպրոց» ՊՈԱԿ | D22: =+E22+F22+G22+H22 -> 2878.5 | F22: =+'Հավելված N 7'!I101+'Հավելված N 7'!I105 -> 2878.5
C23: «Սարդարապատի միջնակարգ դպրոց» ՊՈԱԿ | D23: =+E23+F23+G23+H23 -> 3308.4 | F23: =+'Հավելված N 7'!I102+'Հավելված N 7'!I106 -> 3308.4
C24: «Արմավիրի հ. 8 հիմնական դպրոց» ՊՈԱԿ | D24: =+E24+F24+G24+H24 -> 8841.6 | F24: =+'Հավելված N 7'!I103+'Հավելված N 7'!I107 -> 8841.6
A25: 1183 | B25: 32012 | C25: Հանրակրթական դպրոցների գույքով և տեխնիկայով ապահովում | D25: =SUM(E25:H25) -> 23799.2 | E25: =+E27+E30+E36+E38+E44+E46 -> 0 | F25: =+F27+F30+F36+F38+F44+F46 -> 0 | G25: =+G27+G30+G36+G38+G44+G46 -> 0 | H25: =+H27+H30+H36+H38+H44+H46 -> 23799.2
C26: այդ թվում`
C27: Երևան քաղաք | D27: =SUM(E27:H27) -> 32791 | E27: =+E28+E29 -> 0 | F27: =+F28+F29 -> 0 | G27: =+G28+G29 -> 0 | H27: =+H28+H29 -> 32791
C28: «Երևանի Ղևոնդ Ալիշանի անվան թիվ 95 միջնակարգ դպրոց» ՊՈԱԿ | D28: =+E28+F28+G28+H28 -> 26703 | H28: 26703
C29: «Երևանի Ա. Ղարիբյանի անվան N 142 ավագ դպրոց» ՊՈԱԿ | D29: =+E29+F29+G29+H29 -> 6088 | H29: 6088
C30: ՀՀ Գեղարքունիքի մարզ | D30: =SUM(E30:H30) -> -111058 | E30: =+E31+E32+E33+E34+E35 -> 0 | F30: =+F31+F32+F33+F34+F35 -> 0 | G30: =+G31+G32+G33+G34+G35 -> 0 | H30: =+H31+H32+H33+H34+H35 -> -111058
C31: «Լեռնահովիտ գյուղի Վ. Բարեղամյանի անվան հիմնական դպրոց» ՊՈԱԿ | D31: =+E31+F31+G31+H31 -> -50000 | H31: -50000
C32: «Շատջրեք գյուղի միջնակարգ դպրոց» ՊՈԱԿ | D32: =+E32+F32+G32+H32 -> -50000 | H32: -50000
C33: «Ջիլի միջնակարգ դպրոց» ՊՈԱԿ | D33: =+E33+F33+G33+H33 -> -50000 | H33: -50000
C34: «Սևան քաղաքի Խ. Աբովյանի անվան ավագ դպրոց» ՊՈԱԿ | D34: =+E34+F34+G34+H34 -> 13172 | H34: 13172
C35: «Զոլաքար գյուղի Ա. Վարդանյանի անվան N2 միջնակարգ դպրոց» ՊՈԱԿ | D35: =+E35+F35+G35+H35 -> 25770 | H35: 25770
C36: ՀՀ Լոռու մարզ | D36: =SUM(E36:H36) -> 37876 | E36: =+E37 -> 0 | F36: =+F37 -> 0 | G36: =+G37 -> 0 | H36: =+H37 -> 37876
C37: «Ալավերդու Ստ.Շահումյանի անվան թիվ 5 ավագ դպրոց» ՊՈԱԿ | D37: =+E37+F37+G37+H37 -> 37876 | H37: 37876
C38: ՀՀ Շիրակի մարզ | D38: =SUM(E38:H38) -> -22896.8 | E38: =+E39+E40+E41+E42+E43 -> 0 | F38: =+F39+F40+F41+F42+F43 -> 0 | G38: =+G39+G40+G41+G42+G43 -> 0 | H38: =+H39+H40+H41+H42+H43 -> -22896.8
C39: «Բերդաշենի միջնակարգ դպրոց» ՊՈԱԿ | D39: =+E39+F39+G39+H39 -> -50000 | H39: -50000
C40: «Արեգնադեմի միջնակարգ դպրոց» ՊՈԱԿ | D40: =+E40+F40+G40+H40 -> -9718.9 | H40: -9718.9
C41: «Գյումրու Ակադեմիական Վարժարան» ՊՈԱԿ | D41: =+E41+F41+G41+H41 -> 13868.8 | H41: 13868.8
C42: «Արթիկ քաղաքի թիվ 3 ավագ դպրոց» ՊՈԱԿ | D42: =+E42+F42+G42+H42 -> 7951 | H42: 7951
C43: «Գյումրու թիվ 27 միջնակարգ դպրոց» ՊՈԱԿ | D43: =+E43+F43+G43+H43 -> 15002.3 | H43: 15002.3
C44: ՀՀ Սյունիքի մարզ | D44: =SUM(E44:H44) -> 54282 | E44: =+E45 -> 0 | F44: =+F45 -> 0 | G44: =+G45 -> 0 | H44: =+H45 -> 54282
C45: «Գորիսի Ա.Բակունցի անվ.թիվ 1 ավագ դպրոց» ՊՈԱԿ | D45: =+E45+F45+G45+H45 -> 54282 | H45: 54282
C46: ՀՀ Վայոց Ձորի մարզ | D46: =SUM(E46:H46) -> 32805 | E46: =+E47 -> 0 | F46: =+F47 -> 0 | G46: =+G47 -> 0 | H46: =+H47 -> 32805
C47: «Եղեգնաձորի թիվ 1 հիմնական դպրոց» ՊՈԱԿ | D47: =+E47+F47+G47+H47 -> 32805 | H47: 32805

Sheet Հավելված N 4
D1: Հավելված N 4
D2: ՀՀ կառավարության 2023 թվականի
D3: ______________ ի ___Ն որոշման
B5: ՀԱՅԱՍՏԱՆԻ ՀԱՆՐԱՊԵՏՈՒԹՅԱՆ ԿԱՌԱՎԱՐՈՒԹՅԱՆ 2022 ԹՎԱԿԱՆԻ ԴԵԿՏԵՄԲԵՐԻ 29-Ի N 2111-Ն ՈՐՈՇՄԱՆ N 5 ՀԱՎԵԼՎԱԾԻ N 2 ԱՂՅՈՒՍԱԿՈՒՄ ԿԱՏԱՐՎՈՂ ՓՈՓՈԽՈՒԹՅՈՒՆՆԵՐԸ ԵՎ ԼՐԱՑՈՒՄՆԵՐԸ
E7: հազ. դրամներով
B8: Ծրագրային դասիչ | D8: Բյուջետային գլխավոր կարգադրիչների, ծրագրերի, միջոցառումների, միջոցառումները կատարող պետական մարմինների և ուղղությունների անվանումները | E8: Ցուցանիշների փոփոխությունը (ավելացումները նշված են դրական նշանով, իսկ նվազեցումները փակագծերում)
B9: Ծրագիր | C9: Միջոցառում | E9: Տարի
D10: ՀՀ ԿՐԹՈՒԹՅԱՆ, ԳԻՏՈՒԹՅԱՆ, ՄՇԱԿՈՒՅԹԻ ԵՎ ՍՊՈՐՏԻ ՆԱԽԱՐԱՐՈՒԹՅՈՒՆ | E10: =+E12+E18+E26 -> 0
D11: այդ թվում՝
B12: 1183 | C12: 32007 | D12: Հանրակրթական կրթություն իրականացնող ուսումնական հաստատությունների նոր մարզադահլիճների կառուցում | E12: =+E14 -> -38827.7
D13: այդ թվում` ըստ կատարողների
D14: ՀՀ քաղաքաշինության կոմիտե | E14: =+E16 -> -38827.7
D15: այդ թվում՝ ըստ ուղղությունների
D16: Երևան քաղաք | E16: =+E17 -> -38827.7
D17: =+'Հավելված N 3'!C18 -> «Երևանի Ս. Խանզադյանի անվան հ. 184 ավագ դպրոց» ՊՈԱԿ | E17: =+'Հավելված N 3'!D18 -> -38827.7
B18: 1183 | C18: 32009 | D18: Հանրակրթական կրթություն իրականացնող ուսումնական հաստատությունների մարզադահլիճների վերակառուցում | E18: =+E20 -> 15028.5
D19: այդ թվում` ըստ կատարողների
D20: ՀՀ քաղաքաշինության կոմիտե | E20: =+E22 -> 15028.5
D21: այդ թվում՝ ըստ ուղղությունների
D22: ՀՀ Արմավիրի մարզ | E22: =+E23+E24+E25 -> 15028.5
D23: =+'Հավելված N 3'!C22 -> «Փշատավանի միջնակարգ դպրոց» ՊՈԱԿ | E23: =+'Հավելված N 3'!D22 -> 2878.5
D24: =+'Հավելված N 3'!C23 -> «Սարդարապատի միջնակարգ դպրոց» ՊՈԱԿ | E24: =+'Հավելված N 3'!D23 -> 3308.4
D25: =+'Հավելված N 3'!C24 -> «Արմավիրի հ. 8 հիմնական դպրոց» ՊՈԱԿ | E25: =+'Հավելված N 3'!D24 -> 8841.6
B26: 1183 | C26: 32012 | D26: Հանրակրթական դպրոցների գույքով և տեխնիկայով ապահովում | E26: =+E28 -> 23799.2
D27: այդ թվում` ըստ կատարողների
D28: ՀՀ կրթության, գիտության, մշակույթի և սպորտի նախարարություն | E28: =+E30+E33+E39+E41+E47+E49 -> 23799.2
D29: այդ թվում՝ ըստ ուղղությունների
D30: Երևան քաղաք | E30: =SUM(E31:E32) -> 32791
D31: =+'Հավելված N 3'!C28 -> «Երևանի Ղևոնդ Ալիշանի անվան թիվ 95 միջնակարգ դպրոց» ՊՈԱԿ | E31: =+'Հավելված N 3'!D28 -> 26703
D32: =+'Հավելված N 3'!C29 -> «Երևանի Ա. Ղարիբյանի անվան N 142 ավագ դպրոց» ՊՈԱԿ | E32: =+'Հավելված N 3'!D29 -> 6088
D33: ՀՀ Գեղարքունիքի մարզ | E33: =+E34+E35+E36+E37+E38 -> -111058
D34: =+'Հավելված N 3'!C31 -> «Լեռնահովիտ գյուղի Վ. Բարեղամյանի անվան հիմնական դպրոց» ՊՈԱԿ | E34: =+'Հավելված N 3'!D31 -> -50000
D35: =+'Հավելված N 3'!C32 -> «Շատջրեք գյուղի միջնակարգ դպրոց» ՊՈԱԿ | E35: =+'Հավելված N 3'!D32 -> -50000
D36: =+'Հավելված N 3'!C33 -> «Ջիլի միջնակարգ դպրոց» ՊՈԱԿ | E36: =+'Հավելված N 3'!D33 -> -50000
D37: =+'Հավելված N 3'!C34 -> «Սևան քաղաքի Խ. Աբովյանի անվան ավագ դպրոց» ՊՈԱԿ | E37: =+'Հավելված N 3'!D34 -> 13172
D38: =+'Հավելված N 3'!C35 -> «Զոլաքար գյուղի Ա. Վարդանյանի անվան N2 միջնակարգ դպրոց» ՊՈԱԿ | E38: =+'Հավելված N 3'!D35 -> 25770
D39: ՀՀ Լոռու մարզ | E39: =+E40 -> 37876
D40: =+'Հավելված N 3'!C37 -> «Ալավերդու Ստ.Շահումյանի անվան թիվ 5 ավագ դպրոց» ՊՈԱԿ | E40: =+'Հավելված N 3'!D37 -> 37876
D41: ՀՀ Շիրակի մարզ | E41: =+E42+E43+E44+E45+E46 -> -22896.8
D42: =+'Հավելված N 3'!C39 -> «Բերդաշենի միջնակարգ դպրոց» ՊՈԱԿ | E42: =+'Հավելված N 3'!D39 -> -50000
D43: =+'Հավելված N 3'!C40 -> «Արեգնադեմի միջնակարգ դպրոց» ՊՈԱԿ | E43: =+'Հավելված N 3'!D40 -> -9718.9
D44: =+'Հավելված N 3'!C41 -> «Գյումրու Ակադեմիական Վարժարան» ՊՈԱԿ | E44: =+'Հավելված N 3'!D41 -> 13868.8
D45: =+'Հավելված N 3'!C42 -> «Արթիկ քաղաքի թիվ 3 ավագ դպրոց» ՊՈԱԿ | E45: =+'Հավելված N 3'!D42 -> 7951
D46: =+'Հավելված N 3'!C43 -> «Գյումրու թիվ 27 միջնակարգ դպրոց» ՊՈԱԿ | E46: =+'Հավելված N 3'!D43 -> 15002.3
D47: ՀՀ Սյունիքի մարզ | E47: =+E48 -> 54282
D48: =+'Հավելված N 3'!C45 -> «Գորիսի Ա.Բակունցի անվ.թիվ 1 ավագ դպրոց» ՊՈԱԿ | E48: =+'Հավելված N 3'!D45 -> 54282
D49: ՀՀ Վայոց Ձորի մարզ | E49: =+E50 -> 32805
D50: =+'Հավելված N 3'!C47 -> «Եղեգնաձորի թիվ 1 հիմնական դպրոց» ՊՈԱԿ | E50: =+'Հավելված N 3'!D47 -> 32805

Sheet Հավելված N 5
C1: Հավելված N 5
C2: ՀՀ կառավարության 2023 թվականի
C3: ______________ ի ___Ն որոշման
B6: ՀԱՅԱՍՏԱՆԻ ՀԱՆՐԱՊԵՏՈՒԹՅԱՆ ԿԱՌԱՎԱՐՈՒԹՅԱՆ 2022 ԹՎԱԿԱՆԻ ԴԵԿՏԵՄԲԵՐԻ 29-Ի N 2111-Ն ՈՐՈՇՄԱՆ N 9 ՀԱՎԵԼՎԱԾԻ N 9.13 ԱՂՅՈՒՍԱԿՈՒՄ ԿԱՏԱՐՎՈՂ ՓՈՓՈԽՈՒԹՅՈՒՆՆԵՐԸ ԵՎ ԼՐԱՑՈՒՄՆԵՐԸ
A8: Աղյուսակ 9․13
C9: ՀՀ կրթության, գիտության, մշակույթի և սպորտի նախարարություն
B10: ՄԱՍ 2. ՊԵՏԱԿԱՆ ՄԱՐՄՆԻ ԳԾՈՎ ԱՐԴՅՈՒՆՔԱՅԻՆ (ԿԱՏԱՐՈՂԱԿԱՆ) ՑՈՒՑԱՆԻՇՆԵՐԸ
B13: Ծրագրի դասիչը | C13: Ծրագրի անվանումը
B14: 1183 | C14: Ապահով դպրոց
B16: Ծրագրի միջոցառումները
B17: Ծրագրի դասիչը՝ | C17: 1183 | D17: Ցուցանիշների փոփոխությունը (նվազեցումները նշված են դրական նշանով)
B18: Միջոցառման դասիչը՝ | C18: 32007 | D18: Տարի
B19: Միջոցառման անվանումը` | C19: Հանրակրթական կրթություն իրականացնող ուսումնական հաստատությունների նոր մարզադահլիճների կառուցում
B20: Նկարագրությունը` | C20: Հանրակրթական ուսուցում իրականացնող ուսումնական հաստատությունների նոր մարզադահլիճների կառուցման նախագծանախահաշվային փաստաթղթերի մշակում
B21: Միջոցառման տեսակը` | C21: Այլ պետական կազմակերպությունների կողմից օգտագործվող ոչ ֆինանսական ակտիվների հետ գործառնություններ
B22: Ակտիվն օգտագործող կազմակերպությունների անվանումները | C22: Հանրակրթական դպրոցներ
B23: Արդյունքի չափորոշիչներ
B24: Միջոցառման վրա կատարվող ծախսը (հազար դրամ) | D24: =+'Հավելված N 1'!D22 -> -38827.7
B26: Ծրագրի դասիչը՝ | C26: 1183 | D26: Ցուցանիշների փոփոխությունը (ավելացումները նշված են դրական նշանով)
B27: Միջոցառման դասիչը` | C27: 32009 | D27: Տարի
B28: Միջոցառման անվանումը` | C28: Հանրակրթական կրթություն իրականացնող ուսումնական հաստատությունների մարզադահլիճների վերակառուցում ՀՀ կառավարության 14.09.2023թ. N 1589-Ն որոշում
B29: Նկարագրությունը` | C29: 20 հանրակրթական ուսուցում իրականացնող ուսումնական հաստատությունների մարզադահլիճների վերակառուցման նախագծանախահաշվային փաստաթղթերի մշակում
B30: Միջոցառման տեսակը` | C30: Այլ պետական կազմակերպությունների կողմից օգտագործվող ոչ ֆինանսական ակտիվների հետ գործառնություններ
B31: Ակտիվն օգտագործող կազմակերպությունների անվանումները | C31: Հանրակրթական դպրոցներ
B32: Արդյունքի չափորոշիչներ
B33: Միջոցառման վրա կատարվող ծախսը (հազար դրամ) | D33: =+'Հավելված N 1'!D28 -> 15028.5
B35: Ծրագրի դասիչը՝ | C35: 1183 | D35: Ցուցանիշների փոփոխությունը (ավելացումները նշված են դրական նշանով, իսկ նվազեցումները՝ փակագծերում)
B36: Միջոցառման դասիչը՝ | C36: 32012 | D36: Տարի
B37: Միջոցառման անվանումը` | C37: Հանրակրթական դպրոցների գույքով և տեխնիկայով ապահովում
B38: Նկարագրությունը` | C38: Կրթական ժամանակակից նորմերին համապատասխանող գույքի ձեռքբերում
B39: Միջոցառման տեսակը` | C39: Այլ պետական կազմակերպությունների կողմից օգտագործվող ոչ ֆինանսական ակտիվների հետ գործառնություններ
B40: Ակտիվն օգտագործող կազմակերպությունների անվանումները | C40: Հանրակրթական դպրոցներ
B41: Արդյունքի չափորոշիչներ
B42: Ոչ մոդուլային դպրոցների թիվը, որոնք ապահովվում են գույքով, հատ | D42: 2
B43: Մոդուլային դպրոցների թիվը, որոնք ապահովվում են գույքով, հատ | D43: -4
B44: Սեյսմիկ անվտանգության բարելավման ծրագրի շրջանակներում կառուցված/վերակառուցված դպրոցների թիվը, որոնք ապահովվում են գույքով, հատ | D44: 2
B45: «Կրթության բարելավում» ծրագրի շրջանակներում հիմնանորոգված ավագ դպրոցների թիվը, որոնք ապահովվում են գույքով, հատ | D45: 5
B46: Բարեգործական ծրագրերով առուցված / հիմնանորոգված դպրոցների թիվը, որոնք ապահովվում են գույքով, հատ | D46: 1
B47: Միջոցառման վրա կատարվող ծախսը (հազար դրամ) | D47: =+'Հավելված N 1'!D34 -> 23799.2

Sheet Հավելված N 6
C1: Հավելված N 6
C2: ՀՀ կառավարության 2023 թվականի
C3: ______________ ի ___Ն որոշման
B6: ՀԱՅԱՍՏԱՆԻ ՀԱՆՐԱՊԵՏՈՒԹՅԱՆ ԿԱՌԱՎԱՐՈՒԹՅԱՆ 2022 ԹՎԱԿԱՆԻ ԴԵԿՏԵՄԲԵՐԻ 29-Ի N 2111-Ն ՈՐՈՇՄԱՆ N 9.1 ՀԱՎԵԼՎԱԾԻ N 9.1.13 ԵՎ 9.1.41 ԱՂՅՈՒՍԱԿՆԵՐՈՒՄ ԿԱՏԱՐՎՈՂ ՓՈՓՈԽՈՒԹՅՈՒՆՆԵՐԸ ԵՎ ԼՐԱՑՈՒՄՆԵՐԸ
A8: Աղյուսակ 9․1.13
C9: ՀՀ կրթության, գիտության, մշակույթի և սպորտի նախարարություն
B10: ՄԱՍ 1. ՊԵՏԱԿԱՆ ՄԱՐՄՆԻ ԳԾՈՎ ԱՐԴՅՈՒՆՔԱՅԻՆ (ԿԱՏԱՐՈՂԱԿԱՆ) ՑՈՒՑԱՆԻՇՆԵՐԸ
B13: Ծրագրի դասիչը | C13: Ծրագրի անվանումը
B14: 1183 | C14: Ապահով դպրոց
B16: Ծրագրի միջոցառումները
B17: Ծրագրի դասիչը՝ | C17: 1183 | D17: Ցուցանիշների փոփոխությունը (ավելացումները նշված են դրական նշանով, իսկ նվազեցումները՝ փակագծերում)
B18: Միջոցառման դասիչը՝ | C18: 32012 | D18: Տարի
B19: Միջոցառման անվանումը` | C19: Հանրակրթական դպրոցների գույքով և տեխնիկայով ապահովում
B20: Նկարագրությունը` | C20: Կրթական ժամանակակից նորմերին համապատասխանող գույքի ձեռքբերում
B21: Միջոցառման տեսակը` | C21: Այլ պետական կազմակերպությունների կողմից օգտագործվող ոչ ֆինանսական ակտիվների հետ գործառնություններ
B22: Ակտիվն օգտագործող կազմակերպությունների անվանումները | C22: Հանրակրթական դպրոցներ
B23: Արդյունքի չափորոշիչներ
B24: Ոչ մոդուլային դպրոցների թիվը, որոնք ապահովվում են գույքով, հատ | D24: 2
B25: Մոդուլային դպրոցների թիվը, որոնք ապահովվում են գույքով, հատ | D25: -4
B26: Սեյսմիկ անվտանգության բարելավման ծրագրի շրջանակներում կառուցված/վերակառուցված դպրոցների թիվը, որոնք ապահովվում են գույքով, հատ | D26: 2
B27: «Կրթության բարելավում» ծրագրի շրջանակներում հիմնանորոգված ավագ դպրոցների թիվը, որոնք ապահովվում են գույքով, հատ | D27: 5
B28: Բարեգործական ծրագրերով առուցված / հիմնանորոգված դպրոցների թիվը, որոնք ապահովվում են գույքով, հատ | D28: 1
B29: Միջոցառման վրա կատարվող ծախսը (հազար դրամ) | D29: =+'Հավելված N 2'!G44 -> 23799.2
A35: Աղյուսակ 9․1.41
C36: ՀՀ քաղաքաշինության կոմիտե
B37: ՄԱՍ 1. ՊԵՏԱԿԱՆ ՄԱՐՄՆԻ ԳԾՈՎ ԱՐԴՅՈՒՆՔԱՅԻՆ (ԿԱՏԱՐՈՂԱԿԱՆ) ՑՈՒՑԱՆԻՇՆԵՐԸ
B40: Ծրագրի դասիչը | C40: Ծրագրի անվանումը
B41: 1183 | C41: Ապահով դպրոց
B43: Ծրագրի միջոցառումները
B44: Ծրագրի դասիչը՝ | C44: 1183 | D44: Ցուցանիշների փոփոխությունը (նվազեցումները նշված են դրական նշանով)
B45: Միջոցառման դասիչը՝ | C45: 32007 | D45: Տարի
B46: Միջոցառման անվանումը` | C46: Հանրակրթական կրթություն իրականացնող ուսումնական հաստատությունների նոր մարզադահլիճների կառուցում
B47: Նկարագրությունը` | C47: Հանրակրթական ուսուցում իրականացնող ուսումնական հաստատությունների նոր մարզադահլիճների կառուցման նախագծանախահաշվային փաստաթղթերի մշակում
B48: Միջոցառման տեսակը` | C48: Այլ պետական կազմակերպությունների կողմից օգտագործվող ոչ ֆինանսական ակտիվների հետ գործառնություններ
B49: Ակտիվն օգտագործող կազմակերպությունների անվանումները | C49: Հանրակրթական դպրոցներ
B50: Արդյունքի չափորոշիչներ
B51: Միջոցառման վրա կատարվող ծախսը (հազար դրամ) | D51: =+'Հավելված N 2'!G26 -> -38827.7
B53: Ծրագրի դասիչը՝ | C53: 1183 | D53: Ցուցանիշների փոփոխությունը (ավելացումները նշված են դրական նշանով)
B54: Միջոցառման դասիչը` | C54: 32009 | D54: Տարի
B55: Միջոցառման անվանումը` | C55: Հանրակրթական կրթություն իրականացնող ուսումնական հաստատությունների մարզադահլիճների վերակառուցում ՀՀ կառավարության 14.09.2023թ. N 1589-Ն որոշում
B56: Նկարագրությունը` | C56: 20 հանրակրթական ուսուցում իրականացնող ուսումնական հաստատությունների մարզադահլիճների վերակառուցման նախագծանախահաշվային փաստաթղթերի մշակում
B57: Միջոցառման տեսակը` | C57: Այլ պետական կազմակերպությունների կողմից օգտագործվող ոչ ֆինանսական ակտիվների հետ գործառնություններ
B58: Ակտիվն օգտագործող կազմակերպությունների անվանումները | C58: Հանրակրթական դպրոցներ
B59: Արդյունքի չափորոշիչներ
B60: Միջոցառման վրա կատարվող ծախսը (հազար դրամ) | D60: =+'Հավելված N 2'!G35 -> 15028.5

Sheet Հավելված N 7
H1: Հավելված N 7
H2: ՀՀ կառավարության 2023 թվականի
H3: ______________ ի ___Ն որոշման
A6: ՀԱՅԱՍՏԱՆԻ ՀԱՆՐԱՊԵՏՈՒԹՅԱՆ ԿԱՌԱՎԱՐՈՒԹՅԱՆ 2022 ԹՎԱԿԱՆԻ ԴԵԿՏԵՄԲԵՐԻ 29-Ի N 2111-Ն N 10 ՀԱՎԵԼՎԱԾՈՒՄ ԿԱՏԱՐՎՈՂ ՓՈՓՈԽՈՒԹՅՈՒՆԸ ԵՎ ԼՐԱՑՈՒՄՆԵՐԸ
A10: Կոդը | B10: Անվանումը | E10: Գնման ձևը | F10: Չափման միավորը | G10: Միավորի գինը | H10: Ցուցանիշների փոփոխությունը (ավելացումները նշված են դրական նշանով, իսկ նվազեցումները՝ փակագծերում)
H11: Քանակը | I11: Գումարը (հազար դրամ)
A12: 1 | B12: 2 | E12: 3 | F12: 4 | G12: 5 | H12: 6 | I12: 7
A13: ՀՀ կրթության, գիտության, մշակույթի և սպորտի նախարարություն | I13: =+I14 -> 23121.1
A14: Բաժին N 09 | B14: Խումբ N 06 | C14: Դաս N 01 | D14: Կրթությանը տրամադրվող օժանդակ ծառայություններ | I14: =+I15 -> 23121.1
A15: 1183-32012 | B15: Հանրակրթական դպրոցների գույքով և տեխնիկայով ապահովում | I15: =+I16 -> 23121.1
B16: ՄԱՍ I. ԱՊՐԱՆՔՆԵՐ | I16: =SUM(I17:I89) -> 23121.1
A17: 39121520-1 | B17: գրապահարաններ | E17: ԷԱՃ | F17: հատ | G17: 500000 | H17: -175 | I17: =+ROUND(H17*G17/1000,1) -> -87500
A18: 39121520-3 | B18: գրապահարաններ | E18: ԷԱՃ | F18: հատ | G18: 55000 | H18: -256 | I18: =+ROUND(H18*G18/1000,1) -> -14080
A19: 39121100-1 | B19: գրասեղաններ | E19: ԷԱՃ | F19: հատ | G19: 199500 | H19: -520 | I19: =+ROUND(H19*G19/1000,1) -> -103740
A20: 39121100-2 | B20: գրասեղաններ | E20: ԷԱՃ | F20: հատ | G20: 634618 | H20: -8 | I20: =+ROUND(H20*G20/1000,1) -> -5076.9
A21: 30211280 | B21: համակարգիչ ամբողջը մեկում | E21: ԷԱՃ | F21: հատ | G21: 396000 | H21: 153 | I21: =+ROUND(H21*G21/1000,1) -> 60588
A22: 31151120 | B22: անխափան սնուցման աղբյուրներ | E22: ԷԱՃ | F22: հատ | G22: 35000 | H22: 26 | I22: =+ROUND(H22*G22/1000,1) -> 910
A23: 30239170 | B23: բազմաֆունկցիոնալ սարք` լազերային | E23: ԷԱՃ | F23: հատ | G23: 320000 | H23: 5 | I23: =+ROUND(H23*G23/1000,1) -> 1600
A24: 32421300 | B24: ցանցային բաժանարար | E24: ԷԱՃ | F24: հատ | G24: 30000 | H24: 32 | I24: =+ROUND(H24*G24/1000,1) -> 960
A25: 30211200 | B25: դյուրակիր համակարգիչներ | E25: ԷԱՃ | F25: հատ | G25: 440000 | H25: 17 | I25: =+ROUND(H25*G25/1000,1) -> 7480
A26: 38651200 | B26: պրոյեկտորներ | E26: ԷԱՃ | F26: հատ | G26: 380000 | H26: 24 | I26: =+ROUND(H26*G26/1000,1) -> 9120
A27: 35121240 | B27: ժամանակաչափման համակարգ | E27: ԷԱՃ | F27: հատ | G27: 15000 | H27: 79 | I27: =+ROUND(H27*G27/1000,1) -> 1185
A28: 39713432 | B28: փոշեկուլ | E28: ԷԱՃ | F28: հատ | G28: 100000 | H28: 2 | I28: =+ROUND(H28*G28/1000,1) -> 200
A29: 39121470 | B29: սեղան` աշակերտական միաձույլ կարկասով | E29: ԷԱՃ | F29: հատ | G29: 25000 | H29: 45 | I29: =+ROUND(H29*G29/1000,1) -> 1125
A30: 39121470 | B30: սեղան` աշակերտական միաձույլ կարկասով | E30: ԷԱՃ | F30: հատ | G30: 35000 | H30: 76 | I30: =+ROUND(H30*G30/1000,1) -> 2660
A31: 39121470 | B31: սեղան` աշակերտական միաձույլ կարկասով | E31: ԷԱՃ | F31: հատ | G31: 30000 | H31: 72 | I31: =+ROUND(H31*G31/1000,1) -> 2160
A32: 39121470 | B32: սեղան` աշակերտական միաձույլ կարկասով | E32: ԷԱՃ | F32: հատ | G32: 40000 | H32: 260 | I32: =+ROUND(H32*G32/1000,1) -> 10400
... A89: 39515100 | B89: վարագույրներ | E89: ԷԱՃ | F89: մ2 | G89: 28500 | H89: 218 | I89: =+ROUND(H89*G89/1000,1) -> 6213
A91: ՀՀ քաղաքաշինության կոմիտե | I91: =+I92 -> -23799.2
A92: Բաժին N 09 | B92: Խումբ N 06 | C92: Դաս N 01 | D92: Կրթությանը տրամադրվող օժանդակ ծառայություններ | I92: =+I93+I99 -> -23799.2
A93: 1183-32007 | B93: Հանրակրթական կրթություն իրականացնող ուսումնական հաստատությունների նոր մարզադահլիճների կառուցում | I93: =+I94+I96 -> -38827.7
B94: ՄԱՍ II. ԱՇԽԱՏԱՆՔՆԵՐ | I94: =+I95 -> -38140.6
A95: 45221142-2 | B95: ընդհանուր շինարարական աշխատանքներ | E95: ԲՄ | F95: դրամ | I95: -38140.6
B96: ՄԱՍ III. ԾԱՌԱՅՈՒԹՅՈՒՆՆԵՐ | I96: =SUM(I97:I98) -> -687.1
A97: 71351540-2 | B97: տեխնիկական հսկողության ծառայություններ | E97: ԳՀ | F97: դրամ | I97: -429.2
A98: 98111140-2 | B98: հեղինակային հսկողության ծառայություններ | E98: ՄԱ | F98: դրամ | I98: -257.9
A99: 1183-32009 | B99: Հանրակրթական կրթություն իրականացնող ուսումնական հաստատությունների մարզադահլիճների վերակառուցում | I99: =+I100+I104 -> 15028.5
B100: ՄԱՍ II. ԱՇԽԱՏԱՆՔՆԵՐ | I100: =SUM(I101:I103) -> 14882.9
A101: 45451700-6 | B101: վերակառուցման աշխատանքներ | E101: ԲՄ | F101: դրամ | I101: 2857.3
A102: 45451700-7 | B102: վերակառուցման աշխատանքներ | E102: ԲՄ | F102: դրամ | I102: 3280.7
A103: 45451700-8 | B103: վերակառուցման աշխատանքներ | E103: ԲՄ | F103: դրամ | I103: 8744.9
B104: ՄԱՍ III. ԾԱՌԱՅՈՒԹՅՈՒՆՆԵՐ | I104: =SUM(I105:I107) -> 145.6
A105: 71351540-6 | B105: տեխնիկական հսկողության ծառայություններ | E105: ԳՀ | F105: դրամ | I105: 21.2
A106: 71351540-7 | B106: տեխնիկական հսկողության ծառայություններ | E106: ԳՀ | F106: դրամ | I106: 27.7
A107: 71351540-8 | B107: տեխնիկական հսկողության ծառայություններ | E107: ԳՀ | F107: դրամ | I107: 96.7
