Workbook
Name a: #REF!
Name AgencyCode: #REF!
Name AgencyName: #REF!
Name davit: #REF!
Name Functional1: #REF!
Name ggg: #REF!
Name HAVELVAC10: #REF!
Name PANature: #REF!
Name PAType: #REF!
Name Performance2: #REF!
Name PerformanceType: #REF!
Name Հավելված: #REF!
Name Մաս: #REF!
Name շախմատիստ: #REF!

Sheet havelvac 1
C1: Հավելված N 1
C2: ՀՀ կառավարության 2023 թվականի
C3: ______________ ի ___Ն որոշման
A4: «ՀԱՅԱՍՏԱՆԻ ՀԱՆՐԱՊԵՏՈՒԹՅԱՆ 2023 ԹՎԱԿԱՆԻ ՊԵՏԱԿԱՆ ԲՅՈՒՋԵԻ ՄԱՍԻՆ» ՕՐԵՆՔԻ N 1 ՀԱՎԵԼՎԱԾԻ N 2 ԱՂՅՈՒՍԱԿՈՒՄ ԿԱՏԱՐՎՈՂ ՎԵՐԱԲԱՇԽՈՒՄԸ ԵՎ ՀԱՅԱՍՏԱՆԻ ՀԱՆՐԱՊԵՏՈՒԹՅԱՆ ԿԱՌԱՎԱՐՈՒԹՅԱՆ 2022 ԹՎԱԿԱՆԻ ԴԵԿՏԵՄԲԵՐԻ 29-Ի N 2111-Ն ՈՐՈՇՄԱՆ N 5 ՀԱՎԵԼՎԱԾԻ N 1 ԱՂՅՈՒՍԱԿՈՒՄ ԿԱՏԱՐՎՈՂ ՓՈՓՈԽՈՒԹՅՈՒՆՆԵՐԸ ԵՎ ԼՐԱՑՈՒՄՆԵՐԸ
D5: /հազար դրամ/
A6: Ծրագրային դասիչը | C6: Բյուջետային հատկացումների գլխավոր կարգադրիչների, ծրագրերի և միջոցառումների անվանումները | D6: Ցուցանիշների փոփոխությունը (ավելացումները նշված են դրական նշանով, իսկ նվազեցումները՝ փակագծերում)
A7: ծրագիր | B7: միջոցառում | D7: Տարի
C8: ԸՆԴԱՄԵՆԸ | D8: =D9+D40 -> 0
A9: ՀՀ Կրթության, գիտության, մշակույթի և սպորտի նախարարություն | D9: =D11 -> 215354.7
A10: 1146 | C10: Ծրագրի անվանումը`
C11: Հանրակրթության ծրագիր | D11: =D22+D28 -> 215354.7
C12: Ծրագրի նպատակը`
C13: Ապահովել անվճար և որակյալ հանրակրթություն
C14: Վերջնական արդյունքի նկարագրությունը`
C15: Մտավոր, հոգևոր, ֆիզիկական և սոցիալական ունակությունների համակողմանի ու ներդաշնակ զարգացմամբ, հայրենասիրության, պետականության և մարդասիրության ոգով դաստիրակված, պատշաճ վարքով և վարվելակերպով անձի ձևավորում
A16: Ծրագրի միջոցառումներ
B17: 12015 | C17: Միջոցառման անվանումը`
C18: ՀՀ պետական հանրակրթական բոլոր ուսումնական հաստատություններում ԲՏՃՄ ոլորտի (բացառությամբ մաթեմատիկայի) դասավանդող ուսուցիչների համար վարձատրության բարձրացված հստակ չափաքանակի սահմանում
C19: Միջոցառման նկարագրությունը`
C20: ՀՀ պետական հանրակրթական բոլոր ուսումնական հաստատություններում ԲՏՃՄ ոլորտի (բացառությամբ մաթեմատիկայի) դասավանդող ուսուցիչներին հավելավճարի տրամադրում
C21: Միջոցառման տեսակը
C22: Տրանսֆերտների տրամադրում | D22: ='havelvac 2'!G20 -> 100069.3
B23: 12016 | C23: Միջոցառման անվանումը`
C24: ՀՀ գյուղական բնակավայրերում մինչև 100 աշակերտ ունեցող պետական ուսումնական հաստատություններում դասավանդող ուսուցիչներին հավելավճարի սահմանում
C25: Միջոցառման նկարագրությունը`
C26: ՀՀ գյուղական բնակավայրերում մինչև 100 աշակերտ ունեցող պետական ուսումնական հաստատություններում դասավանդող ուսուցիչներին հավելավճարի տրամադրում
C27: Միջոցառման տեսակը
C28: Տրանսֆերտների տրամադրում | D28: ='havelvac 2'!G113 -> 115285.4
A29: 1162 | C29: Ծրագրի անվանումը`
C30: Գիտական և գիտատեխնիկական հետազոտությունների ծրագիր | D30: =D40 -> -215354.7
C31: Ծրագրի նպատակը`
C32: Գիտական և գիտատեխնիկական գործունեության հիմնարար, կիրառական և թեմատիկ հետազոտությունների իրականացում, ենթակառուցվածքի և ազգային արժեք ներկայացնող գիտական օբյեկտների պահպանում և զարգացում, գիտական ներուժի վերարտադրության ապահովում£
C33: Վերջնական արդյունքի նկարագրությունը`
C34: Գիտության և տեխնիկայի զարգացման գերակա ուղղությունների հետազոտությունների իրականացում, գիտական ներուժի զարգացում, ազգային արժեք ներկայացնող գիտական օբյեկտների պահպանում
B35: 11005 | C35: Միջոցառման անվանումը`
C36: Գիտական և գիտատեխնիկական պայմանագրային (թեմատիկ) հետազոտություններ
C37: Միջոցառման նկարագրությունը`
C38: Գիտական և գիտատեխնիկական գործունեության պայմանագրային (թեմատիկ) հետազոտություններ
C39: Միջոցառման տեսակը
C40: Ծառայությունների մատուցում | D40: -215354.7

Sheet havelvac 2
F1: Հավելված N 2
F2: ՀՀ կառավարության 2023 թվականի
F3: ______________ ի ___Ն որոշման
A4: ՀԱՅԱՍՏԱՆԻ ՀԱՆՐԱՊԵՏՈՒԹՅԱՆ ԿԱՌԱՎԱՐՈՒԹՅԱՆ 2022 ԹՎԱԿԱՆԻ ԴԵԿՏԵՄԲԵՐԻ 29-Ի N 2111-Ն ՈՐՈՇՄԱՆ N 3 ԵՎ N 4 ՀԱՎԵԼՎԱԾՆԵՐՈՒՄ ԿԱՏԱՐՎՈՂ ՓՈՓՈԽՈՒԹՅՈՒՆՆԵՐԸ ԵՎ ԼՐԱՑՈՒՄՆԵՐ
G5: /հազար դրամ/
A6: Գործառական դասիչը | D6: Ծրագրային դասիչը | F6: Բյուջետային ծախսերի գործառական դասակարգման բաժինների, խմբերի և դասերի, բյուջետային ծրագրերի միջոցառումների, բյուջետային հատկացումների գլխավոր կարգադրիչների անվանումները | G6: Ցուցանիշների փոփոխություն (ավելացումները նշված են դրական նշանով, իսկ նվազեցումները՝ փակագծերում)
A7: Բաժին | B7: Խումբ | C7: Դաս | D7: Ծրագիր | E7: Միջոցառում | G7: Տարի
F8: ԸՆԴԱՄԵՆԸ | G8: =G14+G192 -> 0
F9: այդ թվում`
F10: ՀՀ Կրթության, գիտության, մշակույթի և սպորտի նախարարություն | G10: =G12 -> 215354.7
F11: այդ թվում`
A12: 09 | F12: ԿՐԹՈՒԹՅՈՒՆ | G12: =G14 -> 215354.7
F13: այդ թվում`
B14: 02 | F14: Միջնակարգ ընդհանուր կրթություն | G14: =G16 -> 215354.7
F15: այդ թվում`
C16: 01 | F16: Հիմնական ընդհանուր կրթություն | G16: =G18 -> 215354.7
F17: այդ թվում`
D18: 1146 | F18: Հանրակրթության ծրագիր | G18: =+G20+G113 -> 215354.7
F19: այդ թվում`
E20: 12015 | F20: ՀՀ պետական հանրակրթական բոլոր ուսումնական հաստատություններում ԲՏՃՄ ոլորտի (բացառությամբ մաթեմատիկայի) դասավանդող ուսուցիչների համար վարձատրության բարձրացված հստակ չափաքանակի սահմանում | G20: =G22+G29+G36+G43+G50+G57+G64+G71+G78+G85+G92+G99+G106 -> 100069.3
F21: այդ թվում` ըստ կատարողների
F22: ՀՀ տարածքային կառավարման և ենթակառուցվածքների նախարարություն | G22: =G24 -> 93141.6
F23: այդ թվում` բյուջետային ծախսերի տնտեսագիտական դասակարգման հոդվածներ
F24: ԸՆԴԱՄԵՆԸ ԾԱԽՍԵՐ | G24: =G25 -> 93141.6
F25: ԸՆԹԱՑԻԿ ԾԱԽՍԵՐ | G25: =G26 -> 93141.6
F26: ՍՈՑԻԱԼԱԿԱՆ ՆՊԱՍՏՆԵՐ ԵՎ ԿԵՆՍԱԹՈՇԱԿՆԵՐ | G26: =G27 -> 93141.6
F27: Սոցիալական օգնության դրամական արտահայտությամբ նպաստներ (բյուջեից) | G27: =G28 -> 93141.6
F28: - Այլ նպաստներ բյուջեից | G28: 93141.6
F29: ՀՀ կրթության , գիտության, մշակույթի և սպորտի նախարարություն | G29: =G31 -> -429932.4
F30: այդ թվում` բյուջետային ծախսերի տնտեսագիտական դասակարգման հոդվածներ
F31: ԸՆԴԱՄԵՆԸ ԾԱԽՍԵՐ | G31: =+G32 -> -429932.4
F32: ԸՆԹԱՑԻԿ ԾԱԽՍԵՐ | G32: =+G33 -> -429932.4
F33: ՍՈՑԻԱԼԱԿԱՆ ՆՊԱՍՏՆԵՐ ԵՎ ԿԵՆՍԱԹՈՇԱԿՆԵՐ | G33: =+G34 -> -429932.4
F34: Սոցիալական օգնության դրամական արտահայտությամբ նպաստներ (բյուջեից) | G34: =G35 -> -429932.4
F35: - Այլ նպաստներ բյուջեից | G35: -429932.4
F36: ՀՀ պաշտպանության նախարարություն | G36: =G38 -> 2206.6
F37: այդ թվում` բյուջետային ծախսերի տնտեսագիտական դասակարգման հոդվածներ
F38: ԸՆԴԱՄԵՆԸ ԾԱԽՍԵՐ | G38: =G39 -> 2206.6
F39: ԸՆԹԱՑԻԿ ԾԱԽՍԵՐ | G39: =G40 -> 2206.6
F40: ՍՈՑԻԱԼԱԿԱՆ ՆՊԱՍՏՆԵՐ ԵՎ ԿԵՆՍԱԹՈՇԱԿՆԵՐ | G40: =G41 -> 2206.6
F41: Սոցիալական օգնության դրամական արտահայտությամբ նպաստներ (բյուջեից) | G41: =G42 -> 2206.6
F42: - Այլ նպաստներ բյուջեից | G42: 2206.6
F43: ՀՀ Արագածոտնի մարզպետարան | G43: =G45 -> 39470.6
F44: այդ թվում` բյուջետային ծախսերի տնտեսագիտական դասակարգման հոդվածներ
F45: ԸՆԴԱՄԵՆԸ ԾԱԽՍԵՐ | G45: =G46 -> 39470.6
F46: ԸՆԹԱՑԻԿ ԾԱԽՍԵՐ | G46: =G47 -> 39470.6
F47: ՍՈՑԻԱԼԱԿԱՆ ՆՊԱՍՏՆԵՐ ԵՎ ԿԵՆՍԱԹՈՇԱԿՆԵՐ | G47: =G48 -> 39470.6
F48: Սոցիալական օգնության դրամական արտահայտությամբ նպաստներ (բյուջեից) | G48: =G49 -> 39470.6
F49: - Այլ նպաստներ բյուջեից | G49: 39470.6
F50: ՀՀ Արարատի մարզպետարան | G50: =G52 -> 53451.4
F51: այդ թվում` բյուջետային ծախսերի տնտեսագիտական դասակարգման հոդվածներ
F52: ԸՆԴԱՄԵՆԸ ԾԱԽՍԵՐ | G52: =+G53 -> 53451.4
F53: ԸՆԹԱՑԻԿ ԾԱԽՍԵՐ | G53: =+G54 -> 53451.4
F54: ՍՈՑԻԱԼԱԿԱՆ ՆՊԱՍՏՆԵՐ ԵՎ ԿԵՆՍԱԹՈՇԱԿՆԵՐ | G54: =+G55 -> 53451.4
F55: Սոցիալական օգնության դրամական արտահայտությամբ նպաստներ (բյուջեից) | G55: =G56 -> 53451.4
F56: - Այլ նպաստներ բյուջեից | G56: 53451.4
F57: ՀՀ Արմավիրի մարզպետարան | G57: =G59 -> 48517
F58: այդ թվում` բյուջետային ծախսերի տնտեսագիտական դասակարգման հոդվածներ
F59: ԸՆԴԱՄԵՆԸ ԾԱԽՍԵՐ | G59: =+G60 -> 48517
F60: ԸՆԹԱՑԻԿ ԾԱԽՍԵՐ | G60: =+G61 -> 48517
F61: ՍՈՑԻԱԼԱԿԱՆ ՆՊԱՍՏՆԵՐ ԵՎ ԿԵՆՍԱԹՈՇԱԿՆԵՐ | G61: =+G62 -> 48517
F62: Սոցիալական օգնության դրամական արտահայտությամբ նպաստներ (բյուջեից) | G62: =G63 -> 48517
F63: - Այլ նպաստներ բյուջեից | G63: 48517
F64: ՀՀ Գեղարքունիքի մարզպետարան | G64: =G66 -> 49431.8
F65: այդ թվում` բյուջետային ծախսերի տնտեսագիտական դասակարգման հոդվածներ
F66: ԸՆԴԱՄԵՆԸ ԾԱԽՍԵՐ | G66: =+G67 -> 49431.8
F67: ԸՆԹԱՑԻԿ ԾԱԽՍԵՐ | G67: =+G68 -> 49431.8
F68: ՍՈՑԻԱԼԱԿԱՆ ՆՊԱՍՏՆԵՐ ԵՎ ԿԵՆՍԱԹՈՇԱԿՆԵՐ | G68: =+G69 -> 49431.8
F69: Սոցիալական օգնության դրամական արտահայտությամբ նպաստներ (բյուջեից) | G69: =G70 -> 49431.8
F70: - Այլ նպաստներ բյուջեից | G70: 49431.8
F71: ՀՀ Լոռու մարզպետարան | G71: =G73 -> 54011.7
F72: այդ թվում` բյուջետային ծախսերի տնտեսագիտական դասակարգման հոդվածներ
F73: ԸՆԴԱՄԵՆԸ ԾԱԽՍԵՐ | G73: =+G74 -> 54011.7
F74: ԸՆԹԱՑԻԿ ԾԱԽՍԵՐ | G74: =+G75 -> 54011.7
F75: ՍՈՑԻԱԼԱԿԱՆ ՆՊԱՍՏՆԵՐ ԵՎ ԿԵՆՍԱԹՈՇԱԿՆԵՐ | G75: =+G76 -> 54011.7
F76: Սոցիալական օգնության դրամական արտահայտությամբ նպաստներ (բյուջեից) | G76: =G77 -> 54011.7
F77: - Այլ նպաստներ բյուջեից | G77: 54011.7
F78: ՀՀ Կոտայքի մարզպետարան | G78: =G80 -> 44775.3
F79: այդ թվում` բյուջետային ծախսերի տնտեսագիտական դասակարգման հոդվածներ
F80: ԸՆԴԱՄԵՆԸ ԾԱԽՍԵՐ | G80: =+G81 -> 44775.3
F81: ԸՆԹԱՑԻԿ ԾԱԽՍԵՐ | G81: =+G82 -> 44775.3
F82: ՍՈՑԻԱԼԱԿԱՆ ՆՊԱՍՏՆԵՐ ԵՎ ԿԵՆՍԱԹՈՇԱԿՆԵՐ | G82: =+G83 -> 44775.3
F83: Սոցիալական օգնության դրամական արտահայտությամբ նպաստներ (բյուջեից) | G83: =G84 -> 44775.3
F84: - Այլ նպաստներ բյուջեից | G84: 44775.3
F85: ՀՀ Շիրակի մարզպետարան | G85: =G87 -> 56417.9
F86: այդ թվում` բյուջետային ծախսերի տնտեսագիտական դասակարգման հոդվածներ
F87: ԸՆԴԱՄԵՆԸ ԾԱԽՍԵՐ | G87: =+G88 -> 56417.9
F88: ԸՆԹԱՑԻԿ ԾԱԽՍԵՐ | G88: =+G89 -> 56417.9
F89: ՍՈՑԻԱԼԱԿԱՆ ՆՊԱՍՏՆԵՐ ԵՎ ԿԵՆՍԱԹՈՇԱԿՆԵՐ | G89: =+G90 -> 56417.9
F90: Սոցիալական օգնության դրամական արտահայտությամբ նպաստներ (բյուջեից) | G90: =G91 -> 56417.9
F91: - Այլ նպաստներ բյուջեից | G91: 56417.9
F92: ՀՀ Սյունիքի մարզպետարան | G92: =G94 -> 37233.1
F93: այդ թվում` բյուջետային ծախսերի տնտեսագիտական դասակարգման հոդվածներ
F94: ԸՆԴԱՄԵՆԸ ԾԱԽՍԵՐ | G94: =+G95 -> 37233.1
F95: ԸՆԹԱՑԻԿ ԾԱԽՍԵՐ | G95: =+G96 -> 37233.1
F96: ՍՈՑԻԱԼԱԿԱՆ ՆՊԱՍՏՆԵՐ ԵՎ ԿԵՆՍԱԹՈՇԱԿՆԵՐ | G96: =+G97 -> 37233.1
F97: Սոցիալական օգնության դրամական արտահայտությամբ նպաստներ (բյուջեից) | G97: =G98 -> 37233.1
F98: - Այլ նպաստներ բյուջեից | G98: 37233.1
F99: ՀՀ Վայոց Ձորի մարզպետարան | G99: =G101 -> 14140.5
F100: այդ թվում` բյուջետային ծախսերի տնտեսագիտական դասակարգման հոդվածներ
...

Sheet havelvac3
F1: Հավելված N 3
F2: ՀՀ կառավարության 2023 թվականի
F3: ______________ ի ___Ն որոշման
A5: ՀԱՅԱՍՏԱՆԻ ՀԱՆՐԱՊԵՏՈՒԹՅԱՆ ԿԱՌԱՎԱՐՈՒԹՅԱՆ 2022 ԹՎԱԿԱՆԻ ԴԵԿՏԵՄԲԵՐԻ 29-Ի N 2111-Ն ՈՐՈՇՄԱՆ N 8 ՀԱՎԵԼՎԱԾՈՒՄ ԿԱՏԱՐՎՈՂ ՓՈՓՈԽՈՒԹՅՈՒՆՆԵՐԸ ԵՎ ԼՐԱՑՈՒՄՆԵՐ
G6: /հազար դրամ/
A7: Գործառական դասիչը | D7: Ծրագրային դասիչը | F7: Բյուջետային հատկացումների գլխավոր կարգադրիչներ, ծրագրերի, միջոցառումների և միջոցառումներն իրականացնող պետական մարմինների անվանումները | G7: Ցուցանիշների փոփոխություն (ավելացումները նշված են դրական նշանով)
A8: Բաժին | B8: Խումբ | C8: Դաս | D8: Ծրագիր | E8: Միջոցա ռում
F9: ԸՆԴԱՄԵՆԸ ԾԱԽՍԵՐ | G9: =G10 -> 93141.6
A10: 09 | F10: ԿՐԹՈՒԹՅՈՒՆ | G10: =G11 -> 93141.6
B11: 02 | F11: Միջնակարգ ընդհանուր կրթություն | G11: =G12 -> 93141.6
C12: 01 | F12: Հիմնական ընդհանուր կրթություն | G12: =+G13 -> 93141.6
D13: 1146 | F13: Հանրակրթության ծրագիր | G13: =G14 -> 93141.6
E14: 12015 | F14: ՀՀ պետական հանրակրթական բոլոր ուսումնական հաստատություններում ԲՏՃՄ ոլորտի (բացառությամբ մաթեմատիկայի) դասավանդող ուսուցիչների համար վարձատրության բարձրացված հստակ չափաքանակի սահմանում | G14: ='havelvac 2'!G22 -> 93141.6

Sheet havelvac4
B1: Հավելված N 4
B2: ՀՀ կառավարության 2023 թվականի
B3: ______________ ի ___Ն որոշման
A5: ՀԱՅԱՍՏԱՆԻ ՀԱՆՐԱՊԵՏՈՒԹՅԱՆ ԿԱՌԱՎԱՐՈՒԹՅԱՆ 2022 ԹՎԱԿԱՆԻ ԴԵԿՏԵՄԲԵՐԻ 29-Ի N 2111-Ն ՈՐՈՇՄԱՆ N 9 ՀԱՎԵԼՎԱԾԻ NN 9.13 ԱՂՅՈՒՍԱԿՈՒՄ ԿԱՏԱՐՎՈՂ ՓՈՓՈԽՈՒԹՅՈՒՆՆԵՐԸ ԵՎ ԼՐԱՑՈՒՄՆԵՐԸ
A6: ՀՀ կրթության, գիտության, մշակույթի և սպորտի նախարարություն
A7: ՄԱՍ 2. ՊԵՏԱԿԱՆ ՄԱՐՄՆԻ ԳԾՈՎ ԱՐԴՅՈՒՆՔԱՅԻՆ (ԿԱՏԱՐՈՂԱԿԱՆ) ՑՈՒՑԱՆԻՇՆԵՐԸ
A9: Ծրագրի դասիչը | B9: Ծրագրի անվանումը
A10: 1146 | B10: Հանրակրթության ծրագիր
A12: Ծրագրի միջոցառումները
A14: Ծրագրի դասիչը՝ | B14: 1146 | C14: Ցուցանիշների փոփոխությունը (ավելացումները նշված են դրական նշանով)
A15: Միջոցառման դասիչը՝ | B15: 12015 | C15: Տարի
A16: Միջոցառման անվանումը՝ | B16: ՀՀ պետական հանրակրթական բոլոր ուսումնական հաստատություններում ԲՏՃՄ ոլորտի (բացառությամբ մաթեմատիկայի) դասավանդող ուսուցիչների համար վարձատրության բարձրացված հստակ չափաքանակի սահմանում
A17: Նկարագրությունը՝ | B17: ՀՀ պետական հանրակրթական բոլոր ուսումնական հաստատություններում ԲՏՃՄ ոլորտի (բացառությամբ մաթեմատիկայի) դասավանդող ուսուցիչներին հավելավճարի տրամադրում
A18: Միջոցառման տեսակը` | B18: Տրանսֆերտների տրամադրում
A19: Շահառուների ընտրության չափորոշիչները՛ | B19: ԲՏՃՄ ոլորտի (բացառությամբ մաթեմատիկայի) դասավանդող ուսուցիչներ
A20: Արդյունքի չափորոշիչներ
A21: ՀՀ բոլոր ուսումնական հաստատություններում ԲՏՃՄ առարկաներ դասավանդող ուսուցիչների թիվը | C21: 4052
A22: Վարձատրության բարձրացված հստակ չափաքանակ, դրամ | C22: -30000
A23: Վարձատրության բարձրացված հստակ չափաքանակ, տոկոս | C23: 25
A24: Միջոցառման վրա կատարվող ծախսը (հազար դրամ) | C24: ='havelvac 2'!G20 -> 100069.3
A26: Ծրագրի դասիչը՝ | B26: 1146 | C26: Ցուցանիշների փոփոխությունը (նվազեցումները նշված են փակագծերում, ավելացումները նշված են դրական նշանով)
A27: Միջոցառման դասիչը` | B27: 12016 | C27: Տարի
A28: Միջոցառման անվանումը` | B28: ՀՀ գյուղական բնակավայրերում մինչև 100 աշակերտ ունեցող պետական ուսումնական հաստատություններում դասավանդող ուսուցիչներին հավելավճարի սահմանում
A29: Նկարագրությունը` | B29: ՀՀ գյուղական բնակավայրերում մինչև 100 աշակերտ ունեցող պետական ուսումնական հաստատություններում դասավանդող ուսուցիչներին հավելավճարի տրամադրում
A30: Միջոցառման տեսակը` | B30: Տրանսֆերտների տրամադրում
A31: Շահառուների ընտրության չափորոշիչները՛ | B31: ՀՀ գյուղական բնակավայրերում մինչև 100 աշակերտ ունեցող պետական ուսումնական հաստատություններում դասավանդող ուսուցիչներ
A32: Արդյունքի չափորոշիչներ
A33: Մինչև 100 աշակերտ ունեցող դպրոցներում ուսուցիչների թիվը | C33: -323
A34: Հավելավճարի չափը, դրամ
A35: Միջոցառման վրա կատարվող ծախսը (հազար դրամ) | C35: ='havelvac 2'!G113 -> 115285.4
A37: ՀՀ կրթության, գիտության, մշակույթի և սպորտի նախարարության գիտության կոմիտե
A39: Ծրագրի դասիչը | B39: Ծրագրի անվանումը
A40: 1162 | B40: Գիտական և գիտատեխնիկական հետազոտությունների ծրագիր
A42: Ծրագրի միջոցառումները
A44: Միջոցառման դասիչը` | B44: 11005 | C44: Ցուցանիշների փոփոխությունը (ավելացումները նշված են դրական նշանով)
A45: Միջոցառման անվանումը` | B45: Գիտական և գիտատեխնիկական պայմանագրային (թեմատիկ) հետազոտություններ
A46: Նկարագրությունը` | B46: Գիտական և գիտատեխնիկական գործունեության պայմանագրային (թեմատիկ) հետազոտություններ
A47: Միջոցառման տեսակը` | B47: Ծառայությունների մատուցում
A48: Միջոցառումն իրականացնողի անվանումը՛ | B48: ՀՀ կառավարության 2001 թ. նոյեմբերի 17-ի Գիտական և գիտատեխնիկական գործունեության պայմանագրային (թեմատիկ) ֆինանսավորման կարգը հաստատելու մասին N1122 որոշման համաձայն մրցույթային կարգով ընտրված գիտական թեմաների ղեկավարներ
A49: Արդյունքի չափորոշիչներ
A50: Թեմաների թիվ, հատ, այդ թվում՛ | C50: -16
A51: Թեմաներում ներգրավված կանանց թվաքանակ, մարդ | C51: -32
A52: Կին ղեկավարների առաջխաղացմանն ուղղված թեմաների թիվ, հատ
A53: Բարձր արդյունավետությամբ աշխատող գիտաշխատողների թվաքանակ, մարդ, այդ թվում՛
A54: կանանց թվաքանակ, մարդ
A55: Հետազոտական խմբերի միջին թվաքանակ, մարդ
A56: Միջազգային գիտական ծրագրերի թիվ, հատ, այդ թվում՛ | C56: -11
A57: Միջազգային գիտական ծրագրերում կանանց, թվաքանակ, մարդ
A58: Միջոցառման վրա կատարվող ծախսը (հազար դրամ) | C58: ='havelvac 1'!D40 -> -215354.7

Sheet havelvac5
A2: Հավելված N 5
A3: ՀՀ կառավարության 2023 թվականի
A4: ______________ ի ___Ն որոշման
B6: ՀԱՅԱՍՏԱՆԻ ՀԱՆՐԱՊԵՏՈՒԹՅԱՆ ԿԱՌԱՎԱՐՈՒԹՅԱՆ 2022 ԹՎԱԿԱՆԻ ԴԵԿՏԵՄԲԵՐԻ 29-Ի N 2111-Ն ՈՐՈՇՄԱՆ N 9.1 ՀԱՎԵԼՎԱԾԻ NN 9.1.7, 9.1.13, 9.1.14, 9.1.28, 9.1.48, 9.1.49, 9.1.50, 9.1.51, 9.1.52, 9.1.53, 9.1.54, 9.1.55, 9.1.56 ԵՎ 9.1.57 ԱՂՅՈՒՍԱԿՆԵՐՈՒՄ ԿԱՏԱՐՎՈՂ ՓՈՓՈԽՈՒԹՅՈՒՆՆԵՐԸ ԵՎ ԼՐԱՑՈՒՄՆԵՐԸ
B8: ='havelvac 2'!F22 -> ՀՀ տարածքային կառավարման և ենթակառուցվածքների նախարարություն
B10: ՄԱՍ 1. ՊԵՏԱԿԱՆ ՄԱՐՄՆԻ ԳԾՈՎ ԱՐԴՅՈՒՆՔԱՅԻՆ (ԿԱՏԱՐՈՂԱԿԱՆ) ՑՈՒՑԱՆԻՇՆԵՐԸ
B13: Ծրագրի դասիչը | C13: Ծրագրի անվանումը
B14: 1146 | C14: Հանրակրթության ծրագիր
B16: Ծրագրի միջոցառումները
B17: Ծրագրի դասիչը՝ | C17: 1146 | D17: Ցուցանիշների փոփոխությունը (ավելացումները նշված են դրական նշանով)
B18: Միջոցառման դասիչը՝ | C18: 12015 | D18: Տարի
B19: Միջոցառման անվանումը՝ | C19: ՀՀ պետական հանրակրթական բոլոր ուսումնական հաստատություններում ԲՏՃՄ ոլորտի (բացառությամբ մաթեմատիկայի) դասավանդող ուսուցիչների համար վարձատրության բարձրացված հստակ չափաքանակի սահմանում
B20: Նկարագրությունը՝ | C20: ՀՀ պետական հանրակրթական բոլոր ուսումնական հաստատություններում ԲՏՃՄ ոլորտի (բացառությամբ մաթեմատիկայի) դասավանդող ուսուցիչներին հավելավճարի տրամադրում
B21: Միջոցառման տեսակը` | C21: Տրանսֆերտների տրամադրում
B22: Շահառուների ընտրության չափորոշիչները՛ | C22: ԲՏՃՄ ոլորտի (բացառությամբ մաթեմատիկայի) դասավանդող ուսուցիչներ
B23: Արդյունքի չափորոշիչներ
B24: ՀՀ բոլոր ուսումնական հաստատություններում ԲՏՃՄ առարկաներ դասավանդող ուսուցիչների թիվը | D24: 1291
B25: Վարձատրության բարձրացված հստակ չափաքանակ, տոկոս | D25: 25
B26: Միջոցառման վրա կատարվող ծախսը (հազար դրամ) | D26: ='havelvac 2'!G28 -> 93141.6
B28: ='havelvac 2'!F29 -> ՀՀ կրթության , գիտության, մշակույթի և սպորտի նախարարություն
B30: Ծրագրի դասիչը | C30: Ծրագրի անվանումը
B31: 1146 | C31: Հանրակրթության ծրագիր
B33: Ծրագրի միջոցառումները
B34: Ծրագրի դասիչը՝ | C34: 1146 | D34: Ցուցանիշների փոփոխությունը (նվազեցումները նշված են փակագծերում)
B35: Միջոցառման դասիչը՝ | C35: 12015 | D35: Տարի
B36: Միջոցառման անվանումը՝ | C36: ՀՀ պետական հանրակրթական բոլոր ուսումնական հաստատություններում ԲՏՃՄ ոլորտի (բացառությամբ մաթեմատիկայի) դասավանդող ուսուցիչների համար վարձատրության բարձրացված հստակ չափաքանակի սահմանում
B37: Նկարագրությունը՝ | C37: ՀՀ պետական հանրակրթական բոլոր ուսումնական հաստատություններում ԲՏՃՄ ոլորտի (բացառությամբ մաթեմատիկայի) դասավանդող ուսուցիչներին հավելավճարի տրամադրում
B38: Միջոցառման տեսակը` | C38: Տրանսֆերտների տրամադրում
B39: Շահառուների ընտրության չափորոշիչները՛ | C39: ԲՏՃՄ ոլորտի (բացառությամբ մաթեմատիկայի) դասավանդող ուսուցիչներ
B40: Արդյունքի չափորոշիչներ
B41: ՀՀ բոլոր ուսումնական հաստատություններում ԲՏՃՄ առարկաներ դասավանդող ուսուցիչների թիվը | D41: -3466
B42: Վարձատրության բարձրացված հստակ չափաքանակ, դրամ | D42: -30000
B43: Վարձատրության բարձրացված հստակ չափաքանակ, տոկոս | D43: 25
B44: Միջոցառման վրա կատարվող ծախսը (հազար դրամ) | D44: ='havelvac 2'!G29 -> -429932.4
B46: ='havelvac 2'!F36 -> ՀՀ պաշտպանության նախարարություն
B48: Ծրագրի դասիչը | C48: Ծրագրի անվանումը
B49: 1146 | C49: Հանրակրթության ծրագիր
B51: Ծրագրի միջոցառումները
B52: Ծրագրի դասիչը՝ | C52: 1146 | D52: Ցուցանիշների փոփոխությունը (ավելացումները նշված են դրական նշանով)
B53: Միջոցառման դասիչը՝ | C53: 12015 | D53: Տարի
B54: Միջոցառման անվանումը՝ | C54: ՀՀ պետական հանրակրթական բոլոր ուսումնական հաստատություններում ԲՏՃՄ ոլորտի (բացառությամբ մաթեմատիկայի) դասավանդող ուսուցիչների համար վարձատրության բարձրացված հստակ չափաքանակի սահմանում
B55: Նկարագրությունը՝ | C55: ՀՀ պետական հանրակրթական բոլոր ուսումնական հաստատություններում ԲՏՃՄ ոլորտի (բացառությամբ մաթեմատիկայի) դասավանդող ուսուցիչներին հավելավճարի տրամադրում
B56: Միջոցառման տեսակը` | C56: Տրանսֆերտների տրամադրում
B57: Շահառուների ընտրության չափորոշիչները՛ | C57: ԲՏՃՄ ոլորտի (բացառությամբ մաթեմատիկայի) դասավանդող ուսուցիչներ
B58: Արդյունքի չափորոշիչներ
B59: ՀՀ բոլոր ուսումնական հաստատություններում ԲՏՃՄ առարկաներ դասավանդող ուսուցիչների թիվը | D59: 6
B60: Վարձատրության բարձրացված հստակ չափաքանակ, տոկոս | D60: 25
B61: Միջոցառման վրա կատարվող ծախսը (հազար դրամ) | D61: ='havelvac 2'!G36 -> 2206.6
B63: ='havelvac 2'!F43 -> ՀՀ Արագածոտնի մարզպետարան
B65: Ծրագրի դասիչը | C65: Ծրագրի անվանումը
B66: 1146 | C66: Հանրակրթության ծրագիր
B68: Ծրագրի միջոցառումները
B69: Ծրագրի դասիչը՝ | C69: 1146 | D69: Ցուցանիշների փոփոխությունը (ավելացումները նշված են դրական նշանով)
B70: Միջոցառման դասիչը՝ | C70: 12015 | D70: Տարի
B71: Միջոցառման անվանումը՝ | C71: ՀՀ պետական հանրակրթական բոլոր ուսումնական հաստատություններում ԲՏՃՄ ոլորտի (բացառությամբ մաթեմատիկայի) դասավանդող ուսուցիչների համար վարձատրության բարձրացված հստակ չափաքանակի սահմանում
B72: Նկարագրությունը՝ | C72: ՀՀ պետական հանրակրթական բոլոր ուսումնական հաստատություններում ԲՏՃՄ ոլորտի (բացառությամբ մաթեմատիկայի) դասավանդող ուսուցիչներին հավելավճարի տրամադրում
B73: Միջոցառման տեսակը` | C73: Տրանսֆերտների տրամադրում
B74: Շահառուների ընտրության չափորոշիչները՛ | C74: ԲՏՃՄ ոլորտի (բացառությամբ մաթեմատիկայի) դասավանդող ուսուցիչներ
B75: Արդյունքի չափորոշիչներ
B76: ՀՀ բոլոր ուսումնական հաստատություններում ԲՏՃՄ առարկաներ դասավանդող ուսուցիչների թիվը | D76: 662
B77: Վարձատրության բարձրացված հստակ չափաքանակ, տոկոս | D77: 25
B78: Միջոցառման վրա կատարվող ծախսը (հազար դրամ) | D78: ='havelvac 2'!G43 -> 39470.6
B80: ='havelvac 2'!F50 -> ՀՀ Արարատի մարզպետարան
B82: Ծրագրի դասիչը | C82: Ծրագրի անվանումը
B83: 1146 | C83: Հանրակրթության ծրագիր
B85: Ծրագրի միջոցառումները
B86: Ծրագրի դասիչը՝ | C86: 1146 | D86: Ցուցանիշների փոփոխությունը (ավելացումները նշված են դրական նշանով)
B87: Միջոցառման դասիչը՝ | C87: 12015 | D87: Տարի
B88: Միջոցառման անվանումը՝ | C88: ՀՀ պետական հանրակրթական բոլոր ուսումնական հաստատություններում ԲՏՃՄ ոլորտի (բացառությամբ մաթեմատիկայի) դասավանդող ուսուցիչների համար վարձատրության բարձրացված հստակ չափաքանակի սահմանում
B89: Նկարագրությունը՝ | C89: ՀՀ պետական հանրակրթական բոլոր ուսումնական հաստատություններում ԲՏՃՄ ոլորտի (բացառությամբ մաթեմատիկայի) դասավանդող ուսուցիչներին հավելավճարի տրամադրում
B90: Միջոցառման տեսակը` | C90: Տրանսֆերտների տրամադրում
B91: Շահառուների ընտրության չափորոշիչները՛ | C91: ԲՏՃՄ ոլորտի (բացառությամբ մաթեմատիկայի) դասավանդող ուսուցիչներ
B92: Արդյունքի չափորոշիչներ
B93: ՀՀ բոլոր ուսումնական հաստատություններում ԲՏՃՄ առարկաներ դասավանդող ուսուցիչների թիվը | D93: 705
B94: Վարձատրության բարձրացված հստակ չափաքանակ, տոկոս | D94: 25
B95: Միջոցառման վրա կատարվող ծախսը (հազար դրամ) | D95: ='havelvac 2'!G50 -> 53451.4
B97: ='havelvac 2'!F57 -> ՀՀ Արմավիրի մարզպետարան
B99: Ծրագրի դասիչը | C99: Ծրագրի անվանումը
B100: 1146 | C100: Հանրակրթության ծրագիր
B102: Ծրագրի միջոցառումները
B103: Ծրագրի դասիչը՝ | C103: 1146 | D103: Ցուցանիշների փոփոխությունը (ավելացումները նշված են դրական նշանով)
B104: Միջոցառման դասիչը՝ | C104: 12015 | D104: Տարի
B105: Միջոցառման անվանումը՝ | C105: ՀՀ պետական հանրակրթական բոլոր ուսումնական հաստատություններում ԲՏՃՄ ոլորտի (բացառությամբ մաթեմատիկայի) դասավանդող ուսուցիչների համար վարձատրության բարձրացված հստակ չափաքանակի սահմանում
B106: Նկարագրությունը՝ | C106: ՀՀ պետական հանրակրթական բոլոր ուսումնական հաստատություններում ԲՏՃՄ ոլորտի (բացառությամբ մաթեմատիկայի) դասավանդող ուսուցիչներին հավելավճարի տրամադրում
B107: Միջոցառման տեսակը` | C107: Տրանսֆերտների տրամադրում
B108: Շահառուների ընտրության չափորոշիչները՛ | C108: ԲՏՃՄ ոլորտի (բացառությամբ մաթեմատիկայի) դասավանդող ուսուցիչներ
B109: Արդյունքի չափորոշիչներ
B110: ՀՀ բոլոր ուսումնական հաստատություններում ԲՏՃՄ առարկաներ դասավանդող ուսուցիչների թիվը | D110: 695
B111: Վարձատրության բարձրացված հստակ չափաքանակ, տոկոս | D111: 25
B112: Միջոցառման վրա կատարվող ծախսը (հազար դրամ) | D112: ='havelvac 2'!G57 -> 48517
B114: ='havelvac 2'!F64 -> ՀՀ Գեղարքունիքի մարզպետարան
B116: Ծրագրի դասիչը | C116: Ծրագրի անվանումը
B117: 1146 | C117: Հանրակրթության ծրագիր
B119: Ծրագրի միջոցառումները
B120: Ծրագրի դասիչը՝ | C120: 1146 | D120: Ցուցանիշների փոփոխությունը (ավելացումները նշված են դրական նշանով)
B121: Միջոցառման դասիչը՝ | C121: 12015 | D121: Տարի
B122: Միջոցառման անվանումը՝ | C122: ՀՀ պետական հանրակրթական բոլոր ուսումնական հաստատություններում ԲՏՃՄ ոլորտի (բացառությամբ մաթեմատիկայի) դասավանդող ուսուցիչների համար վարձատրության բարձրացված հստակ չափաքանակի սահմանում
B123: Նկարագրությունը՝ | C123: ՀՀ պետական հանրակրթական բոլոր ուսումնական հաստատություններում ԲՏՃՄ ոլորտի (բացառությամբ մաթեմատիկայի) դասավանդող ուսուցիչներին հավելավճարի տրամադրում
B124: Միջոցառման տեսակը` | C124: Տրանսֆերտների տրամադրում
B125: Շահառուների ընտրության չափորոշիչները՛ | C125: ԲՏՃՄ ոլորտի (բացառությամբ մաթեմատիկայի) դասավանդող ուսուցիչներ
...
