Workbook
Name _tab10: #REF!
Name _tab10: #REF!
Name _tab10: #REF!
Name _tab10: #REF!
Name _tab11: #REF!
Name _tab11: #REF!
Name _tab11: #REF!
Name _tab11: #REF!
Name _tab12: #REF!
Name _tab12: #REF!
Name _tab12: #REF!
Name _tab12: #REF!
Name _tab13: #REF!
Name _tab13: #REF!
Name _tab13: #REF!
Name _tab13: #REF!
Name _tab14: #REF!
Name _tab14: #REF!
Name _tab14: #REF!
Name _tab14: #REF!
Name _tab15: #REF!
Name _tab15: #REF!
Name _tab15: #REF!
Name _tab15: #REF!
Name _tab16: #REF!
Name _tab16: #REF!
Name _tab16: #REF!
Name _tab16: #REF!
Name _tab17: #REF!
Name _tab17: #REF!
Name _tab17: #REF!
Name _tab17: #REF!
Name _tab18: #REF!
Name _tab18: #REF!
Name _tab18: #REF!
Name _tab18: #REF!
Name _tab19: #REF!
Name _tab19: #REF!
Name _tab19: #REF!
Name _tab19: #REF!
Name _tab20: #REF!
Name _tab20: #REF!
Name _tab20: #REF!
Name _tab20: #REF!
Name _tab21: #REF!
Name _tab21: #REF!
Name _tab21: #REF!
Name _tab21: #REF!
Name _tab22: #REF!
Name _tab22: #REF!
Name _tab22: #REF!
Name _tab22: #REF!
Name _tab22222: #REF!
Name _tab22222: #REF!
Name _tab22222: #REF!
Name _tab23: #REF!
Name _tab23: #REF!
Name _tab23: #REF!
Name _tab23: #REF!
Name _tab24: #REF!

Sheet 1
B1: Հավելված № 1
B2: ՀՀ կառավարության 2023 թվականի ----------
B3: № ---------- որոշման
B4: «ՀԱՅԱՍՏԱՆԻ ՀԱՆՐԱՊԵՏՈՒԹՅԱՆ 2023 ԹՎԱԿԱՆԻ ՊԵՏԱԿԱՆ ԲՅՈՒՋԵԻ ՄԱՍԻՆ» ՀԱՅԱՍՏԱՆԻ ՀԱՆՐԱՊԵՏՈՒԹՅԱՆ ՕՐԵՆՔԻ N 1 ՀԱՎԵԼՎԱԾԻ N 2 ԱՂՅՈՒՍԱԿՈՒՄ ԿԱՏԱՐՎՈՂ ՎԵՐԱԲԱՇԽՈՒՄԸ ԵՎ ՀԱՅԱՍՏԱՆԻ ՀԱՆՐԱՊԵՏՈՒԹՅԱՆ ԿԱՌԱՎԱՐՈՒԹՅԱՆ 2022 ԹՎԱԿԱՆԻ ԴԵԿՏԵՄԲԵՐԻ 29-Ի № 2111-Ն ՈՐՈՇՄԱՆ № 5 ՀԱՎԵԼՎԱԾԻ № 1 ԱՂՅՈՒՍԱԿՈՒՄ ԿԱՏԱՐՎՈՂ ՓՈՓՈԽՈՒԹՅՈՒՆԸ ԵՎ ԼՐԱՑՈՒՄԸ
B5: հազար դրամ
B6: Ծրագրային դասիչը | D6: Բյուջետային հատկացումների գլխավոր կարգադրիչների, ծրագրերի և միջոցառումների անվանումները | E6: Ցուցանիշների փոփոխությունները (ավելացումները նշված են դրական նշանով, իսկ նվազեցումները` փակագծերում)
B7: Ծրագիր | C7: Միջոցառում | E7: Տարի
D8: ԸՆԴԱՄԵՆԸ | E8: =+E9+E23 -> 0
D9: ՀՀ առողջապահության նախարարություն | E9: =+E10 -> -8283
B10: 1126 | D10: Ծրագրի անվանումը` | E10: =+E17 -> -8283
D11: Առողջապահության ոլորտում պետական քաղաքականության մշակում, ծրագրերի համակարգում և մոնիտորինգ
D12: Ծրագրի նպատակը`
D13: Մարդու և հանրության առողջության պահպանում, բնակչության առողջության բարելավում, հիվանդությունների կանխարգելում, հաշմանդամության և մահացության ցուցանիշների նվազեցում
D14: Վերջնական արդյունքի նկարագրությունը`
D15: Առողջապահության ոլորտում իրականացվող ծրագրերի ազդեցության և արդյունավետության բարելավում
B16: Ծրագրի միջոցառումներ
C17: 31003 | D17: Միջոցառման անվանումը` | E17: =+'2'!H20 -> -8283
D18: Առողջապահական կազմակերպությունների կառուցում, վերակառուցում
D19: Միջոցառման նկարագրությունը`
D20: Բնակչությանը որակյալ բժշկական օգնության և սպասարկման ծառայություններ մատուցելու նպատակով առողջապահական կազմակերպությունների կառուցում, վերակառուցում
D21: Միջոցառման տեսակը
D22: Պետական մարմինների կողմից օգտագործվող ոչ ֆինանսական ակտիվների հետ գործառնություններ
D23: ՀՀ կառավարություն | E23: =+E24 -> 8283
B24: 1139 | D24: Ծրագրի անվանումը | E24: =+E31 -> 8283
D25: ՀՀ կառավարության պահուստային ֆոնդ
D26: Ծրագրի նպատակը
D27: Պետական բյուջեում չկանխատեսված, ինչպես նաեւ բյուջետային երաշխիքների ապահովման ծախսերի ֆինանսավորման ապահովում
D28: Վերջնական արդյունքի նկարագրությունը
D29: Պահուստային ֆոնդի կառավարման արդյունավետության և թափանցիկության ապահովում
B30: Ծրագրի միջոցառումներ
C31: 11001 | D31: Միջոցառման անվանումը | E31: =+'2'!H36 -> 8283
D32: ՀՀ կառավարության պահուստային ֆոնդ
D33: Միջոցառման նկարագրությունը
D34: ՀՀ պետական բյուջեում նախատեսված ելքերի լրացուցիչ ֆինանսավորման, պետական բյուջեում չկանխատեսված ելքերի, ինչպես նաև բյուջետային երաշխիքների ապահովման ելքերի ֆինանսավորման ապահովում
D35: Միջոցառման տեսակը
D36: Ծառայությունների մատուցում

Sheet 2
B1: Հավելված № 2
B2: ՀՀ կառավարության 2023 թվականի
B3: __________ «____» -ի
B4: N_____ -Ն որոշման
B5: ՀԱՅԱՍՏԱՆԻ ՀԱՆՐԱՊԵՏՈՒԹՅԱՆ ԿԱՌԱՎԱՐՈՒԹՅԱՆ 2022 ԹՎԱԿԱՆԻ ԴԵԿՏԵՄԲԵՐԻ 29-Ի № 2111-Ն ՈՐՈՇՄԱՆ №№ 3 և 4 ՀԱՎԵԼՎԱԾՆԵՐՈՒՄ ԿԱՏԱՐՎՈՂ ՓՈՓՈԽՈՒԹՅՈՒՆՆԵՐԸ ԵՎ ԼՐԱՑՈՒՄՆԵՐԸ
B6: (հազ. դրամ)
B7: Գործառական դասիչը | E7: Ծրագրային դասիչը | G7: Բյուջետային հատկացումների գլխավոր կարգադրիչների, ծրագրերի, միջոցառումների և միջոցառումները կատարող պետական մարմինների անվանումները | H7: Ցուցանիշների փոփոխությունները (ավելացումները նշված են դրական նշանով, իսկ նվազեցումները` փակագծերում)
B8: բաժին | C8: խումբ | D8: դաս | E8: Ծրագիր | F8: Միջոցառում | H8: Տարի
B9: ԸՆԴԱՄԵՆԸ | H9: =+H10+H36 -> 0
B10: 07 | G10: ԱՌՈՂՋԱՊԱՀՈՒԹՅՈՒՆ | H10: =+H12 -> -8283
G11: այդ թվում՝
C12: 06 | G12: Առողջապահություն (այլ դասերին չպատկանող) | H12: =+H14 -> -8283
G13: այդ թվում՝
D14: 02 | G14: Առողջապահություն (այլ դասերին չպատկանող) | H14: =H16 -> -8283
G15: այդ թվում՝
G16: ՀՀ առողջապահության նախարարություն | H16: =H18 -> -8283
G17: այդ թվում՝
E18: 1126 | G18: Առողջապահության ոլորտում պետական քաղաքականության մշակում, ծրագրերի համակարգում և մոնիտորինգ | H18: =+H20 -> -8283
G19: այդ թվում՝
F20: 31003 | G20: Առողջապահական կազմակերպությունների կառուցում, վերակառուցում | H20: =+H22+H29 -> -8283
G21: այդ թվում ըստ կատարողների
G22: ՀՀ Առողջապահության նախարարություն | H22: =+H24 -> 246277
G23: այդ թվում` բյուջետային ծախսերի տնտեսագիտական դասակարգման հոդվածներ
G24: ԸՆԴԱՄԵՆԸ ԾԱԽՍԵՐ | H24: =H25 -> 246277
G25: ՈՉ ՖԻՆԱՆՍԱԿԱՆ ԱԿՏԻՎՆԵՐԻ ԳԾՈՎ ԾԱԽՍԵՐ | H25: =H26 -> 246277
G26: ՀԻՄՆԱԿԱՆ ՄԻՋՈՑՆԵՐ | H26: =H27 -> 246277
G27: ՇԵՆՔԵՐ ԵՎ ՇԻՆՈՒԹՅՈՒՆՆԵՐ | H27: =+H28 -> 246277
G28: - Նախագծահետազոտական ծախսեր | H28: 246277
G29: ՀՀ քաղաքաշինության կոմիտե | H29: =+H31 -> -254560
G30: այդ թվում` բյուջետային ծախսերի տնտեսագիտական դասակարգման հոդվածներ
G31: ԸՆԴԱՄԵՆԸ ԾԱԽՍԵՐ | H31: =H32 -> -254560
G32: ՈՉ ՖԻՆԱՆՍԱԿԱՆ ԱԿՏԻՎՆԵՐԻ ԳԾՈՎ ԾԱԽՍԵՐ | H32: =H33 -> -254560
G33: ՀԻՄՆԱԿԱՆ ՄԻՋՈՑՆԵՐ | H33: =H34 -> -254560
G34: ՇԵՆՔԵՐ ԵՎ ՇԻՆՈՒԹՅՈՒՆՆԵՐ | H34: =+H35 -> -254560
G35: - Նախագծահետազոտական ծախսեր | H35: -254560
B36: 11 | G36: ՀԻՄՆԱԿԱՆ ԲԱԺԻՆՆԵՐԻՆ ՉԴԱՍՎՈՂ ՊԱՀՈՒՍՏԱՅԻՆ ՖՈՆԴԵՐ | H36: =+H38+H54 -> 8283
G37: այդ թվում՝
C38: 01 | G38: ՀՀ կառավարության և համայնքների պահուստային ֆոնդ | H38: =+H40 -> 8283
G39: այդ թվում՝
D40: 01 | G40: ՀՀ կառավարության պահուստային ֆոնդ | H40: =+H42 -> 8283
G41: այդ թվում՝
G42: ՀՀ կառավարություն | H42: =+H44 -> 8283
G43: այդ թվում՝
E44: 1139 | G44: ՀՀ կառավարության պահուստային ֆոնդ | H44: =+H46 -> 8283
G45: այդ թվում`
F46: 11001 | G46: ՀՀ կառավարության պահուստային ֆոնդ | H46: =+H48 -> 8283
G47: այդ թվում ըստ կատարողների
G48: ՀՀ կառավարություն | H48: =+H50 -> 8283
G49: այդ թվում` բյուջետային ծախսերի տնտեսագիտական դասակարգման հոդվածներ
G50: ԸՆԴԱՄԵՆԸ ԾԱԽՍԵՐ | H50: =+H51 -> 8283
G51: ԸՆԹԱՑԻԿ ԾԱԽՍԵՐ | H51: =+H52 -> 8283
G52: ԱՅԼ ԾԱԽՍԵՐ | H52: =+H53 -> 8283
G53: Պահուստային միջոցներ | H53: 8283

Sheet 3
B1: Հավելված № 3
B2: ՀՀ կառավարության 2023 թվականի
B3: __________ «____» -ի
B4: N_____ -Ն որոշման
B6: ՀԱՅԱՍՏԱՆԻ ՀԱՆՐԱՊԵՏՈՒԹՅԱՆ ԿԱՌԱՎԱՐՈՒԹՅԱՆ 2022 ԹՎԱԿԱՆԻ ԴԵԿՏԵՄԲԵՐԻ 29-Ի № 2111-Ն ՈՐՈՇՄԱՆ № 5 ՀԱՎԵԼՎԱԾԻ № 2 ԱՂՅՈՒՍԱԿՈՒՄ ԿԱՏԱՐՎՈՂ ՓՈՓՈԽՈՒԹՅՈՒՆՆԵՐԸ ԵՎ ԼՐԱՑՈՒՄՆԵՐԸ
B7: (հազ. դրամ)
B8: Ծրագրային դասիչ | D8: Բյուջետային գլխավոր կարգադրիչների, ծրագրերի, միջոցառումների և ուղղությունների անվանումները | E8: Ցուցանիշների փոփոխությունները (ավելացումները նշված են դրական նշանով, իսկ նվազեցումները` փակագծերում)
B9: Ծրագիր | C9: Միջոցառում | E9: Տարի
D10: ՀՀ ԱՌՈՂՋԱՊԱՀՈՒԹՅԱՆ ՆԱԽԱՐԱՐՈՒԹՅՈՒՆ | E10: =+E12 -> -8283
D11: այդ թվում`
B12: 1126 | C12: 31003 | D12: Առողջապահական կազմակերպությունների կառուցում, վերակառուցում | E12: =+E14+E63 -> -8283
D13: այդ թվում ըստ կատարողների
D14: ՀՀ Առողջապահության նախարարություն | E14: =+E16+E18+E20+E23+E25+E27+E29+E31+E34 -> 246277
D15: այդ թվում ըստ ուղղությունների`
D16: ՀՀ Արմավիրի մարզ | E16: =+E17 -> 24480
D17: «Զարիշատ / Արամ/ Մարտինի Մկրտչյանի անվան Արմավիրի բժշկական կենտրոն» ՓԲԸ-ի պոլիկլինիկական մասնաշենքի վերակառուցում, վերելակի կառուցում | E17: 24480
D18: ՀՀ Լոռու մարզ | E18: =+E19 -> 20970
D19: «Վանաձորի թիվ 1 պոլիկլինիկա» ՊՓԲԸ-ի վերակառուցում | E19: 20970
D20: ՀՀ Շիրակի մարզ | E20: =+E21+E22 -> 40370
D21: «Գյումրու թիվ 1 պոլիկլինիկա» ՓԲԸ-ի վերակառուցում | E21: 15640
D22: «Գյումրու Ն․Ա․ Մելիքյանի անվան թիվ 2 պոլիկլինիկա» ՓԲԸ-ի վերակառոցում | E22: 24730
D23: ՀՀ Արարատի մարզ | E23: =+E24 -> 12620
D24: «Արարատի հիվանդանոց» ԲԿ ՓԲԸ պոլիկլինիկայի վերակառուցում | E24: 12620
D25: ՀՀ Գեղարքունիքի մարզ | E25: =+E26 -> 19140
D26: «Գավառի ԲԿ» ՓԲԸ պոլիկլինիկայի վերակառուցում | E26: 19140
D27: ՀՀ Վայոց ձորի մարզ | E27: =+E28 -> 19140
D28: «Վայքի պոլիկլինիկա» ՊՓԲԸ-ի վերակառուցում | E28: 19140
D29: ՀՀ Կոտայքի մարզ | E29: =+E30 -> 12970
D30: «Նոր Հաճնի պոլիկլինիկա» ՊՓԲԸ-ի վերակառուցում | E30: 12970
D31: ՀՀ Սյունիքի մարզ | E31: =+E32+E33 -> 44120
D32: «Կապանի ԲԿ» ՓԲԸ պոլիկլինիկայի վերակառուցում | E32: 24980
D33: «Գորիսի ԲԿ» ՓԲԸ պոլիկլինիկայի վերակառուցում | E33: 19140
D34: 19 բժշկական ամբուլատորիաների տիպային նախագծի հիման վրա տեղակապում ՀՀ 19 համայնքներում, այդ թվում | E34: =+E35+E41+E45+E47+E49+E51+E54+E56+E60 -> 52467
D35: ՀՀ Արմավիրի մարզ | E35: =+E36+E37+E38+E39+E40 -> 13805
D36: «Գայի ԲԱ» ՀՈԱԿ | E36: 2761
D37: «Ջրառատի ԲԱ» ՀՈԱԿ | E37: 2761
D38: «Վարդաշենի ԲԱ» ՀՈԱԿ | E38: 2761
D39: «Տանձուտի ԲԱ» ՀՈԱԿ | E39: 2761
D40: «Խանջյանի ԲԱ» ՀՈԱԿ | E40: 2761
D41: ՀՀ Արարատի մարզ | E41: =E42+E43+E44 -> 8283
D42: «Դիմիտրովի ԱԱՊԿ» ՊՈԱԿ | E42: 2761
D43: «Այգեստանի ԱԱՊԿ» ՊՈԱԿ | E43: 2761
D44: «Դվինի ԱԱՊԿ» ՊՈԱԿ | E44: 2761
D45: ՀՀ Արագածոտնի մարզ | E45: =E46 -> 2761
D46: «Ոսկևազի ԱԱՊԿ» ՀՈԱԿ | E46: 2761
D47: ՀՀ Գեղարքունիքի մարզ | E47: =+E48 -> 2761
D48: «Ծակքարի ԱԱՊԿ» ՊՈԱԿ | E48: 2761
D49: ՀՀ Կոտայքի մարզ | E49: =E50 -> 2761
D50: «Ձորաղբյուրի ԱԱՊԿ» ՊՈԱԿ | E50: 2761
D51: ՀՀ Սյունիքի մարզ | E51: =E52+E53 -> 5522
D52: «Խնձորեսկի ԱԱՊԿ» ՊՈԱԿ | E52: 2761
D53: «Անգեղակոթի ԲԱ» ՊՈԱԿ | E53: 2761
D54: ՀՀ Լոռու մարզ | E54: =+E55 -> 2761
D55: «Մեծավանի ԱԿ» ՊՈԱԿ | E55: 2761
D56: ՀՀ Տավուշի մարզ | E56: =E57+E58+E59 -> 8283
D57: «Կողբի ԲԱ» ՀՈԱԿ | E57: 2761
D58: «Այրումի ԳԲԱ» ՊՈԱԿ | E58: 2761
D59: «Գետահովիտի ԱԱՊԿ» ՊՈԱԿ | E59: 2761
D60: ՀՀ Շիրակի մարզ | E60: =E61+E62 -> 5530
D61: «Պեմզաշենի ԱԿ» ՊՈԱԿ | E61: 2761
D62: «Ախուրիկի ԲԱ» ՊՈԱԿ | E62: 2769
D63: ՀՀ քաղաքաշինության կոմիտե | E63: =+E65+E67+E70+E73+E76+E79+E81+E83+E86 -> -254560
D64: այդ թվում ըստ ուղղությունների
D65: ՀՀ Արմավիրի մարզ | E65: =+E66 -> -24480
D66: Զարիշատ / Արամ/ Մարտինի Մկրտչյանի անվան Արմավիրի բժշկական կենտրոնի պոլիկլինիկական մասնաշենքի վերակառուցում, վերելակի կառուցում | E66: -24480
D67: ՀՀ Լոռու մարզ | E67: =+E68+E69 -> 10230
D68: «Վանաձորի թիվ 1 պոլիկլինիկա» ՊՓԲԸ | E68: -20970
D69: «Սպիտակի բժշկական կենտրոն» ՓԲԸ-Ի կառուցում | E69: 31200
D70: ՀՀ Շիրակի մարզ | E70: =+E71+E72 -> -40370
D71: «Գյումրու թիվ 1 պոլիկլինիկա» ՓԲԸ | E71: -15640
D72: «Գյումրու Ն․Ա․ Մելիքյանի անվան թիվ 2 պոլիկլինիկա» ՓԲԸ | E72: -24730
D73: ՀՀ Արարատի մարզ | E73: =+E74+E75 -> -30140
D74: Վեդու բժշկական կենտրոնի ծննդատան մասնաշենքի վերակառուցում, կցակառույցի կառուցում | E74: -17520
D75: «Արարատի հիվանդանոց» ԲԿ ՓԲԸ պոլիկլինիկա | E75: -12620
D76: ՀՀ Գեղարքունիքի մարզ | E76: =+E77+E78 -> -32820
D77: Վարդենիսի բժշկական կենտրոնի վերակառուցում, կցակառույցի կառուցում | E77: -13680
D78: «Գավառի ԲԿ» ՓԲԸ պոլիկլինիկա | E78: -19140
D79: ՀՀ Վայոց ձորի մարզ | E79: =+E80 -> -19140
D80: «Վայքի պոլիկլինիկա» ՊՓԲԸ | E80: -19140
D81: ՀՀ Կոտայքի մարզ | E81: =+E82 -> -12970
D82: «Նոր Հաճնի պոլիկլինիկա» ՊՓԲԸ | E82: -12970
D83: ՀՀ Սյունիքի մարզ | E83: =+E84+E85 -> -44120
D84: «Կապանի ԲԿ» ՓԲԸ պոլիկլինիկա | E84: -24980
D85: «Գորիսի ԲԿ» ՓԲԸ պոլիկլինիկա | E85: -19140
D86: 20 բժշկական ամբուլատորիաների նոր տիպային շենքերի նախագծի մշակում և տեղակապում ՀՀ 20 համայնքներում | E86: =+E87+E92+E97+E99+E102+E104+E107+E109+E113 -> -60750
D87: ՀՀ Արմավիրի մարզ | E87: =+E88+E89+E90+E91 -> -12150
D88: «Գայի ԲԱ» ՀՈԱԿ | E88: -3037.5
D89: «Ջրառատի ԲԱ» ՀՈԱԿ | E89: -3037.5
D90: «Շենավանի ԲԱ» ՀՈԱԿ | E90: -3037.5
D91: «Վարդաշենի ԲԱ» ՀՈԱԿ | E91: -3037.5
D92: ՀՀ Արարատի մարզ | E92: =+E93+E94+E95+E96 -> -12150
D93: «Դիմիտրովի ԱԱՊԿ» ՊՈԱԿ | E93: -3037.5
D94: «Այգեստանի ԱԱՊԿ» ՊՈԱԿ | E94: -3037.5
D95: «Դվինի ԱԱՊԿ» ՊՈԱԿ | E95: -3037.5
D96: «Նոր կյանքի ԲԱ» ՀՈԱԿ | E96: -3037.5
D97: ՀՀ Արագածոտնի մարզ | E97: =+E98 -> -3037.5
D98: «Ոսկևազի ԱԱՊԿ» ՀՈԱԿ | E98: -3037.5
D99: ՀՀ Գեղարքունիքի մարզ | E99: =+E100+E101 -> -6075
D100: «Ծակքարի ԱԱՊԿ» ՊՈԱԿ | E100: -3037.5
D101: «Դպրաբակի ԲԱ» ՊՈԱԿ | E101: -3037.5
...

Sheet 4
B1: Հավելված № 4
B2: ՀՀ կառավարության 2023 թվականի
B3: __________ «____» -ի
B4: N_____ -Ն որոշման
B6: (հազ. դրամ)
B7: «ՀԱՅԱՍՏԱՆԻ ՀԱՆՐԱՊԵՏՈՒԹՅԱՆ 2023 ԹՎԱԿԱՆԻ ՊԵՏԱԿԱՆ ԲՅՈՒՋԵԻ ՄԱՍԻՆ» ՀԱՅԱՍՏԱՆԻ ՀԱՆՐԱՊԵՏՈՒԹՅԱՆ ՕՐԵՆՔԻ № 1 ՀԱՎԵԼՎԱԾԻ № 3 ԱՂՅՈՒՍԱԿՈՒՄ ԿԱՏԱՐՎՈՂ ՓՈՓՈԽՈՒԹՅՈՒՆՆԵՐԸ ԵՎ ԼՐԱՑՈՒՄՆԵՐԸ
B8: Ծրագրային դասիչ | D8: Բյուջետային գլխավոր կարգադրիչների, ծրագրերի, միջոցառումների և ուղղությունների անվանումները | E8: Ցուցանիշների փոփոխությունները (ավելացումները նշված են դրական նշանով, իսկ նվազեցումները` փակագծերում)
E9: Ընդամենը | F9: այդ թվում
B10: Ծրագիր | C10: Միջոցառում | F10: Կառուցման աշխատանքներ | G10: Վերակառուցման, վերանորոգման և վերականգնման աշխատանքներ | H10: Նախագծահե- տազոտական, գեոդեզիա- քարտեզագրա- կան աշխա- տանքներ | I10: Ոչ ֆինանսական այլ ակտիվների ձեռքբերում
D11: ՀՀ ԱՌՈՂՋԱՊԱՀՈՒԹՅԱՆ ՆԱԽԱՐԱՐՈՒԹՅՈՒՆ | E11: =+E13 -> -8283 | F11: =+F13 -> 0 | G11: =+G13 -> 0 | H11: =+H13 -> -8283
D12: այդ թվում`
B13: 1126 | C13: 31003 | D13: Առողջապահական կազմակերպությունների կառուցում, վերակառուցում | E13: =+E14+E63 -> -8283 | F13: =+F14+F63 -> 0 | G13: =+G14+G63 -> 0 | H13: =+H14+H63 -> -8283
D14: ՀՀ Առողջապահության նախարարություն | E14: =+F14+G14+H14+I14 -> 246277 | H14: =+H16+H18+H20+H23+H25+H27+H29+H31+H34 -> 246277
D15: այդ թվում ըստ ուղղությունների`
D16: ՀՀ Արմավիրի մարզ | E16: =+F16+G16+H16+I16 -> 24480 | H16: =+H17 -> 24480
D17: «Զարիշատ / Արամ/ Մարտինի Մկրտչյանի անվան Արմավիրի բժշկական կենտրոն» ՓԲԸ-ի պոլիկլինիկական մասնաշենքի վերակառուցում, վերելակի կառուցում | E17: =+F17+G17+H17+I17 -> 24480 | H17: 24480
D18: ՀՀ Լոռու մարզ | E18: =+F18+G18+H18+I18 -> 20970 | H18: =+H19 -> 20970
D19: «Վանաձորի թիվ 1 պոլիկլինիկա» ՊՓԲԸ-ի վերակառուցում | E19: =+F19+G19+H19+I19 -> 20970 | H19: 20970
D20: ՀՀ Շիրակի մարզ | E20: =+F20+G20+H20+I20 -> 40370 | H20: =+H21+H22 -> 40370
D21: «Գյումրու թիվ 1 պոլիկլինիկա» ՓԲԸ-ի վերակառուցում | E21: =+F21+G21+H21+I21 -> 15640 | H21: 15640
D22: «Գյումրու Ն․Ա․ Մելիքյանի անվան թիվ 2 պոլիկլինիկա» ՓԲԸ-ի վերակառոցում | E22: =+F22+G22+H22+I22 -> 24730 | H22: 24730
D23: ՀՀ Արարատի մարզ | E23: =+F23+G23+H23+I23 -> 12620 | H23: =+H24 -> 12620
D24: «Արարատի հիվանդանոց» ԲԿ ՓԲԸ պոլիկլինիկայի վերակառուցում | E24: =+F24+G24+H24+I24 -> 12620 | H24: 12620
D25: ՀՀ Գեղարքունիքի մարզ | E25: =+F25+G25+H25+I25 -> 19140 | H25: =+H26 -> 19140
D26: «Գավառի ԲԿ» ՓԲԸ պոլիկլինիկայի վերակառուցում | E26: =+F26+G26+H26+I26 -> 19140 | H26: 19140
D27: ՀՀ Վայոց ձորի մարզ | E27: =+F27+G27+H27+I27 -> 19140 | H27: =+H28 -> 19140
D28: «Վայքի պոլիկլինիկա» ՊՓԲԸ-ի վերակառուցում | E28: =+F28+G28+H28+I28 -> 19140 | H28: 19140
D29: ՀՀ Կոտայքի մարզ | E29: =+F29+G29+H29+I29 -> 12970 | H29: =+H30 -> 12970
D30: «Նոր Հաճնի պոլիկլինիկա» ՊՓԲԸ-ի վերակառուցում | E30: =+F30+G30+H30+I30 -> 12970 | H30: 12970
D31: ՀՀ Սյունիքի մարզ | E31: =+F31+G31+H31+I31 -> 44120 | H31: =+H32+H33 -> 44120
D32: «Կապանի ԲԿ» ՓԲԸ պոլիկլինիկայի վերակառուցում | E32: =+F32+G32+H32+I32 -> 24980 | H32: 24980
D33: «Գորիսի ԲԿ» ՓԲԸ պոլիկլինիկայի վերակառուցում | E33: =+F33+G33+H33+I33 -> 19140 | H33: 19140
D34: 19 բժշկական ամբուլատորիաների տիպային նախագծի հիման վրա տեղակապում ՀՀ 19 համայնքներում, այդ թվում | E34: =+F34+G34+H34+I34 -> 52467 | H34: =+H35+H41+H45+H47+H49+H51+H54+H56+H60 -> 52467
D35: ՀՀ Արմավիրի մարզ | E35: =+F35+G35+H35+I35 -> 13805 | H35: =+H36+H37+H38+H39+H40 -> 13805
D36: «Գայի ԲԱ» ՀՈԱԿ | E36: =+F36+G36+H36+I36 -> 2761 | H36: 2761
D37: «Ջրառատի ԲԱ» ՀՈԱԿ | E37: =+F37+G37+H37+I37 -> 2761 | H37: 2761
D38: «Վարդաշենի ԲԱ» ՀՈԱԿ | E38: =+F38+G38+H38+I38 -> 2761 | H38: 2761
D39: «Տանձուտի ԲԱ» ՀՈԱԿ | E39: =+F39+G39+H39+I39 -> 2761 | H39: 2761
D40: «Խանջյանի ԲԱ» ՀՈԱԿ | E40: =+F40+G40+H40+I40 -> 2761 | H40: 2761
D41: ՀՀ Արարատի մարզ | E41: =+F41+G41+H41+I41 -> 8283 | H41: =+H42+H43+H44 -> 8283
D42: «Դիմիտրովի ԱԱՊԿ» ՊՈԱԿ | E42: =+F42+G42+H42+I42 -> 2761 | H42: 2761
D43: «Այգեստանի ԱԱՊԿ» ՊՈԱԿ | E43: =+F43+G43+H43+I43 -> 2761 | H43: 2761
D44: «Դվինի ԱԱՊԿ» ՊՈԱԿ | E44: =+F44+G44+H44+I44 -> 2761 | H44: 2761
D45: ՀՀ Արագածոտնի մարզ | E45: =+F45+G45+H45+I45 -> 2761 | H45: =+H46 -> 2761
D46: «Ոսկևազի ԱԱՊԿ» ՀՈԱԿ | E46: =+F46+G46+H46+I46 -> 2761 | H46: 2761
D47: ՀՀ Գեղարքունիքի մարզ | E47: =+F47+G47+H47+I47 -> 2761 | H47: =+H48 -> 2761
D48: «Ծակքարի ԱԱՊԿ» ՊՈԱԿ | E48: =+F48+G48+H48+I48 -> 2761 | H48: 2761
D49: ՀՀ Կոտայքի մարզ | E49: =+F49+G49+H49+I49 -> 2761 | H49: =+H50 -> 2761
D50: «Ձորաղբյուրի ԱԱՊԿ» ՊՈԱԿ | E50: =+F50+G50+H50+I50 -> 2761 | H50: 2761
D51: ՀՀ Սյունիքի մարզ | E51: =+F51+G51+H51+I51 -> 5522 | H51: =+H52+H53 -> 5522
D52: «Խնձորեսկի ԱԱՊԿ» ՊՈԱԿ | E52: =+F52+G52+H52+I52 -> 2761 | H52: 2761
D53: «Անգեղակոթի ԲԱ» ՊՈԱԿ | E53: =+F53+G53+H53+I53 -> 2761 | H53: 2761
D54: ՀՀ Լոռու մարզ | E54: =+F54+G54+H54+I54 -> 2761 | H54: =+H55 -> 2761
D55: «Մեծավանի ԱԿ» ՊՈԱԿ | E55: =+F55+G55+H55+I55 -> 2761 | H55: 2761
D56: ՀՀ Տավուշի մարզ | E56: =+F56+G56+H56+I56 -> 8283 | H56: =+H57+H58+H59 -> 8283
D57: «Կողբի ԲԱ» ՀՈԱԿ | E57: =+F57+G57+H57+I57 -> 2761 | H57: 2761
D58: «Այրումի ԳԲԱ» ՊՈԱԿ | E58: =+F58+G58+H58+I58 -> 2761 | H58: 2761
D59: «Գետահովիտի ԱԱՊԿ» ՊՈԱԿ | E59: =+F59+G59+H59+I59 -> 2761 | H59: 2761
D60: ՀՀ Շիրակի մարզ | E60: =+F60+G60+H60+I60 -> 5530 | H60: =+H61+H62 -> 5530
D61: «Պեմզաշենի ԱԿ» ՊՈԱԿ | E61: =+F61+G61+H61+I61 -> 2761 | H61: 2761
D62: «Ախուրիկի ԲԱ» ՊՈԱԿ | E62: =+F62+G62+H62+I62 -> 2769 | H62: 2769
D63: ՀՀ քաղաքաշինության կոմիտե | E63: =+F63+G63+H63+I63 -> -254560 | H63: =+H65+H67+H70+H73+H76+H79+H81+H83+H86 -> -254560
D64: այդ թվում ըստ ուղղությունների
D65: ՀՀ Արմավիրի մարզ | E65: =+F65+G65+H65+I65 -> -24480 | H65: =+H66 -> -24480
D66: Զարիշատ / Արամ/ Մարտինի Մկրտչյանի անվան Արմավիրի բժշկական կենտրոնի պոլիկլինիկական մասնաշենքի վերակառուցում, վերելակի կառուցում | E66: =+F66+G66+H66+I66 -> -24480 | H66: -24480
D67: ՀՀ Լոռու մարզ | E67: =+F67+G67+H67+I67 -> 10230 | H67: =+H68+H69 -> 10230
D68: «Սպիտակի բժշկական կենտրոն» ՓԲԸ-Ի կառուցում | E68: =+F68+G68+H68+I68 -> 31200 | H68: 31200
D69: «Վանաձորի թիվ 1 պոլիկլինիկա» ՊՓԲԸ | E69: =+F69+G69+H69+I69 -> -20970 | H69: -20970
D70: ՀՀ Շիրակի մարզ | E70: =+F70+G70+H70+I70 -> -40370 | H70: =+H71+H72 -> -40370
D71: «Գյումրու թիվ 1 պոլիկլինիկա» ՓԲԸ | E71: =+F71+G71+H71+I71 -> -15640 | H71: -15640
D72: «Գյումրու Ն․Ա․ Մելիքյանի անվան թիվ 2 պոլիկլինիկա» ՓԲԸ | E72: =+F72+G72+H72+I72 -> -24730 | H72: -24730
D73: ՀՀ Արարատի մարզ | E73: =+F73+G73+H73+I73 -> -30140 | H73: =+H74+H75 -> -30140
D74: Վեդու բժշկական կենտրոնի ծննդատան մասնաշենքի վերակառուցում, կցակառույցի կառուցում | E74: =+F74+G74+H74+I74 -> -17520 | H74: -17520
D75: «Արարատի հիվանդանոց» ԲԿ ՓԲԸ պոլիկլինիկա | E75: =+F75+G75+H75+I75 -> -12620 | H75: -12620
D76: ՀՀ Գեղարքունիքի մարզ | E76: =+F76+G76+H76+I76 -> -32820 | H76: =+H77+H78 -> -32820
D77: Վարդենիսի բժշկական կենտրոնի վերակառուցում, կցակառույցի կառուցում | E77: =+F77+G77+H77+I77 -> -13680 | H77: -13680
D78: «Գավառի ԲԿ» ՓԲԸ պոլիկլինիկա | E78: =+F78+G78+H78+I78 -> -19140 | H78: -19140
D79: ՀՀ Վայոց ձորի մարզ | E79: =+F79+G79+H79+I79 -> -19140 | H79: =+H80 -> -19140
D80: «Վայքի պոլիկլինիկա» ՊՓԲԸ | E80: =+F80+G80+H80+I80 -> -19140 | H80: -19140
D81: ՀՀ Կոտայքի մարզ | E81: =+F81+G81+H81+I81 -> -12970 | H81: =+H82 -> -12970
D82: «Նոր Հաճնի պոլիկլինիկա» ՊՓԲԸ | E82: =+F82+G82+H82+I82 -> -12970 | H82: -12970
D83: ՀՀ Սյունիքի մարզ | E83: =+F83+G83+H83+I83 -> -44120 | H83: =+H84+H85 -> -44120
D84: «Կապանի ԲԿ» ՓԲԸ պոլիկլինիկա | E84: =+F84+G84+H84+I84 -> -24980 | H84: -24980
D85: «Գորիսի ԲԿն» ՓԲԸ պոլիկլինիկա | E85: =+F85+G85+H85+I85 -> -19140 | H85: -19140
D86: 20 բժշկական ամբուլատորիաների նոր տիպային շենքերի նախագծի մշակում և տեղակապում ՀՀ 20 համայնքներում | E86: =+F86+G86+H86+I86 -> -60750 | H86: =+H87+H92+H97+H99+H102+H104+H107+H109+H113 -> -60750
D87: ՀՀ Արմավիրի մարզ | E87: =+F87+G87+H87+I87 -> -12150 | H87: =+H88+H89+H90+H91 -> -12150
D88: «Գայի ԲԱ» ՀՈԱԿ | E88: =+F88+G88+H88+I88 -> -3037.5 | H88: -3037.5
D89: «Ջրառատի ԲԱ» ՀՈԱԿ | E89: =+F89+G89+H89+I89 -> -3037.5 | H89: -3037.5
D90: «Շենավանի ԲԱ» ՀՈԱԿ | E90: =+F90+G90+H90+I90 -> -3037.5 | H90: -3037.5
D91: «Վարդաշենի ԲԱ» ՀՈԱԿ | E91: =+F91+G91+H91+I91 -> -3037.5 | H91: -3037.5
D92: ՀՀ Արարատի մարզ | E92: =+F92+G92+H92+I92 -> -12150 | H92: =+H93+H94+H95+H96 -> -12150
D93: «Դիմիտրովի ԱԱՊԿ» ՊՈԱԿ | E93: =+F93+G93+H93+I93 -> -3037.5 | H93: -3037.5
D94: «Այգեստանի ԱԱՊԿ» ՊՈԱԿ | E94: =+F94+G94+H94+I94 -> -3037.5 | H94: -3037.5
D95: «Դվինի ԱԱՊԿ» ՊՈԱԿ | E95: =+F95+G95+H95+I95 -> -3037.5 | H95: -3037.5
D96: «Նոր կյանքի ԲԱ» ՀՈԱԿ | E96: =+F96+G96+H96+I96 -> -3037.5 | H96: -3037.5
D97: ՀՀ Արագածոտնի մարզ | E97: =+F97+G97+H97+I97 -> -3037.5 | H97: =+H98 -> -3037.5
D98: «Ոսկևազի ԱԱՊԿ» ՀՈԱԿ | E98: =+F98+G98+H98+I98 -> -3037.5 | H98: -3037.5
D99: ՀՀ Գեղարքունիքի մարզ | E99: =+F99+G99+H99+I99 -> -6075 | H99: =+H100+H101 -> -6075
D100: «Ծակքարի ԱԱՊԿ» ՊՈԱԿ | E100: =+F100+G100+H100+I100 -> -3037.5 | H100: -3037.5
D101: «Դպրաբակի ԲԱ» ՊՈԱԿ | E101: =+F101+G101+H101+I101 -> -3037.5 | H101: -3037.5
...

Sheet 5
B1: Հավելված № 5
B2: ՀՀ կառավարության 2023 թվականի
B3: __________ «____» -ի
B4: N_____ -Ն որոշման
B6: ՀԱՅԱՍՏԱՆԻ ՀԱՆՐԱՊԵՏՈՒԹՅԱՆ ԿԱՌԱՎԱՐՈՒԹՅԱՆ 2022 ԹՎԱԿԱՆԻ ԴԵԿՏԵՄԲԵՐԻ 29-Ի № 2111-Ն ՈՐՈՇՄԱՆ № 9 ՀԱՎԵԼՎԱԾԻ № 9.8 ԱՂՅՈՒՍԱԿՈՒՄ ԿԱՏԱՐՎՈՂ ՓՈՓՈԽՈՒԹՅՈՒՆՆԵՐԸ ԵՎ ԼՐԱՑՈՒՄՆԵՐԸ
B7: ՀՀ Առողջապահության նախարարություն
B8: ՄԱՍ 2. ՊԵՏԱԿԱՆ ՄԱՐՄՆԻ ԳԾՈՎ ԱՐԴՅՈՒՆՔԱՅԻՆ (ԿԱՏԱՐՈՂԱԿԱՆ) ՑՈՒՑԱՆԻՇՆԵՐԸ
B9: (հազ. դրամ)
B10: Ծրագրի դասիչը | C10: Ծրագրի անվանումը
B11: 1126 | C11: Առողջապահության ոլորտում պետական քաղաքականության մշակում, ծրագրերի համակարգում և մոնիտորինգ
B13: Ծրագրի միջոցառումները
B14: Ծրագրի դասիչը` | C14: 1126 | D14: Ցուցանիշների փոփոխությունը (նվազեցումները նշված են փակագծերում)
B15: Միջոցառման դասիչը` | C15: 31003 | D15: Տարի
B16: Միջոցառման անվանումը` | C16: Առողջապահական կազմակերպությունների կառուցում, վերակառուցում
B17: Նկարագրությունը` | C17: Բնակչությանը որակյալ բժշկական օգնության և սպասարկման ծառայություններ մատուցելու նպատակով առողջապահական կազմակերպությունների կառուցում, վերակառուցում
B18: Միջոցառման տեսակը` | C18: Պետական մարմինների կողմից օգտագործվող ոչ ֆինանսական ակտիվների հետ գործառնություններ
B19: Ակտիվն օգտագործող կազմակերպության (ների) անվանում(ներ)ը | C19: ՀՀ գնումների մասին օրենսդրությանը համապատասխան ընտրված կազմակերպություններ
B20: Արդյունքի չափորոշիչներ
B21: Միջոցառման վրա կատարվող ծախսը (հազար դրամ) | D21: =+'2'!H20 -> -8283
B23: ՀԱՅԱՍՏԱՆԻ ՀԱՆՐԱՊԵՏՈՒԹՅԱՆ ԿԱՌԱՎԱՐՈՒԹՅԱՆ 2021 ԹՎԱԿԱՆԻ ԴԵԿՏԵՄԲԵՐԻ 23-Ի N 2111-Ն ՈՐՈՇՄԱՆ N 9 ՀԱՎԵԼՎԱԾԻ 9.47 ԱՂՅՈՒՍԱԿՈՒՄ ԿԱՏԱՐՎՈՂ ՓՈՓՈԽՈՒԹՅՈՒՆԸ
B24: ՀՀ կառավարություն
B25: ՄԱՍ 2. ՊԵՏԱԿԱՆ ՄԱՐՄՆԻ ԳԾՈՎ ԱՐԴՅՈՒՆՔԱՅԻՆ (ԿԱՏԱՐՈՂԱԿԱՆ) ՑՈՒՑԱՆԻՇՆԵՐԸ
B26: հազար դրամ
B27: Ծրագրի դասիչը | C27: Ծրագրի անվանումը
B28: 1139 | C28: ՀՀ կառավարության պահուստային ֆոնդ
B29: Ծրագրի միջոցառումները
B30: Ծրագրի դասիչը` | C30: 1139 | D30: Ցուցանիշների փոփոխությունները (ավելացումները նշված են դրական նշանով)
B31: Միջոցառման դասիչը` | C31: 11001 | D31: Տարի
B32: Միջոցառման անվանումը` | C32: ՀՀ կառավարության պահուստային ֆոնդ
B33: Նկարագրությունը` | C33: ՀՀ պետական բյուջեում նախատեսված ելքերի լրացուցիչ ֆինանսավորման, պետական բյուջեում չկանխատեսված ելքերի, ինչպես նաև բյուջետային երաշխիքների ապահովման ելքերի ֆինանսավորման ապահովում
B34: Միջոցառման տեսակը` | C34: Ծառայությունների մատուցում
B35: Արդյունքի չափորոշիչներ
B36: Միջոցառման վրա կատարվող ծախսը (հազար դրամ) | D36: =+'2'!H36 -> 8283

Sheet 6
B1: Հավելված № 6
B2: ՀՀ կառավարության 2023 թվականի
B3: __________ «____» -ի
B4: N_____ -Ն որոշման
B6: ՀԱՅԱՍՏԱՆԻ ՀԱՆՐԱՊԵՏՈՒԹՅԱՆ ԿԱՌԱՎԱՐՈՒԹՅԱՆ 2022 ԹՎԱԿԱՆԻ ԴԵԿՏԵՄԲԵՐԻ 29-Ի № 2111-Ն ՈՐՈՇՄԱՆ № 9.1 ՀԱՎԵԼՎԱԾԻ № 9.1.8 ԱՂՅՈՒՍԱԿՈՒՄ ԿԱՏԱՐՎՈՂ ՓՈՓՈԽՈՒԹՅՈՒՆՆԵՐԸ ԵՎ ԼՐԱՑՈՒՄՆԵՐԸ
B7: ՀՀ Առողջապահության նախարարություն
B8: ՄԱՍ 1. ՊԵՏԱԿԱՆ ՄԱՐՄՆԻ ԳԾՈՎ ԱՐԴՅՈՒՆՔԱՅԻՆ (ԿԱՏԱՐՈՂԱԿԱՆ) ՑՈՒՑԱՆԻՇՆԵՐԸ
B9: (հազ. դրամ)
B10: Ծրագրի դասիչը | C10: Ծրագրի անվանումը
B11: 1126 | C11: Առողջապահության ոլորտում պետական քաղաքականության մշակում, ծրագրերի համակարգում և մոնիտորինգ
B13: Ծրագրի միջոցառումները
B14: Ծրագրի դասիչը` | C14: 1126 | D14: Ցուցանիշների փոփոխությունը ((ավելացումները նշված են դրական նշանով)
B15: Միջոցառման դասիչը` | C15: 31003 | D15: Տարի
B16: Միջոցառման անվանումը` | C16: Առողջապահական կազմակերպությունների կառուցում, վերակառուցում
B17: Նկարագրությունը` | C17: Բնակչությանը որակյալ բժշկական օգնության և սպասարկման ծառայություններ մատուցելու նպատակով առողջապահական կազմակերպությունների կառուցում, վերակառուցում
B18: Միջոցառման տեսակը` | C18: Պետական մարմինների կողմից օգտագործվող ոչ ֆինանսական ակտիվների հետ գործառնություններ
B19: Ակտիվն օգտագործող կազմակերպության (ների) անվանում(ներ)ը | C19: ՀՀ գնումների մասին օրենսդրությանը համապատասխան ընտրված կազմակերպություններ
B20: Արդյունքի չափորոշիչներ
B21: Նախագծանախահաշվային փաստաթղթերի քանակ, հատ | D21: 29
B22: Միջոցառման վրա կատարվող ծախսը (հազար դրամ) | D22: =+'2'!H22 -> 246277
B24: ՀԱՅԱՍՏԱՆԻ ՀԱՆՐԱՊԵՏՈՒԹՅԱՆ ԿԱՌԱՎԱՐՈՒԹՅԱՆ 2022 ԹՎԱԿԱՆԻ ԴԵԿՏԵՄԲԵՐԻ 29-Ի № 2111-Ն ՈՐՈՇՄԱՆ № 9.1 ՀԱՎԵԼՎԱԾԻ № 9.1.41 ԱՂՅՈՒՍԱԿՈՒՄ ԿԱՏԱՐՎՈՂ ՓՈՓՈԽՈՒԹՅՈՒՆՆԵՐԸ
B25: ՀՀ քաղաքաշինության կոմիտե
B26: ՄԱՍ 1. ՊԵՏԱԿԱՆ ՄԱՐՄՆԻ ԳԾՈՎ ԱՐԴՅՈՒՆՔԱՅԻՆ (ԿԱՏԱՐՈՂԱԿԱՆ) ՑՈՒՑԱՆԻՇՆԵՐԸ
B27: Ծրագրի դասիչը` | C27: 1126 | D27: Ցուցանիշների փոփոխությունը (նվազեցումները նշված են փակագծերում)
B28: Միջոցառման դասիչը` | C28: 31003 | D28: Տարի
B29: Միջոցառման անվանումը` | C29: Առողջապահական կազմակերպությունների կառուցում, վերակառուցում
B30: Նկարագրությունը` | C30: Բնակչությանը որակյալ բժշկական օգնության և սպասարկման ծառայություններ մատուցելու նպատակով առողջապահական կազմակերպությունների կառուցում, վերակառուցում
B31: Միջոցառման տեսակը` | C31: Պետական մարմինների կողմից օգտագործվող ոչ ֆինանսական ակտիվների հետ գործառնություններ
B32: Ակտիվն օգտագործող կազմակերպության (ների) անվանում(ներ)ը | C32: ՀՀ գնումների մասին օրենսդրությանը համապատասխան ընտրված կազմակերպություններ
B33: Արդյունքի չափորոշիչներ
B34: Նախագծանախահաշվային փաստաթղթերի քանակ, հատ | D34: -29
B35: Միջոցառման վրա կատարվող ծախսը (հազար դրամ) | D35: =+'2'!H35 -> -254560
B37: ՀԱՅԱՍՏԱՆԻ ՀԱՆՐԱՊԵՏՈՒԹՅԱՆ ԿԱՌԱՎԱՐՈՒԹՅԱՆ 2022 ԹՎԱԿԱՆԻ ԴԵԿՏԵՄԲԵՐԻ 29-Ի № 2111-Ն ՈՐՈՇՄԱՆ № 9.1 ՀԱՎԵԼՎԱԾԻ № 9.1.58 ԱՂՅՈՒՍԱԿՈՒՄ ԿԱՏԱՐՎՈՂ ՓՈՓՈԽՈՒԹՅՈՒՆՆԵՐԸ ԵՎ ԼՐԱՑՈՒՄՆԵՐԸ
B38: ՀՀ կառավարություն
B39: ՄԱՍ 1. ՊԵՏԱԿԱՆ ՄԱՐՄՆԻ ԳԾՈՎ ԱՐԴՅՈՒՆՔԱՅԻՆ (ԿԱՏԱՐՈՂԱԿԱՆ) ՑՈՒՑԱՆԻՇՆԵՐԸ
B40: Ծրագրի դասիչը | C40: Ծրագրի անվանումը
B41: 1139 | C41: ՀՀ կառավարության պահուստային ֆոնդ
B42: Ծրագրի միջոցառումները
B43: Ծրագրի դասիչը` | C43: 1139 | D43: Ցուցանիշների փոփոխությունները (ավելացումները նշված են դրական նշանով)
B44: Միջոցառման դասիչը` | C44: 11001 | D44: Տարի
B45: Միջոցառման անվանումը` | C45: ՀՀ կառավարության պահուստային ֆոնդ
B46: Նկարագրությունը` | C46: ՀՀ պետական բյուջեում նախատեսված ելքերի լրացուցիչ ֆինանսավորման, պետական բյուջեում չկանխատեսված ելքերի, ինչպես նաև բյուջետային երաշխիքների ապահովման ելքերի ֆինանսավորման ապահովում
B47: Միջոցառման տեսակը` | C47: Ծառայությունների մատուցում
B48: Արդյունքի չափորոշիչներ
B49: Միջոցառման վրա կատարվող ծախսը (հազար դրամ) | D49: =+'2'!H36 -> 8283

Sheet 7
B1: Հավելված № 7
B2: ՀՀ կառավարության 2023 թվականի
B3: __________ «____» -ի
B4: N_____ -Ն որոշման
B5: ՀԱՅԱՍՏԱՆԻ ՀԱՆՐԱՊԵՏՈՒԹՅԱՆ ԿԱՌԱՎԱՐՈՒԹՅԱՆ 2022 ԹՎԱԿԱՆԻ ԴԵԿՏԵՄԲԵՐԻ 29-Ի № 2111-Ն ՈՐՈՇՄԱՆ № 10 ՀԱՎԵԼՎԱԾՈՒՄ ԿԱՏԱՐՎՈՂ ՓՈՓՈԽՈՒԹՅՈՒՆՆԵՐԸ
B6: Կոդը | C6: Անվանումը | F6: Գնման ձևը | G6: Չափման միավորը | H6: Ցուցանիշների փոփոխությունները (ավելացումները նշված են դրական նշանով, իսկ նվազեցումները` փակագծերում)
H7: Միավորի գինը | I7: Քանակը | J7: Գումարը (հազար դրամով)
B8: ՀՀ Առողջապահության նախարարություն | J8: =+J9+J55 -> -8283
B9: Բաժին 07 | C9: Խումբ 06 | D9: Դաս 02 | E9: Առողջապահություն (այլ դասերին չպատկանող) | J9: =+J10 -> 246277
B10: 1126 31003 | C10: Առողջապահական կազմակերպությունների կառուցում, վերակառուցում | J10: =+J12 -> 246277
C12: ՄԱՍ III. ԾԱՌԱՅՈՒԹՅՈՒՆՆԵՐ | J12: =SUM(J13:J52) -> 246277
B13: 50531140 | C13: փորձաքննության ծառայություններ | F13: ԳՀ | G13: դրամ | H13: =J13*1000 -> 1390000 | I13: 1 | J13: 1390
B14: 50531140 | C14: փորձաքննության ծառայություններ | F14: ԳՀ | G14: դրամ | H14: =J14*1000 -> 960000 | I14: 1 | J14: 960
B15: 50531140 | C15: փորձաքննության ծառայություններ | F15: ԳՀ | G15: դրամ | H15: =J15*1000 -> 1160000 | I15: 1 | J15: 1160
B16: 50531140 | C16: փորձաքննության ծառայություններ | F16: ԳՀ | G16: դրամ | H16: =J16*1000 -> 1400000 | I16: 1 | J16: 1400
B17: 50531140 | C17: փորձաքննության ծառայություններ | F17: ԳՀ | G17: դրամ | H17: =J17*1000 -> 1370000 | I17: 1 | J17: 1370
B18: 50531140 | C18: փորձաքննության ծառայություններ | F18: ԳՀ | G18: դրամ | H18: =J18*1000 -> 1410000 | I18: 1 | J18: 1410
B19: 50531140 | C19: փորձաքննության ծառայություններ | F19: ԳՀ | G19: դրամ | H19: =J19*1000 -> 1250000 | I19: 1 | J19: 1250
B20: 50531140 | C20: փորձաքննության ծառայություններ | F20: ԳՀ | G20: դրամ | H20: =J20*1000 -> 1040000 | I20: 1 | J20: 1040
B21: 50531140 | C21: փորձաքննության ծառայություններ | F21: ԳՀ | G21: դրամ | H21: =J21*1000 -> 1250000 | I21: 1 | J21: 1250
B22: 50531140 | C22: փորձաքննության ծառայություններ | F22: ԳՀ | G22: դրամ | H22: =J22*1000 -> 1250000 | I22: 1 | J22: 1250
B23: 50531140 | C23: փորձաքննության ծառայություններ | F23: ԳՀ | G23: դրամ | H23: =J23*1000 -> 2850000 | I23: 1 | J23: 2850
B24: 71241200 | C24: նախագծերի պատրաստում, ծախսերի գնահատում | F24: ԳՀ | G24: դրամ | H24: =J24*1000 -> 23090000 | I24: 1 | J24: 23090
... B52: 71241200 | C52: նախագծերի պատրաստում, ծախսերի գնահատում | F52: ՄԱ | G52: դրամ | H52: =J52*1000 -> 2611800 | I52: 1 | J52: 2611.8
B54: ՀՀ քաղաքաշինության կոմիտե
B55: Բաժին 07 | C55: Խումբ 06 | D55: Դաս 02 | E55: Առողջապահություն (այլ դասերին չպատկանող) | J55: =+J56 -> -254560
B56: 1126 31003 | C56: Առողջապահական կազմակերպությունների կառուցում, վերակառուցում | J56: =+J57 -> -254560
C57: ՄԱՍ III. ԾԱՌԱՅՈՒԹՅՈՒՆՆԵՐ | J57: =SUM(J58:J111) -> -254560
B58: 50531140/151 | C58: փորձաքննության ծառայություններ | F58: ԳՀ | G58: դրամ | H58: =J58*1000 -> -1790000 | I58: -1 | J58: -1790
B59: 50531140 | C59: փորձաքննության ծառայություններ | F59: ԳՀ | G59: դրամ | H59: 950000 | I59: 1 | J59: 950
B60: 50531140 | C60: փորձաքննության ծառայություններ | F60: ԳՀ | G60: դրամ | H60: =J60*1000 -> 1450000 | I60: 1 | J60: 1450
B61: 50531140/152 | C61: փորձաքննության ծառայություններ | F61: ԳՀ | G61: դրամ | H61: =J61*1000 -> -1390000 | I61: -1 | J61: -1390
B62: 50531140/153 | C62: փորձաքննության ծառայություններ | F62: ԳՀ | G62: դրամ | H62: =J62*1000 -> -1860000 | I62: -1 | J62: -1860
B63: 50531140 | C63: փորձաքննության ծառայություններ | F63: ԳՀ | G63: դրամ | H63: =J63*1000 -> 920000 | I63: 1 | J63: 920
B64: 50531140/155 | C64: փորձաքննության ծառայություններ | F64: ԳՀ | G64: դրամ | H64: =J64*1000 -> -960000 | I64: -1 | J64: -960
B65: 50531140/156 | C65: փորձաքննության ծառայություններ | F65: ԳՀ | G65: դրամ | H65: =J65*1000 -> -1160000 | I65: -1 | J65: -1160
B66: 50531140/157 | C66: փորձաքննության ծառայություններ | F66: ԳՀ | G66: դրամ | H66: =J66*1000 -> -1400000 | I66: -1 | J66: -1400
B67: 50531140/158 | C67: փորձաքննության ծառայություններ | F67: ԳՀ | G67: դրամ | H67: =J67*1000 -> -1370000 | I67: -1 | J67: -1370
B68: 50531140/159 | C68: փորձաքննության ծառայություններ | F68: ԳՀ | G68: դրամ | H68: =J68*1000 -> -1410000 | I68: -1 | J68: -1410
B69: 50531140/160 | C69: փորձաքննության ծառայություններ | F69: ԳՀ | G69: դրամ | H69: =J69*1000 -> -1250000 | I69: -1 | J69: -1250
B70: 50531140/161 | C70: փորձաքննության ծառայություններ | F70: ԳՀ | G70: դրամ | H70: =J70*1000 -> -1040000 | I70: -1 | J70: -1040
B71: 50531140/162 | C71: փորձաքննության ծառայություններ | F71: ԳՀ | G71: դրամ | H71: =J71*1000 -> -1250000 | I71: -1 | J71: -1250
B72: 50531140/163 | C72: փորձաքննության ծառայություններ | F72: ԳՀ | G72: դրամ | H72: =J72*1000 -> -1250000 | I72: -1 | J72: -1250
B73: 50531140/164 | C73: փորձաքննության ծառայություններ | F73: ԳՀ | G73: դրամ | H73: =J73*1000 -> -3520000 | I73: -1 | J73: -3520
B74: 71241200/159 | C74: նախագծերի պատրաստում, ծախսերի գնահատում | F74: ԳՀ | G74: դրամ | H74: =J74*1000 -> -35730000 | I74: -1 | J74: -35730
B75: 71241200 | C75: նախագծերի պատրաստում, ծախսերի գնահատում | F75: ՄԱ | G75: դրամ | H75: =J75*1000 -> 19050000 | I75: 1 | J75: 19050
B76: 71241200 | C76: նախագծերի պատրաստում, ծախսերի գնահատում | F76: ՄԱ | G76: դրամ | H76: =J76*1000 -> 29750000 | I76: 1 | J76: 29750
B77: 71241200/160 | C77: նախագծերի պատրաստում, ծախսերի գնահատում | F77: ԳՀ | G77: դրամ | H77: =J77*1000 -> -23090000 | I77: -1 | J77: -23090
B78: 71241200/161 | C78: նախագծերի պատրաստում, ծախսերի գնահատում | F78: ԳՀ | G78: դրամ | H78: =J78*1000 -> -31020000 | I78: -1 | J78: -31020
B79: 71241200 | C79: նախագծերի պատրաստում, ծախսերի գնահատում | F79: ՄԱ | G79: դրամ | H79: =J79*1000 -> 18280000 | I79: 1 | J79: 18280
B80: 71241200/162 | C80: նախագծերի պատրաստում, ծախսերի գնահատում | F80: ԳՀ | G80: դրամ | H80: =J80*1000 -> -23580000 | I80: -1 | J80: -23580
B81: 71241200 | C81: նախագծերի պատրաստում, ծախսերի գնահատում | F81: ՄԱ | G81: դրամ | H81: =J81*1000 -> 23580000 | I81: 1 | J81: 23580
B82: 71241200/163 | C82: նախագծերի պատրաստում, ծախսերի գնահատում | F82: ԳՀ | G82: դրամ | H82: =J82*1000 -> -12010000 | I82: -1 | J82: -12010
B83: 71241200/164 | C83: նախագծերի պատրաստում, ծախսերի գնահատում | F83: ԳՀ | G83: դրամ | H83: =J83*1000 -> -14480000 | I83: -1 | J83: -14480
B84: 71241200/165 | C84: նախագծերի պատրաստում, ծախսերի գնահատում | F84: ԳՀ | G84: դրամ | H84: =J84*1000 -> -23330000 | I84: -1 | J84: -23330
B85: 71241200/166 | C85: նախագծերի պատրաստում, ծախսերի գնահատում | F85: ԳՀ | G85: դրամ | H85: =J85*1000 -> -19600000 | I85: -1 | J85: -19600
B86: 71241200/167 | C86: նախագծերի պատրաստում, ծախսերի գնահատում | F86: ԳՀ | G86: դրամ | H86: =J86*1000 -> -23570000 | I86: -1 | J86: -23570
B87: 71241200/168 | C87: նախագծերի պատրաստում, ծախսերի գնահատում | F87: ԳՀ | G87: դրամ | H87: =J87*1000 -> -17890000 | I87: -1 | J87: -17890
B88: 71241200/169 | C88: նախագծերի պատրաստում, ծախսերի գնահատում | F88: ԳՀ | G88: դրամ | H88: =J88*1000 -> -11580000 | I88: -1 | J88: -11580
B89: 71241200/170 | C89: նախագծերի պատրաստում, ծախսերի գնահատում | F89: ԳՀ | G89: դրամ | H89: =J89*1000 -> -17890000 | I89: -1 | J89: -17890
B90: 71241200/171 | C90: նախագծերի պատրաստում, ծախսերի գնահատում | F90: ԳՀ | G90: դրամ | H90: =J90*1000 -> -17890000 | I90: -1 | J90: -17890
B91: 71241200/172 | C91: նախագծերի պատրաստում, ծախսերի գնահատում | F91: ԳՀ | G91: դրամ | H91: =J91*1000 -> -8030000 | I91: -1 | J91: -8030
B92: 71241200/173 | C92: նախագծերի պատրաստում, ծախսերի գնահատում | F92: ԳՀ | G92: դրամ | H92: =J92*1000 -> -2460000 | I92: -1 | J92: -2460
B93: 71241200/174 | C93: նախագծերի պատրաստում, ծախսերի գնահատում | F93: ԳՀ | G93: դրամ | H93: =J93*1000 -> -2460000 | I93: -1 | J93: -2460
... B111: 71241200/192 | C111: նախագծերի պատրաստում, ծախսերի գնահատում | F111: ԳՀ | G111: դրամ | H111: =J111*1000 -> -2460000 | I111: -1 | J111: -2460
