Workbook
Name _tab10: #REF!
Name _tab10: #REF!
Name _tab10: #REF!
Name _tab10: #REF!
Name _tab11: #REF!
Name _tab11: #REF!
Name _tab11: #REF!
Name _tab11: #REF!
Name _tab12: #REF!
Name _tab12: #REF!
Name _tab12: #REF!
Name _tab12: #REF!
Name _tab13: #REF!
Name _tab13: #REF!
Name _tab13: #REF!
Name _tab13: #REF!
Name _tab14: #REF!
Name _tab14: #REF!
Name _tab14: #REF!
Name _tab14: #REF!
Name _tab15: #REF!
Name _tab15: #REF!
Name _tab15: #REF!
Name _tab15: #REF!
Name _tab16: #REF!
Name _tab16: #REF!
Name _tab16: #REF!
Name _tab16: #REF!
Name _tab17: #REF!
Name _tab17: #REF!
Name _tab17: #REF!
Name _tab17: #REF!
Name _tab18: #REF!
Name _tab18: #REF!
Name _tab18: #REF!
Name _tab18: #REF!
Name _tab19: #REF!
Name _tab19: #REF!
Name _tab19: #REF!
Name _tab19: #REF!
Name _tab20: #REF!
Name _tab20: #REF!
Name _tab20: #REF!
Name _tab20: #REF!
Name _tab21: #REF!
Name _tab21: #REF!
Name _tab21: #REF!
Name _tab21: #REF!
Name _tab22: #REF!
Name _tab22: #REF!
Name _tab22: #REF!
Name _tab22: #REF!
Name _tab22222: #REF!
Name _tab22222: #REF!
Name _tab22222: #REF!
Name _tab23: #REF!
Name _tab23: #REF!
Name _tab23: #REF!
Name _tab23: #REF!
Name _tab24: #REF!

Sheet 1
B1: Հավելված № 1
B2: ՀՀ կառավարության 2023 թվականի ----------
B3: № ---------- որոշման
B4: «ՀԱՅԱՍՏԱՆԻ ՀԱՆՐԱՊԵՏՈՒԹՅԱՆ 2023 ԹՎԱԿԱՆԻ ՊԵՏԱԿԱՆ ԲՅՈՒՋԵԻ ՄԱՍԻՆ» ՀԱՅԱՍՏԱՆԻ ՀԱՆՐԱՊԵՏՈՒԹՅԱՆ ՕՐԵՆՔԻ N 1 ՀԱՎԵԼՎԱԾԻ N 2 ԱՂՅՈՒՍԱԿՈՒՄ ԿԱՏԱՐՎՈՂ ՎԵՐԱԲԱՇԽՈՒՄԸ ԵՎ ՀԱՅԱՍՏԱՆԻ ՀԱՆՐԱՊԵՏՈՒԹՅԱՆ ԿԱՌԱՎԱՐՈՒԹՅԱՆ 2022 ԹՎԱԿԱՆԻ ԴԵԿՏԵՄԲԵՐԻ 29-Ի № 2111-Ն ՈՐՈՇՄԱՆ № 5 ՀԱՎԵԼՎԱԾԻ № 1 ԱՂՅՈՒՍԱԿՈՒՄ ԿԱՏԱՐՎՈՂ ՓՈՓՈԽՈՒԹՅՈՒՆԸ ԵՎ ԼՐԱՑՈՒՄԸ
B5: հազար դրամ
B6: Ծրագրային դասիչը | D6: Բյուջետային հատկացումների գլխավոր կարգադրիչների, ծրագրերի և միջոցառումների անվանումները | E6: Ցուցանիշների փոփոխությունները (ավելացումները նշված են դրական նշանով, իսկ նվազեցումները` փակագծերում)
B7: Ծրագիր | C7: Միջոցառում | E7: Տարի
D8: ԸՆԴԱՄԵՆԸ | E8: =+E9+E23 -> 0
D9: ՀՀ առողջապահության նախարարություն | E9: =+E10 -> -8283
B10: 1126 | D10: Ծրագրի անվանումը` | E10: =+E17 -> -8283
D11: Առողջապահության ոլորտում պետական քաղաքականության մշակում, ծրագրերի համակարգում և մոնիտորինգ
D12: Ծրագրի նպատակը`
D13: Մարդու և հանրության առողջության պահպանում, բնակչության առողջության բարելավում, հիվանդությունների կանխարգելում, հաշմանդամության և մահացության ցուցանիշների նվազեցում
D14: Վերջնական արդյունքի նկարագրությունը`
D15: Առողջապահության ոլորտում իրականացվող ծրագրերի ազդեցության և արդյունավետության բարելավում
B16: Ծրագրի միջոցառումներ
C17: 31003 | D17: Միջոցառման անվանումը` | E17: =+'2'!H20 -> -8283
D18: Առողջապահական կազմակերպությունների կառուցում, վերակառուցում
D19: Միջոցառման նկարագրությունը`
D20: Բնակչությանը որակյալ բժշկական օգնության և սպասարկման ծառայություններ մատուցելու նպատակով առողջապահական կազմակերպությունների կառուցում, վերակառուցում
D21: Միջոցառման տեսակը
D22: Պետական մարմինների կողմից օգտագործվող ոչ ֆինանսական ակտիվների հետ գործառնություններ
D23: ՀՀ կառավարություն | E23: =+E24 -> 8283
B24: 1139 | D24: Ծրագրի անվանումը | E24: =+E31 -> 8283
D25: ՀՀ կառավարության պահուստային ֆոնդ
D26: Ծրագրի նպատակը
D27: Պետական բյուջեում չկանխատեսված, ինչպես նաեւ բյուջետային երաշխիքների ապահովման ծախսերի ֆինանսավորման ապահովում
D28: Վերջնական արդյունքի նկարագրությունը
D29: Պահուստային ֆոնդի կառավարման արդյունավետության և թափանցիկության ապահովում
B30: Ծրագրի միջոցառումներ
C31: 11001 | D31: Միջոցառման անվանումը | E31: =+'2'!H36 -> 8283
D32: ՀՀ կառավարության պահուստային ֆոնդ
D33: Միջոցառման նկարագրությունը
D34: ՀՀ պետական բյուջեում նախատեսված ելքերի լրացուցիչ ֆինանսավորման, պետական բյուջեում չկանխատեսված ելքերի, ինչպես նաև բյուջետային երաշխիքների ապահովման ելքերի ֆինանսավորման ապահովում
D35: Միջոցառման տեսակը
D36: Ծառայությունների մատուցում

Sheet 2
B1: Հավելված № 2
B2: ՀՀ կառավարության 2023 թվականի
B3: __________ «____» -ի
B4: N_____ -Ն որոշման
B5: ՀԱՅԱՍՏԱՆԻ ՀԱՆՐԱՊԵՏՈՒԹՅԱՆ ԿԱՌԱՎԱՐՈՒԹՅԱՆ 2022 ԹՎԱԿԱՆԻ ԴԵԿՏԵՄԲԵՐԻ 29-Ի № 2111-Ն ՈՐՈՇՄԱՆ №№ 3 և 4 ՀԱՎԵԼՎԱԾՆԵՐՈՒՄ ԿԱՏԱՐՎՈՂ ՓՈՓՈԽՈՒԹՅՈՒՆՆԵՐԸ ԵՎ ԼՐԱՑՈՒՄՆԵՐԸ
B6: (հազ. դրամ)
B7: Գործառական դասիչը | E7: Ծրագրային դասիչը | G7: Բյուջետային հատկացումների գլխավոր կարգադրիչների, ծրագրերի, միջոցառումների և միջոցառումները կատարող պետական մարմինների անվանումները | H7: Ցուցանիշների փոփոխությունները (ավելացումները նշված են դրական նշանով, իսկ նվազեցումները` փակագծերում)
B8: բաժին | C8: խումբ | D8: դաս | E8: Ծրագիր | F8: Միջոցառում | H8: Տարի
B9: ԸՆԴԱՄԵՆԸ | H9: =+H10+H36 -> 0
B10: 07 | G10: ԱՌՈՂՋԱՊԱՀՈՒԹՅՈՒՆ | H10: =+H12 -> -8283
G11: այդ թվում՝
C12: 06 | G12: Առողջապահություն (այլ դասերին չպատկանող) | H12: =+H14 -> -8283
G13: այդ թվում՝
D14: 02 | G14: Առողջապահություն (այլ դասերին չպատկանող) | H14: =H16 -> -8283
G15: այդ թվում՝
G16: ՀՀ առողջապահության նախարարություն | H16: =H18 -> -8283
G17: այդ թվում՝
E18: 1126 | G18: Առողջապահության ոլորտում պետական քաղաքականության մշակում, ծրագրերի համակարգում և մոնիտորինգ | H18: =+H20 -> -8283
G19: այդ թվում՝
F20: 31003 | G20: Առողջապահական կազմակերպությունների կառուցում, վերակառուցում | H20: =+H22+H29 -> -8283
G21: այդ թվում ըստ կատարողների
G22: ՀՀ Առողջապահության նախարարություն | H22: =+H24 -> 246277
G23: այդ թվում` բյուջետային ծախսերի տնտեսագիտական դասակարգման հոդվածներ
G24: ԸՆԴԱՄԵՆԸ ԾԱԽՍԵՐ | H24: =H25 -> 246277
G25: ՈՉ ՖԻՆԱՆՍԱԿԱՆ ԱԿՏԻՎՆԵՐԻ ԳԾՈՎ ԾԱԽՍԵՐ | H25: =H26 -> 246277
G26: ՀԻՄՆԱԿԱՆ ՄԻՋՈՑՆԵՐ | H26: =H27 -> 246277
G27: ՇԵՆՔԵՐ ԵՎ ՇԻՆՈՒԹՅՈՒՆՆԵՐ | H27: =+H28 -> 246277
G28: - Նախագծահետազոտական ծախսեր | H28: 246277
G29: ՀՀ քաղաքաշինության կոմիտե | H29: =+H31 -> -254560
G30: այդ թվում` բյուջետային ծախսերի տնտեսագիտական դասակարգման հոդվածներ
G31: ԸՆԴԱՄԵՆԸ ԾԱԽՍԵՐ | H31: =H32 -> -254560
G32: ՈՉ ՖԻՆԱՆՍԱԿԱՆ ԱԿՏԻՎՆԵՐԻ ԳԾՈՎ ԾԱԽՍԵՐ | H32: =H33 -> -254560
G33: ՀԻՄՆԱԿԱՆ ՄԻՋՈՑՆԵՐ | H33: =H34 -> -254560
G34: ՇԵՆՔԵՐ ԵՎ ՇԻՆՈՒԹՅՈՒՆՆԵՐ | H34: =+H35 -> -254560
G35: - Նախագծահետազոտական ծախսեր | H35: -254560
B36: 11 | G36: ՀԻՄՆԱԿԱՆ ԲԱԺԻՆՆԵՐԻՆ ՉԴԱՍՎՈՂ ՊԱՀՈՒՍՏԱՅԻՆ ՖՈՆԴԵՐ | H36: =+H38+H54 -> 8283
G37: այդ թվում՝
C38: 01 | G38: ՀՀ կառավարության և համայնքների պահուստային ֆոնդ | H38: =+H40 -> 8283
G39: այդ թվում՝
D40: 01 | G40: ՀՀ կառավարության պահուստային ֆոնդ | H40: =+H42 -> 8283
...

Sheet 3
B1: Հավելված № 3
B2: ՀՀ կառավարության 2023 թվականի
B3: __________ «____» -ի
B4: N_____ -Ն որոշման
B6: ՀԱՅԱՍՏԱՆԻ ՀԱՆՐԱՊԵՏՈՒԹՅԱՆ ԿԱՌԱՎԱՐՈՒԹՅԱՆ 2022 ԹՎԱԿԱՆԻ ԴԵԿՏԵՄԲԵՐԻ 29-Ի № 2111-Ն ՈՐՈՇՄԱՆ № 5 ՀԱՎԵԼՎԱԾԻ № 2 ԱՂՅՈՒՍԱԿՈՒՄ ԿԱՏԱՐՎՈՂ ՓՈՓՈԽՈՒԹՅՈՒՆՆԵՐԸ ԵՎ ԼՐԱՑՈՒՄՆԵՐԸ
B7: (հազ. դրամ)
B8: Ծրագրային դասիչ | D8: Բյուջետային գլխավոր կարգադրիչների, ծրագրերի, միջոցառումների և ուղղությունների անվանումները | E8: Ցուցանիշների փոփոխությունները (ավելացումները նշված են դրական նշանով, իսկ նվազեցումները` փակագծերում)
B9: Ծրագիր | C9: Միջոցառում | E9: Տարի
D10: ՀՀ ԱՌՈՂՋԱՊԱՀՈՒԹՅԱՆ ՆԱԽԱՐԱՐՈՒԹՅՈՒՆ | E10: =+E12 -> -8283
D11: այդ թվում`
B12: 1126 | C12: 31003 | D12: Առողջապահական կազմակերպությունների կառուցում, վերակառուցում | E12: =+E14+E63 -> -8283
D13: այդ թվում ըստ կատարողների
D14: ՀՀ Առողջապահության նախարարություն | E14: =+E16+E18+E20+E23+E25+E27+E29+E31+E34 -> 246277
D15: այդ թվում ըստ ուղղությունների`
D16: ՀՀ Արմավիրի մարզ | E16: =+E17 -> 24480
D17: «Զարիշատ / Արամ/ Մարտինի Մկրտչյանի անվան Արմավիրի բժշկական կենտրոն» ՓԲԸ-ի պոլիկլինիկական մասնաշենքի վերակառուցում, վերելակի կառուցում | E17: 24480
D18: ՀՀ Լոռու մարզ | E18: =+E19 -> 20970
D19: «Վանաձորի թիվ 1 պոլիկլինիկա» ՊՓԲԸ-ի վերակառուցում | E19: 20970
D20: ՀՀ Շիրակի մարզ | E20: =+E21+E22 -> 40370
D21: «Գյումրու թիվ 1 պոլիկլինիկա» ՓԲԸ-ի վերակառուցում | E21: 15640
D22: «Գյումրու Ն․Ա․ Մելիքյանի անվան թիվ 2 պոլիկլինիկա» ՓԲԸ-ի վերակառոցում | E22: 24730
D23: ՀՀ Արարատի մարզ | E23: =+E24 -> 12620
D24: «Արարատի հիվանդանոց» ԲԿ ՓԲԸ պոլիկլինիկայի վերակառուցում | E24: 12620
D25: ՀՀ Գեղարքունիքի մարզ | E25: =+E26 -> 19140
D26: «Գավառի ԲԿ» ՓԲԸ պոլիկլինիկայի վերակառուցում | E26: 19140
D27: ՀՀ Վայոց ձորի մարզ | E27: =+E28 -> 19140
D28: «Վայքի պոլիկլինիկա» ՊՓԲԸ-ի վերակառուցում | E28: 19140
D29: ՀՀ Կոտայքի մարզ | E29: =+E30 -> 12970
D30: «Նոր Հաճնի պոլիկլինիկա» ՊՓԲԸ-ի վերակառուցում | E30: 12970
D31: ՀՀ Սյունիքի մարզ | E31: =+E32+E33 -> 44120
D32: «Կապանի ԲԿ» ՓԲԸ պոլիկլինիկայի վերակառուցում | E32: 24980
D33: «Գորիսի ԲԿ» ՓԲԸ պոլիկլինիկայի վերակառուցում | E33: 19140
D34: 19 բժշկական ամբուլատորիաների տիպային նախագծի հիման վրա տեղակապում ՀՀ 19 համայնքներում, այդ թվում | E34: =+E35+E41+E45+E47+E49+E51+E54+E56+E60 -> 52467
D35: ՀՀ Արմավիրի մարզ | E35: =+E36+E37+E38+E39+E40 -> 13805
D36: «Գայի ԲԱ» ՀՈԱԿ | E36: 2761
D37: «Ջրառատի ԲԱ» ՀՈԱԿ | E37: 2761
D38: «Վարդաշենի ԲԱ» ՀՈԱԿ | E38: 2761
D39: «Տանձուտի ԲԱ» ՀՈԱԿ | E39: 2761
D40: «Խանջյանի ԲԱ» ՀՈԱԿ | E40: 2761
D41: ՀՀ Արարատի մարզ | E41: =E42+E43+E44 -> 8283
...

Sheet 4
B1: Հավելված № 4
B2: ՀՀ կառավարության 2023 թվականի
B3: __________ «____» -ի
B4: N_____ -Ն որոշման
B6: (հազ. դրամ)
B7: «ՀԱՅԱՍՏԱՆԻ ՀԱՆՐԱՊԵՏՈՒԹՅԱՆ 2023 ԹՎԱԿԱՆԻ ՊԵՏԱԿԱՆ ԲՅՈՒՋԵԻ ՄԱՍԻՆ» ՀԱՅԱՍՏԱՆԻ ՀԱՆՐԱՊԵՏՈՒԹՅԱՆ ՕՐԵՆՔԻ № 1 ՀԱՎԵԼՎԱԾԻ № 3 ԱՂՅՈՒՍԱԿՈՒՄ ԿԱՏԱՐՎՈՂ ՓՈՓՈԽՈՒԹՅՈՒՆՆԵՐԸ ԵՎ ԼՐԱՑՈՒՄՆԵՐԸ
B8: Ծրագրային դասիչ | D8: Բյուջետային գլխավոր կարգադրիչների, ծրագրերի, միջոցառումների և ուղղությունների անվանումները | E8: Ցուցանիշների փոփոխությունները (ավելացումները նշված են դրական նշանով, իսկ նվազեցումները` փակագծերում)
E9: Ընդամենը | F9: այդ թվում
B10: Ծրագիր | C10: Միջոցառում | F10: Կառուցման աշխատանքներ | G10: Վերակառուցման, վերանորոգման և վերականգնման աշխատանքներ | H10: Նախագծահե- տազոտական, գեոդեզիա- քարտեզագրա- կան աշխա- տանքներ | I10: Ոչ ֆինանսական այլ ակտիվների ձեռքբերում
D11: ՀՀ ԱՌՈՂՋԱՊԱՀՈՒԹՅԱՆ ՆԱԽԱՐԱՐՈՒԹՅՈՒՆ | E11: =+E13 -> -8283 | F11: =+F13 -> 0 | G11: =+G13 -> 0 | H11: =+H13 -> -8283
D12: այդ թվում`
B13: 1126 | C13: 31003 | D13: Առողջապահական կազմակերպությունների կառուցում, վերակառուցում | E13: =+E14+E63 -> -8283 | F13: =+F14+F63 -> 0 | G13: =+G14+G63 -> 0 | H13: =+H14+H63 -> -8283
D14: ՀՀ Առողջապահության նախարարություն | E14: =+F14+G14+H14+I14 -> 246277 | H14: =+H16+H18+H20+H23+H25+H27+H29+H31+H34 -> 246277
D15: այդ թվում ըստ ուղղությունների`
D16: ՀՀ Արմավիրի մարզ | E16: =+F16+G16+H16+I16 -> 24480 | H16: =+H17 -> 24480
D17: «Զարիշատ / Արամ/ Մարտինի Մկրտչյանի անվան Արմավիրի բժշկական կենտրոն» ՓԲԸ-ի պոլիկլինիկական մասնաշենքի վերակառուցում, վերելակի կառուցում | E17: =+F17+G17+H17+I17 -> 24480 | H17: 24480
D18: ՀՀ Լոռու մարզ | E18: =+F18+G18+H18+I18 -> 20970 | H18: =+H19 -> 20970
D19: «Վանաձորի թիվ 1 պոլիկլինիկա» ՊՓԲԸ-ի վերակառուցում | E19: =+F19+G19+H19+I19 -> 20970 | H19: 20970
D20: ՀՀ Շիրակի մարզ | E20: =+F20+G20+H20+I20 -> 40370 | H20: =+H21+H22 -> 40370
D21: «Գյումրու թիվ 1 պոլիկլինիկա» ՓԲԸ-ի վերակառուցում | E21: =+F21+G21+H21+I21 -> 15640 | H21: 15640
D22: «Գյումրու Ն․Ա․ Մելիքյանի անվան թիվ 2 պոլիկլինիկա» ՓԲԸ-ի վերակառոցում | E22: =+F22+G22+H22+I22 -> 24730 | H22: 24730
D23: ՀՀ Արարատի մարզ | E23: =+F23+G23+H23+I23 -> 12620 | H23: =+H24 -> 12620
D24: «Արարատի հիվանդանոց» ԲԿ ՓԲԸ պոլիկլինիկայի վերակառուցում | E24: =+F24+G24+H24+I24 -> 12620 | H24: 12620
D25: ՀՀ Գեղարքունիքի մարզ | E25: =+F25+G25+H25+I25 -> 19140 | H25: =+H26 -> 19140
D26: «Գավառի ԲԿ» ՓԲԸ պոլիկլինիկայի վերակառուցում | E26: =+F26+G26+H26+I26 -> 19140 | H26: 19140
D27: ՀՀ Վայոց ձորի մարզ | E27: =+F27+G27+H27+I27 -> 19140 | H27: =+H28 -> 19140
D28: «Վայքի պոլիկլինիկա» ՊՓԲԸ-ի վերակառուցում | E28: =+F28+G28+H28+I28 -> 19140 | H28: 19140
D29: ՀՀ Կոտայքի մարզ | E29: =+F29+G29+H29+I29 -> 12970 | H29: =+H30 -> 12970
D30: «Նոր Հաճնի պոլիկլինիկա» ՊՓԲԸ-ի վերակառուցում | E30: =+F30+G30+H30+I30 -> 12970 | H30: 12970
D31: ՀՀ Սյունիքի մարզ | E31: =+F31+G31+H31+I31 -> 44120 | H31: =+H32+H33 -> 44120
D32: «Կապանի ԲԿ» ՓԲԸ պոլիկլինիկայի վերակառուցում | E32: =+F32+G32+H32+I32 -> 24980 | H32: 24980
D33: «Գորիսի ԲԿ» ՓԲԸ պոլիկլինիկայի վերակառուցում | E33: =+F33+G33+H33+I33 -> 19140 | H33: 19140
D34: 19 բժշկական ամբուլատորիաների տիպային նախագծի հիման վրա տեղակապում ՀՀ 19 համայնքներում, այդ թվում | E34: =+F34+G34+H34+I34 -> 52467 | H34: =+H35+H41+H45+H47+H49+H51+H54+H56+H60 -> 52467
D35: ՀՀ Արմավիրի մարզ | E35: =+F35+G35+H35+I35 -> 13805 | H35: =+H36+H37+H38+H39+H40 -> 13805
D36: «Գայի ԲԱ» ՀՈԱԿ | E36: =+F36+G36+H36+I36 -> 2761 | H36: 2761
D37: «Ջրառատի ԲԱ» ՀՈԱԿ | E37: =+F37+G37+H37+I37 -> 2761 | H37: 2761
D38: «Վարդաշենի ԲԱ» ՀՈԱԿ | E38: =+F38+G38+H38+I38 -> 2761 | H38: 2761
D39: «Տանձուտի ԲԱ» ՀՈԱԿ | E39: =+F39+G39+H39+I39 -> 2761 | H39: 2761
D40: «Խանջյանի ԲԱ» ՀՈԱԿ | E40: =+F40+G40+H40+I40 -> 2761 | H40: 2761
D41: ՀՀ Արարատի մարզ | E41: =+F41+G41+H41+I41 -> 8283 | H41: =+H42+H43+H44 -> 8283
...

Sheet 5
B1: Հավելված № 5
B2: ՀՀ կառավարության 2023 թվականի
B3: __________ «____» -ի
B4: N_____ -Ն որոշման
B6: ՀԱՅԱՍՏԱՆԻ ՀԱՆՐԱՊԵՏՈՒԹՅԱՆ ԿԱՌԱՎԱՐՈՒԹՅԱՆ 2022 ԹՎԱԿԱՆԻ ԴԵԿՏԵՄԲԵՐԻ 29-Ի № 2111-Ն ՈՐՈՇՄԱՆ № 9 ՀԱՎԵԼՎԱԾԻ № 9.8 ԱՂՅՈՒՍԱԿՈՒՄ ԿԱՏԱՐՎՈՂ ՓՈՓՈԽՈՒԹՅՈՒՆՆԵՐԸ ԵՎ ԼՐԱՑՈՒՄՆԵՐԸ
B7: ՀՀ Առողջապահության նախարարություն
B8: ՄԱՍ 2. ՊԵՏԱԿԱՆ ՄԱՐՄՆԻ ԳԾՈՎ ԱՐԴՅՈՒՆՔԱՅԻՆ (ԿԱՏԱՐՈՂԱԿԱՆ) ՑՈՒՑԱՆԻՇՆԵՐԸ
B9: (հազ. դրամ)
B10: Ծրագրի դասիչը | C10: Ծրագրի անվանումը
B11: 1126 | C11: Առողջապահության ոլորտում պետական քաղաքականության մշակում, ծրագրերի համակարգում և մոնիտորինգ
B13: Ծրագրի միջոցառումները
B14: Ծրագրի դասիչը` | C14: 1126 | D14: Ցուցանիշների փոփոխությունը (նվազեցումները նշված են փակագծերում)
B15: Միջոցառման դասիչը` | C15: 31003 | D15: Տարի
B16: Միջոցառման անվանումը` | C16: Առողջապահական կազմակերպությունների կառուցում, վերակառուցում
B17: Նկարագրությունը` | C17: Բնակչությանը որակյալ բժշկական օգնության և սպասարկման ծառայություններ մատուցելու նպատակով առողջապահական կազմակերպությունների կառուցում, վերակառուցում
B18: Միջոցառման տեսակը` | C18: Պետական մարմինների կողմից օգտագործվող ոչ ֆինանսական ակտիվների հետ գործառնություններ
B19: Ակտիվն օգտագործող կազմակերպության (ների) անվանում(ներ)ը | C19: ՀՀ գնումների մասին օրենսդրությանը համապատասխան ընտրված կազմակերպություններ
B20: Արդյունքի չափորոշիչներ
B21: Միջոցառման վրա կատարվող ծախսը (հազար դրամ) | D21: =+'2'!H20 -> -8283
B23: ՀԱՅԱՍՏԱՆԻ ՀԱՆՐԱՊԵՏՈՒԹՅԱՆ ԿԱՌԱՎԱՐՈՒԹՅԱՆ 2021 ԹՎԱԿԱՆԻ ԴԵԿՏԵՄԲԵՐԻ 23-Ի N 2111-Ն ՈՐՈՇՄԱՆ N 9 ՀԱՎԵԼՎԱԾԻ 9.47 ԱՂՅՈՒՍԱԿՈՒՄ ԿԱՏԱՐՎՈՂ ՓՈՓՈԽՈՒԹՅՈՒՆԸ
B24: ՀՀ կառավարություն
B25: ՄԱՍ 2. ՊԵՏԱԿԱՆ ՄԱՐՄՆԻ ԳԾՈՎ ԱՐԴՅՈՒՆՔԱՅԻՆ (ԿԱՏԱՐՈՂԱԿԱՆ) ՑՈՒՑԱՆԻՇՆԵՐԸ
B26: հազար դրամ
B27: Ծրագրի դասիչը | C27: Ծրագրի անվանումը
B28: 1139 | C28: ՀՀ կառավարության պահուստային ֆոնդ
B29: Ծրագրի միջոցառումները
B30: Ծրագրի դասիչը` | C30: 1139 | D30: Ցուցանիշների փոփոխությունները (ավելացումները նշված են դրական նշանով)
B31: Միջոցառման դասիչը` | C31: 11001 | D31: Տարի
B32: Միջոցառման անվանումը` | C32: ՀՀ կառավարության պահուստային ֆոնդ
B33: Նկարագրությունը` | C33: ՀՀ պետական բյուջեում նախատեսված ելքերի լրացուցիչ ֆինանսավորման, պետական բյուջեում չկանխատեսված ելքերի, ինչպես նաև բյուջետային երաշխիքների ապահովման ելքերի ֆինանսավորման ապահովում
B34: Միջոցառման տեսակը` | C34: Ծառայությունների մատուցում
B35: Արդյունքի չափորոշիչներ
B36: Միջոցառման վրա կատարվող ծախսը (հազար դրամ) | D36: =+'2'!H36 -> 8283

Sheet 6
B1: Հավելված № 6
B2: ՀՀ կառավարության 2023 թվականի
B3: __________ «____» -ի
B4: N_____ -Ն որոշման
B6: ՀԱՅԱՍՏԱՆԻ ՀԱՆՐԱՊԵՏՈՒԹՅԱՆ ԿԱՌԱՎԱՐՈՒԹՅԱՆ 2022 ԹՎԱԿԱՆԻ ԴԵԿՏԵՄԲԵՐԻ 29-Ի № 2111-Ն ՈՐՈՇՄԱՆ № 9.1 ՀԱՎԵԼՎԱԾԻ № 9.1.8 ԱՂՅՈՒՍԱԿՈՒՄ ԿԱՏԱՐՎՈՂ ՓՈՓՈԽՈՒԹՅՈՒՆՆԵՐԸ ԵՎ ԼՐԱՑՈՒՄՆԵՐԸ
B7: ՀՀ Առողջապահության նախարարություն
B8: ՄԱՍ 1. ՊԵՏԱԿԱՆ ՄԱՐՄՆԻ ԳԾՈՎ ԱՐԴՅՈՒՆՔԱՅԻՆ (ԿԱՏԱՐՈՂԱԿԱՆ) ՑՈՒՑԱՆԻՇՆԵՐԸ
B9: (հազ. դրամ)
B10: Ծրագրի դասիչը | C10: Ծրագրի անվանումը
B11: 1126 | C11: Առողջապահության ոլորտում պետական քաղաքականության մշակում, ծրագրերի համակարգում և մոնիտորինգ
B13: Ծրագրի միջոցառումները
B14: Ծրագրի դասիչը` | C14: 1126 | D14: Ցուցանիշների փոփոխությունը ((ավելացումները նշված են դրական նշանով)
B15: Միջոցառման դասիչը` | C15: 31003 | D15: Տարի
B16: Միջոցառման անվանումը` | C16: Առողջապահական կազմակերպությունների կառուցում, վերակառուցում
B17: Նկարագրությունը` | C17: Բնակչությանը որակյալ բժշկական օգնության և սպասարկման ծառայություններ մատուցելու նպատակով առողջապահական կազմակերպությունների կառուցում, վերակառուցում
B18: Միջոցառման տեսակը` | C18: Պետական մարմինների կողմից օգտագործվող ոչ ֆինանսական ակտիվների հետ գործառնություններ
B19: Ակտիվն օգտագործող կազմակերպության (ների) անվանում(ներ)ը | C19: ՀՀ գնումների մասին օրենսդրությանը համապատասխան ընտրված կազմակերպություններ
B20: Արդյունքի չափորոշիչներ
B21: Նախագծանախահաշվային փաստաթղթերի քանակ, հատ | D21: 29
B22: Միջոցառման վրա կատարվող ծախսը (հազար դրամ) | D22: =+'2'!H22 -> 246277
B24: ՀԱՅԱՍՏԱՆԻ ՀԱՆՐԱՊԵՏՈՒԹՅԱՆ ԿԱՌԱՎԱՐՈՒԹՅԱՆ 2022 ԹՎԱԿԱՆԻ ԴԵԿՏԵՄԲԵՐԻ 29-Ի № 2111-Ն ՈՐՈՇՄԱՆ № 9.1 ՀԱՎԵԼՎԱԾԻ № 9.1.41 ԱՂՅՈՒՍԱԿՈՒՄ ԿԱՏԱՐՎՈՂ ՓՈՓՈԽՈՒԹՅՈՒՆՆԵՐԸ
B25: ՀՀ քաղաքաշինության կոմիտե
B26: ՄԱՍ 1. ՊԵՏԱԿԱՆ ՄԱՐՄՆԻ ԳԾՈՎ ԱՐԴՅՈՒՆՔԱՅԻՆ (ԿԱՏԱՐՈՂԱԿԱՆ) ՑՈՒՑԱՆԻՇՆԵՐԸ
B27: Ծրագրի դասիչը` | C27: 1126 | D27: Ցուցանիշների փոփոխությունը (նվազեցումները նշված են փակագծերում)
B28: Միջոցառման դասիչը` | C28: 31003 | D28: Տարի
B29: Միջոցառման անվանումը` | C29: Առողջապահական կազմակերպությունների կառուցում, վերակառուցում
B30: Նկարագրությունը` | C30: Բնակչությանը որակյալ բժշկական օգնության և սպասարկման ծառայություններ մատուցելու նպատակով առողջապահական կազմակերպությունների կառուցում, վերակառուցում
B31: Միջոցառման տեսակը` | C31: Պետական մարմինների կողմից օգտագործվող ոչ ֆինանսական ակտիվների հետ գործառնություններ
B32: Ակտիվն օգտագործող կազմակերպության (ների) անվանում(ներ)ը | C32: ՀՀ գնումների մասին օրենսդրությանը համապատասխան ընտրված կազմակերպություններ
B33: Արդյունքի չափորոշիչներ
B34: Նախագծանախահաշվային փաստաթղթերի քանակ, հատ | D34: -29
B35: Միջոցառման վրա կատարվող ծախսը (հազար դրամ) | D35: =+'2'!H35 -> -254560
B37: ՀԱՅԱՍՏԱՆԻ ՀԱՆՐԱՊԵՏՈՒԹՅԱՆ ԿԱՌԱՎԱՐՈՒԹՅԱՆ 2022 ԹՎԱԿԱՆԻ ԴԵԿՏԵՄԲԵՐԻ 29-Ի № 2111-Ն ՈՐՈՇՄԱՆ № 9.1 ՀԱՎԵԼՎԱԾԻ № 9.1.58 ԱՂՅՈՒՍԱԿՈՒՄ ԿԱՏԱՐՎՈՂ ՓՈՓՈԽՈՒԹՅՈՒՆՆԵՐԸ ԵՎ ԼՐԱՑՈՒՄՆԵՐԸ
B38: ՀՀ կառավարություն
B39: ՄԱՍ 1. ՊԵՏԱԿԱՆ ՄԱՐՄՆԻ ԳԾՈՎ ԱՐԴՅՈՒՆՔԱՅԻՆ (ԿԱՏԱՐՈՂԱԿԱՆ) ՑՈՒՑԱՆԻՇՆԵՐԸ
B40: Ծրագրի դասիչը | C40: Ծրագրի անվանումը
B41: 1139 | C41: ՀՀ կառավարության պահուստային ֆոնդ
B42: Ծրագրի միջոցառումները
B43: Ծրագրի դասիչը` | C43: 1139 | D43: Ցուցանիշների փոփոխությունները (ավելացումները նշված են դրական նշանով)
B44: Միջոցառման դասիչը` | C44: 11001 | D44: Տարի
...

Sheet 7
B1: Հավելված № 7
B2: ՀՀ կառավարության 2023 թվականի
B3: __________ «____» -ի
B4: N_____ -Ն որոշման
B5: ՀԱՅԱՍՏԱՆԻ ՀԱՆՐԱՊԵՏՈՒԹՅԱՆ ԿԱՌԱՎԱՐՈՒԹՅԱՆ 2022 ԹՎԱԿԱՆԻ ԴԵԿՏԵՄԲԵՐԻ 29-Ի № 2111-Ն ՈՐՈՇՄԱՆ № 10 ՀԱՎԵԼՎԱԾՈՒՄ ԿԱՏԱՐՎՈՂ ՓՈՓՈԽՈՒԹՅՈՒՆՆԵՐԸ
B6: Կոդը | C6: Անվանումը | F6: Գնման ձևը | G6: Չափման միավորը | H6: Ցուցանիշների փոփոխությունները (ավելացումները նշված են դրական նշանով, իսկ նվազեցումները` փակագծերում)
H7: Միավորի գինը | I7: Քանակը | J7: Գումարը (հազար դրամով)
B8: ՀՀ Առողջապահության նախարարություն | J8: =+J9+J55 -> -8283
B9: Բաժին 07 | C9: Խումբ 06 | D9: Դաս 02 | E9: Առողջապահություն (այլ դասերին չպատկանող) | J9: =+J10 -> 246277
B10: 1126 31003 | C10: Առողջապահական կազմակերպությունների կառուցում, վերակառուցում | J10: =+J12 -> 246277
C12: ՄԱՍ III. ԾԱՌԱՅՈՒԹՅՈՒՆՆԵՐ | J12: =SUM(J13:J52) -> 246277
B13: 50531140 | C13: փորձաքննության ծառայություններ | F13: ԳՀ | G13: դրամ | H13: =J13*1000 -> 1390000 | I13: 1 | J13: 1390
B14: 50531140 | C14: փորձաքննության ծառայություններ | F14: ԳՀ | G14: դրամ | H14: =J14*1000 -> 960000 | I14: 1 | J14: 960
B15: 50531140 | C15: փորձաքննության ծառայություններ | F15: ԳՀ | G15: դրամ | H15: =J15*1000 -> 1160000 | I15: 1 | J15: 1160
B16: 50531140 | C16: փորձաքննության ծառայություններ | F16: ԳՀ | G16: դրամ | H16: =J16*1000 -> 1400000 | I16: 1 | J16: 1400
B17: 50531140 | C17: փորձաքննության ծառայություններ | F17: ԳՀ | G17: դրամ | H17: =J17*1000 -> 1370000 | I17: 1 | J17: 1370
B18: 50531140 | C18: փորձաքննության ծառայություններ | F18: ԳՀ | G18: դրամ | H18: =J18*1000 -> 1410000 | I18: 1 | J18: 1410
B19: 50531140 | C19: փորձաքննության ծառայություններ | F19: ԳՀ | G19: դրամ | H19: =J19*1000 -> 1250000 | I19: 1 | J19: 1250
B20: 50531140 | C20: փորձաքննության ծառայություններ | F20: ԳՀ | G20: դրամ | H20: =J20*1000 -> 1040000 | I20: 1 | J20: 1040
B21: 50531140 | C21: փորձաքննության ծառայություններ | F21: ԳՀ | G21: դրամ | H21: =J21*1000 -> 1250000 | I21: 1 | J21: 1250
B22: 50531140 | C22: փորձաքննության ծառայություններ | F22: ԳՀ | G22: դրամ | H22: =J22*1000 -> 1250000 | I22: 1 | J22: 1250
B23: 50531140 | C23: փորձաքննության ծառայություններ | F23: ԳՀ | G23: դրամ | H23: =J23*1000 -> 2850000 | I23: 1 | J23: 2850
B24: 71241200 | C24: նախագծերի պատրաստում, ծախսերի գնահատում | F24: ԳՀ | G24: դրամ | H24: =J24*1000 -> 23090000 | I24: 1 | J24: 23090
... B52: 71241200 | C52: նախագծերի պատրաստում, ծախսերի գնահատում | F52: ՄԱ | G52: դրամ | H52: =J52*1000 -> 2611800 | I52: 1 | J52: 2611.8
B54: ՀՀ քաղաքաշինության կոմիտե
B55: Բաժին 07 | C55: Խումբ 06 | D55: Դաս 02 | E55: Առողջապահություն (այլ դասերին չպատկանող) | J55: =+J56 -> -254560
B56: 1126 31003 | C56: Առողջապահական կազմակերպությունների կառուցում, վերակառուցում | J56: =+J57 -> -254560
C57: ՄԱՍ III. ԾԱՌԱՅՈՒԹՅՈՒՆՆԵՐ | J57: =SUM(J58:J111) -> -254560
B58: 50531140/151 | C58: փորձաքննության ծառայություններ | F58: ԳՀ | G58: դրամ | H58: =J58*1000 -> -1790000 | I58: -1 | J58: -1790
B59: 50531140 | C59: փորձաքննության ծառայություններ | F59: ԳՀ | G59: դրամ | H59: 950000 | I59: 1 | J59: 950
B60: 50531140 | C60: փորձաքննության ծառայություններ | F60: ԳՀ | G60: դրամ | H60: =J60*1000 -> 1450000 | I60: 1 | J60: 1450
B61: 50531140/152 | C61: փորձաքննության ծառայություններ | F61: ԳՀ | G61: դրամ | H61: =J61*1000 -> -1390000 | I61: -1 | J61: -1390
B62: 50531140/153 | C62: փորձաքննության ծառայություններ | F62: ԳՀ | G62: դրամ | H62: =J62*1000 -> -1860000 | I62: -1 | J62: -1860
B63: 50531140 | C63: փորձաքննության ծառայություններ | F63: ԳՀ | G63: դրամ | H63: =J63*1000 -> 920000 | I63: 1 | J63: 920
B64: 50531140/155 | C64: փորձաքննության ծառայություններ | F64: ԳՀ | G64: դրամ | H64: =J64*1000 -> -960000 | I64: -1 | J64: -960
B65: 50531140/156 | C65: փորձաքննության ծառայություններ | F65: ԳՀ | G65: դրամ | H65: =J65*1000 -> -1160000 | I65: -1 | J65: -1160
B66: 50531140/157 | C66: փորձաքննության ծառայություններ | F66: ԳՀ | G66: դրամ | H66: =J66*1000 -> -1400000 | I66: -1 | J66: -1400
B67: 50531140/158 | C67: փորձաքննության ծառայություններ | F67: ԳՀ | G67: դրամ | H67: =J67*1000 -> -1370000 | I67: -1 | J67: -1370
B68: 50531140/159 | C68: փորձաքննության ծառայություններ | F68: ԳՀ | G68: դրամ | H68: =J68*1000 -> -1410000 | I68: -1 | J68: -1410
B69: 50531140/160 | C69: փորձաքննության ծառայություններ | F69: ԳՀ | G69: դրամ | H69: =J69*1000 -> -1250000 | I69: -1 | J69: -1250
...
