Workbook
Name _tab10: #REF!
Name _tab10: #REF!
Name _tab10: #REF!
Name _tab10: #REF!
Name _tab11: #REF!
Name _tab11: #REF!
Name _tab11: #REF!
Name _tab11: #REF!
Name _tab12: #REF!
Name _tab12: #REF!
Name _tab12: #REF!
Name _tab12: #REF!
Name _tab13: #REF!
Name _tab13: #REF!
Name _tab13: #REF!
Name _tab13: #REF!
Name _tab14: #REF!
Name _tab14: #REF!
Name _tab14: #REF!
Name _tab14: #REF!
Name _tab15: #REF!
Name _tab15: #REF!
Name _tab15: #REF!
Name _tab15: #REF!
Name _tab16: #REF!
Name _tab16: #REF!
Name _tab16: #REF!
Name _tab16: #REF!
Name _tab17: #REF!
Name _tab17: #REF!
Name _tab17: #REF!
Name _tab17: #REF!
Name _tab18: #REF!
Name _tab18: #REF!
Name _tab18: #REF!
Name _tab18: #REF!
Name _tab19: #REF!
Name _tab19: #REF!
Name _tab19: #REF!
Name _tab19: #REF!
Name _tab20: #REF!
Name _tab20: #REF!
Name _tab20: #REF!
Name _tab20: #REF!
Name _tab21: #REF!
Name _tab21: #REF!
Name _tab21: #REF!
Name _tab21: #REF!
Name _tab22: #REF!
Name _tab22: #REF!
Name _tab22: #REF!
Name _tab22: #REF!
Name _tab23: #REF!
Name _tab23: #REF!
Name _tab23: #REF!
Name _tab23: #REF!
Name _tab24: #REF!
Name _tab24: #REF!
Name _tab24: #REF!
Name _tab24: #REF!

Sheet 1
D1: Հավելված N 1
D2: ՀՀ կառավարության 2023 թվականի
C3: -----------------ի N -----------Ն որոշման
A5: ՀԱՅԱՍՏԱՆԻ ՀԱՆՐԱՊԵՏՈՒԹՅԱՆ 2023 ԹՎԱԿԱՆԻ ՊԵՏԱԿԱՆ ԲՅՈՒՋԵԻ ՄԱՍԻՆ» ՕՐԵՆՔԻ N 1 ՀԱՎԵԼՎԱԾԻ N 2 ԱՂՅՈՒՍԱԿՈՒՄ ԿԱՏԱՐՎՈՂ ՎԵՐԱԲԱՇԽՈՒՄԸ ԵՎ ԼՐԱՑՈՒՄԸ ԵՎ ՀԱՅԱՍՏԱՆԻ ՀԱՆՐԱՊԵՏՈՒԹՅԱՆ ԿԱՌԱՎԱՐՈՒԹՅԱՆ 2022 ԹՎԱԿԱՆԻ ԴԵԿՏԵՄԲԵՐԻ 29-Ի N 2111-Ն ՈՐՈՇՄԱՆ N 5 ՀԱՎԵԼՎԱԾԻ N 1 ԱՂՅՈՒՍԱԿՈՒՄ ԿԱՏԱՐՎՈՂ ՓՈՓՈԽՈՒԹՅՈՒՆՆԵՐԸ ԵՎ ԼՐԱՑՈՒՄՆԵՐԸ
D6: (հազար դրամ)
A7: Ծրագրային դասիչը | C7: Բյուջետային հատկացումների գլխավոր կարգադրիչների, ծրագրերի և միջոցառումների անվանումները | D7: Ցուցանիշների փոփոխությունները ավելացումները նշված են դրական նշանով, իսկ նվազեցումները՝ փակագծերում
A8: Ծրագիր | B8: Միջոցառում | D8: Տարի
C9: ԸՆԴԱՄԵՆԸ | D9: =D10 -> 0
C10: ՀՀ աշխատանքի և սոցիալական հարցերի նախարարություն | D10: =D11 -> 0
A11: 1117 | C11: Ծրագրի անվանումը` | D11: =D18+D24 -> 0
C12: Սոցիալական պաշտպանության բնագավառում պետական քաղաքականության մշակում, ծրագրերի համակարգում և մոնիթորինգ
C13: Ծրագրի նպատակը`
C14: Աղքատության մեղմման և անհավասարության նվազեցման, աշխատաշուկայի պահանջարկի և գործազրկության անհմպ. կրճատման, զբաղվածության աճի, ժողովրդագրական իրավիճակի բարելավման և քաղաքացիների սոց.իրավունքի իրացմանն ուղղված քաղաքականության մշակմ. և իրականացմ. ապահովում
C15: Վերջնական արդյունքի նկարագրությունը`
C16: Սոցիալական պաշտպանության ոլորտում իրականացվող ծրագրերի ազդեցության և արդյունավետության բարելավում
A17: Ծրագրի միջոցառումներ
B18: 11001 | C18: Միջոցառման անվանումը` | D18: -4622
C19: Սոցիալական պաշտպանության բնագավառի պետական քաղաքականության մշակման, ծրագրերի համակարգման և մոնիթորինգի ծառայություններ
C20: Միջոցառման նկարագրությունը`
C21: Սոցիալական պաշտպանության բնագավառի պետական քաղաքականության մշակման, ծրագրերի համակարգման և մոնիտորինգի ծառայություններ
C22: Միջոցառման տեսակը
C23: Ծառայությունների մատուցում
B24: 11011 | C24: Միջոցառման անվանումը` | D24: 4622
C25: «Խնամատարության տարածաշրջանային համաժողով» խորագրով Հայաստանի Հանրապետությունում կայանալիք համաժողովի անցկացման կազմակերպման ապահովում
C26: Միջոցառման նկարագրությունը`
C27: «Խնամատարության տարածաշրջանային համաժողով» խորագրով Հայաստանի Հանրապետությունում կայանալիք համաժողովի անցկացման ծրագրով նախատեսված արարողակարգային և այլ միջոցառումների կազմակերպման ապահովում
C28: Միջոցառման տեսակը
C29: Ծառայությունների մատուցում
C30: ՀՀ Կառավարություն
A31: 1139 | C31: Ծրագրի անվանումը` | D31: =D38+D44 -> 0
C32: ՀՀ կառավարության պահուստային ֆոնդ
C33: Ծրագրի նպատակը`
C34: Պետական բյուջեում չկանխատեսված, ինչպես նաեւ բյուջետային երաշխիքների ապահովման ծախսերի ֆինանսավորման ապահովում
C35: Վերջնական արդյունքի նկարագրությունը`
C36: Պահուստային ֆոնդի կառավարման արդյունավետության և թափանցիկության ապահովում
A37: Ծրագրի միջոցառումներ
B38: 11001 | C38: Միջոցառման անվանումը` | D38: -4622
C39: ՀՀ կառավարության պահուստային ֆոնդ
C40: Միջոցառման նկարագրությունը`
C41: ՀՀ պետական բյուջեում նախատեսված ելքերի լրացուցիչ ֆինանսավորման, պետական բյուջեում չկանխատեսված ելքերի, ինչպես նաև բյուջետային երաշխիքների ապահովման ելքերի ֆինանսավորման ապահովում
C42: Միջոցառման տեսակը
C43: Ծառայությունների մատուցում
B44: 11001 | C44: Միջոցառման անվանումը` | D44: 4622
C45: ՀՀ կառավարության պահուստային ֆոնդ
C46: Միջոցառման նկարագրությունը`
C47: ՀՀ պետական բյուջեում նախատեսված ելքերի լրացուցիչ ֆինանսավորման, պետական բյուջեում չկանխատեսված ելքերի, ինչպես նաև բյուջետային երաշխիքների ապահովման ելքերի ֆինանսավորման ապահովում
C48: Միջոցառման տեսակը
C49: Ծառայությունների մատուցում

Sheet 2
G1: Հավելված N 2
G2: ՀՀ կառավարության 2023 թվականի
G3: -----------------ի N -----------Ն որոշման
A5: ՀԱՅԱՍՏԱՆԻ ՀԱՆՐԱՊԵՏՈՒԹՅԱՆ ԿԱՌԱՎԱՐՈՒԹՅԱՆ 2022 ԹՎԱԿԱՆԻ ԴԵԿՏԵՄԲԵՐԻ 29-Ի N 2111-Ն ՈՐՈՇՄԱՆ NN 3 ԵՎ 4 ՀԱՎԵԼՎԱԾՆԵՐՈՒՄ ԿԱՏԱՐՎՈՂ ՓՈՓՈԽՈՒԹՅՈՒՆՆԵՐԸ ԵՎ ԼՐԱՑՈՒՄՆԵՐԸ
G6: հազար դրամ
A7: Գործառական դասիչը | D7: Ծրագրային դասիչը | F7: Բյուջետային ծախսերի գործառական դասակարգման բաժինների, խմբերի և դասերի, բյուջետային ծրագրերի միջոցառումների, բյուջետային հատկացումների գլխավոր կարգադրիչների անվանումները | G7: ='1'!D7 -> Ցուցանիշների փոփոխությունները ավելացումները նշված են դրական նշանով, իսկ նվազեցումները՝ փակագծերում
A8: Բաժինը | B8: Խումբը | C8: Դասը | D8: Ծրագիր | E8: Միջոցառում | G8: ='1'!D8 -> Տարի
F9: ԸՆԴԱՄԵՆԸ ԾԱԽՍԵՐ | G9: =G11 -> 0
F10: այդ թվում`
F11: ՀՀ աշխատանքի և սոցիալական հարցերի նախարարություն | G11: =G12 -> 0
A12: 10 | F12: ՍՈՑԻԱԼԱԿԱՆ ՊԱՇՏՊԱՆՈՒԹՅՈՒՆ | G12: =G14 -> 0
F13: այդ թվում`
B14: 09 | F14: Սոցիալական պաշտպանություն (այլ դասերին չպատկանող) | G14: =G16 -> 0
F15: այդ թվում՝
C16: 01 | F16: Սոցիալական պաշտպանություն (այլ դասերին չպատկանող) | G16: =G20 -> 0
F17: այդ թվում`
F18: ՀՀ աշխատանքի և սոցիալական հարցերի նախարարություն | G18: =G20 -> 0
F19: այդ թվում`
D20: 1117 | F20: ='1'!C12 -> Սոցիալական պաշտպանության բնագավառում պետական քաղաքականության մշակում, ծրագրերի համակարգում և մոնիթորինգ | G20: =G22+G31 -> 0
F21: այդ թվում`
E22: 11001 | F22: Սոցիալական պաշտպանության բնագավառի պետական քաղաքականության մշակման, ծրագրերի համակարգման և մոնիթորինգի ծառայություններ | G22: =G24 -> -4622
F23: այդ թվում` ըստ կատարողների
F24: ՀՀ աշխատանքի և սոցիալական հարցերի նախարարություն | G24: =G26 -> -4622
F25: այդ թվում` բյուջետային ծախսերի տնտեսագիտական դասակարգման հոդվածներ
F26: ԸՆԴԱՄԵՆԸ ԾԱԽՍԵՐ | G26: =G27 -> -4622
F27: ԸՆԹԱՑԻԿ ԾԱԽՍԵՐ | G27: =G28 -> -4622
F28: ԾԱՌԱՅՈՒԹՅՈՒՆՆԵՐԻ ԵՎ ԱՊՐԱՆՔՆԵՐԻ ՁԵՌՔԲԵՐՈՒՄ | G28: =G29 -> -4622
F29: Պայմանագրային այլ ծառայությունների ձեռքբերում | G29: =G30 -> -4622
F30: - Կառավարչական ծառայություններ | G30: ='1'!D18 -> -4622
E31: ='1'!B24 -> 11011 | F31: ='1'!C25 -> «Խնամատարության տարածաշրջանային համաժողով» խորագրով Հայաստանի Հանրապետությունում կայանալիք համաժողովի անցկացման կազմակերպման ապահովում | G31: =G33 -> 4622
F32: այդ թվում` ըստ կատարողների
F33: ՀՀ աշխատանքի և սոցիալական հարցերի նախարարություն | G33: =G34 -> 4622
F34: այդ թվում` բյուջետային ծախսերի տնտեսագիտական դասակարգման հոդվածներ | G34: =G35 -> 4622
F35: ԸՆԴԱՄԵՆԸ ԾԱԽՍԵՐ | G35: =G36 -> 4622
F36: ԸՆԹԱՑԻԿ ԾԱԽՍԵՐ | G36: =G37 -> 4622
F37: ԾԱՌԱՅՈՒԹՅՈՒՆՆԵՐԻ ԵՎ ԱՊՐԱՆՔՆԵՐԻ ՁԵՌՔԲԵՐՈՒՄ | G37: =G38 -> 4622
F38: Պայմանագրային այլ ծառայությունների ձեռքբերում | G38: =G39 -> 4622
F39: - Ներկայացուցչական ծախսեր | G39: ='1'!D24 -> 4622
A40: 11 | F40: ՀԻՄՆԱԿԱՆ ԲԱԺԻՆՆԵՐԻՆ ՉԴԱՍՎՈՂ ՊԱՀՈՒՍՏԱՅԻՆ ՖՈՆԴԵՐ | G40: =G42 -> 0
F41: այդ թվում՝
B42: 01 | F42: ՀՀ կառավարության և համայնքների պահուստային ֆոնդ | G42: =G44 -> 0
F43: այդ թվում՝
C44: 01 | F44: ՀՀ կառավարության պահուստային ֆոնդ | G44: =G46 -> 0
F45: այդ թվում՝
F46: ՀՀ կառավարություն | G46: =G48 -> 0
F47: այդ թվում՝
D48: 1139 | F48: ՀՀ կառավարության պահուստային ֆոնդ | G48: =G50++G58 -> 0
F49: այդ թվում՝
E50: 11001 | F50: ՀՀ կառավարության պահուստային ֆոնդ | G50: =G52 -> -4622
F51: այդ թվում՝ ըստ կատարողների
F52: ՀՀ կառավարություն | G52: =G54 -> -4622
F53: այդ թվում՝ բյուջետային ծախսերի տնտեսագիտական դասակարգման հոդվածներ
F54: ԸՆԴԱՄԵՆԸ ԾԱԽՍԵՐ | G54: =G55 -> -4622
F55: ԸՆԹԱՑԻԿ ԾԱԽՍԵՐ | G55: =G56 -> -4622
F56: ԱՅԼ ԾԱԽՍԵՐ | G56: =G57 -> -4622
F57: - Պահուստային միջոցներ | G57: ='1'!D38 -> -4622
E58: 11001 | F58: ՀՀ կառավարության պահուստային ֆոնդ | G58: =G60 -> 4622
F59: այդ թվում՝ ըստ կատարողների
F60: ՀՀ կառավարություն | G60: =G62 -> 4622
F61: այդ թվում՝ բյուջետային ծախսերի տնտեսագիտական դասակարգման հոդվածներ
F62: ԸՆԴԱՄԵՆԸ ԾԱԽՍԵՐ | G62: =G63 -> 4622
F63: ԸՆԹԱՑԻԿ ԾԱԽՍԵՐ | G63: =G64 -> 4622
F64: ԱՅԼ ԾԱԽՍԵՐ | G64: =G65 -> 4622
F65: - Պահուստային միջոցներ | G65: ='1'!D44 -> 4622

Sheet 3
C1: Հավելված N 3
B2: ՀՀ կառավարության 2023 թվականի
B3: -----------------ի N -----------Ն որոշման
A4: ՀԱՅԱՍՏԱՆԻ ՀԱՆՐԱՊԵՏՈՒԹՅԱՆ ԿԱՌԱՎԱՐՈՒԹՅԱՆ 2020 ԹՎԱԿԱՆԻ ԴԵԿՏԵՄԲԵՐԻ 30-Ի N 2215-Ն ՈՐՈՇՄԱՆ N 9 ՀԱՎԵԼՎԱԾԻ N 9.1.20 ԱՂՅՈՒՍԱԿՈՒՄ ԿԱՏԱՐՎՈՂ ՓՈՓՈԽՈՒԹՅՈՒՆՆԵՐԸ
A5: ՀԱՅԱՍՏԱՆԻ ՀԱՆՐԱՊԵՏՈՒԹՅԱՆ ԿԱՌԱՎԱՐՈՒԹՅԱՆ 2022 ԹՎԱԿԱՆԻ ԴԵԿՏԵՄԲԵՐԻ 29-Ի N 2111-Ն ՈՐՈՇՄԱՆ N 9 ՀԱՎԵԼՎԱԾԻ N 9.15 ԵՎ N 9.47 ԱՂՅՈՒՍԱԿՆԵՐՈՒՄ ԿԱՏԱՐՎՈՂ ՓՈՓՈԽՈՒԹՅՈՒՆՆԵՐԸ ԵՎ ԼՐԱՑՈՒՄՆԵՐԸ
A6: Հայաստանի Հանրապետության աշխատանքի և սոցիալական հարցերի նախարարություն
A7: ՄԱՍ 2. ՊԵՏԱԿԱՆ ՄԱՐՄՆԻ ԳԾՈՎ ԱՐԴՅՈՒՆՔԱՅԻՆ (ԿԱՏԱՐՈՂԱԿԱՆ) ՑՈՒՑԱՆԻՇՆԵՐԸ
A11: Ծրագրի դասիչը | B11: Ծրագրի անվանումը
A12: 1117 | B12: ='1'!C12 -> Սոցիալական պաշտպանության բնագավառում պետական քաղաքականության մշակում, ծրագրերի համակարգում և մոնիթորինգ
A13: Ծրագրի միջոցառումներ
A15: Ծրագրի դասիչը` | B15: 1117 | C15: Ցուցանիշների փոփոխությունը ( նվազեցումները նշված են փակագծերում)
A16: Միջոցառման դասիչը` | B16: 11001 | C16: Տարի
A17: Միջոցառման անվանումը` | B17: Սոցիալական պաշտպանության բնագավառի պետական քաղաքականության մշակման, ծրագրերի համակարգման և մոնիթորինգի ծառայություններ
A18: Նկարագրությունը` | B18: Սոցիալական պաշտպանության բնագավառի պետական քաղաքականության մշակման, ծրագրերի համակարգման և մոնիտորինգի ծառայություններ
A19: Միջոցառման տեսակը` | B19: Ծառայությունների մատուցում
A20: Միջոցառումն իրականացնողի անվանումը՝ | B20: ՀՀ աշխատանքի և սոցիալական հարցերի նախարարություն
A21: Արդյունքի չափորոշիչներ
A22: Միջոցառման վրա կատարվող ծախսը (հազար դրամ) | C22: ='1'!D18 -> -4622
A24: Ծրագրի դասիչը` | B24: 1117 | C24: Ցուցանիշների փոփոխությունները ավելացումները նշված են դրական նշանով
A25: Միջոցառման դասիչը` | B25: ='1'!B24 -> 11011 | C25: Տարի
A26: Միջոցառման անվանումը` | B26: ='1'!C25 -> «Խնամատարության տարածաշրջանային համաժողով» խորագրով Հայաստանի Հանրապետությունում կայանալիք համաժողովի անցկացման կազմակերպման ապահովում
A27: Նկարագրությունը` | B27: ='1'!C27 -> «Խնամատարության տարածաշրջանային համաժողով» խորագրով Հայաստանի Հանրապետությունում կայանալիք համաժողովի անցկացման ծրագրով նախատեսված արարողակարգային և այլ միջոցառումների կազմակերպման ապահովում
A28: Միջոցառման տեսակը` | B28: Ծառայությունների մատուցում
A29: Միջոցառումն իրականացնողի անվանումը | B29: ՀՀ աշխատանքի և սոցիալական հարցերի նախարարություն
A30: Արդյունքի չափորոշիչներ
A31: Միջոցառման վրա կատարվող ծախսը (հազար դրամ) | C31: ='1'!D24 -> 4622
A33: ՀՀ Կառավարություն
A35: Ծրագրի դասիչը | B35: Ծրագրի անվանումը
A36: 1139 | B36: ՀՀ կառավարության պահուստային ֆոնդ
A37: Ծրագրի միջոցառումները
A39: Ծրագրի դասիչը` | B39: 1139 | C39: Ցուցանիշների փոփոխությունները նվազեցումները նշված են փակագծերում
A40: Միջոցառման դասիչը` | B40: 11001 | C40: ինն ամիս
A41: Միջոցառման անվանումը` | B41: ՀՀ կառավարության պահուստային ֆոնդ
A42: Նկարագրությունը` | B42: ՀՀ պետական բյուջեում նախատեսված ելքերի լրացուցիչ ֆինանսավորման, պետական բյուջեում չկանխատեսված ելքերի, ինչպես նաև բյուջետային երաշխիքների ապահովման ելքերի ֆինանսավորման ապահովում
A43: Միջոցառման տեսակը` | B43: Ծառայությունների մատուցում
A44: Միջոցառումն իրականացնողի անվանումը | B44: ՀՀ կառավարություն
A45: Արդյունքի չափորոշիչներ
A46: Միջոցառման վրա կատարվող ծախսը (հազար դրամ) | C46: ='[1]2'!G57 -> -4622
A48: Ծրագրի դասիչը` | B48: 1139 | C48: Ցուցանիշների փոփոխությունները (ավելացումները նշված են դրական նշանով)
A49: Միջոցառման դասիչը` | B49: 11001 | C49: ինն ամիս
A50: Միջոցառման անվանումը` | B50: ՀՀ կառավարության պահուստային ֆոնդ
A51: Նկարագրությունը` | B51: ՀՀ պետական բյուջեում նախատեսված ելքերի լրացուցիչ ֆինանսավորման, պետական բյուջեում չկանխատեսված ելքերի, ինչպես նաև բյուջետային երաշխիքների ապահովման ելքերի ֆինանսավորման ապահովում
A52: Միջոցառման տեսակը` | B52: Ծառայությունների մատուցում
A53: Միջոցառումն իրականացնողի անվանումը | B53: ՀՀ կառավարություն
A54: Արդյունքի չափորոշիչներ
A55: Միջոցառման վրա կատարվող ծախսը (հազար դրամ) | C55: ='[1]2'!G66 -> 4622

Sheet 4
C1: Հավելված N 4
C2: ՀՀ կառավարության 2023 թվականի
C3: -----------------ի N -----------Ն որոշման
A4: ՀԱՅԱՍՏԱՆԻ ՀԱՆՐԱՊԵՏՈՒԹՅԱՆ ԿԱՌԱՎԱՐՈՒԹՅԱՆ 2020 ԹՎԱԿԱՆԻ ԴԵԿՏԵՄԲԵՐԻ 30-Ի N 2215-Ն ՈՐՈՇՄԱՆ N 9 ՀԱՎԵԼՎԱԾԻ N 9.1.20 ԱՂՅՈՒՍԱԿՈՒՄ ԿԱՏԱՐՎՈՂ ՓՈՓՈԽՈՒԹՅՈՒՆՆԵՐԸ
A5: ՀԱՅԱՍՏԱՆԻ ՀԱՆՐԱՊԵՏՈՒԹՅԱՆ ԿԱՌԱՎԱՐՈՒԹՅԱՆ 2022 ԹՎԱԿԱՆԻ ԴԵԿՏԵՄԲԵՐԻ 29-Ի N 2111-Ն ՈՐՈՇՄԱՆ N 9.1 ՀԱՎԵԼՎԱԾԻ NN 9.1.15 ԵՎ 9.1.58 ԱՂՅՈՒՍԱԿՆԵՐՈՒՄ ԿԱՏԱՐՎՈՂ ՓՈՓՈԽՈՒԹՅՈՒՆՆԵՐԸ ԵՎ ԼՐԱՑՈՒՄՆԵՐԸ
A6: Հայաստանի Հանրապետության աշխատանքի և սոցիալական հարցերի նախարարություն
A7: ՄԱՍ 1. ՊԵՏԱԿԱՆ ՄԱՐՄՆԻ ԳԾՈՎ ԱՐԴՅՈՒՆՔԱՅԻՆ (ԿԱՏԱՐՈՂԱԿԱՆ) ՑՈՒՑԱՆԻՇՆԵՐԸ
A9: Ծրագրի դասիչը | B9: Ծրագրի անվանումը
A10: 1117 | B10: ='1'!C10 -> ՀՀ աշխատանքի և սոցիալական հարցերի նախարարություն
A11: Ծրագրի միջոցառումներ
A13: Ծրագրի դասիչը` | B13: 1117 | C13: Ցուցանիշների փոփոխությունը ( նվազեցումները նշված են փակագծերում)
A14: Միջոցառման դասիչը` | B14: 11001 | C14: Տարի
A15: Միջոցառման անվանումը` | B15: Սոցիալական պաշտպանության բնագավառի պետական քաղաքականության մշակման, ծրագրերի համակարգման և մոնիթորինգի ծառայություններ
A16: Նկարագրությունը` | B16: Սոցիալական պաշտպանության բնագավառի պետական քաղաքականության մշակման, ծրագրերի համակարգման և մոնիտորինգի ծառայություններ
A17: Միջոցառման տեսակը` | B17: Ծառայությունների մատուցում
A18: Միջոցառումն իրականացնողի անվանումը՝ | B18: ՀՀ աշխատանքի և սոցիալական հարցերի նախարարություն
A19: Արդյունքի չափորոշիչներ
A20: Միջոցառման վրա կատարվող ծախսը (հազար դրամ) | C20: ='3'!C22 -> -4622
A22: Ծրագրի դասիչը` | B22: ='3'!B24 -> 1117 | C22: Ցուցանիշների փոփոխությունները ավելացումները նշված են դրական նշանով
A23: Միջոցառման դասիչը` | B23: ='3'!B25 -> 11011 | C23: Տարի
A24: Միջոցառման անվանումը` | B24: ='3'!B26 -> «Խնամատարության տարածաշրջանային համաժողով» խորագրով Հայաստանի Հանրապետությունում կայանալիք համաժողովի անցկացման կազմակերպման ապահովում
A25: Նկարագրությունը` | B25: ='3'!B27 -> «Խնամատարության տարածաշրջանային համաժողով» խորագրով Հայաստանի Հանրապետությունում կայանալիք համաժողովի անցկացման ծրագրով նախատեսված արարողակարգային և այլ միջոցառումների կազմակերպման ապահովում
A26: Միջոցառման տեսակը` | B26: ='3'!B28 -> Ծառայությունների մատուցում
A27: Միջոցառումն իրականացնողի անվանումը? | B27: ='3'!B29 -> ՀՀ աշխատանքի և սոցիալական հարցերի նախարարություն
A28: Արդյունքի չափորոշիչներ
A29: Միջոցառման վրա կատարվող ծախսը (հազար դրամ) | C29: ='3'!C31 -> 4622
A31: ՀՀ Կառավարություն
A33: Ծրագրի դասիչը | B33: Ծրագրի անվանումը
A34: 1139 | B34: ՀՀ կառավարության պահուստային ֆոնդ
A35: Ծրագրի միջոցառումները
A37: Ծրագրի դասիչը` | B37: 1139 | C37: Ցուցանիշների փոփոխությունները նվազեցումները նշված են փակագծերում
A38: Միջոցառման դասիչը` | B38: 11001 | C38: ինն ամիս
A39: Միջոցառման անվանումը` | B39: ՀՀ կառավարության պահուստային ֆոնդ
A40: Նկարագրությունը` | B40: ՀՀ պետական բյուջեում նախատեսված ելքերի լրացուցիչ ֆինանսավորման, պետական բյուջեում չկանխատեսված ելքերի, ինչպես նաև բյուջետային երաշխիքների ապահովման ելքերի ֆինանսավորման ապահովում
A41: Միջոցառման տեսակը` | B41: Ծառայությունների մատուցում
A42: Միջոցառումն իրականացնողի անվանումը | B42: ՀՀ կառավարություն
A43: Արդյունքի չափորոշիչներ
A44: Միջոցառման վրա կատարվող ծախսը (հազար դրամ) | C44: ='[1]3'!C46 -> -4622
A46: Ծրագրի դասիչը` | B46: 1139 | C46: Ցուցանիշների փոփոխությունները (ավելացումները նշված են դրական նշանով)
A47: Միջոցառման դասիչը` | B47: 11001 | C47: ինն ամիս
A48: Միջոցառման անվանումը` | B48: ՀՀ կառավարության պահուստային ֆոնդ
A49: Նկարագրությունը` | B49: ՀՀ պետական բյուջեում նախատեսված ելքերի լրացուցիչ ֆինանսավորման, պետական բյուջեում չկանխատեսված ելքերի, ինչպես նաև բյուջետային երաշխիքների ապահովման ելքերի ֆինանսավորման ապահովում
A50: Միջոցառման տեսակը` | B50: Ծառայությունների մատուցում
A51: Միջոցառումն իրականացնողի անվանումը | B51: ՀՀ կառավարություն
A52: Արդյունքի չափորոշիչներ
A53: Միջոցառման վրա կատարվող ծախսը (հազար դրամ) | C53: ='[1]3'!C55 -> 4622

Sheet 5
I1: Հավելված N 5
I2: ՀՀ կառավարության 2023 թվականի
H3: -----------------ի N -----------Ն որոշման
A5: ՀԱՅԱՍՏԱՆԻ ՀԱՆՐԱՊԵՏՈՒԹՅԱՆ ԿԱՌԱՎԱՐՈՒԹՅԱՆ 2022 ԹՎԱԿԱՆԻ ԴԵԿՏԵՄԲԵՐԻ 29-Ի № 2111-Ն ՈՐՈՇՄԱՆ № 10 ՀԱՎԵԼՎԱԾՈՒՄ ԿԱՏԱՐՎՈՂ ԼՐԱՑՈՒՄՆԵՐԸ
A7: Կոդը | B7: Անվանումը | E7: Գնման ձևը | F7: Չափման միավորը | G7: Ցուցանիշների փոփոխությունները ավելացումները նշված են դրական նշանով
G8: Միավորի գինը | H8: Քանակը | I8: Գումարը (հազար դրամով)
A9: ՀՀ աշխատանքի և սոցիալական հարցերի նախարարություն | I9: =+I10+I14 -> 0
A10: Բաժին 10 | B10: Խումբ 09 | C10: Դաս 01 | D10: ='[2]2'!F16 -> Սոցիալական պաշտպանություն (այլ դասերին չպատկանող) | I10: =+I11 -> -4622
A11: 1117 11001 | B11: =+'[2]2'!F20 -> Սոցիալական պաշտպանության բնագավառի պետական քաղաքականության մշակման, ծրագրերի համակարգման և մոնիթորինգի ծառայություններ | I11: =I12 -> -4622
B12: ՄԱՍ III. ԾԱՌԱՅՈՒԹՅՈՒՆՆԵՐ | I12: =SUM(I13:I13) -> -4622
A13: 79211180/2 | B13: ներքին աուդիտի ծառայություններ | E13: ԷԱՃ | F13: դրամ | I13: =-4622000/1000 -> -4622
A14: Բաժին 10 | B14: Խումբ 09 | C14: Դաս 01 | D14: =+'[2]2'!F16 -> Սոցիալական պաշտպանություն (այլ դասերին չպատկանող) | I14: =+I15+I19 -> 4622
A15: 1117 11011 | B15: ='1'!C25 -> «Խնամատարության տարածաշրջանային համաժողով» խորագրով Հայաստանի Հանրապետությունում կայանալիք համաժողովի անցկացման կազմակերպման ապահովում | I15: =I16 -> 4622
B16: ՄԱՍ III. ԾԱՌԱՅՈՒԹՅՈՒՆՆԵՐ | I16: =SUM(I17:I17) -> 4622
A17: 98391160/1 | B17: ներկայացուցչական, արարողակարգային ծառայություններ | E17: ՄԱ | F17: դրամ | G17: 4622000 | H17: 1 | I17: =4622000/1000 -> 4622

Sheet 6
G1: Հավելված N 6
G2: ՀՀ կառավարության 2023 թվականի
F3: -----------------ի N -----------Ն որոշման
B5: ՀԱՅԱՍՏԱՆԻ ՀԱՆՐԱՊԵՏՈՒԹՅԱՆ 2023 ԹՎԱԿԱՆԻ ՊԵՏԱԿԱՆ ԲՅՈՒՋԵՈՎ ՆԱԽԱՏԵՍՎԱԾ՝ ՀԱՅԱՍՏԱՆԻ ՀԱՆՐԱՊԵՏՈՒԹՅԱՆ ԿԱՌԱՎԱՐՈՒԹՅԱՆ ՊԱՀՈՒՍՏԱՅԻՆ ՖՈՆԴԻՑ ՀԱՏԿԱՑՈՒՄՆԵՐ ԿԱՏԱՐԵԼՈՒ ՎԵՐԱԲԵՐՅԱԼ
G6: հազար դրամ
A7: Գործառական դասիչը | D7: Ծրագրային դասիչը | F7: Բյուջետային ծախսերի գործառական դասակարգման բաժինների, խմբերի և դասերի, բյուջետային ծրագրերի միջոցառումների, բյուջետային հատկացումների գլխավոր կարգադրիչների անվանումները | G7: Ցուցանիշների փոփոխությունը (ավելացումները նշված են դրական նշանով, իսկ նվազեցումները` փակագծերում)
A8: Բաժին | B8: Խումբ | C8: Դաս | D8: Ծրագիր | E8: Միջոցառում | G8: Ինն ամիս
F9: ԸՆԴԱՄԵՆԸ ԾԱԽՍԵՐ | G9: =G11+G38 -> 0
F10: այդ թվում`
F11: ՀՀ կառավարություն | G11: =G12 -> 0
A12: 11 | F12: ՀԻՄՆԱԿԱՆ ԲԱԺԻՆՆԵՐԻՆ ՉԴԱՍՎՈՂ ՊԱՀՈՒՍՏԱՅԻՆ ՖՈՆԴԵՐ | G12: =+G14 -> 0
F13: այդ թվում`
B14: 01 | F14: ՀՀ կառավարության և համայնքների պահուստային ֆոնդ | G14: =G16 -> 0
F15: այդ թվում`
C16: 01 | F16: ՀՀ կառավարության պահուստային ֆոնդ | G16: =G18 -> 0
F17: այդ թվում`
F18: ՀՀ կառավարություն | G18: =G20 -> 0
F19: այդ թվում՝
D20: 1139 | F20: ՀՀ կառավարության պահուստային ֆոնդ | G20: =G22++G30 -> 0
F21: այդ թվում՝
E22: 11001 | F22: ՀՀ կառավարության պահուստային ֆոնդ | G22: =G24 -> -4622
F23: այդ թվում՝ ըստ կատարողների
F24: ՀՀ կառավարություն | G24: =G26 -> -4622
F25: այդ թվում՝ բյուջետային ծախսերի տնտեսագիտական դասակարգման հոդվածներ
F26: ԸՆԴԱՄԵՆԸ ԾԱԽՍԵՐ | G26: =G27 -> -4622
F27: ԸՆԹԱՑԻԿ ԾԱԽՍԵՐ | G27: =G28 -> -4622
F28: ԱՅԼ ԾԱԽՍԵՐ | G28: =G29 -> -4622
F29: - Պահուստային միջոցներ | G29: ='[1]2'!G58 -> -4622
E30: 11001 | F30: ՀՀ կառավարության պահուստային ֆոնդ | G30: =G32 -> 4622
F31: այդ թվում՝ ըստ կատարողների
F32: ՀՀ կառավարություն | G32: =G34 -> 4622
F33: այդ թվում՝ բյուջետային ծախսերի տնտեսագիտական դասակարգման հոդվածներ
F34: ԸՆԴԱՄԵՆԸ ԾԱԽՍԵՐ | G34: =G35 -> 4622
F35: ԸՆԹԱՑԻԿ ԾԱԽՍԵՐ | G35: =G36 -> 4622
F36: ԱՅԼ ԾԱԽՍԵՐ | G36: =G37 -> 4622
F37: - Պահուստային միջոցներ | G37: ='[1]2'!G66 -> 4622
F38: ՀՀ աշխատանքի և սոցիալական հարցերի նախարարություն | G38: =G39 -> 0
A39: 10 | F39: ՍՈՑԻԱԼԱԿԱՆ ՊԱՇՏՊԱՆՈՒԹՅՈՒՆ | G39: =G41 -> 0
F40: այդ թվում`
B41: 09 | F41: Սոցիալական պաշտպանություն (այլ դասերին չպատկանող) | G41: =G43 -> 0
F42: այդ թվում՝
C43: 01 | F43: Սոցիալական պաշտպանություն (այլ դասերին չպատկանող) | G43: =G45 -> 0
F44: այդ թվում`
F45: ՀՀ աշխատանքի և սոցիալական հարցերի նախարարություն | G45: =G47 -> 0
F46: այդ թվում`
D47: 1117 | F47: ='[1]1'!C36 -> Պահուստային ֆոնդի կառավարման արդյունավետության և թափանցիկության ապահովում | G47: =G49+G58 -> 0
F48: այդ թվում`
E49: 11001 | F49: Սոցիալական պաշտպանության բնագավառի պետական քաղաքականության մշակման, ծրագրերի համակարգման և մոնիթորինգի ծառայություններ | G49: =G51 -> -4622
F50: այդ թվում` ըստ կատարողների
F51: ՀՀ աշխատանքի և սոցիալական հարցերի նախարարություն | G51: =G53 -> -4622
F52: այդ թվում` բյուջետային ծախսերի տնտեսագիտական դասակարգման հոդվածներ
F53: ԸՆԴԱՄԵՆԸ ԾԱԽՍԵՐ | G53: =G54 -> -4622
F54: ԸՆԹԱՑԻԿ ԾԱԽՍԵՐ | G54: =G55 -> -4622
F55: ԾԱՌԱՅՈՒԹՅՈՒՆՆԵՐԻ ԵՎ ԱՊՐԱՆՔՆԵՐԻ ՁԵՌՔԲԵՐՈՒՄ | G55: =G56 -> -4622
F56: Պայմանագրային այլ ծառայությունների ձեռքբերում | G56: =G57 -> -4622
F57: - Կառավարչական ծառայություններ | G57: ='[1]2'!G30 -> -4622
E58: 11011 | F58: ='1'!C25 -> «Խնամատարության տարածաշրջանային համաժողով» խորագրով Հայաստանի Հանրապետությունում կայանալիք համաժողովի անցկացման կազմակերպման ապահովում | G58: =G60 -> 4622
F59: այդ թվում` ըստ կատարողների
F60: ՀՀ աշխատանքի և սոցիալական հարցերի նախարարություն | G60: =G61 -> 4622
F61: այդ թվում` բյուջետային ծախսերի տնտեսագիտական դասակարգման հոդվածներ | G61: =G62 -> 4622
F62: ԸՆԴԱՄԵՆԸ ԾԱԽՍԵՐ | G62: =G63 -> 4622
F63: ԸՆԹԱՑԻԿ ԾԱԽՍԵՐ | G63: =G64 -> 4622
F64: ԾԱՌԱՅՈՒԹՅՈՒՆՆԵՐԻ ԵՎ ԱՊՐԱՆՔՆԵՐԻ ՁԵՌՔԲԵՐՈՒՄ | G64: =G65 -> 4622
F65: Պայմանագրային այլ ծառայությունների ձեռքբերում | G65: =G66 -> 4622
F66: - Ներկայացուցչական ծախսեր | G66: ='[1]2'!G39 -> 4622
