Workbook
Name AgencyCode: #REF!
Name AgencyCode: #REF!
Name AgencyCode: #REF!
Name AgencyCode: #REF!
Name AgencyCode: #REF!
Name AgencyName: #REF!
Name AgencyName: #REF!
Name åû: #REF!
Name åû: #REF!
Name davit: #REF!
Name davit: #REF!
Name Functional1: #REF!
Name Functional1: #REF!
Name ggg: #REF!
Name ggg: #REF!
Name mas: #REF!
Name mas: #REF!
Name mass: #REF!
Name mass: #REF!
Name PANature: #REF!
Name PANature: #REF!
Name PAType: #REF!
Name PAType: #REF!
Name Performance2: #REF!
Name Performance2: #REF!
Name PerformanceType: #REF!
Name PerformanceType: #REF!
Name x: #REF!
Name x: #REF!
Name x: #REF!
Name Հավելված: #REF!
Name Հավելված: #REF!
Name Մաս: #REF!
Name Մաս: #REF!
Name շախմատիստ: #REF!
Name շախմատիստ: #REF!

Sheet 1
B1: Հավելված N 1
B2: ՀՀ կառավարության 2023 թվականի
B3: ______________ ի ___Ն որոշման
A5: «ՀԱՅԱՍՏԱՆԻ ՀԱՆՐԱՊԵՏՈՒԹՅԱՆ 2023 ԹՎԱԿԱՆԻ ՊԵՏԱԿԱՆ ԲՅՈՒՋԵԻ ՄԱՍԻՆ» ՕՐԵՆՔԻ N 2 ՀՈԴՎԱԾԻ ԱՂՅՈՒՍԱԿՈՒՄ ԿԱՏԱՐՎՈՂ ՓՈՓՈԽՈՒԹՅՈՒՆՆԵՐԸ
B7: հազար դրամներով
B8: Ցուցանիշների փոփոխությունը (նվազեցումները նշված են փակագծերում)
A9: 1. Եկամուտների գծով | B9: 0
A10: 2. Ծախսերի գծով | B10: ='2'!B10 -> -444623
A11: 3. Դեֆիցիտը (պակասուրդը) | B11: =-B9+B10 -> -444623

Sheet 2
B1: Հավելված N 2
B2: ՀՀ կառավարության 2023 թվականի
B3: ______________ ի ___Ն որոշման
A5: ՀԱՅԱՍՏԱՆԻ ՀԱՆՐԱՊԵՏՈՒԹՅԱՆ ԿԱՌԱՎԱՐՈՒԹՅԱՆ 2022 ԹՎԱԿԱՆԻ ԴԵԿՏԵՄԲԵՐԻ 29-Ի N 2111-Ն ՈՐՈՇՄԱՆ N 1 ՀԱՎԵԼՎԱԾԻ N 1 ԱՂՅՈՒՍԱԿՈՒՄ ԿԱՏԱՐՎՈՂ ՓՈՓՈԽՈՒԹՅՈՒՆՆԵՐԸ
B7: հազ. դրամ
A8: Պետական բյուջեի դեֆիցիտի ֆինանսավորման աղբյուրներն ու դրանց տարրերի անվանումները | B8: Ցուցանիշների փոփոխությունը (Ավելացումները նշված են դրական նշանով, իսկ նվազեցումները՝ փակագծերում)
B9: Տարի
A10: ԸՆԴԱՄԵՆԸ | B10: =+B12 -> -444623
A11: այդ թվում՝
A12: Բ. Արտաքին աղբյուրներ - ընդամենը | B12: =+B14 -> -444623 | C12: .
A13: այդ թվում՝
A14: 1. Փոխառու զուտ միջոցներ | B14: =+B16+B19 -> -444623
A15: այդ թվում՝
A16: 1.1. Վարկերի և փոխատվությունների ստացում | B16: =+B18 -> -3739188.9
A17: որից`
A18: նպատակային վարկերի գծով | B18: -3739188.9
A19: 1.2. Ստացված վարկերի և փոխատվությունների մարում | B19: =+B20 -> 3294565.9
A20: ՀՀ ֆինանսների նախարարություն | B20: 3294565.9

Sheet 3
D1: Հավելված N 3
D2: ՀՀ կառավարության 2023 թվականի
D3: ______________ ի ___Ն որոշման
A5: ՀԱՅԱՍՏԱՆԻ ՀԱՆՐԱՊԵՏՈՒԹՅԱՆ ԿԱՌԱՎԱՐՈՒԹՅԱՆ 2022 ԹՎԱԿԱՆԻ ԴԵԿՏԵՄԲԵՐԻ 29-Ի N 2111-Ն ՈՐՈՇՄԱՆ N 1 ՀԱՎԵԼՎԱԾԻ N 2 ԱՂՅՈՒՍԱԿՈՒՄ ԿԱՏԱՐՎՈՂ ՓՈՓՈԽՈՒԹՅՈՒՆՆԵՐԸ
D7: հազար դրամ
A8: Ծրագրային դասիչ | C8: Բյուջետային գլխավոր կարգադրիչների, ծրագրերի և միջոցառումների անվանումները | D8: Տարի
A9: Ծրագիր | B9: Միջոցառում
D10: Ցուցանիշների փոփոխությունը (Նվազեցումները նշված են փակագծերում)
C11: ԸՆԴԱՄԵՆԸ այդ թվում | D11: =+D13 -> -3294565.9
A12: ՀՀ ֆինանսների նախարարություն
A13: 1211 | C13: Ծրագրի անվանումը՝ Ֆինանսական պարտավորությունների կատարման ծրագիր | D13: =+D20 -> -3294565.9
C15: Ծրագրի նպատակը՝ Պետական ֆինանսական պարտավորությունների կատարման ապահովում
C17: Վերջնական արդյունքի նկարագրությունը՝ Պետական ֆինանսական պարտավորությունների պատշաճ կատարում
A19: Ֆինանսական ակտիվների կառավարման միջոցառումներ
B20: 43001 | C20: Միջոցառման անվանումը՝ Արտաքին աղբյուրներից ստացված վարկերի և փոխատվությունների մարում | D20: -3294565.9
C22: Միջոցառման նկարագրությունը՝ Օտարերկրյա պետություններից, միջազգային կազմակերպություններից և այլ արտաքին աղբյուրներից ստացված վարկերի և փոխատվությունների մարում
C24: Միջոցառման տեսակը՝ Վարկերի մարում

Sheet 4
C1: Հավելված N 4
C2: ՀՀ կառավարության 2023 թվականի
A3: ______________ ի ___Ն որոշման
A5: ՀԱՅԱՍՏԱՆԻ ՀԱՆՐԱՊԵՏՈՒԹՅԱՆ ԿԱՌԱՎԱՐՈՒԹՅԱՆ 2022 ԹՎԱԿԱՆԻ ԴԵԿՏԵՄԲԵՐԻ 29-Ի N 2111-Ն ՈՐՈՇՄԱՆ N 1 ՀԱՎԵԼՎԱԾԻ N 5 ԱՂՅՈՒՍԱԿՈՒՄ ԿԱՏԱՐՎՈՂ ՓՈՓՈԽՈՒԹՅՈՒՆՆԵՐԸ
A7: ՄԱՍ 2. ՊԵՏԱԿԱՆ ՄԱՐՄՆԻ ԳԾՈՎ ԱՐԴՅՈՒՆՔԱՅԻՆ (ԿԱՏԱՐՈՂԱԿԱՆ) ՑՈՒՑԱՆԻՇՆԵՐԸ
A9: Ծրագրի դասիչը | B9: Ծրագրի անվանումը | C9: `
A10: 1211 | B10: Ֆինանսական պարտավորությունների կատարում
A11: Ծրագրի միջոցառումները
A13: Ծրագրի դասիչը՝ | B13: 1211 | C13: Ցուցանիշների փոփոխությունը (նվազեցումները նշված են փակագծերում)
A14: Միջոցառման դասիչը՝ | B14: 43001 | C14: Տարի
A15: Միջոցառման անվանումը՝ | B15: Արտաքին աղբյուրներից ստացված վարկերի և փոխատվությունների մարում
A16: Նկարագրությունը՝ | B16: Օտարերկրյա պետություններից, միջազգային կազմակերպություններից և այլ արտաքին աղբյուրներից ստացված վարկերի և փոխատվությունների մարում
A17: Միջոցառման տեսակը՝ | B17: Վարկերի մարում
A18: Միջոցառումն իրականացնողի անվանումը՝ | B18: ՀՀ ֆինանսների նախարարություն
B19: Արդյունքի չափորոշիչներ
A20: Միջոցառման վրա կատարվող ծախսը (հազար դրամ) | C20: -3294565.9

Sheet 5
D1: Հավելված N 5
D2: ՀՀ կառավարության 2023 թվականի
D3: ______________ ի ___Ն որոշման
A5: «ՀԱՅԱUՏԱՆԻ ՀԱՆՐԱՊԵՏՈՒԹՅԱՆ 2023 ԹՎԱԿԱՆԻ ՊԵՏԱԿԱՆ ԲՅՈՒՋԵԻ ՄԱUԻՆ» OՐԵՆՔԻ N 1 ՀԱՎԵԼՎԱԾԻ N 2 ԱՂՅՈՒՍԱԿՈՒՄ ԿԱՏԱՐՎՈՂ ՎԵՐԱԲԱՇԽՈՒՄԸ ԵՎ ՀԱՅԱՍՏԱՆԻ ՀԱՆՐԱՊԵՏՈՒԹՅԱՆ ԿԱՌԱՎԱՐՈՒԹՅԱՆ 2022 ԹՎԱԿԱՆԻ ԴԵԿՏԵՄԲԵՐԻ 29-Ի N 2111-Ն ՈՐՈՇՄԱՆ N 5 ՀԱՎԵԼՎԱԾԻ N 1 ԱՂՅՈՒՍԱԿՈՒՄ ԿԱՏԱՐՎՈՂ ՓՈՓՈԽՈՒԹՅՈՒՆՆԵՐԸ
D6: հազ. դրամ
A7: Ծրագրային դասիչը | C7: Բյուջետային հատկացումների գլխավոր կարգադրիչների, ծրագրերի և միջոցառումների անվանումները | D7: Ցուցանիշների փոփոխությունը (Ավելացումները նշված են դրական նշանով, իսկ նվազեցումները` փակագծերում)
A8: Ծրագիր | B8: Միջոցառում | D8: Տարի
A9: 1192 | C9: ԸՆԴԱՄԵՆԸ | D9: =D11 -> -444623
C10: այդ թվում`
C11: ՀՀ տարածքային կառավարման և ենթակառուցվածքների նախարարություն | D11: =D12+D25 -> -444623
A12: 1004 | C12: Ծրագրի անվանումը` | D12: =+D19 -> 3294565.9
C13: Ոռոգման համակարգի առողջացում
C14: Ծրագրի նպատակը`
C15: Ոռոգման ծառայությունների հասանելիության և մատչելիության ապահովում
C16: Վերջնական արդյունքի նկարագրությունը`
C17: Ոռոգման ջրի մատակարարման արդյունավետության և հասանելիության բարելավում, կորուստների կրճատում
A18: Ծրագրի միջոցառումներ
B19: 11002 | C19: Միջոցառման անվանումը` | D19: ='2'!B19 -> 3294565.9
C20: Ոռոգման ծառայություններ մատուցող ընկերություններին ֆինանսական աջակցության տրամադրում
C21: Միջոցառման նկարագրությունը`
C22: Ոռոգման ոլորտի սուբսիդավորում ՋՕԸ-ների համար սահմանված ոռոգման ջրի սակագնի և նվազագույն շահավետ գնի տարբերության չափով
C23: Միջոցառման տեսակը
C24: Ծառայությունների մատուցում
A25: 1157 | C25: Ծրագրի անվանումը` | D25: =+D32+D38 -> -3739188.9
C26: Քաղաքային զարգացում
C27: Ծրագրի նպատակը`
C28: Քաղաքային ենթակառուցվածքների զարգացում
C29: Վերջնական արդյունքի նկարագրությունը`
C30: Քաղաքային ենթակառուցվածքների արդիականացում և բարելավում
A31: Ծրագրի միջոցառումներ
B32: 12029 | C32: Միջոցառման անվանումը` | D32: -960051
C33: Ասիական զարգացման բանկի աջակցությամբ իրականացվող քաղաքային կանաչ զարգացման ներդրումային ծրագրի համակարգում և կառավարում
C34: Միջոցառման նկարագրությունը`
C35: Քաղաքային կանաչ զարգացման ներդրումային ծրագրի շրջանակներում համակարգում և կառավարում
C36: Միջոցառման տեսակը
C37: Տրանսֆերտների տրամադրում
B38: 12030 | C38: Միջոցառման անվանումը` | D38: -2779137.9
C39: Ասիական զարգացման բանկի աջակցությամբ իրականացվող քաղաքային կանաչ զարգացման ներդրումային ծրագրի շրջանակներում ճանապարհային շինարարություն
C40: Միջոցառման նկարագրությունը`
C41: Քաղաքային կանաչ զարգացման ներդրումային ծրագրի շրջանակներում ճանապարհային շինարարություն
...

Sheet 3-1
B1: Հավելված N3
B2: ՀՀ կառավարության 2022 թվականի
B3: ______________ ի ___Ն որոշման
B5: ՀԱՅԱՍՏԱՆԻ ՀԱՆՐԱՊԵՏՈՒԹՅԱՆ ԿԱՌԱՎԱՐՈՒԹՅԱՆ 2021 ԹՎԱԿԱՆԻ ԴԵԿՏԵՄԲԵՐԻ 23-Ի N 2121-Ն ՈՐՈՇՄԱՆ N 3 ԵՎ N 4 ՀԱՎԵԼՎԱԾՆԵՐՈՒՄ ԿԱՏԱՐՎՈՂ ՓՈՓՈԽՈՒԹՅՈՒՆՆԵՐԸ ԵՎ ԼՐԱՑՈՒՄՆԵՐԸ
H7: հազ. դրամ
B8: Գործառական դասիչը | E8: Ծրագրային դասիչը | G8: Բյուջետային ծախսերի գործառական դասակարգման բաժինների, խմբերի և դասերի, բյուջետային հատկացումների գլխավոր կարգադրիչների, ծրագրերի, միջոցառումների և միջոցառումները կատարող պետական մարմինների անվանումները | H8: Ցուցանիշների փոփոխությունը (ավելացումները նշված են դրական նշանով, իսկ նվազեցումները` փակագծերում)
B9: Բաժին | C9: Խումբ | D9: Դաս | E9: Ծրագիր | F9: Միջոցառում | H9: Ինն ամիս | I9: Տարի
G10: ԸՆԴԱՄԵՆԸ ԾԱԽՍԵՐ | H10: =+H12+H13 -> 14976.427 | I10: =+I12+I13 -> -363431.87
G11: այդ թվում`
B12: 04 | C12: 03 | D12: 05 | E12: 1167 | F12: 11006 | G12: Գերմանիայի զարգացման վարկերի բանկի (KFW)) աջակցությամբ իրականացվող «Կովկասյան էլեկտրահաղորդման ցանց I» Հայաստան-Վրաստան հաղորդիչ գիծ/ենթակայանների դրամաշնորհային ծրագիր | H12: 14976.427 | I12: -25089.77
B13: 04 | C13: 03 | D13: 05 | E13: 1167 | F13: 32006 | G13: Գերմանիայի զարգացման վարկերի բանկի (KFW) աջակցությամբ իրականացվող Կովկասյան էլեկտրահաղորդման ցանց I Հայաստան-Վրաստան հաղորդիչ գիծ/ենթակայանների դրամաշնորհային ծրագրի շրջանակներում իրականացվող ներդրումներ | H13: 0 | I13: -338342.1

Sheet 6
A1: Հավելված N 6
A2: ՀՀ կառավարության 2023 թվականի
A3: ______________ ի ___Ն որոշման
A5: ՀԱՅԱՍՏԱՆԻ ՀԱՆՐԱՊԵՏՈՒԹՅԱՆ ԿԱՌԱՎԱՐՈՒԹՅԱՆ 2022 ԹՎԱԿԱՆԻ ԴԵԿՏԵՄԲԵՐԻ 29-Ի N 2111-Ն ՈՐՈՇՄԱՆ N 3 ԵՎ N 4 ՀԱՎԵԼՎԱԾՆԵՐՈՒՄ ԿԱՏԱՐՎՈՂ ՓՈՓՈԽՈՒԹՅՈՒՆՆԵՐԸ
G7: =+'5'!D6 -> հազ. դրամ
A8: Գործառական դասիչը | D8: Ծրագրային դասիչը | F8: Բյուջետային ծախսերի գործառական դասակարգման բաժինների, խմբերի և դասերի, բյուջետային հատկացումների գլխավոր կարգադրիչների, ծրագրերի, միջոցառումների և միջոցառումները կատարող պետական մարմինների անվանումները | G8: Ցուցանիշների փոփոխությունը (Ավելացումները նշված են դրական նշանով, իսկ նվազեցումները` փակագծերում)
A9: Բաժին | B9: Խումբ | C9: Դաս | D9: Ծրագիր | E9: Միջոցառում | G9: Տարի
F10: ԸՆԴԱՄԵՆԸ ԾԱԽՍԵՐ | G10: =G12 -> -444623
F11: այդ թվում`
F12: ՀՀ ՏԱՐԱԾՔԱՅԻՆ ԿԱՌԱՎԱՐՄԱՆ ԵՎ ԵՆԹԱԿԱՌՈՒՑՎԱԾՔՆԵՐԻ ՆԱԽԱՐԱՐՈՒԹՅՈՒՆ | G12: =+G14 -> -444623
F13: այդ թվում`
A14: 04 | F14: ՏՆՏԵՍԱԿԱՆ ՀԱՐԱԲԵՐՈՒԹՅՈՒՆՆԵՐ | G14: =G16+G33 -> -444623
F15: այդ թվում`
B16: 02 | F16: Գյուղատնտեսություն, անտառային տնտեսություն, ձկնորսություն և որսորդություն | G16: =+G18 -> 3294565.9
F17: այդ թվում`
C18: 04 | F18: Ոռոգում | G18: =+G22 -> 3294565.9
F19: այդ թվում`
F20: ՀՀ ՏԱՐԱԾՔԱՅԻՆ ԿԱՌԱՎԱՐՄԱՆ ԵՎ ԵՆԹԱԿԱՌՈՒՑՎԱԾՔՆԵՐԻ ՆԱԽԱՐԱՐՈՒԹՅՈՒՆ | G20: =G22 -> 3294565.9
F21: այդ թվում`
D22: 1004 | F22: Ոռոգման համակարգի առողջացում | G22: =+G24 -> 3294565.9
F23: այդ թվում`
E24: 11002 | F24: Ոռոգման ծառայություններ մատուցող ընկերություններին ֆինանսական աջակցության տրամադրում | G24: =+G26 -> 3294565.9
F25: այդ թվում` ըստ կատարողների
F26: ՀՀ տարածքային կառավարման և ենթակառուցվածքների նախարարության ջրային կոմիտե | G26: =+G28 -> 3294565.9
F27: այդ թվում` բյուջետային ծախսերի տնտեսագիտական դասակարգման հոդվածներ
F28: ԸՆԴԱՄԵՆԸ ԾԱԽՍԵՐ | G28: =+G29 -> 3294565.9
F29: ԸՆԹԱՑԻԿ ԾԱԽՍԵՐ | G29: =+G30 -> 3294565.9
F30: ՍՈՒԲՍԻԴԻԱՆԵՐ | G30: =+G31 -> 3294565.9
F31: Սուբսիդիաներ ոչ պետական կազմակերպություններին | G31: =+G32 -> 3294565.9
F32: - Սուբսիդիաներ ոչ պետական ոչ ֆինանսական կազմակերպություններին | G32: ='5'!D19 -> 3294565.9
B33: 05 | F33: Տրանսպորտ | G33: =+G35 -> -3739188.9
F34: այդ թվում`
C35: 01 | F35: Ճանապարհային տրանսպորտ | G35: =+G37 -> -3739188.9
F36: այդ թվում`
F37: ՀՀ ՏԱՐԱԾՔԱՅԻՆ ԿԱՌԱՎԱՐՄԱՆ ԵՎ ԵՆԹԱԿԱՌՈՒՑՎԱԾՔՆԵՐԻ ՆԱԽԱՐԱՐՈՒԹՅՈՒՆ | G37: =G39 -> -3739188.9
F38: այդ թվում`
D39: 1157 | F39: Ճանապարհային ցանցի բարելավում | G39: =G41+G50 -> -3739188.9
F40: այդ թվում`
E41: 12029 | F41: Ասիական զարգացման բանկի աջակցությամբ իրականացվող քաղաքային կանաչ զարգացման ներդրումային ծրագրի համակարգում և կառավարում | G41: =G43 -> -960051
F42: այդ թվում` ըստ կատարողների
...

Sheet 7
F1: Հավելված N 7
F2: ՀՀ կառավարության 2023 թվականի
F3: ______________ ի ___Ն որոշման
A5: «ՀԱՅԱUՏԱՆԻ ՀԱՆՐԱՊԵՏՈՒԹՅԱՆ 2023 ԹՎԱԿԱՆԻ ՊԵՏԱԿԱՆ ԲՅՈՒՋԵԻ ՄԱUԻՆ» OՐԵՆՔԻ N 1 ՀԱՎԵԼՎԱԾԻ N 4 ԱՂՅՈՒՍԱԿՈՒՄ ԵՎ ՀԱՅԱՍՏԱՆԻ ՀԱՆՐԱՊԵՏՈՒԹՅԱՆ ԿԱՌԱՎԱՐՈՒԹՅԱՆ 2022 ԹՎԱԿԱՆԻ ԴԵԿՏԵՄԲԵՐԻ 29-Ի N 2111-Ն ՈՐՈՇՄԱՆ N 5 ՀԱՎԵԼՎԱԾԻ N 3 ԱՂՅՈՒՍԱԿՈՒՄ ԿԱՏԱՐՎՈՂ ՓՈՓՈԽՈՒԹՅՈՒՆՆԵՐԸ
F6: հազ. դրամ
A7: Ծրագրային դասիչը | C7: Բյուջետային գլխավոր կարգադրիչների, ծրագրերի և միջոցառումների անվանումները | D7: Ցուցանիշների փոփոխությունը (Նվազեցումները նշված են փակագծերում)
D8: Տարի
D9: Ընդամենը | E9: այդ թվում`
A10: Ծրագիր | B10: Միջոց առում | E10: Վարկային միջոցներ | F10: Համաֆինան սավորում
C11: ԸՆԴԱՄԵՆԸ_x000D_ այդ թվում` | D11: =E11+F11 -> -3739188.9 | E11: =E12+E13 -> -3739188.9 | F11: =F12+F13 -> 0
C12: - ԸՆԹԱՑԻԿ ԾԱԽՍԵՐ | D12: =+E12+F12 -> -960051 | E12: =E17 -> -960051 | F12: 0
C13: - ՈՉ ՖԻՆԱՆՍԱԿԱՆ ԱԿՏԻՎՆԵՐԻ ԳԾՈՎ ԾԱԽՍԵՐ | D13: =+E13+F13 -> -2779137.9 | E13: =E26 -> -2779137.9
C14: ՀՀ ՏԱՐԱԾՔԱՅԻՆ ԿԱՌԱՎԱՐՄԱՆ ԵՎ ԵՆԹԱԿԱՌՈՒՑՎԱԾՔՆԵՐԻ ՆԱԽԱՐԱՐՈՒԹՅՈՒՆ_x000D_ այդ թվում` | D14: =E14+F14 -> -3739188.9 | E14: =E15 -> -3739188.9
A15: 1157 | C15: Քաղաքային զարգացում | D15: =+E15+F15 -> -3739188.9 | E15: =E17+E26 -> -3739188.9 | F15: =+F17 -> 0
C16: այդ թվում`
B17: 12029 | C17: Ասիական զարգացման բանկի աջակցությամբ իրականացվող քաղաքային կանաչ զարգացման ներդրումային ծրագրի համակարգում և կառավարում | D17: =+E17+F17 -> -960051 | E17: =+E19 -> -960051 | F17: =+F19 -> 0
C18: այդ թվում` ըստ կատարողների
C19: ՀՀ տարածքային կառավարման և ենթակառուցվածքների նախարարություն | D19: =+E19+F19 -> -960051 | E19: =+E21 -> -960051 | F19: =+F21 -> 0
C20: այդ թվում` բյուջետային ծախսերի տնտեսագիտական դասակարգման հոդվածներ
C21: ԸՆԴԱՄԵՆԸ ԾԱԽՍԵՐ | D21: =+E21+F21 -> -960051 | E21: =+E22 -> -960051 | F21: =+F22 -> 0
C22: ԸՆԹԱՑԻԿ ԾԱԽՍԵՐ | D22: =+E22+F22 -> -960051 | E22: =+E23 -> -960051 | F22: =+F23 -> 0
C23: ԴՐԱՄԱՇՆՈՐՀՆԵՐ | D23: =+E23+F23 -> -960051 | E23: =+E24 -> -960051 | F23: =+F24 -> 0
C24: Կապիտալ դրամաշնորհներ պետական հատվածի այլ մակարդակներին | D24: =+E24+F24 -> -960051 | E24: =+E25 -> -960051 | F24: 0
C25: - Այլ կապիտալ դրամաշնորհներ | D25: =+E25+F25 -> -960051 | E25: ='6'!G49 -> -960051 | F25: 0
B26: 12030 | C26: Ասիական զարգացման բանկի աջակցությամբ իրականացվող քաղաքային կանաչ զարգացման ներդրումային ծրագրի շրջանակներում ճանապարհային շինարարություն | D26: =+E26+F26 -> -2779137.9 | E26: =+E28 -> -2779137.9 | F26: =+F28 -> 0
C27: այդ թվում` ըստ կատարողների
C28: ՀՀ տարածքային կառավարման և ենթակառուցվածքների նախարարություն | D28: =+E28+F28 -> -2779137.9 | E28: =+E30 -> -2779137.9 | F28: =+F30 -> 0
C29: այդ թվում` բյուջետային ծախսերի տնտեսագիտական դասակարգման հոդվածներ
C30: ԸՆԴԱՄԵՆԸ ԾԱԽՍԵՐ | D30: =+E30+F30 -> -2779137.9 | E30: =+E31 -> -2779137.9 | F30: =+F31 -> 0
C31: ՈՉ ՖԻՆԱՆՍԱԿԱՆ ԱԿՏԻՎՆԵՐԻ ԳԾՈՎ ԾԱԽՍԵՐ | D31: =+E31+F31 -> -2779137.9 | E31: =+E32 -> -2779137.9 | F31: =+F32 -> 0
C32: ՀԻՄՆԱԿԱՆ ՄԻՋՈՑՆԵՐ | D32: =+E32+F32 -> -2779137.9 | E32: =E33 -> -2779137.9
C33: ՇԵՆՔԵՐ ԵՎ ՇԻՆՈՒԹՅՈՒՆՆԵՐ | D33: =+E33+F33 -> -2779137.9 | E33: =+E34 -> -2779137.9 | F33: =+F34 -> 0
C34: - Շենքերի և շինությունների շինարարություն | D34: =+E34+F34 -> -2779137.9 | E34: ='6'!G58 -> -2779137.9 | F34: 0

Sheet 8-1
A1: Հավելված N 8
A2: ՀՀ կառավարության 2023 թվականի
A3: -ի N -Ն որոշման
A4: Աղյուսակ 1
A5: ՀԱՅԱՍՏԱՆԻ ՀԱՆՐԱՊԵՏՈՒԹՅԱՆ ԿԱՌԱՎԱՐՈՒԹՅԱՆ 2022 ԹՎԱԿԱՆԻ ԴԵԿՏԵՄԲԵՐԻ 29-Ի N 2111-Ն ՈՐՈՇՄԱՆ N 9 ՀԱՎԵԼՎԱԾԻ N 9.7 ԱՂՅՈՒՍԱԿՈՒՄ ԿԱՏԱՐՎՈՂ ՓՈՓՈԽՈՒԹՅՈՒՆՆԵՐԸ ԵՎ ԼՐԱՑՈՒՄՆԵՐԸ
A6: ՀՀ տարածքային կառավարման և ենթակառուցվածքների նախարարություն
A8: ՄԱՍ 2. ՊԵՏԱԿԱՆ ՄԱՐՄՆԻ ԳԾՈՎ ԱՐԴՅՈՒՆՔԱՅԻՆ (ԿԱՏԱՐՈՂԱԿԱՆ) ՑՈՒՑԱՆԻՇՆԵՐԸ | C8: Աղյուսակ 9.7
A10: Ծրագրի դասիչը | B10: Ծրագրի անվանումը
A11: 1004 | B11: Ոռոգման համակարգի առողջացում
A12: Ծրագրի միջոցառումները
A14: Ծրագրի դասիչը` | B14: 1004 | C14: Ցուցանիշների փոփոխությունը (ավելացումները նշված են դրական նշանով)
A16: Միջոցառման դասիչը` | B16: 11002 | C16: Տարի
A17: Միջոցառման անվանումը` | B17: Ոռոգման ծառայություններ մատուցող ընկերություններին ֆինանսական աջակցության տրամադրում
A18: Նկարագրությունը` | B18: Ոռոգման ոլորտի սուբսիդավորում ՋՕԸ-ների համար սահմանված ոռոգման ջրի սակագնի և նվազագույն շահավետ գնի տարբերության չափով
A19: Միջոցառման տեսակը` | B19: Ծառայությունների մատուցում
A20: Միջոցառումն իրականացնողի անվանումը | B20: Ջրօգտագործողների ընկերություններ
A21: Արդյունքի չափորոշիչներ
A22: «Արագածոտն» ՋՕԸ-ում մինչև 3 հա հողատարածքներում կաթիլային ոռոգման համակարգով ոռոգման ջրի վարձավճարի փոխհատուցում ստացող ջրօգտագործողների քանակ, հատ | C22: 1
A23: Միջոցառման վրա կատարվող ծախսը (հազար դրամ) | C23: ='5'!D19 -> 3294565.9
A25: Ծրագրի դասիչը | B25: Ծրագրի անվանումը
A26: 1157 | B26: Քաղաքային զարգացում
A27: Ծրագրի միջոցառումները
A28: Ծրագրի դասիչը` | B28: 1157 | C28: Ցուցանիշների փոփոխությունը (նվազեցումները նշված են փակագծերում)
A30: Միջոցառման դասիչը` | B30: 12029 | C30: Տարի
A31: Միջոցառման անվանումը` | B31: Ասիական զարգացման բանկի աջակցությամբ իրականացվող քաղաքային կանաչ զարգացման ներդրումային ծրագրի համակարգում և կառավարում
A32: Նկարագրությունը` | B32: Քաղաքային կանաչ զարգացման ներդրումային ծրագրի շրջանակներում համակարգում և կառավարում
A33: Միջոցառման տեսակը` | B33: Տրանսֆերտների տրամադրում
A34: Շահառուների ընտրության չափանիշները | B34: ՀՀ բնակչություն
A35: Արդյունքի չափորոշիչներ
A36: Հողի օտարման և տարաբնակեցման ծրագիր (չնախատեսված ծախսեր՛ բողոքներ, իրավանական ծառայությունների մատուցում), հատ | C36: -1
A37: Միջոցառման վրա կատարվող ծախսը (հազար դրամ) | C37: ='5'!D32 -> -960051
A39: Ծրագրի դասիչը` | B39: 1157 | C39: Ցուցանիշների փոփոխությունը (նվազեցումները նշված են փակագծերում)
A41: Միջոցառման դասիչը` | B41: 12030 | C41: Տարի
A42: Միջոցառման անվանումը` | B42: Ասիական զարգացման բանկի աջակցությամբ իրականացվող քաղաքային կանաչ զարգացման ներդրումային ծրագրի շրջանակներում ճանապարհային շինարարություն
A43: Նկարագրությունը` | B43: Քաղաքային կանաչ զարգացման ներդրումային ծրագրի շրջանակներում ճանապարհային շինարարություն
A44: Միջոցառման տեսակը` | B44: Տրանսֆերտների տրամադրում
A45: Շահառուների ընտրության չափանիշները | B45: ՀՀ բնակչություն
A46: Արդյունքի չափորոշիչներ
A47: Իսակով-Արշակունյաց ճանապարհահատվածի կառուցում, (կանխավճար) տոկոս | C47: -20
A48: Միջոցառման վրա կատարվող ծախսը (հազար դրամ) | C48: ='5'!D38 -> -2779137.9

Sheet 8-2
A1: Աղյուսակ 2
A3: ՀԱՅԱՍՏԱՆԻ ՀԱՆՐԱՊԵՏՈՒԹՅԱՆ ԿԱՌԱՎԱՐՈՒԹՅԱՆ 2022 ԹՎԱԿԱՆԻ ԴԵԿՏԵՄԲԵՐԻ 29-Ի N 2111-Ն ՈՐՈՇՄԱՆ N 9.1 ՀԱՎԵԼՎԱԾԻ N 9.1.25 ԱՂՅՈՒՍԱԿՈՒՄ ԿԱՏԱՐՎՈՂ ՓՈՓՈԽՈՒԹՅՈՒՆՆԵՐԸ ԵՎ ԼՐԱՑՈՒՄՆԵՐԸ
C4: Աղյուսակ 9.1.25
A5: ՀՀ տարածքային կառավարման և ենթակառուցվածքների նախարարության ջրային կոմիտե
A6: ՄԱՍ 1. ՊԵՏԱԿԱՆ ՄԱՐՄՆԻ ԳԾՈՎ ԱՐԴՅՈՒՆՔԱՅԻՆ (ԿԱՏԱՐՈՂԱԿԱՆ) ՑՈՒՑԱՆԻՇՆԵՐԸ
A8: Ծրագրի դասիչը | B8: Ծրագրի անվանումը
A9: 1004 | B9: Ոռոգման համակարգի առողջացում
A10: Ծրագրի միջոցառումները
A12: Ծրագրի դասիչը` | B12: 1004 | C12: Ցուցանիշների փոփոխությունը (ավելացումները նշված են դրական նշանով)
A14: Միջոցառման դասիչը` | B14: 11002 | C14: Տարի
A15: Միջոցառման անվանումը` | B15: Ոռոգման ծառայություններ մատուցող ընկերություններին ֆինանսական աջակցության տրամադրում
A16: Նկարագրությունը` | B16: Ոռոգման ոլորտի սուբսիդավորում ՋՕԸ-ների համար սահմանված ոռոգման ջրի սակագնի և նվազագույն շահավետ գնի տարբերության չափով
A17: Միջոցառման տեսակը` | B17: Ծառայությունների մատուցում
A18: Միջոցառումն իրականացնողի անվանումը | B18: Ջրօգտագործողների ընկերություններ
A19: Արդյունքի չափորոշիչներ
A20: «Արագածոտն» ՋՕԸ-ում մինչև 3 հա հողատարածքներում կաթիլային ոռոգման համակարգով ոռոգման ջրի վարձավճարի փոխհատուցում ստացող ջրօգտագործողների քանակ, հատ | C20: 1
A21: Միջոցառման վրա կատարվող ծախսը (հազար դրամ) | C21: ='8-1'!C23 -> 3294565.9
A23: Ծրագրի դասիչը | B23: Ծրագրի անվանումը
A24: 1157 | B24: Քաղաքային զարգացում
A25: Ծրագրի միջոցառումները
A26: Ծրագրի դասիչը` | B26: 1157 | C26: Ցուցանիշների փոփոխությունը (նվազեցումները նշված են փակագծերում)
A28: Միջոցառման դասիչը` | B28: 12029 | C28: Տարի
A29: Միջոցառման անվանումը` | B29: Ասիական զարգացման բանկի աջակցությամբ իրականացվող քաղաքային կանաչ զարգացման ներդրումային ծրագրի համակարգում և կառավարում
A30: Նկարագրությունը` | B30: Քաղաքային կանաչ զարգացման ներդրումային ծրագրի շրջանակներում համակարգում և կառավարում
A31: Միջոցառման տեսակը` | B31: Տրանսֆերտների տրամադրում
A32: Շահառուների ընտրության չափանիշները | B32: ՀՀ բնակչություն
A33: Արդյունքի չափորոշիչներ
A34: Հողի օտարման և տարաբնակեցման ծրագիր (չնախատեսված ծախսեր՛ բողոքներ, իրավանական ծառայությունների մատուցում), հատ | C34: -1
A35: Միջոցառման վրա կատարվող ծախսը (հազար դրամ) | C35: ='8-1'!C37 -> -960051
A37: Ծրագրի դասիչը` | B37: 1157 | C37: Ցուցանիշների փոփոխությունը (նվազեցումները նշված են փակագծերում)
A39: Միջոցառման դասիչը` | B39: 12030 | C39: Տարի
A40: Միջոցառման անվանումը` | B40: Ասիական զարգացման բանկի աջակցությամբ իրականացվող քաղաքային կանաչ զարգացման ներդրումային ծրագրի շրջանակներում ճանապարհային շինարարություն
A41: Նկարագրությունը` | B41: Քաղաքային կանաչ զարգացման ներդրումային ծրագրի շրջանակներում ճանապարհային շինարարություն
A42: Միջոցառման տեսակը` | B42: Տրանսֆերտների տրամադրում
A43: Շահառուների ընտրության չափանիշները | B43: ՀՀ բնակչություն
A44: Արդյունքի չափորոշիչներ
A45: Իսակով-Արշակունյաց ճանապարհահատվածի կառուցում, (կանխավճար) տոկոս | C45: -20
A46: Միջոցառման վրա կատարվող ծախսը (հազար դրամ) | C46: ='8-1'!C48 -> -2779137.9
