Workbook
Name _tab10: #REF!
Name _tab11: #REF!
Name _tab12: #REF!
Name _tab13: #REF!
Name _tab14: #REF!
Name _tab15: #REF!
Name _tab16: #REF!
Name _tab17: #REF!
Name _tab18: #REF!
Name _tab19: #REF!
Name _tab20: #REF!
Name _tab21: #REF!
Name _tab22: #REF!
Name _tab23: #REF!
Name _tab24: #REF!
Name _tab5: #REF!
Name _tab6: #REF!
Name _tab7: #REF!
Name _tab8: #REF!
Name _tab9: #REF!
Name par_count: #REF!,#REF!,#REF!,#REF!,#REF!,#REF!,#REF!,#REF!,#REF!,#REF!,#REF!,#REF!,#REF!,#REF!,#REF!
Name par_qual: #REF!,#REF!,#REF!,#REF!,#REF!
Name par_time: #REF!,#REF!,#REF!,#REF!
Name par2.12s: #REF!
Name par2.4s: #REF!,#REF!,#REF!,#REF!,#REF!,#REF!,#REF!,#REF!,#REF!,#REF!,#REF!,#REF!,#REF!,#REF!,#REF!,#REF!
Name par2.5s: #REF!,#REF!
Name par2.6s: #REF!,#REF!,#REF!,#REF!
Name par2.7s: #REF!,#REF!
Name par2.9s: #REF!,#REF!,#REF!,#REF!,#REF!,#REF!,#REF!,#REF!,#REF!,#REF!,#REF!,#REF!,#REF!,#REF!,#REF!,#REF!
Name par4.10s: #REF!,#REF!
Name par4.11d: #REF!,#REF!,#REF!,#REF!,#REF!
Name par4.12d: #REF!
Name par4.13s: #REF!
Name par4.14: #REF!,#REF!,#REF!,#REF!,#REF!,#REF!
Name par4.15: #REF!,#REF!,#REF!
Name par4.16: #REF!,#REF!,#REF!
Name par4.17: #REF!,#REF!,#REF!,#REF!
Name par4.18d: #REF!,#REF!
Name par4.19s: #REF!
Name par4.20f: #REF!
Name par4.21f: #REF!
Name par4.22: #REF!
Name par4.4: #REF!
Name par4.5: #REF!
Name par4.6s: #REF!
Name par4.7s: #REF!
Name par4.8: #REF!,#REF!,#REF!,#REF!,#REF!
Name par4.9: #REF!,#REF!,#REF!,#REF!,#REF!,#REF!
Name par5.1: #REF!,#REF!
Name par5.3: #REF!,#REF!,#REF!,#REF!,#REF!,#REF!
Name par5.4: #REF!,#REF!,#REF!,#REF!,#REF!
Name par5.5: #REF!
Name par5.6: #REF!,#REF!
Name program: #REF!,#REF!,#REF!,#REF!,#REF!,#REF!,#REF!,#REF!,#REF!,#REF!,#REF!,#REF!,#REF!,#REF!,#REF!,#REF!,#REF!,#REF!,#REF!,#REF!

Sheet 1
B1: Հավելված № 1
B2: ՀՀ կառավարության 2023 թվականի ----------
B3: № ---------- որոշման
B4: «ՀԱՅԱՍՏԱՆԻ ՀԱՆՐԱՊԵՏՈՒԹՅԱՆ 2023 ԹՎԱԿԱՆԻ ՊԵՏԱԿԱՆ ԲՅՈՒՋԵԻ ՄԱՍԻՆ» ՀԱՅԱՍՏԱՆԻ ՀԱՆՐԱՊԵՏՈՒԹՅԱՆ ՕՐԵՆՔԻ N 1 ՀԱՎԵԼՎԱԾԻ N 1 ԱՂՅՈՒՍԱԿՈՒՄ ԿԱՏԱՐՎՈՂ ՓՈՓՈԽՈՒԹՅՈՒՆԸ
D5: հազար դրամ
B6: Ծրագրային դասիչը | C6: Ծրագրի անվանումը | D6: Ցուցանիշների փոփոխությունները (ավելացումը նշված է դրական նշանով, իսկ նվազեցումը` փակագծերում)
D7: Տարի
B8: Ընդամենը | D8: =+D10+D11+D12+D13+D14+D15+D16+D9 -> 0
B9: 1099 | C9: Առողջության առաջնային պահպանում | D9: -269969.4
B10: 1126 | C10: Առողջապահության ոլորտում պետական քաղաքականության մշակում, ծրագրերի համակարգում և մոնիտորինգ | D10: 69969.4
B11: 1142 | C11: Դատաբժշկական և ախտաբանաանատոմիական ծառայություններ | D11: 80000
B12: 1200 | C12: Մոր և մանկան առողջության պահպանում | D12: =+'2'!E49 -> 310000
B13: 1202 | C13: Ոչ վարակիչ հիվանդությունների բժշկական օգնության ապահովում | D13: =+'2'!E76 -> 320000
B14: 1207 | C14: Սոցիալապես անապահով և առանձին խմբերի անձանց բժշկական օգնություն | D14: -75000
B15: 1208 | C15: Վարակիչ հիվանդությունների կանխարգելման ծրագիր | D15: 65000
B16: 1139 | C16: ՀՀ կառավարության պահուստային ֆոնդ | D16: -500000

Sheet 2
B1: Հավելված № 2
B2: ՀՀ կառավարության 2023 թվականի ----------
B3: № ---------- որոշման
B4: «ՀԱՅԱՍՏԱՆԻ ՀԱՆՐԱՊԵՏՈՒԹՅԱՆ 2023 ԹՎԱԿԱՆԻ ՊԵՏԱԿԱՆ ԲՅՈՒՋԵԻ ՄԱՍԻՆ» ՀԱՅԱՍՏԱՆԻ ՀԱՆՐԱՊԵՏՈՒԹՅԱՆ ՕՐԵՆՔԻ N 1 ՀԱՎԵԼՎԱԾԻ N 2 ԱՂՅՈՒՍԱԿՈՒՄ ԿԱՏԱՐՎՈՂ ՎԵՐԱԲԱՇԽՈՒՄԸ ԵՎ ՀԱՅԱՍՏԱՆԻ ՀԱՆՐԱՊԵՏՈՒԹՅԱՆ ԿԱՌԱՎԱՐՈՒԹՅԱՆ 2022 ԹՎԱԿԱՆԻ ԴԵԿՏԵՄԲԵՐԻ 29-Ի № 2111-Ն ՈՐՈՇՄԱՆ № 5 ՀԱՎԵԼՎԱԾԻ № 1 ԱՂՅՈՒՍԱԿՈՒՄ ԿԱՏԱՐՎՈՂ ՓՈՓՈԽՈՒԹՅՈՒՆՆԵՐԸ ԵՎ ԼՐԱՑՈՒՄԸ
B5: հազար դրամ
B6: Ծրագրային դասիչը | D6: Բյուջետային հատկացումների գլխավոր կարգադրիչների, ծրագրերի և միջոցառումների անվանումները | E6: Ցուցանիշների փոփոխությունները (ավելացումները նշված են դրական նշանով, իսկ նվազեցումները` փակագծերում)
B7: Ծրագիր | C7: Միջոցառում | E7: Տարի
D8: ԸՆԴԱՄԵՆԸ | E8: =+E9+E123 -> 0
D9: ՀՀ առողջապահության նախարարություն | E9: =+E23+E36+E49+E76+E97+E110+E10 -> 500000
B10: 1099 | D10: Ծրագրի անվանումը` | E10: =+E17 -> -269969.4
D11: Առողջության առաջնային պահպանում
D12: Ծրագրի նպատակը`
D13: Բնակչությանը մատչելի և որակյալ առաջնային բժշկական օգնության և սպասարկման տրամադրում, առողջության վատթարացման ռիսկի գործոնների վերհանում և դրանց հնարավոր անբարենպաստ ազդեցության կանխարգելում
D14: Վերջնական արդյունքի նկարագրությունը`
D15: Առողջության առաջնային պահպանման օղակում ցուցաբերվող բժշկական օգնության որակի, հիվանդությունների վաղ հայտնաբերման և կանխարգելման մակարդակի բարելավում, առողջապահական ծառայությունների վերաբերյալ իրազեկվածության և դրանց նկատմամբ պահանջարկի ավելացում
B16: Ծրագրի միջոցառումներ
C17: 11001 | D17: Միջոցառման անվանումը` | E17: =+'1'!D9 -> -269969.4
D18: Ամբուլատոր-պոլիկլինիկական բժշկական օգնության ծառայություններ
D19: Միջոցառման նկարագրությունը`
D20: Ամբուլատոր-պոլիկլինիկական բժշկական օգնության ծառայություններ
D21: Միջոցառման տեսակը
D22: Ծառայությունների մատուցում
B23: 1126 | D23: Ծրագրի անվանումը` | E23: =+E30 -> 69969.4
D24: Առողջապահության ոլորտում պետական քաղաքականության մշակում, ծրագրերի համակարգում և մոնիտորինգ
D25: Ծրագրի նպատակը`
D26: Մարդու և հանրության առողջության պահպանում, բնակչության առողջության բարելավում, հիվանդությունների կանխարգելում, հաշմանդամության և մահացության ցուցանիշների նվազեցում
D27: Վերջնական արդյունքի նկարագրությունը`
D28: Առողջապահության ոլորտում իրականացվող ծրագրերի ազդեցության և արդյունավետության բարելավում
B29: Ծրագրի միջոցառումներ
C30: 12005 | D30: Միջոցառման անվանումը | E30: =+'1'!D10 -> 69969.4
D31: Առողջապահական կազմակերպություններում անձեռնմխելի պաշարների ապահովման համար ծախսերի փոխհատուցում
D32: Միջոցառման նկարագրությունը
D33: Գեղարքունիքի, Վայոց Ձորի և Սյունիքի առողջապահական կազմակերպություններում դեղերի անձեռնմխելի պաշարների ապահովման համար ծախսերի փոխհատուցում
D34: Միջոցառման տեսակը
D35: Տրանսֆերտի տրամադրում
B36: 1142 | D36: Ծրագրի անվանումը` | E36: =+E43 -> 80000
D37: Դատաբժշկական և ախտաբանաանատոմիական ծառայություններ
D38: Ծրագրի նպատակը`
D39: Պաթանատոմիական կանխորոշումների հիման վրա ախտորոշման և բուժման արդյունավետության բարձրացում
D40: Վերջնական արդյունքի նկարագրությունը`
D41: Մահերի պատճառների բացահայտում
B42: Ծրագրի միջոցառումներ
C43: 11001 | D43: Միջոցառման անվանումը` | E43: 80000
D44: Դատաբժշկական փորձաքննություններ
D45: Միջոցառման նկարագրությունը`
D46: Հանրապետության ուժային մարմինների որոշումների հիման վրա դատաբժշկական և գենետիկ փորձաքննությունների ապահովում` մահերի պատճառների վերհանման նպատակով դիակների փորձաքննություն
D47: Միջոցառման տեսակը
D48: Ծառայությունների մատուցում
B49: 1200 | D49: Ծրագրի անվանումը | E49: =+E56+E63+E70 -> 310000
D50: Մոր և մանկան առողջության պահպանում
D51: Ծրագրի նպատակը
D52: Մոր և մանկան առողջության պահպանում, կանանց և երեխաներին մատուցվող բժշկական ծառայությունների մատչելիության և որակի բարելավում
D53: Վերջնական արդյունքի նկարագրությունը
D54: Մանկական և մայրական մահացության և հիվանդացության կրճատում, կանանց վերարտադրողական առողջության բարելավում
B55: Ծրագրի միջոցառումներ
C56: 11001 | D56: Միջոցառման անվանումը` | E56: -90000
D57: Մանկաբարձական բժշկական օգնության ծառայություններ
D58: Միջոցառման նկարագրությունը`
D59: Մանկաբարձական բժշկական օգնության համալիր միջոցառումների իրականացում, հղիության ախտաբանական ընթացքի բժշկական օգնություն և ծննդօգնություն
D60: Միջոցառման տեսակը
D61: Ծառայությունների մատուցում
B62: Ծրագրի միջոցառումներ
C63: 11003 | D63: Միջոցառման անվանումը` | E63: -100000
D64: Երեխաներին բժշկական օգնության ծառայություններ
D65: Միջոցառման նկարագրությունը`
D66: Երեխաների (0-18 տարեկան երեխաներին) հիվանդանոցային բժշկական օգնության իրականացում (հետազոտում, ախտորոշում, բուժում)
D67: Միջոցառման տեսակը
D68: Ծառայությունների մատուցում
B69: Ծրագրի միջոցառումներ
C70: 11006 | D70: Միջոցառման անվանումը` | E70: 500000
D71: Անպտուղ զույգերի համար վերարտադրողական օժանդակ տեխնոլոգիաների կիրառմամբ բժշկական օգնության ծառայություններ
D72: Միջոցառման նկարագրությունը`
D73: Բնակչության առանձին և հատուկ խմբերում ընդգրկված անպտուղ զույգերին վերարտադրողական օժանդակ տեխնոլոգիաների կիրառմամբ բժշկական օգնության տրամադրում
D74: Միջոցառման տեսակը
D75: Ծառայությունների մատուցում
B76: 1202 | D76: Ծրագրի անվանումը` | E76: =+E83+E90 -> 320000
D77: Ոչ վարակիչ հիվանդությունների բժշկական օգնության ապահովում
D78: Ծրագրի նպատակը`
D79: Ոչ վարակիչ հիվանդությունների (մասնավորապես՛ սիրտանոթային, շաքարային դիաբետի և չարորակ նորագոյացությունների) բուժման արդյունավետության բարձրացում
D80: Վերջնական արդյունքի նկարագրությունը`
D81: Ոչ վարակիչ հիվանդություններով պայմանավորված հիվանդացության և մահացության նվազեցում
B82: Ծրագրի միջոցառումներ
C83: 11001 | D83: Միջոցառման անվանումը` | E83: 70000
D84: Հեմոդիալիզի և պերիտոնիալ դիալիզի անցկացման ծառայություններ
D85: Միջոցառման նկարագրությունը`
D86: Հեմոդիալիզի կարիք ունեցող հիվանդների բժշկական օգնության համալիր միջոցառումների իրականացում
D87: Միջոցառման տեսակը
D88: Ծառայությունների մատուցում
B89: Ծրագրի միջոցառումներ
C90: 11004 | D90: Միջոցառման անվանումը` | E90: 250000
D91: Ուռուցքաբանական և արյունաբանական հիվանդությունների բժշկական օգնության ծառայություններ
D92: Միջոցառման նկարագրությունը`
D93: Ուռուցքաբանական և արյունաբանական հիվանդների բուժում և շարունակական հսկողության համալիր միջոցառումների իրականացում
D94: Միջոցառման տեսակը
D95: Ծառայությունների մատուցում
B96: Ծրագրի միջոցառումներ
B97: 1207 | D97: Ծրագրի անվանումը` | E97: =+E104 -> -75000
D98: Սոցիալապես անապահով և առանձին խմբերի անձանց բժշկական օգնություն
D99: Ծրագրի նպատակը`
D100: Սոցիալապես անապահով և հատուկ խմբերում ընդգրկված անձանց բժշկական օգնության հասանելիության և մատչելիության մակարդակի բարձրացում, հիվանդանոցային որակյալ բժշկական օգնության ապահովում
...

Sheet 3
B1: Հավելված № 3
B2: ՀՀ կառավարության 2023 թվականի -----------
B3: № ------------ -Ն որոշման
B4: ՀԱՅԱՍՏԱՆԻ ՀԱՆՐԱՊԵՏՈՒԹՅԱՆ ԿԱՌԱՎԱՐՈՒԹՅԱՆ 2022 ԹՎԱԿԱՆԻ ԴԵԿՏԵՄԲԵՐԻ 29-Ի № 2111-Ն ՈՐՈՇՄԱՆ NN 3 և 4 ՀԱՎԵԼՎԱԾՆԵՐՈՒՄ ԿԱՏԱՐՎՈՂ ՓՈՓՈԽՈՒԹՅՈՒՆՆԵՐԸ ԵՎ ԼՐԱՑՈՒՄՆԵՐԸ
B5: հազար դրամ
B6: Գործառական դասիչը | E6: Ծրագրային դասիչը | G6: Բյուջետային հատկացումների գլխավոր կարգադրիչների, ծրագրերի, միջոցառումների և միջոցառումները կատարող պետական մարմինների անվանումները | H6: Ցուցանիշների փոփոխությունները (ավելացումները նշված են դրական նշանով, իսկ նվազեցումները` փակագծերում)
B7: բաժին | C7: խումբ | D7: դաս | E7: Ծրագիր | F7: Միջոցառում | H7: Տարի
B8: ԸՆԴԱՄԵՆԸ | H8: =+H9+H151 -> 0
B9: 07 | G9: ԱՌՈՂՋԱՊԱՀՈՒԹՅՈՒՆ | H9: =+H11+H43+H119 -> 500000
G10: այդ թվում՝
C11: 02 | G11: Արտահիվանդանոցային ծառայություններ | H11: =+H13+H28 -> -199969.4
G12: այդ թվում՝
D13: 01 | G13: Ընդհանուր բնույթի բժշկական ծառայություններ | H13: =+H15 -> -269969.4
G14: այդ թվում`
G15: ՀՀ առողջապահության նախարարություն | H15: =+H17 -> -269969.4
G16: այդ թվում՝
E17: 1099 | G17: Առողջության առաջնային պահպանում | H17: =+H19 -> -269969.4
G18: այդ թվում՝
F19: 11001 | G19: Ամբուլատոր-պոլիկլինիկական բժշկական օգնության ծառայություններ | H19: =+H21 -> -269969.4
G20: այդ թվում` ըստ կատարողների
G21: ՀՀ առողջապահության նախարարություն | H21: =+H23 -> -269969.4
G22: այդ թվում` բյուջետային ծախսերի տնտեսագիտական դասակարգման հոդվածներ
G23: ԸՆԴԱՄԵՆԸ ԾԱԽՍԵՐ | H23: =+H24 -> -269969.4
G24: ԸՆԹԱՑԻԿ ԾԱԽՍԵՐ | H24: =+H25 -> -269969.4
G25: ԾԱՌԱՅՈՒԹՅՈՒՆՆԵՐԻ ԵՎ ԱՊՐԱՆՔՆԵՐԻ ՁԵՌՔԲԵՐՈՒՄ | H25: =+H27 -> -269969.4
G26: Պայմանագրային այլ ծառայությունների ձեռքբերում
G27: - Ընդհանուր բնույթի այլ ծառայություններ | H27: =+'2'!E17 -> -269969.4
D28: 02 | G28: Մասնագիտացված բժշկական ծառայություններ | H28: =+H30 -> 70000
G29: այդ թվում`
G30: ՀՀ առողջապահության նախարարություն | H30: =+H32 -> 70000
G31: այդ թվում՝
E32: 1202 | G32: Ոչ վարակիչ հիվանդությունների բժշկական օգնության ապահովում | H32: =+H34 -> 70000
G33: այդ թվում`
F34: 11001 | G34: Հեմոդիալիզի և պերիտոնիալ դիալիզի անցկացման ծառայություններ | H34: =+H36 -> 70000
G35: այդ թվում` ըստ կատարողների
G36: ՀՀ առողջապահության նախարարություն | H36: =+H38 -> 70000
G37: այդ թվում` բյուջետային ծախսերի տնտեսագիտական դասակարգման հոդվածներ
G38: ԸՆԴԱՄԵՆԸ ԾԱԽՍԵՐ | H38: =+H39 -> 70000
G39: ԸՆԹԱՑԻԿ ԾԱԽՍԵՐ | H39: =+H40 -> 70000
G40: ՍՈՑԻԱԼԱԿԱՆ ՆՊԱՍՏՆԵՐ ԵՎ ԿԵՆՍԱԹՈՇԱԿՆԵՐ | H40: =+H42 -> 70000
G41: Սոցիալական օգնության դրամական արտահայտությամբ նպաստներ (բյուջեից)
G42: - Այլ նպաստներ բյուջեից | H42: =+'2'!E83 -> 70000
C43: 03 | G43: Հիվանդանոցային ծառայություններ | H43: =+H45+H60+H86 -> 550000
G44: այդ թվում՝
D45: 01 | G45: Ընդհանուր բնույթի հիվանդանոցային ծառայություններ | H45: =+H47 -> -75000
G46: այդ թվում՝
G47: ՀՀ առողջապահության նախարարություն | H47: =+H49 -> -75000
G48: այդ թվում՝
E49: 1207 | G49: Սոցիալապես անապահով և առանձին խմբերի անձանց բժշկական օգնություն | H49: =+H51 -> -75000
G50: այդ թվում`
F51: 11003 | G51: Զինծառայողներին, ինչպես նաև փրկարար ծառայողներին և նրանց ընտանիքի անդամներին բժշկական օգնության ծառայություններ | H51: =H53 -> -75000
G52: այդ թվում ըստ կատարողների
G53: ՀՀ առողջապահության նախարարություն | H53: =H55 -> -75000
G54: այդ թվում` բյուջետային ծախսերի տնտեսագիտական դասակարգման հոդվածներ
G55: ԸՆԴԱՄԵՆԸ ԾԱԽՍԵՐ | H55: =H57 -> -75000
G56: ԸՆԹԱՑԻԿ ԾԱԽՍԵՐ | H56: =H57 -> -75000
G57: ՍՈՑԻԱԼԱԿԱՆ ՆՊԱՍՏՆԵՐ ԵՎ ԿԵՆՍԱԹՈՇԱԿՆԵՐ | H57: =H59 -> -75000
G58: Սոցիալական օգնության դրամական արտահայտությամբ նպաստներ (բյուջեից)
G59: - Այլ նպաստներ բյուջեից | H59: =+'2'!E104 -> -75000
D60: 02 | G60: Մասնագիտացված հիվանդանոցային ծառայություններ | H60: =+H62 -> 315000
G61: այդ թվում՝
G62: ՀՀ առողջապահության նախարարություն | H62: =+H64+H75 -> 315000
G63: այդ թվում՝
E64: 1208 | G64: Վարակիչ հիվանդությունների կանխարգելման ծրագիր | H64: =+H66 -> 65000
G65: այդ թվում`
F66: 11003 | G66: Աղիքային և այլ ինֆեկցիոն հիվանդությունների բժշկական օգնության ծառայություններ | H66: =+H68 -> 65000
G67: այդ թվում` ըստ կատարողների
G68: ՀՀ առողջապահության նախարարություն | H68: =+H70 -> 65000
G69: այդ թվում` բյուջետային ծախսերի տնտեսագիտական դասակարգման հոդվածներ
G70: ԸՆԴԱՄԵՆԸ ԾԱԽՍԵՐ | H70: =+H71 -> 65000
G71: ԸՆԹԱՑԻԿ ԾԱԽՍԵՐ | H71: =+H72 -> 65000
G72: ԾԱՌԱՅՈՒԹՅՈՒՆՆԵՐԻ ԵՎ ԱՊՐԱՆՔՆԵՐԻ ՁԵՌՔԲԵՐՈՒՄ | H72: =+H74 -> 65000
G73: Պայմանագրային այլ ծառայությունների ձեռքբերում
G74: - Ընդհանուր բնույթի այլ ծառայություններ | H74: =+'2'!E117 -> 65000
E75: 1202 | G75: Ոչ վարակիչ հիվանդությունների բժշկական օգնության ապահովում | H75: =+H77 -> 250000
G76: այդ թվում`
F77: 11004 | G77: Ուռուցքաբանական և արյունաբանական հիվանդությունների բժշկական օգնության ծառայություններ | H77: =H79 -> 250000
G78: այդ թվում` ըստ կատարողների
G79: ՀՀ առողջապահության նախարարություն | H79: =H81 -> 250000
G80: այդ թվում` բյուջետային ծախսերի տնտեսագիտական դասակարգման հոդվածներ
G81: ԸՆԴԱՄԵՆԸ ԾԱԽՍԵՐ | H81: =H83 -> 250000
G82: ԸՆԹԱՑԻԿ ԾԱԽՍԵՐ | H82: =H83 -> 250000
G83: ԾԱՌԱՅՈՒԹՅՈՒՆՆԵՐԻ ԵՎ ԱՊՐԱՆՔՆԵՐԻ ՁԵՌՔԲԵՐՈՒՄ | H83: =H85 -> 250000
G84: Պայմանագրային այլ ծառայությունների ձեռքբերում
G85: - Ընդհանուր բնույթի այլ ծառայություններ | H85: =+'2'!E90 -> 250000
D86: 03 | G86: Մոր և մանկան բժշկական ծառայություններ | H86: =+H90 -> 310000
G87: այդ թվում`
G88: ՀՀ առողջապահության նախարարություն
G89: այդ թվում՝
E90: 1200 | G90: Մոր և մանկան առողջության պահպանում | H90: =+H92+H101+H110 -> 310000
G91: այդ թվում`
F92: 11001 | G92: Մանկաբարձական բժշկական օգնության ծառայություններ | H92: =H94 -> -90000
G93: այդ թվում` ըստ կատարողների
G94: ՀՀ առողջապահության նախարարություն | H94: =H96 -> -90000
G95: այդ թվում` բյուջետային ծախսերի տնտեսագիտական դասակարգման հոդվածներ
G96: ԸՆԴԱՄԵՆԸ ԾԱԽՍԵՐ | H96: =H98 -> -90000
G97: ԸՆԹԱՑԻԿ ԾԱԽՍԵՐ | H97: =H98 -> -90000
G98: ՍՈՑԻԱԼԱԿԱՆ ՆՊԱՍՏՆԵՐ ԵՎ ԿԵՆՍԱԹՈՇԱԿՆԵՐ | H98: =H100 -> -90000
G99: Սոցիալական օգնության դրամական արտահայտությամբ նպաստներ (բյուջեից)
G100: - Այլ նպաստներ բյուջեից | H100: =+'2'!E56 -> -90000
...

Sheet 4
B1: Հավելված № 4
B2: ՀՀ կառավարության 2023 թվականի
B3: __________ «____» -ի
B4: N_____ -Ն որոշման
B5: ՀԱՅԱՍՏԱՆԻ ՀԱՆՐԱՊԵՏՈՒԹՅԱՆ ԿԱՌԱՎԱՐՈՒԹՅԱՆ 2022 ԹՎԱԿԱՆԻ ԴԵԿՏԵՄԲԵՐԻ 29-Ի ԹԻՎ 2111-Ն ՈՐՈՇՄԱՆ N5 ՀԱՎԵԼՎԱԾԻ N 7 ԱՂՅՈՒՍԱԿՈՒՄ ԿԱՏԱՐՎՈՂ ՓՈՓՈԽՈՒԹՅՈՒՆՆԵՐԸ ԵՎ ԼՐԱՑՈՒՄՆԵՐԸ
H6: հազար դրամ
B7: Ծրագրային դասիչ | D7: Բյուջետային հատկացումների գլխավոր կարգադրիչների, ծրագրերի, միջոցառումների, ծախսային ուղղությունների անվանումները | G7: Միջոցառումները կատարող պետական մարմինների և դրամաշնորհ ստացող տնտեսվարող սուբյեկտների անվանումները | H7: Տարի
B8: Ծրագիր | C8: Միջոցառում
B9: ՀՀ առողջապահության նախարարություն | H9: =+H10 -> 69969.4
B10: 1126 | C10: Առողջապահության ոլորտում պետական քաղաքականության մշակում, ծրագրերի համակարգում և մոնիտորինգ | H10: =+H11 -> 69969.4
C11: 12005 | D11: Առողջապահական կազմակերպություններում անձեռնմխելի պաշարների ապահովման համար ծախսերի փոխհատուցում | G11: ՀՀ առողջապահության նախարարություն | H11: =H12+H13+H14+H15+H16+H17+H18+H19+H20+H21+H22+H23 -> 69969.4
G12: «Սևանի բժշկական կենտրոն» ՓԲԸ | H12: 8838.5
G13: «Մարտունու բժշկական կենտրոն» ՓԲԸ | H13: 12241.4
G14: «Վարդենիսի բժշկական կենտրոն» ՓԲԸ | H14: 2013.5
G15: «Ճամբարակի բժշկական կենտրոն» ՓԲԸ | H15: 3176.6
G16: «Գավառի բժշկական կենտրոն» ՓԲԸ | H16: 5330.4
G17: «Սիսիանի բժշկական կենտրոն» ՓԲԸ | H17: 7144.9
G18: «Կապանի բժշկական կենտրոն» ՓԲԸ | H18: 18259.9
G19: «Մեղրու տարածաշրջանային բժշկական կենտրոն» ՓԲԸ | H19: 1629.7
G20: «Գորիսի բժշկական կենտրոն» ՓԲԸ | H20: 7853
G21: «Ջերմուկի բժշկական կենտրոն» ՓԲԸ | H21: 153
G22: «Վայքի բուժական միավորում կենտրոն» ՓԲԸ | H22: 979.5
G23: «Եղեգնաձորի բժշկական կենտրոն» ՓԲԸ | H23: 2349

Sheet 5
B1: Հավելված № 5
B2: ՀՀ կառավարության 2023 թվականի -----------
B3: № ------------ -Ն որոշման
B4: ՀԱՅԱՍՏԱՆԻ ՀԱՆՐԱՊԵՏՈՒԹՅԱՆ ԿԱՌԱՎԱՐՈՒԹՅԱՆ 2022 ԹՎԱԿԱՆԻ ԴԵԿՏԵՄԲԵՐԻ 29-Ի N 2111-Ն ՈՐՈՇՄԱՆ N 9 ՀԱՎԵԼՎԱԾԻ 9.8 ԱՂՅՈՒՍԱԿՈՒՄ ԿԱՏԱՐՎՈՂ ՓՈՓՈԽՈՒԹՅՈՒՆՆԵՐԸ
B5: ՀՀ առողջապահության նախարարություն
B6: ՄԱՍ 2. ՊԵՏԱԿԱՆ ՄԱՐՄՆԻ ԳԾՈՎ ԱՐԴՅՈՒՆՔԱՅԻՆ (ԿԱՏԱՐՈՂԱԿԱՆ) ՑՈՒՑԱՆԻՇՆԵՐԸ
B8: Ծրագրի դասիչը | C8: Ծրագրի անվանումը
B9: 1099 | C9: Առողջության առաջնային պահպանում
B10: Ծրագրի միջոցառումները
B11: Ծրագրի դասիչը` | C11: 1099 | D11: Ցուցանիշների փոփոխությունը (նվազեցումը նշված է փակագծերում)
B12: Միջոցառման դասիչը` | C12: 11001 | D12: Տարի
B13: Միջոցառման անվանումը` | C13: Ամբուլատոր-պոլիկլինիկական բժշկական օգնության ծառայություններ
B14: Նկարագրությունը` | C14: Ամբուլատոր-պոլիկլինիկական բժշկական օգնության ծառայություններ
B15: Միջոցառման տեսակը` | C15: Ծառայությունների մատուցում
B16: Ծառայությունը մատուցող կազմակերպության(ների) անվանում(ներ)ը | C16: ՀՀ գնումների մասին օրենսդրությանը համապատասխան ընտրված կազմակերպություններ
B17: Արդյունքի չափորոշիչներ
B18: Միջոցառման վրա կատարվող ծախսը (հազար դրամ) | D18: =+'2'!E17 -> -269969.4
B20: Ծրագրի դասիչը | C20: Ծրագրի անվանումը
B21: 1126 | C21: Առողջապահության ոլորտում պետական քաղաքականության մշակում, ծրագրերի համակարգում և մոնիտորինգ
B22: Ծրագրի միջոցառումները
B23: Ծրագրի դասիչը` | C23: 1126 | D23: Ցուցանիշների փոփոխությունը (ավելացումը նշված է դրական նշանով)
B24: Միջոցառման դասիչը` | C24: 12005 | D24: Տարի
B25: Միջոցառման անվանումը` | C25: Առողջապահական կազմակերպություններում անձեռնմխելի պաշարների ապահովման համար ծախսերի փոխհատուցում
B26: Նկարագրությունը` | C26: Գեղարքունիքի, Վայոց Ձորի և Սյունիքի առողջապահական կազմակերպություններում դեղերի անձեռնմխելի պաշարների ապահովման համար ծախսերի փոխհատուցում
B27: Միջոցառման տեսակը` | C27: Տրանսֆերտի տրամադրում
B28: Ակտիվն օգտագործող կազմակերպության (ների) անվանում(ներ)ը | C28: Առողջապահական կազմակերպություններ
B29: Արդյունքի չափորոշիչներ
B30: Մարզային առողջապահական կազմակերպություններ, հատ | D30: 12
B31: Միջոցառման վրա կատարվող ծախսը (հազար դրամ) | D31: =+'2'!E30 -> 69969.4
B33: Ծրագրի դասիչը | C33: Ծրագրի անվանումը
B34: 1142 | C34: Դատաբժշկական և ախտաբանաանատոմիական ծառայություններ
B35: Ծրագրի միջոցառումները
B36: Ծրագրի դասիչը` | C36: 1142 | D36: Ցուցանիշների փոփոխությունը (ավելացումը նշված է դրական նշանով, իսկ նվազեցումը նշված է փակագծերում)
B37: Միջոցառման դասիչը` | C37: 11001 | D37: Տարի
B38: Միջոցառման անվանումը` | C38: Դատաբժշկական փորձաքննություններ
B39: Նկարագրությունը` | C39: Հանրապետության ուժային մարմինների որոշումների հիման վրա դատաբժշկական և գենետիկ փորձաքննությունների ապահովում` մահերի պատճառների վերհանման նպատակով դիակների փորձաքննություն
B40: Միջոցառման տեսակը` | C40: Ծառայությունների մատուցում
B41: Ծառայությունը մատուցող կազմակերպության(ների) անվանում(ներ)ը | C41: Մասնագիտացված կազմակերպություն
B42: Արդյունքի չափորոշիչներ
B43: Դատաբժշկական փորձաքննությունների թիվ, հատ | D43: -1875
B44: Դիակի փորձաքննությունների թիվ, հատ | D44: -1982
B45: Կենդանի անձի փորձաքննությունների թիվ, հատ | D45: -1696
B46: Հյուսվածքաբանական փորձաքննությունների թիվ, հատ | D46: -2920
B47: Համալիր փորձաքննությունների թիվ, հատ | D47: -5
B48: Միջոցառման վրա կատարվող ծախսը (հազար դրամ) | D48: =+'2'!E43 -> 80000
B50: Ծրագրի դասիչը | C50: Ծրագրի անվանումը
B51: 1200 | C51: Մոր և մանկան առողջության պահպանում
B52: Ծրագրի միջոցառումները
B53: Ծրագրի դասիչը` | C53: 1200 | D53: Ցուցանիշների փոփոխությունը (նվազեցումը նշված է փակագծերում)
B54: Միջոցառման դասիչը` | C54: 11001 | D54: Տարի
B55: Միջոցառման անվանումը` | C55: Մանկաբարձական բժշկական օգնության ծառայություններ
B56: Նկարագրությունը` | C56: Մանկաբարձական բժշկական օգնության համալիր միջոցառումների իրականացում, հղիության ախտաբանական ընթացքի բժշկական օգնություն և ծննդօգնություն
B57: Միջոցառման տեսակը` | C57: Ծառայությունների մատուցում
B58: Ծառայությունը մատուցող կազմակերպության(ների) անվանում(ներ)ը | C58: ՀՀ գնումների մասին օրենսդրությանը համապատասխան ընտրված կազմակերպություններ
B59: Արդյունքի չափորոշիչներ
B60: Մանկաբարձական բժշկական օգնության ծառայություններից օգտվելու դեպքերի թիվ, հատ | D60: -725
B61: Ծնունդների թիվ, հատ, որից | D61: -157
B62: Կեսարյան հատումների թիվ, հատ | D62: -1300
B63: Միջոցառման վրա կատարվող ծախսը (հազար դրամ) | D63: =+'2'!E56 -> -90000
B65: Ծրագրի դասիչը` | C65: 1200 | D65: Ցուցանիշների փոփոխությունը (նվազեցումը նշված է փակագծերում)
B66: Միջոցառման դասիչը` | C66: 11003 | D66: Տարի
B67: Միջոցառման անվանումը` | C67: Երեխաներին բժշկական օգնության ծառայություններ
B68: Նկարագրությունը` | C68: Երեխաների (0-18 տարեկան երեխաներին) հիվանդանոցային բժշկական օգնության իրականացում (հետազոտում, ախտորոշում, բուժում)
B69: Միջոցառման տեսակը` | C69: Ծառայությունների մատուցում
B70: Ծառայությունը մատուցող կազմակերպության(ների) անվանում(ներ)ը | C70: ՀՀ գնումների մասին օրենսդրությանը համապատասխան ընտրված կազմակերպություններ
B71: Արդյունքի չափորոշիչներ
B72: Միջոցառման վրա կատարվող ծախսը (հազար դրամ) | D72: =+'2'!E63 -> -100000
B74: Ծրագրի դասիչը` | C74: 1200 | D74: Ցուցանիշների փոփոխությունը (ավելացումը նշված է դրական նշանով)
B75: Միջոցառման դասիչը` | C75: 11006 | D75: Տարի
B76: Միջոցառման անվանումը` | C76: Անպտուղ զույգերի համար վերարտադրողական օժանդակ տեխնոլոգիաների կիրառմամբ բժշկական օգնության ծառայություններ
B77: Նկարագրությունը` | C77: Բնակչության առանձին և հատուկ խմբերում ընդգրկված անպտուղ զույգերին վերարտադրողական օժանդակ տեխնոլոգիաների կիրառմամբ բժշկական օգնության տրամադրում
B78: Միջոցառման տեսակը` | C78: Ծառայությունների մատուցում
B79: Ծառայությունը մատուցող կազմակերպության(ների) անվանում(ներ)ը | C79: ՀՀ գնումների մասին օրենսդրությանը համապատասխան ընտրված կազմակերպություններ
B80: Արդյունքի չափորոշիչներ
B81: Վերարտադրողական օժանդակ տեխնոլոգիաների կիրառմամբ բժշկական օգնության ծառայություններ ստացած զույգերի թիվ, հատ | D81: 1400
B82: Հետազոտություններ քանակ (հատ) | D82: 4300
B83: Միջոցառման վրա կատարվող ծախսը (հազար դրամ) | D83: =+'2'!E70 -> 500000
B85: Ծրագրի դասիչը | C85: Ծրագրի անվանումը
B86: 1202 | C86: Ոչ վարակիչ հիվանդությունների բժշկական օգնության ապահովում
B87: Ծրագրի միջոցառումները
B88: Ծրագրի դասիչը` | C88: 1202 | D88: Ցուցանիշների փոփոխությունը (ավելացումը նշված է դրական նշանով)
B89: Միջոցառման դասիչը` | C89: 11001 | D89: Տարի
B90: Միջոցառման անվանումը` | C90: Հեմոդիալիզի և պերիտոնիալ դիալիզի անցկացման ծառայություններ
B91: Նկարագրությունը` | C91: Հեմոդիալիզի կարիք ունեցող հիվանդների բժշկական օգնության համալիր միջոցառումների իրականացում
B92: Միջոցառման տեսակը` | C92: Ծառայությունների մատուցում
B93: Ծառայությունը մատուցող կազմակերպության(ների) անվանում(ներ)ը | C93: ՀՀ գնումների մասին օրենսդրությանը համապատասխան ընտրված կազմակերպություններ
B94: Արդյունքի չափորոշիչներ
B95: Հեմոդիալիզի սեանսների թիվ, հատ | D95: 3182
B96: Միջոցառման վրա կատարվող ծախսը (հազար դրամ) | D96: =+'2'!E83 -> 70000
B98: Ծրագրի դասիչը` | C98: 1202 | D98: Ցուցանիշների փոփոխությունը (ավելացումը նշված է դրական նշանով)
B99: Միջոցառման դասիչը` | C99: 11002 | D99: Տարի
B100: Միջոցառման անվանումը` | C100: Անհետաձգելի բժշկական օգնության ծառայություններ
B101: Նկարագրությունը` | C101: Անհետաձգելի բժշկական օգնության իրականացում` ՀՀ առողջապահության նախարարի կողմից հաստատված հիվանդությունների, վիճակների ցանկի համաձայն
B102: Միջոցառման տեսակը` | C102: Ծառայությունների մատուցում
B103: Ծառայությունը մատուցող կազմակերպության(ների) անվանում(ներ)ը | C103: ՀՀ գնումների մասին օրենսդրությանը համապատասխան ընտրված կազմակերպություններ
B104: Արդյունքի չափորոշիչներ
B105: Գլխուղեղի սուր կամ ենթասուր իշեմիկ ինսուլտի բուժում (թրոմբոլիզ և/կամ թրոմբասպիրացիա), դեպք | D105: 100
B106: Միջոցառման վրա կատարվող ծախսը (հազար դրամ) | D106: =+'2'!E95 -> 0
B108: Ծրագրի դասիչը` | C108: 1202 | D108: Ցուցանիշների փոփոխությունը (ավելացումը նշված է դրական նշանով)
B109: Միջոցառման դասիչը` | C109: 11003 | D109: Տարի
...

Sheet 6
B1: Հավելված № 6
B2: ՀՀ կառավարության 2023 թվականի -----------
B3: № ------------ -Ն որոշման
B4: ՀԱՅԱՍՏԱՆԻ ՀԱՆՐԱՊԵՏՈՒԹՅԱՆ ԿԱՌԱՎԱՐՈՒԹՅԱՆ 2022 ԹՎԱԿԱՆԻ ԴԵԿՏԵՄԲԵՐԻ 29-Ի N 2111-Ն ՈՐՈՇՄԱՆ N 9.1 ՀԱՎԵԼՎԱԾԻ 9.1.8 ԱՂՅՈՒՍԱԿՈՒՄ ԿԱՏԱՐՎՈՂ ՓՈՓՈԽՈՒԹՅՈՒՆՆԵՐԸ
B5: ՀՀ առողջապահության նախարարություն
B6: ՄԱՍ 1. ՊԵՏԱԿԱՆ ՄԱՐՄՆԻ ԳԾՈՎ ԱՐԴՅՈՒՆՔԱՅԻՆ (ԿԱՏԱՐՈՂԱԿԱՆ) ՑՈՒՑԱՆԻՇՆԵՐԸ
B7: հազար դրամ
B8: Ծրագրի դասիչը | C8: Ծրագրի անվանումը
B9: 1099 | C9: Առողջության առաջնային պահպանում
B10: Ծրագրի միջոցառումները
B11: Ծրագրի դասիչը` | C11: 1099 | D11: Ցուցանիշների փոփոխությունը (նվազեցումը նշված է փակագծերում)
B12: Միջոցառման դասիչը` | C12: 11001 | D12: Տարի
B13: Միջոցառման անվանումը` | C13: Ամբուլատոր-պոլիկլինիկական բժշկական օգնության ծառայություններ
B14: Նկարագրությունը` | C14: Ամբուլատոր-պոլիկլինիկական բժշկական օգնության ծառայություններ
B15: Միջոցառման տեսակը` | C15: Ծառայությունների մատուցում
B16: Ծառայությունը մատուցող կազմակերպության(ների) անվանում(ներ)ը | C16: ՀՀ գնումների մասին օրենսդրությանը համապատասխան ընտրված կազմակերպություններ
B17: Արդյունքի չափորոշիչներ
B18: Միջոցառման վրա կատարվող ծախսը (հազար դրամ) | D18: =+'2'!E17 -> -269969.4
B20: Ծրագրի դասիչը | C20: Ծրագրի անվանումը
B21: 1126 | C21: Առողջապահության ոլորտում պետական քաղաքականության մշակում, ծրագրերի համակարգում և մոնիտորինգ
B22: Ծրագրի միջոցառումները
B23: Ծրագրի դասիչը` | C23: 1126 | D23: Ցուցանիշների փոփոխությունը (ավելացումը նշված է դրական նշանով)
B24: Միջոցառման դասիչը` | C24: 12005 | D24: Տարի
B25: Միջոցառման անվանումը` | C25: Առողջապահական կազմակերպություններում անձեռնմխելի պաշարների ապահովման համար ծախսերի փոխհատուցում
B26: Նկարագրությունը` | C26: Գեղարքունիքի, Վայոց Ձորի և Սյունիքի առողջապահական կազմակերպություններում դեղերի անձեռնմխելի պաշարների ապահովման համար ծախսերի փոխհատուցում
B27: Միջոցառման տեսակը` | C27: Տրանսֆերտի տրամադրում
B28: Ակտիվն օգտագործող կազմակերպության (ների) անվանում(ներ)ը | C28: Առողջապահական կազմակերպություններ
B29: Արդյունքի չափորոշիչներ
B30: Մարզային առողջապահական կազմակերպություններ, հատ | D30: 12
B31: Միջոցառման վրա կատարվող ծախսը (հազար դրամ) | D31: =+'2'!E30 -> 69969.4
B33: Ծրագրի դասիչը | C33: Ծրագրի անվանումը
B34: 1142 | C34: Դատաբժշկական և ախտաբանաանատոմիական ծառայություններ
B35: Ծրագրի միջոցառումները
B36: Ծրագրի դասիչը` | C36: 1142 | D36: Ցուցանիշների փոփոխությունը (ավելացումը նշված է դրական նշանով, իսկ նվազեցումը նշված է փակագծերում)
B37: Միջոցառման դասիչը` | C37: 11001 | D37: Տարի
B38: Միջոցառման անվանումը` | C38: Դատաբժշկական փորձաքննություններ
B39: Նկարագրությունը` | C39: Հանրապետության ուժային մարմինների որոշումների հիման վրա դատաբժշկական և գենետիկ փորձաքննությունների ապահովում` մահերի պատճառների վերհանման նպատակով դիակների փորձաքննություն
B40: Միջոցառման տեսակը` | C40: Ծառայությունների մատուցում
B41: Ծառայությունը մատուցող կազմակերպության(ների) անվանում(ներ)ը | C41: Մասնագիտացված կազմակերպություն
B42: Արդյունքի չափորոշիչներ
B43: Դատաբժշկական փորձաքննությունների թիվ, հատ | D43: -1875
B44: Դիակի փորձաքննությունների թիվ, հատ | D44: -1982
B45: Կենդանի անձի փորձաքննությունների թիվ, հատ | D45: -1696
B46: Հյուսվածքաբանական փորձաքննությունների թիվ, հատ | D46: -2920
B47: Համալիր փորձաքննությունների թիվ, հատ | D47: -5
B48: Միջոցառման վրա կատարվող ծախսը (հազար դրամ) | D48: =+'2'!E43 -> 80000
B50: Ծրագրի դասիչը | C50: Ծրագրի անվանումը
B51: 1200 | C51: Մոր և մանկան առողջության պահպանում
B52: Ծրագրի միջոցառումները
B53: Ծրագրի դասիչը` | C53: 1200 | D53: Ցուցանիշների փոփոխությունը (նվազեցումը նշված է փակագծերում)
B54: Միջոցառման դասիչը` | C54: 11001 | D54: Տարի
B55: Միջոցառման անվանումը` | C55: Մանկաբարձական բժշկական օգնության ծառայություններ
B56: Նկարագրությունը` | C56: Մանկաբարձական բժշկական օգնության համալիր միջոցառումների իրականացում, հղիության ախտաբանական ընթացքի բժշկական օգնություն և ծննդօգնություն
B57: Միջոցառման տեսակը` | C57: Ծառայությունների մատուցում
B58: Ծառայությունը մատուցող կազմակերպության(ների) անվանում(ներ)ը | C58: ՀՀ գնումների մասին օրենսդրությանը համապատասխան ընտրված կազմակերպություններ
B59: Արդյունքի չափորոշիչներ
B60: Մանկաբարձական բժշկական օգնության ծառայություններից օգտվելու դեպքերի թիվ, հատ | D60: -725
B61: Ծնունդների թիվ, հատ, որից | D61: -157
B62: Կեսարյան հատումների թիվ, հատ | D62: -1300
B63: Միջոցառման վրա կատարվող ծախսը (հազար դրամ) | D63: =+'2'!E56 -> -90000
B65: Ծրագրի դասիչը` | C65: 1200 | D65: Ցուցանիշների փոփոխությունը (նվազեցումը նշված է փակագծերում)
B66: Միջոցառման դասիչը` | C66: 11003 | D66: Տարի
B67: Միջոցառման անվանումը` | C67: Երեխաներին բժշկական օգնության ծառայություններ
B68: Նկարագրությունը` | C68: Երեխաների (0-18 տարեկան երեխաներին) հիվանդանոցային բժշկական օգնության իրականացում (հետազոտում, ախտորոշում, բուժում)
B69: Միջոցառման տեսակը` | C69: Ծառայությունների մատուցում
B70: Ծառայությունը մատուցող կազմակերպության(ների) անվանում(ներ)ը | C70: ՀՀ գնումների մասին օրենսդրությանը համապատասխան ընտրված կազմակերպություններ
B71: Արդյունքի չափորոշիչներ
B72: Միջոցառման վրա կատարվող ծախսը (հազար դրամ) | D72: =+'2'!E63 -> -100000
B74: Ծրագրի դասիչը` | C74: 1200 | D74: Ցուցանիշների փոփոխությունը (ավելացումը նշված է դրական նշանով)
B75: Միջոցառման դասիչը` | C75: 11006 | D75: Տարի
B76: Միջոցառման անվանումը` | C76: Անպտուղ զույգերի համար վերարտադրողական օժանդակ տեխնոլոգիաների կիրառմամբ բժշկական օգնության ծառայություններ
B77: Նկարագրությունը` | C77: Բնակչության առանձին և հատուկ խմբերում ընդգրկված անպտուղ զույգերին վերարտադրողական օժանդակ տեխնոլոգիաների կիրառմամբ բժշկական օգնության տրամադրում
B78: Միջոցառման տեսակը` | C78: Ծառայությունների մատուցում
B79: Ծառայությունը մատուցող կազմակերպության(ների) անվանում(ներ)ը | C79: ՀՀ գնումների մասին օրենսդրությանը համապատասխան ընտրված կազմակերպություններ
B80: Արդյունքի չափորոշիչներ
B81: Վերարտադրողական օժանդակ տեխնոլոգիաների կիրառմամբ բժշկական օգնության ծառայություններ ստացած զույգերի թիվ, հատ | D81: 1400
B82: Հետազոտություններ քանակ (հատ) | D82: 4300
B83: Միջոցառման վրա կատարվող ծախսը (հազար դրամ) | D83: =+'2'!E70 -> 500000
B85: Ծրագրի դասիչը | C85: Ծրագրի անվանումը
B86: 1202 | C86: Ոչ վարակիչ հիվանդությունների բժշկական օգնության ապահովում
B87: Ծրագրի միջոցառումները
B88: Ծրագրի դասիչը` | C88: 1202 | D88: Ցուցանիշների փոփոխությունը (ավելացումը նշված է դրական նշանով)
B89: Միջոցառման դասիչը` | C89: 11001 | D89: Տարի
B90: Միջոցառման անվանումը` | C90: Հեմոդիալիզի և պերիտոնիալ դիալիզի անցկացման ծառայություններ
B91: Նկարագրությունը` | C91: Հեմոդիալիզի կարիք ունեցող հիվանդների բժշկական օգնության համալիր միջոցառումների իրականացում
B92: Միջոցառման տեսակը` | C92: Ծառայությունների մատուցում
B93: Ծառայությունը մատուցող կազմակերպության(ների) անվանում(ներ)ը | C93: ՀՀ գնումների մասին օրենսդրությանը համապատասխան ընտրված կազմակերպություններ
B94: Արդյունքի չափորոշիչներ
B95: Հեմոդիալիզի սեանսների թիվ, հատ | D95: 3182
B96: Միջոցառման վրա կատարվող ծախսը (հազար դրամ) | D96: =+'2'!E83 -> 70000
B98: Ծրագրի դասիչը` | C98: 1202 | D98: Ցուցանիշների փոփոխությունը (ավելացումը նշված է դրական նշանով)
B99: Միջոցառման դասիչը` | C99: 11002 | D99: Տարի
B100: Միջոցառման անվանումը` | C100: Անհետաձգելի բժշկական օգնության ծառայություններ
B101: Նկարագրությունը` | C101: Անհետաձգելի բժշկական օգնության իրականացում` ՀՀ առողջապահության նախարարի կողմից հաստատված հիվանդությունների, վիճակների ցանկի համաձայն
B102: Միջոցառման տեսակը` | C102: Ծառայությունների մատուցում
B103: Ծառայությունը մատուցող կազմակերպության(ների) անվանում(ներ)ը | C103: ՀՀ գնումների մասին օրենսդրությանը համապատասխան ընտրված կազմակերպություններ
B104: Արդյունքի չափորոշիչներ
B105: Գլխուղեղի սուր կամ ենթասուր իշեմիկ ինսուլտի բուժում (թրոմբոլիզ և/կամ թրոմբասպիրացիա), դեպք | D105: 100
B106: Միջոցառման վրա կատարվող ծախսը (հազար դրամ) | D106: =+'2'!E95 -> 0
B108: Ծրագրի դասիչը` | C108: 1202 | D108: Ցուցանիշների փոփոխությունը (ավելացումը նշված է դրական նշանով)
...

Sheet 7
A1: Հավելված № 7
A2: ՀՀ կառավարության 2023 թվականի -----------
A3: № ------------ -Ն որոշման
A4: ՀԱՅԱՍՏԱՆԻ ՀԱՆՐԱՊԵՏՈՒԹՅԱՆ ԿԱՌԱՎԱՐՈՒԹՅԱՆ 2022 ԹՎԱԿԱՆԻ ԴԵԿՏԵՄԲԵՐԻ 29-Ի N 2111-Ն ՈՐՈՇՄԱՆ N 10 ՀԱՎԵԼՎԱԾՈՒՄ ԿԱՏԱՐՎՈՂ ՓՈՓՈԽՈՒԹՅՈՒՆՆԵՐԸ
A6: Կոդը | B6: Անվանումը | E6: Գնման ձևը | F6: Չափման միավորը | G6: Միավորի գինը | H6: Քանակը | I6: Գումարը (հազար դրամով)
A7: 1 | B7: 2 | C7: 3 | D7: 4 | E7: 5 | F7: 6 | G7: 7 | H7: 8 | I7: 9
A8: ՀՀ առողջապահության նախարարություն
A9: Բաժին N 07 | B9: Խումբ N 02 | C9: Դաս N 01 | D9: Ընդհանուր բնույթի բժշկական ծառայություններ | I9: =I10 -> -267782.6
A10: 1099 11001 | B10: Ամբուլատոր-պոլիկլինիկական բժշկական օգնության ծառայություններ | I10: =I11 -> -267782.6
B11: ՄԱՍ III. ԾԱՌԱՅՈՒԹՅՈՒՆՆԵՐ | I11: =I12 -> -267782.6
A12: 85121120-1 | B12: ամբուլատոր-բժշկական ծառայություններ | E12: ՄԱ | F12: դրամ | I12: -267782.6
A13: Բաժին N 07 | B13: Խումբ N 03 | C13: Դաս N 02 | D13: Մասնագիտացված հիվանդանոցային ծառայություններ | I13: =I14+I17 -> 315000
A14: 1208 11003 | B14: Աղիքային և այլ ինֆեկցիոն հիվանդությունների բժշկական օգնության ծառայություններ | I14: =I15 -> 65000
B15: ՄԱՍ III. ԾԱՌԱՅՈՒԹՅՈՒՆՆԵՐ | I15: =I16 -> 65000
A16: 85111120-1 | B16: հիվանդանոցների կողմից մատուցվող բժշկական ծառայություններ | E16: ՄԱ | F16: դրամ | I16: 65000
A17: 1202 11004 | B17: Ուռուցքաբանական և արյունաբանական հիվանդությունների բժշկական օգնության ծառայություններ | I17: =I18 -> 250000
B18: ՄԱՍ III. ԾԱՌԱՅՈՒԹՅՈՒՆՆԵՐ | I18: =I19 -> 250000
A19: 85111100-1 | B19: հիվանդանոցային ծառայություններ | E19: ՄԱ | F19: դրամ | I19: 250000
A20: Բաժին N 07 | B20: Խումբ N 03 | C20: Դաս N 03 | D20: Մոր և մանկան բժշկական ծառայություններ | I20: =I21+I24 -> 400000
A21: 1200 11003 | B21: Երեխաներին բժշկական օգնության ծառայություններ | I21: =I22 -> -100000
B22: ՄԱՍ III. ԾԱՌԱՅՈՒԹՅՈՒՆՆԵՐ | I22: =I23 -> -100000
A23: 85111120-1 | B23: հիվանդանոցների կողմից մատուցվող բժշկական ծառայություններ | E23: ՄԱ | F23: դրամ | I23: -100000
A24: 1200 11006 | B24: Անպտուղ զույգերի համար վերարտադրողական օժանդակ տեխնոլոգիաների կիրառմամբ բժշկական օգնության ծառայություններ | I24: =I26 -> 500000
B25: ՄԱՍ III. ԾԱՌԱՅՈՒԹՅՈՒՆՆԵՐ | I25: =I26 -> 500000
A26: 85121100-1 | B26: բժշկական ծառայություններ | E26: ՄԱ | F26: դրամ | I26: 500000
A28: Բաժին N 07 | B28: Խումբ N 06 | C28: Դաս N 01 | D28: Առողջապահական հարակից ծառայություններ և ծրագրեր | I28: =I29 -> 80000
A29: 1142 11001 | B29: Դատաբժշկական փորձաքննություններ | I29: =I30 -> 80000
B30: ՄԱՍ III. ԾԱՌԱՅՈՒԹՅՈՒՆՆԵՐ | I30: =I31 -> 80000
A31: 85121120-1 | B31: ամբուլատոր-բժշկական ծառայություններ | E31: ՄԱ | F31: դրամ | I31: 80000

Sheet 8
B1: Հավելված № 8
B2: ՀՀ կառավարության 2023 թվականի -----------
B3: № ------------ -Ն որոշման
B4: հազար դրամ
B5: ՀՀ ԿԱՌԱՎԱՐՈՒԹՅԱՆ ՊԱՀՈՒՍՏԱՅԻՆ ՖՈՆԴԻՑ ԿԱՏԱՐՎՈՂ ՀԱՏԿԱՑՈՒՄՆԵՐԻ ՎԵՐԱԲԵՐՅԱԼ
B6: Գործառական դասիչը | E6: Ծրագրային դասիչը | G6: Բյուջետային հատկացումների գլխավոր կարգադրիչների, ծրագրերի, միջոցառումների և միջոցառումները կատարող պետական մարմինների անվանումները | H6: Ցուցանիշների փոփոխությունները (ավելացումները նշված են դրական նշանով, իսկ նվազեցումները` փակագծերում)
B7: բաժին | C7: խումբ | D7: դաս | E7: Ծրագիր | F7: Միջոցառում | H7: Տարի
B8: ԸՆԴԱՄԵՆԸ | H8: =+H9+H30 -> 0
B9: 07 | G9: ԱՌՈՂՋԱՊԱՀՈՒԹՅՈՒՆ | H9: =+H11 -> 500000
G10: այդ թվում՝
C11: 03 | G11: Հիվանդանոցային ծառայություններ | H11: =+H15 -> 500000
G12: այդ թվում՝
G13: ՀՀ առողջապահության նախարարություն
G14: այդ թվում`
D15: 03 | G15: Մոր և մանկան բժշկական ծառայություններ | H15: =+H19 -> 500000
G16: այդ թվում`
G17: ՀՀ առողջապահության նախարարություն
G18: այդ թվում՝
E19: 1200 | G19: Մոր և մանկան առողջության պահպանում | H19: =+H21 -> 500000
G20: այդ թվում`
F21: 11006 | G21: Անպտուղ զույգերի համար վերարտադրողական օժանդակ տեխնոլոգիաների կիրառմամբ բժշկական օգնության ծառայություններ | H21: =H23 -> 500000
G22: այդ թվում` ըստ կատարողների
G23: ՀՀ առողջապահության նախարարություն | H23: =H25 -> 500000
G24: այդ թվում` բյուջետային ծախսերի տնտեսագիտական դասակարգման հոդվածներ
G25: ԸՆԴԱՄԵՆԸ ԾԱԽՍԵՐ | H25: =H27 -> 500000
G26: ԸՆԹԱՑԻԿ ԾԱԽՍԵՐ | H26: =H27 -> 500000
G27: ԾԱՌԱՅՈՒԹՅՈՒՆՆԵՐԻ ԵՎ ԱՊՐԱՆՔՆԵՐԻ ՁԵՌՔԲԵՐՈՒՄ | H27: =H29 -> 500000
G28: Պայմանագրային այլ ծառայությունների ձեռքբերում
G29: - Ընդհանուր բնույթի այլ ծառայություններ | H29: =+'2'!E70 -> 500000
B30: 11 | G30: ՀՀ ԿԱՌԱՎԱՐՈՒԹՅՈՒՆ | H30: =+H31 -> -500000
G31: ՀԻՄՆԱԿԱՆ ԲԱԺԻՆՆԵՐԻՆ ՉԴԱՍՎՈՂ ՊԱՀՈՒՍՏԱՅԻՆ ՖՈՆԴԵՐ | H31: =+H33 -> -500000
G32: այդ թվում՝
C33: 01 | G33: ՀՀ կառավարության և համայնքների պահուստային ֆոնդ | H33: =+H35 -> -500000
G34: այդ թվում՝
D35: 01 | G35: ՀՀ կառավարության պահուստային ֆոնդ | H35: =+H37 -> -500000
G36: այդ թվում՝
G37: ՀՀ կառավարություն | H37: =+H39 -> -500000
G38: այդ թվում՝
E39: 1139 | G39: ՀՀ կառավարության պահուստային ֆոնդ | H39: =+H41 -> -500000
G40: այդ թվում`
F41: 11001 | G41: ՀՀ կառավարության պահուստային ֆոնդ | H41: =+H43 -> -500000
G42: այդ թվում ըստ կատարողների
G43: ՀՀ կառավարություն | H43: =+H45 -> -500000
G44: այդ թվում` բյուջետային ծախսերի տնտեսագիտական դասակարգման հոդվածներ
G45: ԸՆԴԱՄԵՆԸ ԾԱԽՍԵՐ | H45: =+H46 -> -500000
G46: ԸՆԹԱՑԻԿ ԾԱԽՍԵՐ | H46: =+H47 -> -500000
G47: ԱՅԼ ԾԱԽՍԵՐ | H47: =+H48 -> -500000
G48: Պահուստային միջոցներ | H48: =+'2'!E131 -> -500000
