Workbook

Sheet h1
D1: Հավելված N 1
D2: ՀՀ կառավարության 2023 թվականի
D3: ______________ ի ___Ն որոշման
B5: «ՀԱՅԱՍՏԱՆԻ ՀԱՆՐԱՊԵՏՈՒԹՅԱՆ 2023 ԹՎԱԿԱՆԻ ՊԵՏԱԿԱՆ ԲՅՈՒՋԵԻ ՄԱՍԻՆ» ՀԱՅԱՍՏԱՆԻ ՀԱՆՐԱՊԵՏՈՒԹՅԱՆ OՐԵՆՔԻ N 1 ՀԱՎԵԼՎԱԾԻ N 2 ԱՂՅՈՒՍԱԿՈՒՄ ԿԱՏԱՐՎՈՂ ՎԵՐԱԲԱՇԽՈՒՄԸ ԵՎ ՀԱՅԱՍՏԱՆԻ ՀԱՆՐԱՊԵՏՈՒԹՅԱՆ ԿԱՌԱՎԱՐՈՒԹՅԱՆ 2022 ԹՎԱԿԱՆԻ ԴԵԿՏԵՄԲԵՐԻ 29-Ի N 2111-Ն ՈՐՈՇՄԱՆ N 5 ՀԱՎԵԼՎԱԾԻ N 1 ԱՂՅՈՒՍԱԿՈՒՄ ԿԱՏԱՐՎՈՂ ՓՈՓՈԽՈՒԹՅՈՒՆՆԵՐԸ
E6: հազ. դրամ
B7: Ծրագրային դասիչը | D7: Բյուջետային գլխավոր կարգադրիչների, ծրագրերի և միջոցառումների անվանումները | E7: Ցուցանիշների փոփոխությունը (ավելացումները նշված են դրական նշանով, իսկ նվազեցումները` փակագծերում)
B8: Ծրագիրը | C8: միջոցառումը | E8: Տարի
D9: ԸՆԴԱՄԵՆԸ | E9: =E10+E35 -> 0
D10: ՀՀ տարածքային կառավարման և ենթակառուցվածքների նախարարություն | E10: =E11 -> 0
B11: 1176 | D11: Ծրագրի անվանումը | E11: =+E17+E29+E23 -> 0
D12: Ավիացիայի բնագավառում վերահսկողության և կանոնակարգման ապահովում
D13: Ծրագրի նպատակը
D14: ՀՀ քաղաքացիական ավիացիայի համակարգի ենթակառուցվածքների գործունեության կանոնակարգում և զարգացում
D15: Վերջնական արդյունքի նկարագրությունը
D16: ՀՀ օդային տարածքով քաղաքացիների և բեռների անվտանգ և արագ տեղափոխման գործընթացների պատշաճ կանոնակարգում և դրանց պահանջների ապահովում
C17: 11001 | D17: Միջոցառման անվանումը | E17: ='h2'!H23 -> 67434.401
D18: Ավիացիայի բնագավառում վերահսկողության և կանոնակարգման ծառայություններ
D19: Միջոցառման նկարագրությունը
D20: ՀՀ քաղաքացիական ավիացիայի համակարգի ենթակառուցվածքների գործունեության կանոնակարգման ու զարգացման ծառայությունների մատուցում, այդ թվում՛ մասնակցություն պետական քաղաքականության շրջանակներում ուղևորահոսքի ծավալների աճի համար նախադրյալների ստեղծմանը
D21: Միջոցառման տեսակը
D22: Ծառայությունների մատուցում
C23: 11003 | D23: Միջոցառման անվանումը | E23: ='h2'!H33 -> -70480.794
D24: Ավիացիոն ծառայությունների մատուցում
D25: Միջոցառման նկարագրությունը
D26: Ավիացիոն և այլ սարքավորումների նորոգում և պահպանում
D27: Միջոցառման տեսակը
D28: Ծառայությունների մատուցում
C29: 11005 | D29: Միջոցառման անվանումը | E29: ='h2'!H42 -> 3046.3926
D30: Մայրուղային աէրոնավիգացիոն ծառայությունների սպասարկում
D31: Միջոցառման նկարագրությունը
D32: Աէրոնավիգացիոն ծառայություններ մատուցող կազմակերպությունների փոխհատուցում՛ գանձումներից ազատված թռիչքների սպասարկման համար
D33: Միջոցառման տեսակը
D34: Ծառայությունների մատուցում
D35: ՀՀ կառավարություն | E35: =E36 -> 0
B36: 1139 | D36: Ծրագրի անվանումը | E36: =E42+E48 -> 0
D37: ՀՀ կառավարության պահուստային ֆոնդ
D38: Ծրագրի նպատակը
D39: Պետական բյուջեում չկանխատեսված, ինչպես նաև բյուջետային երաշխիքների ապահովման ծախսերի ֆինանսավորման ապահովում
D40: Վերջնական արդյունքի նկարագրությունը
D41: Պահուստային ֆոնդի կառավարման արդյունավետության և թափանցիկության ապահովում
C42: 11001 | D42: Միջոցառման անվանումը | E42: =-E48 -> 70480.794
D43: ՀՀ կառավարության պահուստային ֆոնդ
D44: Միջոցառման նկարագրությունը
D45: ՀՀ պետական բյուջեում նախատեսված ելքերի լրացուցիչ ֆինանսավորման, պետական բյուջեում չկանխատեսված ելքերի, ինչպես նաև բյուջետային երաշխիքների ապահովման ելքերի ֆինանսավորման ապահովում
D46: Միջոցառման տեսակը
D47: Ծառայությունների մատուցում
C48: 11001 | D48: Միջոցառման անվանումը | E48: ='h2'!H77 -> -70480.794
D49: ՀՀ կառավարության պահուստային ֆոնդ
D50: Միջոցառման նկարագրությունը
D51: ՀՀ պետական բյուջեում նախատեսված ելքերի լրացուցիչ ֆինանսավորման, պետական բյուջեում չկանխատեսված ելքերի, ինչպես նաև բյուջետային երաշխիքների ապահովման ելքերի ֆինանսավորման ապահովում
D52: Միջոցառման տեսակը
D53: Ծառայությունների մատուցում

Sheet h2
F1: Հավելված N 2
F2: ՀՀ կառավարության 2023 թվականի
F3: ______________ ի ___Ն որոշման
A5: ՀԱՅԱՍՏԱՆԻ ՀԱՆՐԱՊԵՏՈՒԹՅԱՆ ԿԱՌԱՎԱՐՈՒԹՅԱՆ 2022 ԹՎԱԿԱՆԻ ԴԵԿՏԵՄԲԵՐԻ 29-Ի N 2111-Ն ՈՐՈՇՄԱՆ NN 3 ԵՎ 4 ՀԱՎԵԼՎԱԾՆԵՐՈՒՄ ԿԱՏԱՐՎՈՂ ՓՈՓՈԽՈՒԹՅՈՒՆՆԵՐԸ
H6: հազ. դրամ
A7: Գործառական դասիչը | D7: Ծրագրային դասիչը | F7: Բյուջետային հատկացումների գլխավոր կարգադրիչների, ծրագրերի, միջոցառումների և միջոցառումները կատարող պետական մարմինների անվանումները | H7: Ցուցանիշների փոփոխությունը (ավելացումները նշված են դրական նշանով, իսկ նվազեցումները` փակագծերում)
A8: բաժինը | B8: խումբը | C8: դասը | D8: ծրագիրը | E8: միջոցառումը | G8: Առաջին կիսամյակ | H8: Տարի
F10: ԸՆԴԱՄԵՆԸ՝ ԾԱԽՍԵՐ | H10: =H12+H51 -> 0
F11: =F13 -> այդ թվում`
F12: =F20 -> ՀՀ տարածքային կառավարման և ենթակառուցվածքների նախարարություն | H12: =H14 -> 0
F13: այդ թվում`
A14: 04 | F14: ՏՆՏԵՍԱԿԱՆ ՀԱՐԱԲԵՐՈՒԹՅՈՒՆՆԵՐ | H14: =H16 -> 0
F15: այդ թվում`
B16: 05 | F16: ՏՐԱՆՍՊՈՐՏ | H16: =H18 -> 0
F17: այդ թվում`
C18: 04 | F18: ՕԴԱՅԻՆ ՏՐԱՆՍՊՈՐՏ | H18: =H21 -> 0
F19: այդ թվում`
F20: ՀՀ տարածքային կառավարման և ենթակառուցվածքների նախարարություն | H20: =H21 -> 0
D21: 1176 | F21: Ավիացիայի բնագավառում վերահսկողության և կանոնակարգման ապահովում | H21: =+H23+H42+H33 -> 0
F22: այդ թվում`
E23: 11001 | F23: Ավիացիայի բնագավառում վերահսկողության և կանոնակարգման ծառայություններ | H23: =H25 -> 67434.401
F24: այդ թվում` ըստ կատարողների
F25: ՀՀ տարածքային կառավարման և ենթակառուցվածքների նախարարության քաղաքացիական ավիացիայի կոմիտե | H25: =H27 -> 67434.401
F26: այդ թվում` բյուջետային ծախսերի տնտեսագիտական դասակարգման հոդվածներ
F27: ԸՆԴԱՄԵՆԸ՝ ԾԱԽՍԵՐ | H27: =H28 -> 67434.401
F28: ԸՆԹԱՑԻԿ ԾԱԽՍԵՐ | H28: =H29 -> 67434.401
F29: ԱՇԽԱՏԱՆՔԻ ՎԱՐՁԱՏՐՈՒԹՅՈՒՆ | H29: =+H30 -> 67434.401
F30: Դրամով վճարվող աշխատավարձեր և հավելավճարներ | H30: =+H31+H32 -> 67434.401
F31: - Աշխատողների աշխատավարձեր և հավելավճարներ | H31: =+'[1]31աշխատավարձի ֆոնդ'!$L$29/1000 -> 58503.33
F32: - Պարգևատրումներ, դրամական խրախուսումներ և հատուկ վճարներ | H32: =+'[1]31աշխատավարձի ֆոնդ'!$L$30/1000 -> 8931.0711
E33: 11003 | F33: Ավիացիոն ծառայությունների մատուցում | H33: =H35 -> -70480.794
F34: այդ թվում` ըստ կատարողների
F35: ՀՀ տարածքային կառավարման և ենթակառուցվածքների նախարարության քաղաքացիական ավիացիայի կոմիտե | H35: =+H37 -> -70480.794
F36: այդ թվում` բյուջետային ծախսերի տնտեսագիտական դասակարգման հոդվածներ
F37: ԸՆԴԱՄԵՆԸ՝ ԾԱԽՍԵՐ | H37: =H38 -> -70480.794
F38: ԸՆԹԱՑԻԿ ԾԱԽՍԵՐ | H38: =H39 -> -70480.794
F39: ԾԱՌԱՅՈՒԹՅՈՒՆՆԵՐԻ ԵՎ ԱՊՐԱՆՔՆԵՐԻ ՁԵՌՔԲԵՐՈՒՄ | H39: =+H40 -> -70480.794
F40: Ընթացիկ նորոգում և պահպանում (ծառայություններ և նյութեր) | H40: =H41 -> -70480.794
F41: - Մեքենաների և սարքավորումների ընթացիկ նորոգում և պահպանում | H41: =-H42-H23 -> -70480.794
E42: 11005 | F42: Մայրուղային աէրոնավիգացիոն ծառայությունների սպասարկում | H42: =H44 -> 3046.3926
F43: այդ թվում` ըստ կատարողների
F44: ՀՀ տարածքային կառավարման և ենթակառուցվածքների նախարարության քաղաքացիական ավիացիայի կոմիտե | H44: =+H46 -> 3046.3926
F45: այդ թվում` բյուջետային ծախսերի տնտեսագիտական դասակարգման հոդվածներ
F46: ԸՆԴԱՄԵՆԸ՝ ԾԱԽՍԵՐ | H46: =H47 -> 3046.3926
F47: ԸՆԹԱՑԻԿ ԾԱԽՍԵՐ | H47: =H48 -> 3046.3926
F48: ԾԱՌԱՅՈՒԹՅՈՒՆՆԵՐԻ ԵՎ ԱՊՐԱՆՔՆԵՐԻ ՁԵՌՔԲԵՐՈՒՄ | H48: =+H49 -> 3046.3926
F49: Պայմանագրային այլ ծառայությունների ձեռքբերում | H49: =H50 -> 3046.3926
F50: - Ընդհանուր բնույթի այլ ծառայություններ | H50: ='h4'!D45 -> 3046.3926
F51: =F60 -> ՀՀ կառավարություն | H51: =H52 -> 0
A52: 11 | F52: ՀԻՄՆԱԿԱՆ ԲԱԺԻՆՆԵՐԻՆ ՉԴԱՍՎՈՂ ՊԱՀՈՒՍՏԱՅԻՆ ՖՈՆԴԵՐ | G52: 0 | H52: =H54 -> 0
F53: այդ թվում`
B54: 01 | F54: ՀՀ կառավարության և համայնքների պահուստային ֆոնդ | G54: 0 | H54: =H56 -> 0
F55: այդ թվում`
C56: 01 | F56: ՀՀ կառավարության պահուստային ֆոնդ | G56: 0 | H56: =H58 -> 0
F57: այդ թվում`
D58: 1139 | F58: ՀՀ կառավարության պահուստային ֆոնդ | G58: 0 | H58: =H60 -> 0
F59: այդ թվում`
F60: ՀՀ կառավարություն | G60: 0 | H60: =H62+H70 -> 0
F61: այդ թվում`
E62: 11001 | F62: ՀՀ կառավարության պահուստային ֆոնդ | G62: 0 | H62: =+H63 -> 70480.794
F63: այդ թվում` ըստ կատարողների | G63: 0 | H63: =+H64 -> 70480.794
F64: ՀՀ կառավարություն | G64: 0 | H64: =H66 -> 70480.794
F65: այդ թվում` բյուջետային ծախսերի տնտեսագիտական դասակարգման հոդվածներ | G65: 0
F66: ԸՆԴԱՄԵՆԸ ԾԱԽՍԵՐ | G66: 0 | H66: =+H68 -> 70480.794
F67: ԸՆԹԱՑԻԿ ԾԱԽՍԵՐ
F68: ԱՅԼ ԾԱԽՍԵՐ | G68: 0 | H68: =H69 -> 70480.794
F69: Պահուստային միջոցներ | H69: =-H70 -> 70480.794
E70: 11001 | F70: ՀՀ կառավարության պահուստային ֆոնդ | G70: 0 | H70: =H71 -> -70480.794
F71: այդ թվում` ըստ կատարողների | G71: 0 | H71: =H35 -> -70480.794
F72: ՀՀ կառավարություն | G72: 0 | H72: =H74 -> -70480.794
F73: այդ թվում` բյուջետային ծախսերի տնտեսագիտական դասակարգման հոդվածներ | G73: 0
F74: ԸՆԴԱՄԵՆԸ ԾԱԽՍԵՐ | H74: =H38 -> -70480.794
F75: ԸՆԹԱՑԻԿ ԾԱԽՍԵՐ | H75: =H39 -> -70480.794
F76: ԱՅԼ ԾԱԽՍԵՐ | H76: =H40 -> -70480.794
F77: Պահուստային միջոցներ | H77: =H41 -> -70480.794

Sheet h3
C1: Հավելված N 3
C2: ՀՀ կառավարության 2023 թվականի
C3: ______________ ի ___Ն որոշման
B5: ՀԱՅԱՍՏԱՆԻ ՀԱՆՐԱՊԵՏՈՒԹՅԱՆ ԿԱՌԱՎԱՐՈՒԹՅԱՆ 2022 ԹՎԱԿԱՆԻ ԴԵԿՏԵՄԲԵՐԻ 29-Ի N 2111-Ն ՈՐՈՇՄԱՆ N 9 ՀԱՎԵԼՎԱԾԻ N 9.7 ԵՎ N 9.47 ԱՂՅՈՒՍԱԿՈՒՄ ԿԱՏԱՐՎՈՂ ՓՈՓՈԽՈՒԹՅՈՒՆՆԵՐԸ
D6: Աղյուսակ 9.7
B7: ՀՀ տարածքային կառավարման և ենթակառուցվածքների նախարարության
C8: ՄԱՍ 2. ՊԵՏԱԿԱՆ ՄԱՐՄՆԻ ԳԾՈՎ ԱՐԴՅՈՒՆՔԱՅԻՆ (ԿԱՏԱՐՈՂԱԿԱՆ) ՑՈՒՑԱՆԻՇՆԵՐԸ
B10: Ծրագրի դասիչը | C10: Ծրագրի անվանումը
B11: 1176 | C11: Ավիացիայի բնագավառում վերահսկողության և կանոնակարգման ապահովում
B12: Ծրագրի միջոցառումները
B13: Ծրագրի դասիչը | C13: 1176 | D13: Ցուցանիշների փոփոխությունը (ավելացումները նշված են դրական նշանով)
B14: Միջոցառման դասիչը | C14: 11001 | D14: Տարի
B15: Միջոցառման անվանումը | C15: Ավիացիայի բնագավառում վերահսկողության և կանոնակարգման ծառայություններ
B16: Նկարագրությունը | C16: ՀՀ քաղաքացիական ավիացիայի համակարգի ենթակառուցվածքների գործունեության կանոնակարգման ու զարգացման ծառայությունների մատուցում, այդ թվում՛ մասնակցություն պետական քաղաքականության շրջանակներում ուղևորահոսքի ծավալների աճի համար նախադրյալների ստեղծմանը
B17: Միջոցառման տեսակը | C17: Ծառայությունների մատուցում
B18: Միջոցառումն իրականացնողի անվանումը | C18: ՀՀ տարածքային կառավարման և ենթակառուցվածքների նախարարության քաղաքացիական ավիացիայի կոմիտե
B19: Արդյունքի չափորոշիչներ
B20: Միջոցառման վրա կատարվող ծախսը (հազ. դրամ) | D20: ='h4'!D19 -> 67434.401
B23: Ծրագրի դասիչը | C23: Ծրագրի անվանումը
B24: 1176 | C24: Ավիացիայի բնագավառում վերահսկողության և կանոնակարգման ապահովում
B25: Ծրագրի միջոցառումները
B26: Ծրագրի դասիչը | C26: 1176 | D26: Ցուցանիշների փոփոխությունները (նվազեցումները նշված են փակագծերում)
B27: Միջոցառման դասիչը | C27: 11003 | D27: Տարի
B28: Միջոցառման անվանումը | C28: Ավիացիոն ծառայությունների մատուցում
B29: Նկարագրությունը | C29: Ավիացիոն և այլ սարքավորումների նորոգում և պահպանում
B30: Միջոցառման տեսակը | C30: Ծառայությունների մատուցում
B31: Միջոցառումն իրականացնողի անվանումը | C31: ՀՀ տարածքային կառավարման և ենթակառուցվածքների նախարարության քաղաքացիական ավիացիայի կոմիտե
B32: Արդյունքի չափորոշիչներ
B33: Միջոցառման վրա կատարվող ծախսը (հազ. դրամ) | D33: ='h1'!E23 -> -70480.794
B36: Ծրագրի դասիչը | C36: Ծրագրի անվանումը
B37: 1176 | C37: Ավիացիայի բնագավառում վերահսկողության և կանոնակարգման ապահովում
B38: Ծրագրի միջոցառումները
B39: Ծրագրի դասիչը | C39: 1176 | D39: Ցուցանիշների փոփոխությունը (ավելացումները նշված են դրական նշանով)
B40: Միջոցառման դասիչը | C40: 11005 | D40: Տարի
B41: Միջոցառման անվանումը | C41: Մայրուղային աէրոնավիգացիոն ծառայությունների սպասարկում
B42: Նկարագրությունը | C42: Աէրոնավիգացիոն ծառայություններ մատուցող կազմակերպությունների փոխհատուցում՛ գանձումներից ազատված թռիչքների սպասարկման համար
B43: Միջոցառման տեսակը | C43: Ծառայությունների մատուցում
B44: Միջոցառումն իրականացնողի անվանումը | C44: ՀՀ տարածքային կառավարման և ենթակառուցվածքների նախարարության քաղաքացիական ավիացիայի կոմիտե
B45: Արդյունքի չափորոշիչներ
B46: Միջոցառման վրա կատարվող ծախսը (հազ. դրամ) | D46: ='h1'!E29 -> 3046.3926
D50: Աղյուսակ 9.47
C51: ՀՀ կառավարություն
C52: ՄԱՍ 2. ՊԵՏԱԿԱՆ ՄԱՐՄՆԻ ԳԾՈՎ ԱՐԴՅՈՒՆՔԱՅԻՆ (ԿԱՏԱՐՈՂԱԿԱՆ) ՑՈՒՑԱՆԻՇՆԵՐԸ
B54: Ծրագրի դասիչը | C54: Ծրագրի անվանումը
B55: 1139 | C55: ՀՀ կառավարության պահուստային ֆոնդ
B56: Ծրագրի միջոցառումները
B57: Ծրագրի դասիչը | C57: 1139 | D57: =D26 -> Ցուցանիշների փոփոխությունները (նվազեցումները նշված են փակագծերում)
B58: Միջոցառման դասիչը | C58: 11001 | D58: Տարի
B59: Միջոցառման անվանումը | C59: ՀՀ կառավարության պահուստային ֆոնդ
B60: Նկարագրությունը | C60: ՀՀ պետական բյուջեում նախատեսված ելքերի լրացուցիչ ֆինանսավորման, պետական բյուջեում չկանխատեսված ելքերի, ինչպես նաև բյուջետային երաշխիքների ապահովման ելքերի ֆինանսավորման ապահովում
B61: Միջոցառման տեսակը | C61: Ծառայությունների մատուցում
B62: Արդյունքի չափորոշիչներ
B63: Միջոցառման վրա կատարվող ծախսը (հազ. դրամ) | D63: ='h2'!H77 -> -70480.794
B66: Ծրագրի դասիչը | C66: Ծրագրի անվանումը
B67: 1139 | C67: ՀՀ կառավարության պահուստային ֆոնդ
B68: Ծրագրի միջոցառումները
B69: Ծրագրի դասիչը | C69: 1139 | D69: =D39 -> Ցուցանիշների փոփոխությունը (ավելացումները նշված են դրական նշանով)
B70: Միջոցառման դասիչը | C70: 11001 | D70: Տարի
B71: Միջոցառման անվանումը | C71: ՀՀ կառավարության պահուստային ֆոնդ
B72: Նկարագրությունը | C72: ՀՀ պետական բյուջեում նախատեսված ելքերի լրացուցիչ ֆինանսավորման, պետական բյուջեում չկանխատեսված ելքերի, ինչպես նաև բյուջետային երաշխիքների ապահովման ելքերի ֆինանսավորման ապահովում
B73: Միջոցառման տեսակը | C73: Ծառայությունների մատուցում
B74: Արդյունքի չափորոշիչներ
B75: Միջոցառման վրա կատարվող ծախսը (հազ. դրամ) | D75: ='h2'!H66 -> 70480.794

Sheet h4
B1: Հավելված N 4
B2: ՀՀ կառավարության 2023 թվականի
B3: ______________ ի ___Ն որոշման
A4: ՀԱՅԱՍՏԱՆԻ ՀԱՆՐԱՊԵՏՈՒԹՅԱՆ ԿԱՌԱՎԱՐՈՒԹՅԱՆ 2022 ԹՎԱԿԱՆԻ ԴԵԿՏԵՄԲԵՐԻ 29-Ի N 2111-Ն ՈՐՈՇՄԱՆ N 9.1 ՀԱՎԵԼՎԱԾԻ N 9.1.29 ԵՎ 9.1.58 ԱՂՅՈՒՍԱԿՈՒՄ ԿԱՏԱՐՎՈՂ ՓՈՓՈԽՈՒԹՅՈՒՆՆԵՐԸ
D5: Աղյուսակ 9.1.29
A6: ՀՀ տարածքային կառավարման և ենթակառուցվածքների նախարարության քաղաքացիական ավիացիայի կոմիտե
B7: ՄԱՍ 1. ՊԵՏԱԿԱՆ ՄԱՐՄՆԻ ԳԾՈՎ ԱՐԴՅՈՒՆՔԱՅԻՆ (ԿԱՏԱՐՈՂԱԿԱՆ) ՑՈՒՑԱՆԻՇՆԵՐԸ
A9: Ծրագրի դասիչը | B9: Ծրագրի անվանումը
A10: 1176 | B10: Ավիացիայի բնագավառում վերահսկողության և կանոնակարգման ապահովում
A11: Ծրագրի միջոցառումները
A12: Ծրագրի դասիչը | B12: 1176 | C12: Ցուցանիշների փոփոխությունը (ավելացումները նշված են դրական նշանով) | D12: Ցուցանիշների փոփոխությունը (ավելացումները նշված են դրական նշանով)
A13: Միջոցառման դասիչը | B13: 11001 | C13: Առաջին կիսամյակ | D13: Տարի
A14: Միջոցառման անվանումը | B14: Ավիացիայի բնագավառում վերահսկողության և կանոնակարգման ծառայություններ
A15: Նկարագրությունը | B15: ՀՀ քաղաքացիական ավիացիայի համակարգի ենթակառուցվածքների գործունեության կանոնակարգման ու զարգացման ծառայությունների մատուցում, այդ թվում՛ մասնակցություն պետական քաղաքականության շրջանակներում ուղևորահոսքի ծավալների աճի համար նախադրյալների ստեղծմանը
A16: Միջոցառման տեսակը | B16: Ծառայությունների մատուցում
A17: Միջոցառումն իրականացնողի անվանումը | B17: ՀՀ տարածքային կառավարման և ենթակառուցվածքների նախարարության քաղաքացիական ավիացիայի կոմիտե
A18: Արդյունքի չափորոշիչներ
A19: Միջոցառման վրա կատարվող ծախսը (հազ. դրամ) | D19: =+'h2'!H23 -> 67434.401
A22: Ծրագրի դասիչը | B22: Ծրագրի անվանումը
A23: 1176 | B23: Ավիացիայի բնագավառում վերահսկողության և կանոնակարգման ապահովում
A24: Ծրագրի միջոցառումները
A25: Ծրագրի դասիչը | B25: 1176 | D25: Ցուցանիշների փոփոխությունները (նվազեցումները նշված են փակագծերում)
A26: Միջոցառման դասիչը | B26: 11003 | C26: Առաջին կիսամյակ | D26: Տարի
A27: Միջոցառման անվանումը | B27: Ավիացիոն ծառայությունների մատուցում
A28: Նկարագրությունը | B28: Ավիացիոն և այլ սարքավորումների նորոգում և պահպանում
A29: Միջոցառման տեսակը | B29: Ծառայությունների մատուցում
A30: Միջոցառումն իրականացնողի անվանումը | B30: ՀՀ տարածքային կառավարման և ենթակառուցվածքների նախարարության քաղաքացիական ավիացիայի կոմիտե
A31: Արդյունքի չափորոշիչներ
A32: Միջոցառման վրա կատարվող ծախսը (հազ. դրամ) | D32: ='h3'!D33 -> -70480.794
A35: Ծրագրի դասիչը | B35: Ծրագրի անվանումը
A36: 1176 | B36: Ավիացիայի բնագավառում վերահսկողության և կանոնակարգման ապահովում
A37: Ծրագրի միջոցառումները
A38: Ծրագրի դասիչը | B38: 1176 | D38: Ցուցանիշների փոփոխությունը (ավելացումները նշված են դրական նշանով)
A39: Միջոցառման դասիչը | B39: 11005 | C39: Առաջին կիսամյակ | D39: Տարի
A40: Միջոցառման անվանումը | B40: Մայրուղային աէրոնավիգացիոն ծառայությունների սպասարկում
A41: Նկարագրությունը | B41: Աէրոնավիգացիոն ծառայություններ մատուցող կազմակերպությունների փոխհատուցում՛ գանձումներից ազատված թռիչքների սպասարկման համար
A42: Միջոցառման տեսակը | B42: Ծառայությունների մատուցում
A43: Միջոցառումն իրականացնողի անվանումը | B43: ՀՀ տարածքային կառավարման և ենթակառուցվածքների նախարարության քաղաքացիական ավիացիայի կոմիտե
A44: Արդյունքի չափորոշիչներ
A45: Միջոցառման վրա կատարվող ծախսը (հազ. դրամ) | D45: =5546.39263-2500 -> 3046.3926
D48: Աղյուսակ 9.1.58
B49: ՀՀ կառավարություն
B50: ՄԱՍ 2. ՊԵՏԱԿԱՆ ՄԱՐՄՆԻ ԳԾՈՎ ԱՐԴՅՈՒՆՔԱՅԻՆ (ԿԱՏԱՐՈՂԱԿԱՆ) ՑՈՒՑԱՆԻՇՆԵՐԸ
A53: Ծրագրի դասիչը | B53: Ծրագրի անվանումը
A54: 1139 | B54: ՀՀ կառավարության պահուստային ֆոնդ
A56: Ծրագրի միջոցառումները
A57: Ծրագրի դասիչը | B57: 1139 | C57: =C25 | D57: Ցուցանիշների փոփոխությունները (նվազեցումները նշված են փակագծերում)
A58: Միջոցառման դասիչը | B58: 11001 | C58: Ինն ամիս | D58: =D39 -> Տարի
A59: Միջոցառման անվանումը | B59: ՀՀ կառավարության պահուստային ֆոնդ
A60: Նկարագրությունը | B60: ՀՀ պետական բյուջեում նախատեսված ելքերի լրացուցիչ ֆինանսավորման, պետական բյուջեում չկանխատեսված ելքերի, ինչպես նաև բյուջետային երաշխիքների ապահովման ելքերի ֆինանսավորման ապահովում
A61: Միջոցառման տեսակը | B61: Ծառայությունների մատուցում
A62: Արդյունքի չափորոշիչներ
A63: Միջոցառման վրա կատարվող ծախսը (հազ. դրամ) | C63: =[2]h3!G89 -> 0 | D63: ='h3'!D63 -> -70480.794
A66: Ծրագրի դասիչը | B66: Ծրագրի անվանումը
A67: 1139 | B67: ՀՀ կառավարության պահուստային ֆոնդ
A68: Ծրագրի միջոցառումները
A69: Ծրագրի դասիչը | B69: 1139 | C69: =#REF! -> #REF! | D69: Ցուցանիշների փոփոխությունը (ավելացումները նշված են դրական նշանով)
A70: Միջոցառման դասիչը | B70: 11001 | C70: Ինն ամիս | D70: =D58 -> Տարի
A71: Միջոցառման անվանումը | B71: ՀՀ կառավարության պահուստային ֆոնդ
A72: Նկարագրությունը | B72: ՀՀ պետական բյուջեում նախատեսված ելքերի լրացուցիչ ֆինանսավորման, պետական բյուջեում չկանխատեսված ելքերի, ինչպես նաև բյուջետային երաշխիքների ապահովման ելքերի ֆինանսավորման ապահովում
A73: Միջոցառման տեսակը | B73: Ծառայությունների մատուցում
A74: Արդյունքի չափորոշիչներ
A75: Միջոցառման վրա կատարվող ծախսը (հազ. դրամ) | C75: =[2]h3!G81 -> 0 | D75: ='h3'!D75 -> 70480.794

Sheet h5
F1: Հավելված N 5
F2: ՀՀ կառավարության 2023 թվականի
F3: ______________ ի ___Ն որոշման
B5: ՀԱՅԱՍՏԱՆԻ ՀԱՆՐԱՊԵՏՈՒԹՅԱՆ ԿԱՌԱՎԱՐՈՒԹՅԱՆ 2022 ԹՎԱԿԱՆԻ ԴԵԿՏԵՄԲԵՐԻ 29-Ի N 2111-Ն ՈՐՈՇՄԱՆ N 10 ՀԱՎԵԼՎԱԾՈՒՄ ԿԱՏԱՐՎՈՂ ԼՐԱՑՈՒՄԸ
B7: Կոդը | C7: Անվանումը | D7: Գնման ձևը | E7: Չափման միավորը | F7: Միավորի գինը (դրամ) | G7: Ցուցանիշների փոփոխությունը (ավելացումները նշված են դրական նշանով)
G8: քանակը | H8: գումարը
H9: (հազ. դրամ)
B10: ՀՀ տարածքային կառավարման և ենթակառուցվածքների նախարարության քաղաքացիական ավիացիայի կոմիտե | H10: =H11 -> 3046.3926
B11: Բաժին N 04 | C11: Խումբ N 05 | D11: Դաս N 04 | E11: Օդային տրանսպորտ | H11: =+H13 -> 3046.3926
B12: 1176 /11005 | C12: Մայրուղային աէրոնավիգացիոն ծառայությունների սպասարկում | H12: =+H14 -> 3046.3926
C13: ՄԱՍ IV. Ծառայություններ | H13: =+H14 -> 3046.3926
B14: 63721180/1 | C14: Նավիգացիոն ծառայություններ | D14: ՄԱ | E14: դրամ | F14: 3046400 | G14: 1 | H14: =5546.39263-2500 -> 3046.3926
